Workbook

Sheet รายรพ.
H1: สิ่งที่ส่งมาด้วย
A2: รายงานหนี้องค์การเภสัชกรรม (รายโรงพยาบาล) ในเขตสุขภาพที่ 8 ปี 2567-2569
A3: ข้อมูล ณ วันที่ 31 พฤษภาคม 2569
A4: Acc Clerk Des | B4: Region | C4: Region Description | D4: Cust Name | E4: หนี้ปี 2567 | F4: หนี้ปี 2568 | G4: หนี้ปี 2569 | H4: รวม
A5: เขตสุขภาพ 8 | B5: 38 | C5: บึงกาฬ | D5: โรงพยาบาลบึงกาฬ | E5: 0 | F5: 0 | G5: 3604695.2 | H5: =SUM(E5:G5) -> 3604695.2
A6: เขตสุขภาพ 8 | B6: 38 | C6: บึงกาฬ | D6: โรงพยาบาลบุ่งคล้า | E6: 0 | F6: 451950.49 | G6: 529875.37 | H6: =SUM(E6:G6) -> 981825.86
A7: เขตสุขภาพ 8 | B7: 38 | C7: บึงกาฬ | D7: โรงพยาบาลศรีวิไล | E7: 0 | F7: 8239 | G7: 1361649.5 | H7: =SUM(E7:G7) -> 1369888.5
A8: เขตสุขภาพ 8 | B8: 38 | C8: บึงกาฬ | D8: โรงพยาบาลเซกา | E8: 0 | F8: 19224 | G8: 1423730.2 | H8: =SUM(E8:G8) -> 1442954.2
A9: เขตสุขภาพ 8 | B9: 38 | C9: บึงกาฬ | D9: โรงพยาบาลโซ่พิสัย | E9: 0 | F9: 0 | G9: 800251.31 | H9: =SUM(E9:G9) -> 800251.31
A10: เขตสุขภาพ 8 | B10: 38 | C10: บึงกาฬ | D10: โรงพยาบาลบึงโขงหลง | E10: 0 | F10: 0 | G10: 543246.7 | H10: =SUM(E10:G10) -> 543246.7
A11: เขตสุขภาพ 8 | B11: 38 | C11: บึงกาฬ | D11: โรงพยาบาลปากคาด | E11: 0 | F11: 0 | G11: 206815.75 | H11: =SUM(E11:G11) -> 206815.75
A12: เขตสุขภาพ 8 | B12: 38 | C12: บึงกาฬ | D12: โรงพยาบาลพรเจริญ | E12: 0 | F12: 0 | G12: 108268.7 | H12: =SUM(E12:G12) -> 108268.7
E13: =SUM(E5:E12) -> 0 | F13: =SUM(F5:F12) -> 479413.49 | G13: =SUM(G5:G12) -> 8578532.8 | H13: =SUM(H5:H12) -> 9057946.3
A14: เขตสุขภาพ 8 | B14: 39 | C14: หนองบัวลำภู | D14: โรงพยาบาลหนองบัวลำภู | E14: 0 | F14: 0 | G14: 3405087 | H14: =SUM(E14:G14) -> 3405087
A15: เขตสุขภาพ 8 | B15: 39 | C15: หนองบัวลำภู | D15: โรงพยาบาลนากลาง | E15: 0 | F15: 559609.2 | G15: 502611.1 | H15: =SUM(E15:G15) -> 1062220.3
A16: เขตสุขภาพ 8 | B16: 39 | C16: หนองบัวลำภู | D16: โรงพยาบาลโนนสัง | E16: 0 | F16: 819765.5 | G16: 3180292 | H16: =SUM(E16:G16) -> 4000057.5
A17: เขตสุขภาพ 8 | B17: 39 | C17: หนองบัวลำภู | D17: โรงพยาบาลศรีบุญเรือง | E17: 0 | F17: 542263.5 | G17: 3372961.7 | H17: =SUM(E17:G17) -> 3915225.2
A18: เขตสุขภาพ 8 | B18: 39 | C18: หนองบัวลำภู | D18: โรงพยาบาลสุวรรณคูหา | E18: 0 | F18: 241955.6 | G18: 1884718.9 | H18: =SUM(E18:G18) -> 2126674.5
A19: เขตสุขภาพ 8 | B19: 39 | C19: หนองบัวลำภู | D19: โรงพยาบาลนาวังเฉลิมพระเกียรติ 80 พรรษา | E19: 0 | F19: 140770.2 | G19: 916042.86 | H19: =SUM(E19:G19) -> 1056813.1
E20: =SUM(E14:E19) -> 0 | F20: =SUM(F14:F19) -> 2304364 | G20: =SUM(G14:G19) -> 13261714 | H20: =SUM(H14:H19) -> 15566078
A21: เขตสุขภาพ 8 | B21: 41 | C21: อุดรธานี | D21: โรงพยาบาลกุมภวาปี | E21: 0 | F21: 0 | G21: 2897268.8 | H21: =SUM(E21:G21) -> 2897268.8
A22: เขตสุขภาพ 8 | B22: 41 | C22: อุดรธานี | D22: โรงพยาบาลอุดรธานี | E22: 0 | F22: 0 | G22: 7208192.7 | H22: =SUM(E22:G22) -> 7208192.7
A23: เขตสุขภาพ 8 | B23: 41 | C23: อุดรธานี | D23: โรงพยาบาลหนองแสง | E23: 1046170.5 | F23: 1085242.7 | G23: 781828.39 | H23: =SUM(E23:G23) -> 2913241.6
A24: เขตสุขภาพ 8 | B24: 41 | C24: อุดรธานี | D24: โรงพยาบาลโนนสะอาด | E24: 1418875.9 | F24: 2743961.1 | G24: 1456461.4 | H24: =SUM(E24:G24) -> 5619298.3
A25: เขตสุขภาพ 8 | B25: 41 | C25: อุดรธานี | D25: โรงพยาบาลบ้านผือ | E25: 3031995.9 | F25: 8342179.5 | G25: 5960992.8 | H25: =SUM(E25:G25) -> 17335168
A26: เขตสุขภาพ 8 | B26: 41 | C26: อุดรธานี | D26: โรงพยาบาลกุดจับ | E26: 1644851.5 | F26: 2908069.1 | G26: 1676043 | H26: =SUM(E26:G26) -> 6228963.6
A27: เขตสุขภาพ 8 | B27: 41 | C27: อุดรธานี | D27: โรงพยาบาลไชยวาน | E27: 1268730 | F27: 2786724 | G27: 1741354.6 | H27: =SUM(E27:G27) -> 5796808.7
A28: เขตสุขภาพ 8 | B28: 41 | C28: อุดรธานี | D28: โรงพยาบาลสร้างคอม | E28: 560464.4 | F28: 1158169.1 | G28: 699232.25 | H28: =SUM(E28:G28) -> 2417865.8
A29: เขตสุขภาพ 8 | B29: 41 | C29: อุดรธานี | D29: โรงพยาบาลนายูง | E29: 308964.66 | F29: 833150.83 | G29: 612661.02 | H29: =SUM(E29:G29) -> 1754776.5
A30: เขตสุขภาพ 8 | B30: 41 | C30: อุดรธานี | D30: โรงพยาบาลพิบูลย์รักษ์ | E30: 302777.55 | F30: 2185829.2 | G30: 1159993.2 | H30: =SUM(E30:G30) -> 3648600
A31: เขตสุขภาพ 8 | B31: 41 | C31: อุดรธานี | D31: โรงพยาบาลวังสามหมอ | E31: 0 | F31: 4675798 | G31: 2954715.5 | H31: =SUM(E31:G31) -> 7630513.5
A32: เขตสุขภาพ 8 | B32: 41 | C32: อุดรธานี | D32: โรงพยาบาลหนองวัวซอ | E32: 0 | F32: 2837135.5 | G32: 1847903.8 | H32: =SUM(E32:G32) -> 4685039.2
... A42: เขตสุขภาพ 8 | B42: 41 | C42: อุดรธานี | D42: โรงพยาบาลน้ำโสม | E42: 0 | F42: 0 | G42: 35910 | H42: =SUM(E42:G42) -> 35910
E43: =SUM(E21:E42) -> 9582830.5 | F43: =SUM(F21:F42) -> 44221382 | G43: =SUM(G21:G42) -> 47006381 | H43: =SUM(H21:H42) -> 1.0081059e+08
A44: เขตสุขภาพ 8 | B44: 42 | C44: เลย | D44: โรงพยาบาลเลย | E44: 0 | F44: 0 | G44: 12081844 | H44: =SUM(E44:G44) -> 12081844
A45: เขตสุขภาพ 8 | B45: 42 | C45: เลย | D45: โรงพยาบาลนาแห้ว | E45: 946474.32 | F45: 1102989.9 | G45: 639129.56 | H45: =SUM(E45:G45) -> 2688593.8
A46: เขตสุขภาพ 8 | B46: 42 | C46: เลย | D46: โรงพยาบาลเชียงคาน | E46: 1992579.9 | F46: 2635633.1 | G46: 3799418.3 | H46: =SUM(E46:G46) -> 8427631.3
A47: เขตสุขภาพ 8 | B47: 42 | C47: เลย | D47: โรงพยาบาลหนองหิน | E47: 588358.8 | F47: 1029636.6 | G47: 700759.22 | H47: =SUM(E47:G47) -> 2318754.6
A48: เขตสุขภาพ 8 | B48: 42 | C48: เลย | D48: โรงพยาบาลท่าลี่ | E48: 810084.96 | F48: 2323656.1 | G48: 2113973 | H48: =SUM(E48:G48) -> 5247714
A49: เขตสุขภาพ 8 | B49: 42 | C49: เลย | D49: โรงพยาบาลสมเด็จพระยุพราชด่านซ้าย | E49: 2277857.5 | F49: 3925935 | G49: 2305852 | H49: =SUM(E49:G49) -> 8509644.5
...

Sheet สรุปภาพรวมรายจังหวัด เขต 8
E1: สิ่งที่ส่งมาด้วย
A2: รายงานหนี้องค์การเภสัชกรรม ภาพรวม (รายจังหวัด) ในเขตสุขภาพที่ 8 ปี 2567-2569 (ข้อมูล ณ 31 พฤษภาคม 2569)
A3: จังหวัด | B3: หนี้ปี 2567 | C3: หนี้ปี 2568 | D3: หนี้ปี 2569 | E3: รวมหนี้
E4: ปี 2567-2569
A5: บึงกาฬ | B5: =+รายรพ.!E13 -> 0 | C5: =+รายรพ.!F13 -> 479413.49 | D5: =+รายรพ.!G13 -> 8578532.8 | E5: =SUM(B5:D5) -> 9057946.3
A6: หนองบัวลำภู | B6: =+รายรพ.!E20 -> 0 | C6: =+รายรพ.!F20 -> 2304364 | D6: =+รายรพ.!G20 -> 13261714 | E6: =SUM(B6:D6) -> 15566078
A7: อุดรธานี | B7: =+รายรพ.!E43 -> 9582830.5 | C7: =+รายรพ.!F43 -> 44221382 | D7: =+รายรพ.!G43 -> 47006381 | E7: =SUM(B7:D7) -> 1.0081059e+08
A8: เลย | B8: =+รายรพ.!E58 -> 8690499.1 | C8: =+รายรพ.!F58 -> 21284274 | D8: =+รายรพ.!G58 -> 34029200 | E8: =SUM(B8:D8) -> 64003973
A9: หนองคาย | B9: =+รายรพ.!E68 -> 612856.9 | C9: =+รายรพ.!F68 -> 6631906.4 | D9: =+รายรพ.!G68 -> 16531956 | E9: =SUM(B9:D9) -> 23776719
A10: สกลนคร | B10: =+รายรพ.!E87 -> 0 | C10: =+รายรพ.!F87 -> 9762096.4 | D10: =+รายรพ.!G87 -> 30360397 | E10: =SUM(B10:D10) -> 40122493
A11: นครพนม | B11: =+รายรพ.!E100 -> 0 | C11: =+รายรพ.!F100 -> 6448311.4 | D11: =+รายรพ.!G100 -> 16713365 | E11: =SUM(B11:D11) -> 23161677
A12: ภาพรวมเขต 8 | B12: =SUM(B5:B11) -> 18886186 | C12: =SUM(C5:C11) -> 91131748 | D12: =SUM(D5:D11) -> 1.6648155e+08 | E12: =SUM(E5:E11) -> 2.7649948e+08
A14: ที่มา : องค์การเภสัชกรรม รับข้อมูล ณ วันที่ 4 มิถุนายน 2569

Sheet ฟอร์มใส่สไลด์ ตรก. 
A1: ลำดับ | B1: Cust Name | C1: หนี้ปี 2567 | D1: หนี้ปี 2568 | E1: หนี้ปี 2569 | F1: รวม ปี 2567 -2569
A2: 1 | B2: โรงพยาบาลเลย | C2: 4280 | D2: 9827624 | E2: 7537371.2 | F2: =SUM(C2:E2) -> 17369275
A3: 2 | B3: โรงพยาบาลหนองหิน | C3: 917405.2 | D3: 1029636.6 | E3: 255000.86 | F3: =SUM(C3:E3) -> 2202042.6
A4: 3 | B4: โรงพยาบาลนาแห้ว | C4: 946474.32 | D4: 1102989.9 | E4: 246059.88 | F4: =SUM(C4:E4) -> 2295524.1
A5: 4 | B5: โรงพยาบาลเชียงคาน | C5: 1992579.9 | D5: 2635633.1 | E5: 1826040.8 | F5: =SUM(C5:E5) -> 6454253.8
A6: 5 | B6: โรงพยาบาลท่าลี่ | C6: 810084.96 | D6: 2323656.1 | E6: 928151.65 | F6: =SUM(C6:E6) -> 4061892.7
A7: 6 | B7: โรงพยาบาลสมเด็จพระยุพราชด่านซ้าย | C7: 2797744 | D7: 3925935 | E7: 1278879.8 | F7: =SUM(C7:E7) -> 8002558.9
A8: 7 | B8: โรงพยาบาลผาขาว | C8: 743310.87 | D8: 1762078.7 | E8: 520515.1 | F8: =SUM(C8:E8) -> 3025904.6
A9: 8 | B9: โรงพยาบาลวังสะพุง | C9: 2880721.5 | D9: 4835096.7 | E9: 1545834.8 | F9: =SUM(C9:E9) -> 9261652.9
A10: 9 | B10: โรงพยาบาลภูเรือ | C10: 319932.15 | D10: 1715244.2 | E10: 767208.5 | F10: =SUM(C10:E10) -> 2802384.8
A11: 10 | B11: โรงพยาบาลภูกระดึง | C11: 0 | D11: 1966577.7 | E11: 589777.12 | F11: =SUM(C11:E11) -> 2556354.8
A12: 11 | B12: โรงพยาบาลภูหลวง | C12: 0 | D12: 587261.3 | E12: 422199.23 | F12: =SUM(C12:E12) -> 1009460.5
A13: 12 | B13: โรงพยาบาลปากชม | C13: 0 | D13: 1792504.9 | E13: 1377849.9 | F13: =SUM(C13:E13) -> 3170354.8
... A15: 14 | B15: โรงพยาบาลนาด้วง | C15: 0 | D15: 36391.47 | E15: 281268.3 | F15: =SUM(C15:E15) -> 317659.77
A16: รวมจังหวัดเลย | C16: =SUM(C2:C15) -> 11412533 | D16: =SUM(D2:D15) -> 34010148 | E16: =SUM(E2:E15) -> 18008289 | F16: =SUM(F2:F15) -> 63430970
A18: ลำดับ | B18: Cust Name | C18: หนี้ปี 2567 | D18: หนี้ปี 2568 | E18: หนี้ปี 2569 | F18: รวม ปี 2567 -2569
A19: 1 | B19: โรงพยาบาลหนองคาย | C19: 0 | D19: 0 | E19: 714608.82 | F19: 4226017.3
A20: 2 | B20: โรงพยาบาลโพธิ์ตาก | C20: 856673.52 | D20: 1109592.2 | E20: 485666.71 | F20: 2948712.6
A21: 3 | B21: โรงพยาบาลโพนพิสัย | C21: 0 | D21: 2870383.5 | E21: 1374719.5 | F21: 939445.55
A22: 4 | B22: โรงพยาบาลศรีเชียงใหม่ | C22: 0 | D22: 859507 | E22: 553690.4 | F22: 1354777.6
A23: 5 | B23: โรงพยาบาลสังคม | C23: 0 | D23: 1126279.7 | E23: 240530 | F23: 3282800.1
A24: 6 | B24: โรงพยาบาลเฝ้าไร่ | C24: 0 | D24: 1487304.9 | E24: 778797.09 | F24: 178415.2
A25: 7 | B25: โรงพยาบาลสมเด็จพระยุพราชท่าบ่อ | C25: 0 | D25: 2546348.1 | E25: 2753637.4 | F25: 1262775.1
A26: 8 | B26: โรงพยาบาลรัตนวาปี | C26: 0 | D26: 0 | E26: 334273.05 | F26: 190586.2
A27: 9 | B27: โรงพยาบาลสระใคร | C27: 0 | D27: 0 | E27: 286514.3 | F27: 1787027
A28: รวมจังหวัดหนองคาย | C28: =SUM(C19:C27) -> 856673.52 | D28: =SUM(D19:D27) -> 9999415.4 | F28: =SUM(F19:F27) -> 16170557
A30: ลำดับ | B30: Cust Name | C30: หนี้ปี 2567 | D30: หนี้ปี 2568 | F30: รวม ปี 2566 -2568
A31: 1 | B31: โรงพยาบาลนครพนม | C31: 0 | D31: 0 | F31: 1342829.3
A32: 2 | B32: โรงพยาบาลสมเด็จพระยุพราชธาตุพนม | C32: 0 | D32: 3396782.9 | F32: 829523.01
A33: 3 | B33: โรงพยาบาลนาแก | C33: 0 | D33: 2064763.3 | F33: 1606827.3
A34: 4 | B34: โรงพยาบาลบ้านแพง | C34: 0 | D34: 1118096.4 | F34: 540051.2
A35: 5 | B35: โรงพยาบาลศรีสงคราม | C35: 0 | D35: 947227.4 | F35: 0
A36: 6 | B36: โรงพยาบาลนาหว้า | C36: 0 | D36: 579542.95 | F36: 918853
A37: 7 | B37: โรงพยาบาลท่าอุเทน | C37: 0 | D37: 84209 | F37: 719125.8
A38: 8 | B38: โรงพยาบาลปลาปาก | C38: 0 | D38: 298138.8 | F38: 256634.95
A39: 9 | B39: โรงพยาบาลเรณูนคร | C39: 0 | D39: 0 | F39: 275942.2
A40: 10 | B40: โรงพยาบาลนาทม | C40: 0 | D40: 0 | F40: 18028.6
A41: 11 | B41: โรงพยาบาลโพนสวรรค์ | C41: 0 | D41: 1338291.1 | F41: 226722.5
A42: 12 | B42: โรงพยาบาลวังยาง | C42: 0 | D42: 307496.92 | F42: 186208.3
A43: รวมจังหวัดนครพนม | C43: =SUM(C31:C42) -> 0 | D43: =SUM(D31:D42) -> 10134549 | F43: =SUM(F31:F42) -> 6920746.2
...
