Workbook

Sheet รายรพ.
H1: สิ่งที่ส่งมาด้วย
A2: รายงานหนี้องค์การเภสัชกรรม (รายโรงพยาบาล) ในเขตสุขภาพที่ 8 ปี 2567-2569
A3: ข้อมูล ณ วันที่ 31 พฤษภาคม 2569
A4: Acc Clerk Des | B4: Region | C4: Region Description | D4: Cust Name | E4: หนี้ปี 2567 | F4: หนี้ปี 2568 | G4: หนี้ปี 2569 | H4: รวม
A5: เขตสุขภาพ 8 | B5: 38 | C5: บึงกาฬ | D5: โรงพยาบาลบึงกาฬ | E5: 0 | F5: 0 | G5: 3604695.2 | H5: =SUM(E5:G5) -> 3604695.2
A6: เขตสุขภาพ 8 | B6: 38 | C6: บึงกาฬ | D6: โรงพยาบาลบุ่งคล้า | E6: 0 | F6: 451950.49 | G6: 529875.37 | H6: =SUM(E6:G6) -> 981825.86
A7: เขตสุขภาพ 8 | B7: 38 | C7: บึงกาฬ | D7: โรงพยาบาลศรีวิไล | E7: 0 | F7: 8239 | G7: 1361649.5 | H7: =SUM(E7:G7) -> 1369888.5
A8: เขตสุขภาพ 8 | B8: 38 | C8: บึงกาฬ | D8: โรงพยาบาลเซกา | E8: 0 | F8: 19224 | G8: 1423730.2 | H8: =SUM(E8:G8) -> 1442954.2
A9: เขตสุขภาพ 8 | B9: 38 | C9: บึงกาฬ | D9: โรงพยาบาลโซ่พิสัย | E9: 0 | F9: 0 | G9: 800251.31 | H9: =SUM(E9:G9) -> 800251.31
A10: เขตสุขภาพ 8 | B10: 38 | C10: บึงกาฬ | D10: โรงพยาบาลบึงโขงหลง | E10: 0 | F10: 0 | G10: 543246.7 | H10: =SUM(E10:G10) -> 543246.7
A11: เขตสุขภาพ 8 | B11: 38 | C11: บึงกาฬ | D11: โรงพยาบาลปากคาด | E11: 0 | F11: 0 | G11: 206815.75 | H11: =SUM(E11:G11) -> 206815.75
A12: เขตสุขภาพ 8 | B12: 38 | C12: บึงกาฬ | D12: โรงพยาบาลพรเจริญ | E12: 0 | F12: 0 | G12: 108268.7 | H12: =SUM(E12:G12) -> 108268.7
E13: =SUM(E5:E12) -> 0 | F13: =SUM(F5:F12) -> 479413.49 | G13: =SUM(G5:G12) -> 8578532.8 | H13: =SUM(H5:H12) -> 9057946.3
A14: เขตสุขภาพ 8 | B14: 39 | C14: หนองบัวลำภู | D14: โรงพยาบาลหนองบัวลำภู | E14: 0 | F14: 0 | G14: 3405087 | H14: =SUM(E14:G14) -> 3405087
A15: เขตสุขภาพ 8 | B15: 39 | C15: หนองบัวลำภู | D15: โรงพยาบาลนากลาง | E15: 0 | F15: 559609.2 | G15: 502611.1 | H15: =SUM(E15:G15) -> 1062220.3
A16: เขตสุขภาพ 8 | B16: 39 | C16: หนองบัวลำภู | D16: โรงพยาบาลโนนสัง | E16: 0 | F16: 819765.5 | G16: 3180292 | H16: =SUM(E16:G16) -> 4000057.5
A17: เขตสุขภาพ 8 | B17: 39 | C17: หนองบัวลำภู | D17: โรงพยาบาลศรีบุญเรือง | E17: 0 | F17: 542263.5 | G17: 3372961.7 | H17: =SUM(E17:G17) -> 3915225.2
A18: เขตสุขภาพ 8 | B18: 39 | C18: หนองบัวลำภู | D18: โรงพยาบาลสุวรรณคูหา | E18: 0 | F18: 241955.6 | G18: 1884718.9 | H18: =SUM(E18:G18) -> 2126674.5
A19: เขตสุขภาพ 8 | B19: 39 | C19: หนองบัวลำภู | D19: โรงพยาบาลนาวังเฉลิมพระเกียรติ 80 พรรษา | E19: 0 | F19: 140770.2 | G19: 916042.86 | H19: =SUM(E19:G19) -> 1056813.1
E20: =SUM(E14:E19) -> 0 | F20: =SUM(F14:F19) -> 2304364 | G20: =SUM(G14:G19) -> 13261714 | H20: =SUM(H14:H19) -> 15566078
A21: เขตสุขภาพ 8 | B21: 41 | C21: อุดรธานี | D21: โรงพยาบาลกุมภวาปี | E21: 0 | F21: 0 | G21: 2897268.8 | H21: =SUM(E21:G21) -> 2897268.8
A22: เขตสุขภาพ 8 | B22: 41 | C22: อุดรธานี | D22: โรงพยาบาลอุดรธานี | E22: 0 | F22: 0 | G22: 7208192.7 | H22: =SUM(E22:G22) -> 7208192.7
A23: เขตสุขภาพ 8 | B23: 41 | C23: อุดรธานี | D23: โรงพยาบาลหนองแสง | E23: 1046170.5 | F23: 1085242.7 | G23: 781828.39 | H23: =SUM(E23:G23) -> 2913241.6
A24: เขตสุขภาพ 8 | B24: 41 | C24: อุดรธานี | D24: โรงพยาบาลโนนสะอาด | E24: 1418875.9 | F24: 2743961.1 | G24: 1456461.4 | H24: =SUM(E24:G24) -> 5619298.3
A25: เขตสุขภาพ 8 | B25: 41 | C25: อุดรธานี | D25: โรงพยาบาลบ้านผือ | E25: 3031995.9 | F25: 8342179.5 | G25: 5960992.8 | H25: =SUM(E25:G25) -> 17335168
A26: เขตสุขภาพ 8 | B26: 41 | C26: อุดรธานี | D26: โรงพยาบาลกุดจับ | E26: 1644851.5 | F26: 2908069.1 | G26: 1676043 | H26: =SUM(E26:G26) -> 6228963.6
A27: เขตสุขภาพ 8 | B27: 41 | C27: อุดรธานี | D27: โรงพยาบาลไชยวาน | E27: 1268730 | F27: 2786724 | G27: 1741354.6 | H27: =SUM(E27:G27) -> 5796808.7
A28: เขตสุขภาพ 8 | B28: 41 | C28: อุดรธานี | D28: โรงพยาบาลสร้างคอม | E28: 560464.4 | F28: 1158169.1 | G28: 699232.25 | H28: =SUM(E28:G28) -> 2417865.8
A29: เขตสุขภาพ 8 | B29: 41 | C29: อุดรธานี | D29: โรงพยาบาลนายูง | E29: 308964.66 | F29: 833150.83 | G29: 612661.02 | H29: =SUM(E29:G29) -> 1754776.5
A30: เขตสุขภาพ 8 | B30: 41 | C30: อุดรธานี | D30: โรงพยาบาลพิบูลย์รักษ์ | E30: 302777.55 | F30: 2185829.2 | G30: 1159993.2 | H30: =SUM(E30:G30) -> 3648600
A31: เขตสุขภาพ 8 | B31: 41 | C31: อุดรธานี | D31: โรงพยาบาลวังสามหมอ | E31: 0 | F31: 4675798 | G31: 2954715.5 | H31: =SUM(E31:G31) -> 7630513.5
A32: เขตสุขภาพ 8 | B32: 41 | C32: อุดรธานี | D32: โรงพยาบาลหนองวัวซอ | E32: 0 | F32: 2837135.5 | G32: 1847903.8 | H32: =SUM(E32:G32) -> 4685039.2
... A42: เขตสุขภาพ 8 | B42: 41 | C42: อุดรธานี | D42: โรงพยาบาลน้ำโสม | E42: 0 | F42: 0 | G42: 35910 | H42: =SUM(E42:G42) -> 35910
E43: =SUM(E21:E42) -> 9582830.5 | F43: =SUM(F21:F42) -> 44221382 | G43: =SUM(G21:G42) -> 47006381 | H43: =SUM(H21:H42) -> 1.0081059e+08
A44: เขตสุขภาพ 8 | B44: 42 | C44: เลย | D44: โรงพยาบาลเลย | E44: 0 | F44: 0 | G44: 12081844 | H44: =SUM(E44:G44) -> 12081844
A45: เขตสุขภาพ 8 | B45: 42 | C45: เลย | D45: โรงพยาบาลนาแห้ว | E45: 946474.32 | F45: 1102989.9 | G45: 639129.56 | H45: =SUM(E45:G45) -> 2688593.8
A46: เขตสุขภาพ 8 | B46: 42 | C46: เลย | D46: โรงพยาบาลเชียงคาน | E46: 1992579.9 | F46: 2635633.1 | G46: 3799418.3 | H46: =SUM(E46:G46) -> 8427631.3
A47: เขตสุขภาพ 8 | B47: 42 | C47: เลย | D47: โรงพยาบาลหนองหิน | E47: 588358.8 | F47: 1029636.6 | G47: 700759.22 | H47: =SUM(E47:G47) -> 2318754.6
A48: เขตสุขภาพ 8 | B48: 42 | C48: เลย | D48: โรงพยาบาลท่าลี่ | E48: 810084.96 | F48: 2323656.1 | G48: 2113973 | H48: =SUM(E48:G48) -> 5247714
A49: เขตสุขภาพ 8 | B49: 42 | C49: เลย | D49: โรงพยาบาลสมเด็จพระยุพราชด่านซ้าย | E49: 2277857.5 | F49: 3925935 | G49: 2305852 | H49: =SUM(E49:G49) -> 8509644.5
A50: เขตสุขภาพ 8 | B50: 42 | C50: เลย | D50: โรงพยาบาลผาขาว | E50: 8089.2 | F50: 1214894.6 | G50: 1036995.5 | H50: =SUM(E50:G50) -> 2259979.3
A51: เขตสุขภาพ 8 | B51: 42 | C51: เลย | D51: โรงพยาบาลวังสะพุง | E51: 1803092.1 | F51: 4833941.1 | G51: 3294169 | H51: =SUM(E51:G51) -> 9931202.2
A52: เขตสุขภาพ 8 | B52: 42 | C52: เลย | D52: โรงพยาบาลภูเรือ | E52: 263962.27 | F52: 1715244.2 | G52: 1654377.4 | H52: =SUM(E52:G52) -> 3633583.9
A53: เขตสุขภาพ 8 | B53: 42 | C53: เลย | D53: โรงพยาบาลภูกระดึง | E53: 0 | F53: 1966577.7 | G53: 1521184.4 | H53: =SUM(E53:G53) -> 3487762.1
A54: เขตสุขภาพ 8 | B54: 42 | C54: เลย | D54: โรงพยาบาลภูหลวง | E54: 0 | F54: 248425.7 | G54: 1028288.9 | H54: =SUM(E54:G54) -> 1276714.6
A55: เขตสุขภาพ 8 | B55: 42 | C55: เลย | D55: โรงพยาบาลเอราวัณ | E55: 0 | F55: 287340.4 | G55: 961022.5 | H55: =SUM(E55:G55) -> 1248362.9
... A57: เขตสุขภาพ 8 | B57: 42 | C57: เลย | D57: โรงพยาบาลนาด้วง | E57: 0 | F57: 0 | G57: 186625.42 | H57: =SUM(E57:G57) -> 186625.42
A58: เขตสุขภาพ 8 | E58: =SUM(E44:E57) -> 8690499.1 | F58: =SUM(F44:F57) -> 21284274 | G58: =SUM(G44:G57) -> 34029200 | H58: =SUM(H44:H57) -> 64003973
A59: เขตสุขภาพ 8 | B59: 43 | C59: หนองคาย | D59: โรงพยาบาลหนองคาย | E59: 0 | F59: 0 | G59: 3615699.3 | H59: =SUM(E59:G59) -> 3615699.3
A60: เขตสุขภาพ 8 | B60: 43 | C60: หนองคาย | D60: โรงพยาบาลโพธิ์ตาก | E60: 612856.9 | F60: 1109592.2 | G60: 965278.63 | H60: =SUM(E60:G60) -> 2687727.8
A61: เขตสุขภาพ 8 | B61: 43 | C61: หนองคาย | D61: โรงพยาบาลโพนพิสัย | E61: 0 | F61: 2870383.5 | G61: 3204506.9 | H61: =SUM(E61:G61) -> 6074890.4
A62: เขตสุขภาพ 8 | B62: 43 | C62: หนองคาย | D62: โรงพยาบาลศรีเชียงใหม่ | E62: 0 | F62: 859507 | G62: 992134.08 | H62: =SUM(E62:G62) -> 1851641.1
A63: เขตสุขภาพ 8 | B63: 43 | C63: หนองคาย | D63: โรงพยาบาลสังคม | E63: 0 | F63: 1126279.7 | G63: 756726.3 | H63: =SUM(E63:G63) -> 1883006
A64: เขตสุขภาพ 8 | B64: 43 | C64: หนองคาย | D64: โรงพยาบาลเฝ้าไร่ | E64: 0 | F64: 666143.9 | G64: 1644060.9 | H64: =SUM(E64:G64) -> 2310204.8
A65: เขตสุขภาพ 8 | B65: 43 | C65: หนองคาย | D65: โรงพยาบาลสมเด็จพระยุพราชท่าบ่อ | E65: 0 | F65: 0 | G65: 4861781.4 | H65: =SUM(E65:G65) -> 4861781.4
A66: เขตสุขภาพ 8 | B66: 43 | C66: หนองคาย | D66: โรงพยาบาลสระใคร | E66: 0 | F66: 0 | G66: 200528.38 | H66: =SUM(E66:G66) -> 200528.38
A67: เขตสุขภาพ 8 | B67: 43 | C67: หนองคาย | D67: โรงพยาบาลรัตนวาปี | E67: 0 | F67: 0 | G67: 291240 | H67: =SUM(E67:G67) -> 291240
E68: =SUM(E59:E67) -> 612856.9 | F68: =SUM(F59:F67) -> 6631906.4 | G68: =SUM(G59:G67) -> 16531956 | H68: =SUM(H59:H67) -> 23776719
A69: เขตสุขภาพ 8 | B69: 47 | C69: สกลนคร | D69: โรงพยาบาลวานรนิวาส | E69: 0 | F69: 1984643.6 | G69: 3851807.8 | H69: =SUM(E69:G69) -> 5836451.4
A70: เขตสุขภาพ 8 | B70: 47 | C70: สกลนคร | D70: โรงพยาบาลสมเด็จพระยุพราช สว่างแดนดิน | E70: 0 | F70: 741.6 | G70: 4332544 | H70: =SUM(E70:G70) -> 4333285.5
A71: เขตสุขภาพ 8 | B71: 47 | C71: สกลนคร | D71: โรงพยาบาลสกลนคร | E71: 0 | F71: 0 | G71: 6101588.4 | H71: =SUM(E71:G71) -> 6101588.4
A72: เขตสุขภาพ 8 | B72: 47 | C72: สกลนคร | D72: โรงพยาบาลพระอาจารย์มั่น ภูริทัตโต | E72: 0 | F72: 4401705.7 | G72: 3759100.2 | H72: =SUM(E72:G72) -> 8160805.8
A73: เขตสุขภาพ 8 | B73: 47 | C73: สกลนคร | D73: โรงพยาบาลอากาศอำนวย | E73: 0 | F73: 2029453 | G73: 2180196.3 | H73: =SUM(E73:G73) -> 4209649.3
A74: เขตสุขภาพ 8 | B74: 47 | C74: สกลนคร | D74: โรงพยาบาลนิคมน้ำอูน | E74: 0 | F74: 587903.35 | G74: 446556.42 | H74: =SUM(E74:G74) -> 1034459.8
A75: เขตสุขภาพ 8 | B75: 47 | C75: สกลนคร | D75: โรงพยาบาลกุดบาก | E75: 0 | F75: 9651.4 | G75: 210175.7 | H75: =SUM(E75:G75) -> 219827.1
A76: เขตสุขภาพ 8 | B76: 47 | C76: สกลนคร | D76: โรงพยาบาลเต่างอย | E76: 0 | F76: 84220 | G76: 545880.04 | H76: =SUM(E76:G76) -> 630100.04
A77: เขตสุขภาพ 8 | B77: 47 | C77: สกลนคร | D77: โรงพยาบาลเจริญศิลป์ | E77: 0 | F77: 261612.2 | G77: 1164987.8 | H77: =SUM(E77:G77) -> 1426599.9
A78: เขตสุขภาพ 8 | B78: 47 | C78: สกลนคร | D78: โรงพยาบาลโพนนาแก้ว | E78: 0 | F78: 261191.76 | G78: 992659.32 | H78: =SUM(E78:G78) -> 1253851.1
A79: เขตสุขภาพ 8 | B79: 47 | C79: สกลนคร | D79: โรงพยาบาลคำตากล้า | E79: 0 | F79: 140973.8 | G79: 1557996.9 | H79: =SUM(E79:G79) -> 1698970.7
A80: เขตสุขภาพ 8 | B80: 47 | C80: สกลนคร | D80: โรงพยาบาลพังโคน | E80: 0 | F80: 0 | G80: 3083714.4 | H80: =SUM(E80:G80) -> 3083714.4
... A86: เขตสุขภาพ 8 | B86: 47 | C86: สกลนคร | D86: โรงพยาบาลวาริชภูมิ | E86: 0 | F86: 0 | G86: 604531.82 | H86: =SUM(E86:G86) -> 604531.82
E87: =SUM(E69:E86) -> 0 | F87: =SUM(F69:F86) -> 9762096.4 | G87: =SUM(G69:G86) -> 30360397 | H87: =SUM(H69:H86) -> 40122493
A88: เขตสุขภาพ 8 | B88: 48 | C88: นครพนม | D88: โรงพยาบาลนครพนม | E88: 0 | F88: 0 | G88: 1216962.4 | H88: =SUM(E88:G88) -> 1216962.4
A89: เขตสุขภาพ 8 | B89: 48 | C89: นครพนม | D89: โรงพยาบาลสมเด็จพระยุพราชธาตุพนม | E89: 0 | F89: 2207107.2 | G89: 2168452 | H89: =SUM(E89:G89) -> 4375559.2
A90: เขตสุขภาพ 8 | B90: 48 | C90: นครพนม | D90: โรงพยาบาลวังยาง | E90: 0 | F90: 307496.92 | G90: 512196.96 | H90: =SUM(E90:G90) -> 819693.88
A91: เขตสุขภาพ 8 | B91: 48 | C91: นครพนม | D91: โรงพยาบาลโพนสวรรค์ | E91: 0 | F91: 1338291.1 | G91: 1794717.4 | H91: =SUM(E91:G91) -> 3133008.4
A92: เขตสุขภาพ 8 | B92: 48 | C92: นครพนม | D92: โรงพยาบาลศรีสงคราม | E92: 0 | F92: 947227.4 | G92: 1534830.4 | H92: =SUM(E92:G92) -> 2482057.8
A93: เขตสุขภาพ 8 | B93: 48 | C93: นครพนม | D93: โรงพยาบาลบ้านแพง | E93: 0 | F93: 387664.05 | G93: 1955799.5 | H93: =SUM(E93:G93) -> 2343463.5
A94: เขตสุขภาพ 8 | B94: 48 | C94: นครพนม | D94: โรงพยาบาลท่าอุเทน | E94: 0 | F94: 84209 | G94: 1049201.9 | H94: =SUM(E94:G94) -> 1133410.9
A95: เขตสุขภาพ 8 | B95: 48 | C95: นครพนม | D95: โรงพยาบาลปลาปาก | E95: 0 | F95: 298138.8 | G95: 738680.45 | H95: =SUM(E95:G95) -> 1036819.2
A96: เขตสุขภาพ 8 | B96: 48 | C96: นครพนม | D96: โรงพยาบาลนาแก | E96: 0 | F96: 878177 | G96: 3353093.9 | H96: =SUM(E96:G96) -> 4231270.9
A97: เขตสุขภาพ 8 | B97: 48 | C97: นครพนม | D97: โรงพยาบาลนาหว้า | E97: 0 | F97: 0 | G97: 2168038.1 | H97: =SUM(E97:G97) -> 2168038.1
A98: เขตสุขภาพ 8 | B98: 48 | C98: นครพนม | D98: โรงพยาบาลนาทม | E98: 0 | F98: 0 | G98: 53575.25 | H98: =SUM(E98:G98) -> 53575.25
A99: เขตสุขภาพ 8 | B99: 48 | C99: นครพนม | D99: โรงพยาบาลเรณูนคร | E99: 0 | F99: 0 | G99: 167817 | H99: =SUM(E99:G99) -> 167817
E100: 0 | F100: 6448311.4 | G100: 16713365 | H100: =SUM(H88:H99) -> 23161677
E101: =+E13+E20+E43+E58+E68+E87+E100 -> 18886186 | F101: =+F13+F20+F43+F58+F68+F87+F100 -> 91131748 | G101: =+G13+G20+G43+G58+G68+G87+G100 -> 1.6648155e+08 | H101: =+H13+H20+H43+H58+H68+H87+H100 -> 2.7649948e+08
B103: ที่มา : องค์การเภสัชกรรม รับข้อมูล ณ วันที่ 4 มิถุนายน 2569

Sheet สรุปภาพรวมรายจังหวัด เขต 8
E1: สิ่งที่ส่งมาด้วย
A2: รายงานหนี้องค์การเภสัชกรรม ภาพรวม (รายจังหวัด) ในเขตสุขภาพที่ 8 ปี 2567-2569 (ข้อมูล ณ 31 พฤษภาคม 2569)
A3: จังหวัด | B3: หนี้ปี 2567 | C3: หนี้ปี 2568 | D3: หนี้ปี 2569 | E3: รวมหนี้
E4: ปี 2567-2569
A5: บึงกาฬ | B5: =+รายรพ.!E13 -> 0 | C5: =+รายรพ.!F13 -> 479413.49 | D5: =+รายรพ.!G13 -> 8578532.8 | E5: =SUM(B5:D5) -> 9057946.3
A6: หนองบัวลำภู | B6: =+รายรพ.!E20 -> 0 | C6: =+รายรพ.!F20 -> 2304364 | D6: =+รายรพ.!G20 -> 13261714 | E6: =SUM(B6:D6) -> 15566078
A7: อุดรธานี | B7: =+รายรพ.!E43 -> 9582830.5 | C7: =+รายรพ.!F43 -> 44221382 | D7: =+รายรพ.!G43 -> 47006381 | E7: =SUM(B7:D7) -> 1.0081059e+08
A8: เลย | B8: =+รายรพ.!E58 -> 8690499.1 | C8: =+รายรพ.!F58 -> 21284274 | D8: =+รายรพ.!G58 -> 34029200 | E8: =SUM(B8:D8) -> 64003973
A9: หนองคาย | B9: =+รายรพ.!E68 -> 612856.9 | C9: =+รายรพ.!F68 -> 6631906.4 | D9: =+รายรพ.!G68 -> 16531956 | E9: =SUM(B9:D9) -> 23776719
A10: สกลนคร | B10: =+รายรพ.!E87 -> 0 | C10: =+รายรพ.!F87 -> 9762096.4 | D10: =+รายรพ.!G87 -> 30360397 | E10: =SUM(B10:D10) -> 40122493
A11: นครพนม | B11: =+รายรพ.!E100 -> 0 | C11: =+รายรพ.!F100 -> 6448311.4 | D11: =+รายรพ.!G100 -> 16713365 | E11: =SUM(B11:D11) -> 23161677
A12: ภาพรวมเขต 8 | B12: =SUM(B5:B11) -> 18886186 | C12: =SUM(C5:C11) -> 91131748 | D12: =SUM(D5:D11) -> 1.6648155e+08 | E12: =SUM(E5:E11) -> 2.7649948e+08
A14: ที่มา : องค์การเภสัชกรรม รับข้อมูล ณ วันที่ 4 มิถุนายน 2569

Sheet ฟอร์มใส่สไลด์ ตรก. 
A1: ลำดับ | B1: Cust Name | C1: หนี้ปี 2567 | D1: หนี้ปี 2568 | E1: หนี้ปี 2569 | F1: รวม ปี 2567 -2569
A2: 1 | B2: โรงพยาบาลเลย | C2: 4280 | D2: 9827624 | E2: 7537371.2 | F2: =SUM(C2:E2) -> 17369275
A3: 2 | B3: โรงพยาบาลหนองหิน | C3: 917405.2 | D3: 1029636.6 | E3: 255000.86 | F3: =SUM(C3:E3) -> 2202042.6
A4: 3 | B4: โรงพยาบาลนาแห้ว | C4: 946474.32 | D4: 1102989.9 | E4: 246059.88 | F4: =SUM(C4:E4) -> 2295524.1
A5: 4 | B5: โรงพยาบาลเชียงคาน | C5: 1992579.9 | D5: 2635633.1 | E5: 1826040.8 | F5: =SUM(C5:E5) -> 6454253.8
A6: 5 | B6: โรงพยาบาลท่าลี่ | C6: 810084.96 | D6: 2323656.1 | E6: 928151.65 | F6: =SUM(C6:E6) -> 4061892.7
A7: 6 | B7: โรงพยาบาลสมเด็จพระยุพราชด่านซ้าย | C7: 2797744 | D7: 3925935 | E7: 1278879.8 | F7: =SUM(C7:E7) -> 8002558.9
A8: 7 | B8: โรงพยาบาลผาขาว | C8: 743310.87 | D8: 1762078.7 | E8: 520515.1 | F8: =SUM(C8:E8) -> 3025904.6
A9: 8 | B9: โรงพยาบาลวังสะพุง | C9: 2880721.5 | D9: 4835096.7 | E9: 1545834.8 | F9: =SUM(C9:E9) -> 9261652.9
A10: 9 | B10: โรงพยาบาลภูเรือ | C10: 319932.15 | D10: 1715244.2 | E10: 767208.5 | F10: =SUM(C10:E10) -> 2802384.8
A11: 10 | B11: โรงพยาบาลภูกระดึง | C11: 0 | D11: 1966577.7 | E11: 589777.12 | F11: =SUM(C11:E11) -> 2556354.8
A12: 11 | B12: โรงพยาบาลภูหลวง | C12: 0 | D12: 587261.3 | E12: 422199.23 | F12: =SUM(C12:E12) -> 1009460.5
A13: 12 | B13: โรงพยาบาลปากชม | C13: 0 | D13: 1792504.9 | E13: 1377849.9 | F13: =SUM(C13:E13) -> 3170354.8
... A15: 14 | B15: โรงพยาบาลนาด้วง | C15: 0 | D15: 36391.47 | E15: 281268.3 | F15: =SUM(C15:E15) -> 317659.77
A16: รวมจังหวัดเลย | C16: =SUM(C2:C15) -> 11412533 | D16: =SUM(D2:D15) -> 34010148 | E16: =SUM(E2:E15) -> 18008289 | F16: =SUM(F2:F15) -> 63430970
A18: ลำดับ | B18: Cust Name | C18: หนี้ปี 2567 | D18: หนี้ปี 2568 | E18: หนี้ปี 2569 | F18: รวม ปี 2567 -2569
A19: 1 | B19: โรงพยาบาลหนองคาย | C19: 0 | D19: 0 | E19: 714608.82 | F19: 4226017.3
A20: 2 | B20: โรงพยาบาลโพธิ์ตาก | C20: 856673.52 | D20: 1109592.2 | E20: 485666.71 | F20: 2948712.6
A21: 3 | B21: โรงพยาบาลโพนพิสัย | C21: 0 | D21: 2870383.5 | E21: 1374719.5 | F21: 939445.55
A22: 4 | B22: โรงพยาบาลศรีเชียงใหม่ | C22: 0 | D22: 859507 | E22: 553690.4 | F22: 1354777.6
A23: 5 | B23: โรงพยาบาลสังคม | C23: 0 | D23: 1126279.7 | E23: 240530 | F23: 3282800.1
A24: 6 | B24: โรงพยาบาลเฝ้าไร่ | C24: 0 | D24: 1487304.9 | E24: 778797.09 | F24: 178415.2
A25: 7 | B25: โรงพยาบาลสมเด็จพระยุพราชท่าบ่อ | C25: 0 | D25: 2546348.1 | E25: 2753637.4 | F25: 1262775.1
A26: 8 | B26: โรงพยาบาลรัตนวาปี | C26: 0 | D26: 0 | E26: 334273.05 | F26: 190586.2
A27: 9 | B27: โรงพยาบาลสระใคร | C27: 0 | D27: 0 | E27: 286514.3 | F27: 1787027
A28: รวมจังหวัดหนองคาย | C28: =SUM(C19:C27) -> 856673.52 | D28: =SUM(D19:D27) -> 9999415.4 | F28: =SUM(F19:F27) -> 16170557
A30: ลำดับ | B30: Cust Name | C30: หนี้ปี 2567 | D30: หนี้ปี 2568 | F30: รวม ปี 2566 -2568
A31: 1 | B31: โรงพยาบาลนครพนม | C31: 0 | D31: 0 | F31: 1342829.3
A32: 2 | B32: โรงพยาบาลสมเด็จพระยุพราชธาตุพนม | C32: 0 | D32: 3396782.9 | F32: 829523.01
A33: 3 | B33: โรงพยาบาลนาแก | C33: 0 | D33: 2064763.3 | F33: 1606827.3
A34: 4 | B34: โรงพยาบาลบ้านแพง | C34: 0 | D34: 1118096.4 | F34: 540051.2
A35: 5 | B35: โรงพยาบาลศรีสงคราม | C35: 0 | D35: 947227.4 | F35: 0
A36: 6 | B36: โรงพยาบาลนาหว้า | C36: 0 | D36: 579542.95 | F36: 918853
A37: 7 | B37: โรงพยาบาลท่าอุเทน | C37: 0 | D37: 84209 | F37: 719125.8
A38: 8 | B38: โรงพยาบาลปลาปาก | C38: 0 | D38: 298138.8 | F38: 256634.95
A39: 9 | B39: โรงพยาบาลเรณูนคร | C39: 0 | D39: 0 | F39: 275942.2
A40: 10 | B40: โรงพยาบาลนาทม | C40: 0 | D40: 0 | F40: 18028.6
A41: 11 | B41: โรงพยาบาลโพนสวรรค์ | C41: 0 | D41: 1338291.1 | F41: 226722.5
A42: 12 | B42: โรงพยาบาลวังยาง | C42: 0 | D42: 307496.92 | F42: 186208.3
A43: รวมจังหวัดนครพนม | C43: =SUM(C31:C42) -> 0 | D43: =SUM(D31:D42) -> 10134549 | F43: =SUM(F31:F42) -> 6920746.2
A46: ลำดับ | B46: Cust Name | C46: หนี้ปี 2567 | D46: หนี้ปี 2568 | E46: หนี้ปี 2569 | F46: รวม ปี 2567 -2569
A47: 1 | B47: โรงพยาบาลบึงกาฬ | C47: 0 | D47: 0 | E47: 1575702.1 | F47: 1630830.7
A48: 2 | B48: โรงพยาบาลบุ่งคล้า | C48: 3200 | D48: 451950.49 | E48: 278766.21 | F48: 1491411.8
A49: 3 | B49: โรงพยาบาลเซกา | C49: 0 | D49: 515265.5 | E49: 723774.44 | F49: 665661.35
A50: 4 | B50: โรงพยาบาลโซ่พิสัย | C50: 0 | D50: 908868.89 | E50: 425647.56 | F50: 701813.64
A51: 5 | B51: โรงพยาบาลศรีวิไล | C51: 0 | D51: 8239 | E51: 121947.44 | F51: 552486.4
A52: 6 | B52: โรงพยาบาลปากคาด | C52: 0 | D52: 3210 | E52: 487154.5 | F52: 289066.36
A53: 7 | B53: โรงพยาบาลบึงโขงหลง | C53: 0 | D53: 20062.5 | E53: 543647.85 | F53: 122183.9
A54: 8 | B54: โรงพยาบาลพรเจริญ | C54: 0 | D54: 0 | E54: 537923.8 | F54: 0
A55: รวมจังหวัดบึงกาฬ | C55: =SUM(C47:C54) -> 3200 | D55: =SUM(D47:D54) -> 1907596.4 | F55: =SUM(F47:F54) -> 5453454.2
A57: ลำดับ | B57: Cust Name | C57: หนี้ปี 2567 | D57: หนี้ปี 2568 | F57: รวม ปี 2567 -2569
A58: 1 | B58: โรงพยาบาลสกลนคร | C58: 0 | D58: 3619972.4 | F58: 4549759.1
A59: 2 | B59: โรงพยาบาลสมเด็จพระยุพราช สว่างแดนดิน | C59: 0 | D59: 788506.7 | F59: 3327148.5
A60: 3 | B60: โรงพยาบาลพระอาจารย์ฝั้นอาจาโร (พรรณานิคม) จังหวัดสกลนคร | C60: 0 | D60: 82945.5 | F60: 396280.6
A61: 4 | B61: โรงพยาบาลพังโคน | C61: 0 | D61: 1501399.6 | F61: 1053658.5
A62: 5 | B62: โรงพยาบาลวานรนิวาส | C62: 0 | D62: 4330152.5 | F62: 2045919.9
A63: 6 | B63: โรงพยาบาลวาริชภูมิ | C63: 0 | D63: 0 | F63: 936703.22
A64: 7 | B64: โรงพยาบาลอากาศอำนวย | C64: 0 | D64: 3080149.5 | F64: 769239
A65: 8 | B65: โรงพยาบาลกุดบาก | C65: 0 | D65: 98902.1 | F65: 179731.62
A66: 9 | B66: โรงพยาบาลกุสุมาลย์ | C66: 0 | D66: 147502.1 | F66: 208352.4
A67: 10 | B67: โรงพยาบาลพระอาจารย์วัน อุตฺตโม | C67: 0 | D67: 0 | F67: 181049
A68: 11 | B68: โรงพยาบาลพระอาจารย์มั่น ภูริทัตโต | C68: 0 | D68: 4681418.2 | F68: 1619004.7
A69: 12 | B69: โรงพยาบาลคำตากล้า | C69: 0 | D69: 434572.2 | F69: 439388.26
... A75: 18 | B75: โรงพยาบาลพระอาจารย์แบน ธนากโร | C75: 0 | D75: 0 | F75: 200443.25
A76: รวมจังหวัดสกลนคร | C76: =SUM(C58:C75) -> 0 | D76: =SUM(D58:D75) -> 20271379 | F76: =SUM(F58:F75) -> 17977431
A78: ลำดับ | B78: Cust Name | C78: หนี้ปี 2567 | D78: หนี้ปี 2568 | F78: รวม ปี 2566 -2568
A79: 1 | B79: โรงพยาบาลหนองบัวลำภู | C79: 121173.65 | D79: 3190717 | F79: 3311890.7
A80: 2 | B80: โรงพยาบาลนากลาง | C80: 662234.44 | D80: 1001514 | F80: 1663748.4
A81: 3 | B81: โรงพยาบาลโนนสัง | C81: 0 | D81: 1022843.2 | F81: 1022843.2
A82: 4 | B82: โรงพยาบาลศรีบุญเรือง | C82: 0 | D82: 2542567.8 | F82: 2542567.8
A83: 5 | B83: โรงพยาบาลสุวรรณคูหา | C83: 223043.95 | D83: 1223887.8 | F83: 1446931.7
A84: 6 | B84: โรงพยาบาลนาวังเฉลิมพระเกียรติ 80 พรรษา | C84: 53274.5 | D84: 1096036.7 | F84: 1149311.2
A85: รวมจังหวัดหนองบัวลำภู | C85: =SUM(C79:C84) -> 1059726.5 | D85: =SUM(D79:D84) -> 10077566 | F85: =SUM(F79:F84) -> 11137293
A87: ลำดับ | B87: Cust Name | C87: หนี้ปี 2567 | D87: หนี้ปี 2568 | E87: หนี้ปี 2569 | F87: รวม ปี 2567 -2569
A88: 1 | B88: โรงพยาบาลกุมภวาปี | C88: 0 | D88: 2897335.8 | E88: 1900224.1 | F88: =SUM(C88:E88) -> 4797560
A89: 2 | B89: โรงพยาบาลอุดรธานี | C89: 0 | D89: 36005.5 | E89: 4742225.9 | F89: =SUM(C89:E89) -> 4778231.4
A90: 3 | B90: โรงพยาบาลสร้างคอม | C90: 1126553.9 | D90: 1158169.1 | E90: 327995.35 | F90: =SUM(C90:E90) -> 2612718.4
A91: 4 | B91: โรงพยาบาลหนองวัวซอ | C91: 2023202.9 | D91: 2837135.5 | E91: 980645.15 | F91: =SUM(C91:E91) -> 5840983.5
A92: 5 | B92: โรงพยาบาลไชยวาน | C92: 2306999.5 | D92: 2786724 | E92: 1370508.5 | F92: =SUM(C92:E92) -> 6464232
A93: 6 | B93: โรงพยาบาลหนองแสง | C93: 1046170.5 | D93: 1085242.7 | E93: 514564.64 | F93: =SUM(C93:E93) -> 2645977.8
A94: 7 | B94: โรงพยาบาลกุดจับ | C94: 3025875.8 | D94: 2908069.1 | E94: 1352488.9 | F94: =SUM(C94:E94) -> 7286433.8
A95: 8 | B95: โรงพยาบาลกู่แก้ว | C95: 531171.86 | D95: 1283941.2 | E95: 506825.78 | F95: =SUM(C95:E95) -> 2321938.9
A96: 9 | B96: โรงพยาบาลหนองหาน | C96: 3458872 | D96: 3920864.7 | E96: 1578106.4 | F96: =SUM(C96:E96) -> 8957843.1
A97: 10 | B97: โรงพยาบาลนายูง | C97: 1223739.4 | D97: 833150.83 | E97: 371065.2 | F97: =SUM(C97:E97) -> 2427955.4
A98: 11 | B98: โรงพยาบาลโนนสะอาด | C98: 2017751.8 | D98: 2757229.1 | E98: 811290.7 | F98: =SUM(C98:E98) -> 5586271.6
A99: 12 | B99: โรงพยาบาลบ้านผือ | C99: 3628987.3 | D99: 8342179.5 | E99: 3568794.5 | F99: =SUM(C99:E99) -> 15539961
... A108: 21 | B108: โรงพยาบาลห้วยเกิ้ง | C108: 0 | D108: 0 | E108: 45195.1 | F108: =SUM(C108:E108) -> 45195.1
A109: รวมจังหวัดอุดรธานี | C109: =SUM(C88:C108) -> 22169773 | D109: =SUM(D88:D108) -> 53156700 | E109: =SUM(E88:E108) -> 29711898 | F109: =SUM(F88:F108) -> 1.0503837e+08
