Workbook
Name data: '[1]งบทดลอง รพ.'!$A$2:$CL$438
Name data1: #REF!
Name data1: #REF!
Name NEW: #REF!
Name NEW: #REF!
Name test1: #REF!
Name test1: #REF!

Sheet 1.รายชื่อ รพ.
B1: จ.หนองคาย | D1: จ.นครพนม | F1: จ.เลย | H1: จ.หนองบัวลำภู | J1: จ.บึงกาฬ | L1: จ.อุดรธานี | N1: จ.สกลนคร
A2: 1 | B2: หนองคาย | C2: 1 | D2: นครพนม | E2: 1 | F2: เลย | G2: 1 | H2: หนองบัวลำภู | I2: 1 | J2: บึงกาฬ | K2: 1 | L2: อุดรธานี | M2: 1 | N2: สกลนคร
A3: 2 | B3: โพนพิสัย | C3: 2 | D3: ปลาปาก | E3: 2 | F3: นาด้วง | G3: 2 | H3: นากลาง | I3: 2 | J3: พรเจริญ | K3: 2 | L3: กุดจับ | M3: 2 | N3: กุสุมาลย์
A4: 3 | B4: ศรีเชียงใหม่ | C4: 3 | D4: ท่าอุเทน | E4: 3 | F4: เชียงคาน | G4: 3 | H4: โนนสัง | I4: 3 | J4: โซ่พิสัย | K4: 3 | L4: หนองวัวซอ | M4: 3 | N4: กุดบาก
A5: 4 | B5: สังคม | C5: 4 | D5: บ้านแพง | E5: 4 | F5: ปากชม | G5: 4 | H5: ศรีบุญเรือง | I5: 4 | J5: เซกา | K5: 4 | L5: กุมภวาปี | M5: 4 | N5: พระอาจารย์ฝั้น
A6: 5 | B6: ท่าบ่อ | C6: 5 | D6: นาทม | E6: 5 | F6: นาแห้ว | G6: 5 | H6: สุวรรณคูหา | I6: 5 | J6: ปากคาด | K6: 5 | L6: ห้วยเกิ้ง | M6: 5 | N6: พังโคน
A7: 6 | B7: สระใคร | C7: 6 | D7: เรณูนคร | E7: 6 | F7: ภูเรือ | G7: 6 | H7: นาวัง | I7: 6 | J7: บึงโขงหลง | K7: 6 | L7: โนนสะอาด | M7: 6 | N7: วาริชภูมิ
A8: 7 | B8: โพธิ์ตาก | C8: 7 | D8: นาแก | E8: 7 | F8: ท่าลี่ | I8: 7 | J8: ศรีวิไล | K8: 7 | L8: หนองหาน | M8: 7 | N8: นิคมน้ำอูน
A9: 8 | B9: เฝ้าไร่ | C9: 8 | D9: ศรีสงคราม | E9: 8 | F9: วังสะพุง | I9: 8 | J9: บุ่งคล้า | K9: 8 | L9: ทุ่งฝน | M9: 8 | N9: วานรนิวาส
A10: 9 | B10: รัตนวาปี | C10: 9 | D10: นาหว้า | E10: 9 | F10: ภูกระดึง | K10: 9 | L10: ไชยวาน | M10: 9 | N10: คำตากล้า
C11: 10 | D11: โพนสวรรค์ | E11: 10 | F11: ภูหลวง | K11: 10 | L11: ศรีธาตุ | M11: 10 | N11: พระอาจารย์มั่น
C12: 11 | D12: ธาตุพนม | E12: 11 | F12: ผาขาว | K12: 11 | L12: วังสามหมอ | M12: 11 | N12: อากาศอำนวย
C13: 12 | D13: วังยาง | E13: 12 | F13: ด่านซาย | K13: 12 | L13: บ้านผือ | M13: 12 | N13: พระอาจารย์วัน
E14: 13 | F14: เอราวัณ | K14: 13 | L14: น้ำโสม | M14: 13 | N14: เต่างอย
E15: 14 | F15: หนองหิน | K15: 14 | L15: เพ็ญ | M15: 14 | N15: โคกศรีสุพรรณ
B16: งบทดลองเบื้องต้น | K16: 15 | L16: สร้างคอม | M16: 15 | N16: เจริญศิลป์
K17: 16 | L17: หนองแสง | M17: 16 | N17: โพนนาแก้ว
K18: 17 | L18: นายูง | M18: 17 | N18: สว่างแดนดิน
K19: 18 | L19: พิบูลย์รักษ์ | M19: 18 | N19: พระอาจารย์แบน
K20: 19 | L20: บ้านดุง
K21: 20 | L21: กู่แก้ว
K22: 21 | L22: ประจักษ์ศิลปาคม | N22: =9+12+14+6+8+21+18 -> 88

Sheet 2.Hosp. Group
B1: การจัดกลุ่ม Benchmarking รายได้ ค่าใช้จ่าย ปี 2569
A2: 1 | B2: 2 | C2: 3 | D2: 4 | E2: 5 | F2: 6 | G2: 7 | H2: 8 | I2: 9 | J2: 10 | K2: 11
A3: ลำดับเรียงตามจัดกลุ่ม | B3: กลุ่ม | C3: Province | D3: OrgID | E3: Org | F3: ประเภท | G3: ServBed | H3: CapacityGroup | I3: pop | J3: จำนวนเตียงจริง | K3: New Factor
A5: 1 | B5: 1 | C5: อุดรธานี | D5: 11016 | E5: รพ.ห้วยเกิ้ง | F5: รพช. | H5: รพช.F3 P<=15,000 | I5: 3920 | J5: 10 | K5: 21
A6: 2 | B6: 1 | C6: สกลนคร | D6: 11094 | E6: รพ.นิคมน้ำอูน | F6: รพช. | H6: รพช.F3 P<=15,000 | I6: 11615 | J6: 17 | K6: 21
A7: 3 | B7: 1 | C7: เลย | D7: 11033 | E7: รพ.นาแห้ว | F7: รพช. | H7: รพช.F3 P<=15,000 | I7: 9631 | J7: 20 | K7: 21
A8: 4 | B8: 1 | C8: นครพนม | D8: 40840 | E8: รพ.วังยาง | F8: รพช. | H8: รพช.F3 P<=15,000 | I8: 12726 | J8: 20 | K8: 21
A9: 5 | B9: 1 | C9: หนองคาย | D9: 28778 | E9: รพ.โพธิ์ตาก | F9: รพช. | H9: รพช.F3 P<=15,000 | I9: 12310 | J9: 30 | K9: 21
A10: 6 | B10: 1 | C10: บึงกาฬ | D10: 11050 | E10: รพ.บุ่งคล้า | F10: รพช. | H10: รพช.F3 P<=15,000 | I10: 12025 | J10: 34 | K10: 21
A11: 7 | B11: 2 | C11: อุดรธานี | D11: 25059 | E11: รพ.ประจักษ์ศิลปาคม | F11: รพช. | H11: รพช.F3 P15,000-25,000 | I11: 20749 | J11: 30 | K11: 21
A12: 8 | B12: 2 | C12: อุดรธานี | D12: 25058 | E12: รพ.กู่แก้ว | F12: รพช. | H12: รพช.F2 P<=30,000 | I12: 19647 | J12: 30 | K12: 21
A13: 9 | B13: 2 | C13: นครพนม | D13: 11107 | E13: รพ.นาทม | F13: รพช. | H13: รพช.F2 P<=30,000 | I13: 18866 | J13: 36 | K13: 21
A14: 10 | B14: 2 | C14: สกลนคร | D14: 11100 | E14: รพ.เต่างอย | F14: รพช. | H14: รพช.F2 P<=30,000 | I14: 19146 | J14: 35 | K14: 21
A15: 11 | B15: 2 | C15: เลย | D15: 11034 | E15: รพ.ภูเรือ | F15: รพช. | H15: รพช.F2 P<=30,000 | I15: 19640 | J15: 30 | K15: 21
A16: 12 | B16: 2 | C16: อุดรธานี | D16: 11029 | E16: รพ.พิบูลย์รักษ์ | F16: รพช. | H16: รพช.F2 P<=30,000 | I16: 21176 | J16: 30 | K16: 21
... A92: 88 | B92: 13 | C92: อุดรธานี | D92: 10671 | E92: รพ.อุดรธานี | F92: รพศ. | H92: รพศ.A B>1000 | I92: 379668 | J92: 1155 | K92: 14

Sheet 3.สูตรการคำนวณ
A1: สูตรคำนวนข้อมูลหมวดรายได้
A2: ลำดับ | B2: หมวดรายได้ | C2: รายได้(บาท)/ปชก. | D2: %diff ค่าเฉลี่ย/ปชก.
A3: 1 | B3: เหมาจ่ายรายหัว UC | C3: = รายได้ในหมวดเหมาจ่ายรายหัว UC หารด้วยประชากร UC ในพื้นที่รับผิดชอบ | D3: = (รายได้(บาท)/ปชก.ในหมวดเหมาจ่ายรายหัว UC ของร.พ. - ค่าเฉลี่ยรายได้(บาท)/ปชก.ในหมวดเหมาจ่ายรายหัว UC ของกลุ่มร.พ.นั้น) คูณ 100 หารด้วยค่าเฉลี่ยรายได้(บาท)/ปชก.ในหมวดเหมาจ่ายรายหัว UC ของกลุ่มร.พ.นั้น
A4: 2 | B4: เรียกเก็บUC/กองทุนUC/EMS | C4: = รายได้ในหมวดเรียกเก็บUC/กองทุนUC/EMS หารด้วยประชากร UC ในพื้นที่รับผิดชอบ | D4: = (รายได้(บาท)/ปชก.ในหมวดเรียกเก็บUC/กองทุนUC/EMS ของร.พ. - ค่าเฉลี่ยรายได้(บาท)/ปชก.ในหมวดเรียกเก็บUC/กองทุนUC/EMS ของกลุ่มร.พ.นั้น) คูณ 100 หารด้วยค่าเฉลี่ยรายได้(บาท)/ปชก.ในหมวดเรียกเก็บUC/กองทุนUC/EMS ของกลุ่มร.พ.นั้น
A5: 3 | B5: ประกันสังคม | C5: = รายได้ในหมวดประกันสังคม หารด้วยประชากรประกันสังคมในพื้นที่รับผิดชอบ | D5: = (รายได้(บาท)/ปชก.ในหมวดประกันสังคมของร.พ. - ค่าเฉลี่ยรายได้(บาท)/ปชก.ในหมวดประกันสังคมของกลุ่มร.พ.นั้น) คูณ 100 หารด้วยค่าเฉลี่ยรายได้(บาท)/ปชก.ในหมวดประกันสังคมของกลุ่มร.พ.นั้น
A6: 4 | B6: ข้าราชการ | C6: = รายได้ในหมวดข้าราชการ หารด้วยประชากรข้าราชการในพื้นที่รับผิดชอบ | D6: = (รายได้(บาท)/ปชก.ในหมวดข้าราชการของร.พ. - ค่าเฉลี่ยรายได้(บาท)/ปชก.ในหมวดข้าราชการของกลุ่มร.พ.นั้น) คูณ 100 หารด้วยค่าเฉลี่ยรายได้(บาท)/ปชก.ในหมวดข้าราชการของกลุ่มร.พ.นั้น
A7: 5 | B7: พรบ. | C7: = รายได้ในหมวดพรบ. หารด้วยประชากรทุกสิทธิ์ในพื้นที่รับผิดชอบ | D7: = (รายได้(บาท)/ปชก.ในหมวดพรบ.ของร.พ. - ค่าเฉลี่ยรายได้(บาท)/ปชก.ในหมวดพรบ.ของกลุ่มร.พ.นั้น) คูณ 100 หารด้วยค่าเฉลี่ยรายได้(บาท)/ปชก.ในหมวดพรบ.ของกลุ่มร.พ.นั้น
A8: 6 | B8: ชำระเงินเอง | C8: = รายได้ในหมวดชำระเงินเอง หารด้วยประชากรทุกสิทธิ์ในพื้นที่รับผิดชอบ | D8: = (รายได้(บาท)/ปชก.ในหมวดชำระเงินเองของร.พ. - ค่าเฉลี่ยรายได้(บาท)/ปชก.ในหมวดชำระเงินเองของกลุ่มร.พ.นั้น) คูณ 100 หารด้วยค่าเฉลี่ยรายได้(บาท)/ปชก.ในหมวดชำระเงินเองของกลุ่มร.พ.นั้น
A9: 7 | B9: งบบุคลากร | C9: = รายได้ในหมวดงบบุคลากร หารด้วยประชากร UC ในพื้นที่รับผิดชอบ | D9: = (รายได้(บาท)/ปชก.ในหมวดงบบุคลากรของร.พ. - ค่าเฉลี่ยรายได้(บาท)/ปชก.ในหมวดงบบุคลากรของกลุ่มร.พ.นั้น) คูณ 100 หารด้วยค่าเฉลี่ยรายได้(บาท)/ปชก.ในหมวดงบบุคลากรของกลุ่มร.พ.นั้น
A11: สูตรคำนวนข้อมูลหมวดค่าใช้จ่าย
A12: ลำดับ | B12: หมวดค่าใช้จ่าย | C12: ค่าใช้จ่าย(บาท)/RW | D12: %diff ค่าเฉลี่ย/ปชก.
A13: 1 | B13: บุคลากรรวม | C13: = ค่าใช้จ่ายในหมวดบุคลากรรวม หารด้วย Adj.RW รวม(Quick Method) | D13: = (ค่าใช้จ่าย(บาท)/RWในหมวดบุคลากรรวมของร.พ. - ค่าเฉลี่ยค่าใช้จ่าย(บาท)/RWในหมวดบุคลากรรวมของกลุ่มร.พ.นั้น) คูณ 100 หารด้วยค่าเฉลี่ยค่าใช้จ่าย(บาท)/RWในหมวดบุคลากรรวมของกลุ่มร.พ.นั้น
A14: 2 | B14: ค่าฝึกอบรม | C14: = ค่าใช้จ่ายในหมวดค่าฝึกอบรม หารด้วย Adj.RW รวม(Quick Method) | D14: = (ค่าใช้จ่าย(บาท)/RWในหมวดค่าฝึกอบรมของร.พ. - ค่าเฉลี่ยค่าใช้จ่าย(บาท)/RWในหมวดค่าฝึกอบรมของกลุ่มร.พ.นั้น) คูณ 100 หารด้วยค่าเฉลี่ยค่าใช้จ่าย(บาท)/RWในหมวดค่าฝึกอบรมของกลุ่มร.พ.นั้น
A15: 3 | B15: ยาใช้ไป | C15: = ค่าใช้จ่ายในหมวดยาใช้ไป หารด้วย Adj.RW รวม(Quick Method) | D15: = (ค่าใช้จ่าย(บาท)/RWในหมวดยาใช้ไปของร.พ. - ค่าเฉลี่ยค่าใช้จ่าย(บาท)/RWในหมวดยาใช้ไปของกลุ่มร.พ.นั้น) คูณ 100 หารด้วยค่าเฉลี่ยค่าใช้จ่าย(บาท)/RWในหมวดยาใช้ไปของกลุ่มร.พ.นั้น
A16: 4 | B16: เวชภัณฑ์ที่ไม่ใช่ยา | C16: = ค่าใช้จ่ายในหมวดเวชภัณฑ์ที่ไม่ใช่ยา หารด้วย Adj.RW รวม(Quick Method) | D16: = (ค่าใช้จ่าย(บาท)/RWในหมวดเวชภัณฑ์ที่ไม่ใช่ยาของร.พ. - ค่าเฉลี่ยค่าใช้จ่าย(บาท)/RWในหมวดเวชภัณฑ์ที่ไม่ใช่ยาของกลุ่มร.พ.นั้น) คูณ 100 หารด้วยค่าเฉลี่ยค่าใช้จ่าย(บาท)/RWในหมวดเวชภัณฑ์ที่ไม่ใช่ยาของกลุ่มร.พ.นั้น
A17: 5 | B17: วัสดุการแพทย์ | C17: = ค่าใช้จ่ายในหมวดวัสดุการแพทย์ หารด้วย Adj.RW รวม(Quick Method) | D17: = (ค่าใช้จ่าย(บาท)/RWในหมวดวัสดุการแพทย์ของร.พ. - ค่าเฉลี่ยค่าใช้จ่าย(บาท)/RWในหมวดวัสดุการแพทย์ของกลุ่มร.พ.นั้น) คูณ 100 หารด้วยค่าเฉลี่ยค่าใช้จ่าย(บาท)/RWในหมวดวัสดุการแพทย์ของกลุ่มร.พ.นั้น
A18: 6 | B18: วัสดุวิทยาศาสตร์ | C18: = ค่าใช้จ่ายในหมวดวัสดุวิทยาศาสตร์ หารด้วย Adj.RW รวม(Quick Method) | D18: = (ค่าใช้จ่าย(บาท)/RWในหมวดวัสดุวิทยาศาสตร์ของร.พ. - ค่าเฉลี่ยค่าใช้จ่าย(บาท)/RWในหมวดวัสดุวิทยาศาสตร์ของกลุ่มร.พ.นั้น) คูณ 100 หารด้วยค่าเฉลี่ยค่าใช้จ่าย(บาท)/RWในหมวดวัสดุวิทยาศาสตร์ของกลุ่มร.พ.นั้น
A19: 7 | B19: วัสดุอื่น | C19: = ค่าใช้จ่ายในหมวดวัสดุอื่น หารด้วย Adj.RW รวม(Quick Method) | D19: = (ค่าใช้จ่าย(บาท)/RWในหมวดวัสดุอื่นของร.พ. - ค่าเฉลี่ยค่าใช้จ่าย(บาท)/RWในหมวดวัสดุอื่นของกลุ่มร.พ.นั้น) คูณ 100 หารด้วยค่าเฉลี่ยค่าใช้จ่าย(บาท)/RWในหมวดวัสดุอื่นของกลุ่มร.พ.นั้น
A20: 8 | B20: ซ่อมแซม/จ้างเหมา | C20: = ค่าใช้จ่ายในหมวดซ่อมแซม/จ้างเหมา หารด้วย Adj.RW รวม(Quick Method) | D20: = (ค่าใช้จ่าย(บาท)/RWในหมวดซ่อมแซม/จ้างเหมาของร.พ. - ค่าเฉลี่ยค่าใช้จ่าย(บาท)/RWในหมวดซ่อมแซม/จ้างเหมาของกลุ่มร.พ.นั้น) คูณ 100 หารด้วยค่าเฉลี่ยค่าใช้จ่าย(บาท)/RWในหมวดซ่อมแซม/จ้างเหมาของกลุ่มร.พ.นั้น
A21: 9 | B21: จ้างตรวจLAB | C21: = ค่าใช้จ่ายในหมวดจ้างตรวจLAB หารด้วย Adj.RW รวม(Quick Method) | D21: = (ค่าใช้จ่าย(บาท)/RWในหมวดจ้างตรวจLABของร.พ. - ค่าเฉลี่ยค่าใช้จ่าย(บาท)/RWในหมวดจ้างตรวจLABของกลุ่มร.พ.นั้น) คูณ 100 หารด้วยค่าเฉลี่ยค่าใช้จ่าย(บาท)/RWในหมวดจ้างตรวจLABของกลุ่มร.พ.นั้น
A22: 10 | B22: ค่าสาธารณูปโภค | C22: = ค่าใช้จ่ายในหมวดค่าสาธารณูปโภค หารด้วย Adj.RW รวม(Quick Method) | D22: = (ค่าใช้จ่าย(บาท)/RWในหมวดค่าสาธารณูปโภคของร.พ. - ค่าเฉลี่ยค่าใช้จ่าย(บาท)/RWในหมวดค่าสาธารณูปโภคของกลุ่มร.พ.นั้น) คูณ 100 หารด้วยค่าเฉลี่ยค่าใช้จ่าย(บาท)/RWในหมวดค่าสาธารณูปโภคของกลุ่มร.พ.นั้น
A23: 11 | B23: ค่าใช้สอยอื่นๆ | C23: = ค่าใช้จ่ายในหมวดค่าใช้สอยอื่นๆ หารด้วย Adj.RW รวม(Quick Method) | D23: = (ค่าใช้จ่าย(บาท)/RWในหมวดค่าใช้สอยอื่นๆของร.พ. - ค่าเฉลี่ยค่าใช้จ่าย(บาท)/RWในหมวดค่าใช้สอยอื่นๆของกลุ่มร.พ.นั้น) คูณ 100 หารด้วยค่าเฉลี่ยค่าใช้จ่าย(บาท)/RWในหมวดค่าใช้สอยอื่นๆของกลุ่มร.พ.นั้น
A24: 12 | B24: ค่าใช้จ่ายอื่นๆ | C24: = ค่าใช้จ่ายในหมวดค่าใช้จ่ายอื่นๆ หารด้วย Adj.RW รวม(Quick Method) | D24: = (ค่าใช้จ่าย(บาท)/RWในหมวดค่าใช้จ่ายอื่นๆของร.พ. - ค่าเฉลี่ยค่าใช้จ่าย(บาท)/RWในหมวดค่าใช้จ่ายอื่นๆของกลุ่มร.พ.นั้น) คูณ 100 หารด้วยค่าเฉลี่ยค่าใช้จ่าย(บาท)/RWในหมวดค่าใช้จ่ายอื่นๆของกลุ่มร.พ.นั้น
A26: หมายเหตุ : Factor Quick Method ในการคำนวนหาค่า Adj.RW รวม คือ รพ.ศูนย์/รพ.ทั่วไป = 14, รพช.ขนาดใหญ่ = 17, รพช.ขนาดกลาง/เล็ก = 21
A27: สูตรหา: | B27: Rw รวมคิดแบบ quick method = (จำนวน visit ผู้ป่วยนอก/ค่า factor) + rw ผู้ป่วยใน

Sheet DATA
B1: ข้อมูลประชากรและผลงานบริการไตรมาสที่ 2/2569
I2: สิทธิประกันสังคม | J2: สิทธิข้าราชการ | K2: สิทธิอื่นๆ | L2: HDC | M2: CMI@MOPH
A3: ลำดับเรียงตามงบทดลอง | B3: ลำดับเรียงตามจัดกลุ่ม | C3: กลุ่ม | D3: จังหวัด | E3: รหัส | F3: โรงพยาบาล | G3: จำนวนประชากรแยกตามสิทธิ (คน) | L3: OPD (จำนวนครั้ง) | M3: IPD
G4: ประชากรทั้งหมด | H4: สิทธิ UC 1 เม.ย.68 | I4: สิทธิประกันสังคม | J4: สิทธิข้าราชการ | K4: สิทธิอื่นๆ | L4: OP Visit รวม | M4: AdjRW รวม
A5: 72 | B5: 1 | C5: 1 | D5: อุดรธานี | E5: 11016 | F5: ห้วยเกิ้ง | G5: 4283 | H5: 3920 | I5: 310 | J5: 402 | K5: =G5-(H5+I5+J5) -> -349 | L5: 16255 | M5: 414.262
A6: 41 | B6: 2 | C6: 1 | D6: สกลนคร | E6: 11094 | F6: นิคมน้ำอูน | G6: 12372 | H6: 10569 | I6: 515 | J6: 1132 | K6: =G6-(H6+I6+J6) -> 156 | L6: 22386 | M6: 446.632
A7: 25 | B7: 3 | C7: 1 | D7: เลย | E7: 11033 | F7: นาแห้ว | G7: 10457 | H7: 8710 | I7: 399 | J7: 1154 | K7: =G7-(H7+I7+J7) -> 194 | L7: 20974 | M7: 487.012
A8: 12 | B8: 4 | C8: 1 | D8: นครพนม | E8: 40840 | F8: วังยาง | G8: 13263 | H8: 11617 | I8: 320 | J8: 875 | K8: =G8-(H8+I8+J8) -> 451 | L8: 24305 | M8: 592.403
A9: 59 | B9: 5 | C9: 1 | D9: หนองคาย | E9: 28778 | F9: โพธิ์ตาก | G9: 12971 | H9: 11739 | I9: 351 | J9: 784 | K9: =G9-(H9+I9+J9) -> 97 | L9: 20101 | M9: 634.498
A10: 20 | B10: 6 | C10: 1 | D10: บึงกาฬ | E10: 11050 | F10: บุ่งคล้า | G10: 12400 | H10: 11073 | I10: 390 | J10: 1085 | K10: =G10-(H10+I10+J10) -> -148 | L10: 21308 | M10: 536.407
A11: 88 | B11: 7 | C11: 2 | D11: อุดรธานี | E11: 25059 | F11: ประจักษ์ | G11: 21423 | H11: 18961 | I11: 1168 | J11: 1175 | K11: =G11-(H11+I11+J11) -> 119 | L11: 32559 | M11: 848.311
A12: 87 | B12: 8 | C12: 2 | D12: อุดรธานี | E12: 25058 | F12: กู่แก้ว | G12: 19682 | H12: 17958 | I12: 581 | J12: 1121 | K12: =G12-(H12+I12+J12) -> 22 | L12: 35545 | M12: 940.567
A13: 5 | B13: 9 | C13: 2 | D13: นครพนม | E13: 11107 | F13: นาทม | G13: 19009 | H13: 17227 | I13: 569 | J13: 1314 | K13: =G13-(H13+I13+J13) -> -101 | L13: 31302 | M13: 562.036
A14: 47 | B14: 10 | C14: 2 | D14: สกลนคร | E14: 11100 | F14: เต่างอย | G14: 20453 | H14: 17422 | I14: 1496 | J14: 1422 | K14: =G14-(H14+I14+J14) -> 113 | L14: 31574 | M14: 836.888
A15: 26 | B15: 11 | C15: 2 | D15: เลย | E15: 11034 | F15: ภูเรือ | G15: 21000 | H15: 17762 | I15: 953 | J15: 1875 | K15: =G15-(H15+I15+J15) -> 410 | L15: 40609 | M15: 1310.81
A16: 85 | B16: 12 | C16: 2 | D16: อุดรธานี | E16: 11029 | F16: พิบูลย์รักษ์ | G16: 21500 | H16: 19357 | I16: 776 | J16: 1309 | K16: =G16-(H16+I16+J16) -> 58 | L16: 37296 | M16: 1141.15
A17: 58 | B17: 13 | C17: 2 | D17: หนองคาย | E17: 21356 | F17: สระใคร | G17: 22106 | H17: 19837 | I17: 1148 | J17: 1130 | K17: =G17-(H17+I17+J17) -> -9 | L17: 33412 | M17: 1219.55
... A26: 27 | B26: 22 | C26: 3 | D26: เลย | E26: 11035 | F26: ท่าลี่ | G26: 25442 | H26: 20434 | I26: 1057 | J26: 2468 | K26: =G26-(H26+I26+J26) -> 1483 | L26: 36340 | M26: 1173.92
A27: 75 | B27: 23 | C27: 3 | D27: อุดรธานี | E27: 11019 | F27: ทุ่งฝน | G27: 27098 | H27: 24417 | I27: 847 | J27: 1806 | K27: =G27-(H27+I27+J27) -> 28 | L27: 40253 | M27: 1123.59
A28: 67 | B28: 24 | C28: 4 | D28: หนองบัวลำภู | E28: 23367 | F28: นาวังฯ | G28: 31374 | H28: 28321 | I28: 872 | J28: 2088 | K28: =G28-(H28+I28+J28) -> 93 | L28: 41246 | M28: 1377.32
A29: 37 | B29: 25 | C29: 3 | D29: สกลนคร | E29: 11090 | F29: กุดบาก | G29: 27121 | H29: 23321 | I29: 1122 | J29: 2594 | K29: =G29-(H29+I29+J29) -> 84 | L29: 42055 | M29: 1353.24
A30: 76 | B30: 26 | C30: 3 | D30: อุดรธานี | E30: 11020 | F30: ไชยวาน | G30: 32235 | H30: 29145 | I30: 1043 | J30: 2167 | K30: =G30-(H30+I30+J30) -> -120 | L30: 46073 | M30: 1058.44
A31: 30 | B31: 27 | C31: 4 | D31: เลย | E31: 11038 | F31: ภูหลวง | G31: 22070 | H31: 20077 | I31: 765 | J31: 1725 | K31: =G31-(H31+I31+J31) -> -497 | L31: 43276 | M31: 1693.17
A32: 29 | B32: 28 | C32: 4 | D32: เลย | E32: 11037 | F32: ภูกระดึง | G32: 28715 | H32: 26160 | I32: 918 | J32: 1875 | K32: =G32-(H32+I32+J32) -> -238 | L32: 45049 | M32: 1325.06
A33: 50 | B33: 29 | C33: 4 | D33: สกลนคร | E33: 11103 | F33: โพนนาแก้ว | G33: 31209 | H33: 27552 | I33: 1469 | J33: 2023 | K33: =G33-(H33+I33+J33) -> 165 | L33: 40976 | M33: 1011.38
A34: 60 | B34: 30 | C34: 4 | D34: หนองคาย | E34: 28811 | F34: เฝ้าไร่ | G34: 41733 | H34: 36201 | I34: 837 | J34: 2149 | K34: =G34-(H34+I34+J34) -> 2546 | L34: 38246 | M34: 902.95
A35: 33 | B35: 31 | C35: 4 | D35: เลย | E35: 14133 | F35: เอราวัณ | G35: 33278 | H35: 30416 | I35: 1068 | J35: 1740 | K35: =G35-(H35+I35+J35) -> 54 | L35: 46349 | M35: 1132.91
A36: 52 | B36: 32 | C36: 4 | D36: สกลนคร | E36: 21323 | F36: พระอาจารย์แบนฯ | G36: 31219 | H36: 28208 | I36: 946 | J36: 2048 | K36: =G36-(H36+I36+J36) -> 17 | L36: 36516 | M36: 1193.01
A37: 46 | B37: 33 | C37: 4 | D37: สกลนคร | E37: 11099 | F37: พระอาจารย์วันฯ | G37: 28823 | H37: 26007 | I37: 707 | J37: 1959 | K37: =G37-(H37+I37+J37) -> 150 | L37: 48268 | M37: 1335.38
A38: 49 | B38: 34 | C38: 4 | D38: สกลนคร | E38: 11102 | F38: เจริญศิลป์ | G38: 36351 | H38: 32958 | I38: 1047 | J38: 2246 | K38: =G38-(H38+I38+J38) -> 100 | L38: 47864 | M38: 1231.7
A39: 77 | B39: 35 | C39: 4 | D39: อุดรธานี | E39: 11021 | F39: ศรีธาตุ | G39: 41300 | H39: 35092 | I39: 1674 | J39: 4497 | K39: =G39-(H39+I39+J39) -> 37 | L39: 49672 | M39: 1699.8
... A91: 35 | B91: 87 | C91: 13 | D91: สกลนคร | E91: 10710 | F91: สกลนคร | G91: 201159 | H91: 144787 | I91: 24166 | J91: 22663 | K91: =G91-(H91+I91+J91) -> 9543 | L91: 476106 | M91: 60242.9
A92: 68 | B92: 88 | C92: 13 | D92: อุดรธานี | E92: 10671 | F92: อุดรธานี | G92: 422536 | H92: 260627 | I92: 55026 | J92: 52150 | K92: =G92-(H92+I92+J92) -> 54733 | L92: 556307 | M92: 102665
A93: รวมเขต 8 | L93: =SUM(L5:L92) -> 7208555 | M93: =SUM(M5:M92) -> 516508.84
A94: หมายเหตุ ข้อมูลบริการ ณ มีนาคม 2569

Sheet 4.งบ มี.ค.69
D1: 1 | E1: 2 | F1: 3 | G1: 4 | H1: 5 | I1: 6 | J1: 7 | K1: 8 | L1: 9 | M1: 10 | N1: 11 | O1: 12 | P1: 13 | Q1: 14 | R1: 15 | S1: 16 | T1: 17 | U1: 18 | V1: 19 | W1: 20 | X1: 21 | Y1: 22 | Z1: 23 | AA1: 24 | AB1: 25 | AC1: 26 | AD1: 27 | AE1: 28 | AF1: 29 | AG1: 30 | AH1: 31 | AI1: 32 | AJ1: 33 | AK1: 34 | AL1: 35 | AM1: 36 | AN1: 37 | AO1: 38 | AP1: 39 | AQ1: 40 | AR1: 41 | AS1: 42 | AT1: 43 | AU1: 44 | AV1: 45 | AW1: 46 | AX1: 47 | AY1: 48 | AZ1: 49 | BA1: 50 | BB1: 51 | BC1: 52 | BD1: 53 | BE1: 54 | BF1: 55 | BG1: 56 | BH1: 57 | BI1: 58 | BJ1: 59 | BK1: 60 | BL1: 61 | BM1: 62 | BN1: 63 | BO1: 64 | BP1: 65 | BQ1: 66 | BR1: 67 | BS1: 68 | BT1: 69 | BU1: 70 | BV1: 71 | BW1: 72 | BX1: 73 | BY1: 74 | BZ1: 75 | CA1: 76 | CB1: 77 | CC1: 78 | CD1: 79 | CE1: 80 | CF1: 81 | CG1: 82 | CH1: 83 | CI1: 84 | CJ1: 85 | CK1: 86 | CL1: 87 | CM1: 88
D2: นครพนม | E2: นครพนม | F2: นครพนม | G2: นครพนม | H2: นครพนม | I2: นครพนม | J2: นครพนม | K2: นครพนม | L2: นครพนม | M2: นครพนม | N2: นครพนม | O2: นครพนม | P2: บึงกาฬ | Q2: บึงกาฬ | R2: บึงกาฬ | S2: บึงกาฬ | T2: บึงกาฬ | U2: บึงกาฬ | V2: บึงกาฬ | W2: บึงกาฬ | X2: เลย | Y2: เลย | Z2: เลย | AA2: เลย | AB2: เลย | AC2: เลย | AD2: เลย | AE2: เลย | AF2: เลย | AG2: เลย | AH2: เลย | AI2: เลย | AJ2: เลย | AK2: เลย | AL2: สกลนคร | AM2: สกลนคร | AN2: สกลนคร | AO2: สกลนคร | AP2: สกลนคร | AQ2: สกลนคร | AR2: สกลนคร | AS2: สกลนคร | AT2: สกลนคร | AU2: สกลนคร | AV2: สกลนคร | AW2: สกลนคร | AX2: สกลนคร | AY2: สกลนคร | AZ2: สกลนคร | BA2: สกลนคร | BB2: สกลนคร | BC2: สกลนคร | BD2: หนองคาย | BE2: หนองคาย | BF2: หนองคาย | BG2: หนองคาย | BH2: หนองคาย | BI2: หนองคาย | BJ2: หนองคาย | BK2: หนองคาย | BL2: หนองคาย | BM2: หนองบัวลำภู | BN2: หนองบัวลำภู | BO2: หนองบัวลำภู | BP2: หนองบัวลำภู | BQ2: หนองบัวลำภู | BR2: หนองบัวลำภู | BS2: อุดรธานี | BT2: อุดรธานี | BU2: อุดรธานี | BV2: อุดรธานี | BW2: อุดรธานี | BX2: อุดรธานี | BY2: อุดรธานี | BZ2: อุดรธานี | CA2: อุดรธานี | CB2: อุดรธานี | CC2: อุดรธานี | CD2: อุดรธานี | CE2: อุดรธานี | CF2: อุดรธานี | CG2: อุดรธานี | CH2: อุดรธานี | CI2: อุดรธานี | CJ2: อุดรธานี | CK2: อุดรธานี | CL2: อุดรธานี | CM2: อุดรธานี
D3: 10711 | E3: 11104 | F3: 11105 | G3: 11106 | H3: 11107 | I3: 11108 | J3: 11109 | K3: 11110 | L3: 11111 | M3: 11112 | N3: 11451 | O3: 40840 | P3: 11040 | Q3: 11041 | R3: 11043 | S3: 11046 | T3: 11047 | U3: 11048 | V3: 11049 | W3: 11050 | X3: 10705 | Y3: 11030 | Z3: 11031 | AA3: 11032 | AB3: 11033 | AC3: 11034 | AD3: 11035 | AE3: 11036 | AF3: 11037 | AG3: 11038 | AH3: 11039 | AI3: 11447 | AJ3: 14133 | AK3: 28861 | AL3: 10710 | AM3: 11089 | AN3: 11090 | AO3: 11091 | AP3: 11092 | AQ3: 11093 | AR3: 11094 | AS3: 11095 | AT3: 11096 | AU3: 11097 | AV3: 11098 | AW3: 11099 | AX3: 11100 | AY3: 11101 | AZ3: 11102 | BA3: 11103 | BB3: 11450 | BC3: 21323 | BD3: 10706 | BE3: 11042 | BF3: 11044 | BG3: 11045 | BH3: 11448 | BI3: 21356 | BJ3: 28778 | BK3: 28811 | BL3: 28815 | BM3: 10704 | BN3: 10991 | BO3: 10992 | BP3: 10993 | BQ3: 10994 | BR3: 23367 | BS3: 10671 | BT3: 11013 | BU3: 11014 | BV3: 11015 | BW3: 11016 | BX3: 11017 | BY3: 11018 | BZ3: 11019 | CA3: 11020 | CB3: 11021 | CC3: 11022 | CD3: 11023 | CE3: 11024 | CF3: 11025 | CG3: 11026 | CH3: 11027 | CI3: 11028 | CJ3: 11029 | CK3: 11446 | CL3: 25058 | CM3: 25059
B4: CodeL1 | C4: Account1 | D4: นครพนม,รพท. | E4: ปลาปาก,รพช. | F4: ท่าอุเทน,รพช. | G4: บ้านแพง,รพช. | H4: นาทม,รพช. | I4: เรณูนคร,รพช. | J4: นาแก,รพช. | K4: ศรีสงคราม,รพช. | L4: นาหว้า,รพช. | M4: โพนสวรรค์,รพช. | N4: สมเด็จพระยุพราชธาตุพนม,รพช. | O4: วังยาง,รพช. | P4: บึงกาฬ,รพท. | Q4: พรเจริญ,รพช. | R4: โซ่พิสัย,รพช. | S4: เซกา,รพช. | T4: ปากคาด,รพช. | U4: บึงโขงหลง,รพช. | V4: ศรีวิไล,รพช. | W4: บุ่งคล้า,รพช. | X4: เลย,รพท. | Y4: นาด้วง,รพช. | Z4: เชียงคาน,รพช. | AA4: ปากชม,รพช. | AB4: นาแห้ว,รพช. | AC4: ภูเรือ,รพช. | AD4: ท่าลี่,รพช. | AE4: วังสะพุง,รพช. | AF4: ภูกระดึง,รพช. | AG4: ภูหลวง,รพช. | AH4: ผาขาว,รพช. | AI4: สมเด็จพระยุพราชด่านซ้าย,รพช. | AJ4: เอราวัณ,รพช. | AK4: หนองหิน,รพช. | AL4: สกลนคร,รพศ. | AM4: กุสุมาลย์,รพช. | AN4: กุดบาก,รพช. | AO4: พระอาจารย์ฝั้นอาจาโร,รพช. | AP4: พังโคน,รพช. | AQ4: วาริชภูมิ,รพช. | AR4: นิคมน้ำอูน,รพช. | AS4: วานรนิวาส,รพท. | AT4: คำตากล้า,รพช. | AU4: พระอาจารย์มั่นฯ,รพช. | AV4: อากาศอำนวย,รพช. | AW4: พระอาจารย์วันฯ,รพช. | AX4: เต่างอย,รพช. | AY4: โคกศรีสุพรรณ,รพช. | AZ4: เจริญศิลป์,รพช. | BA4: โพนนาแก้ว,รพช. | BB4: สมเด็จพระยุพราชสว่างแดนดิน,รพท. | BC4: พระอาจารย์แบน ธนากโร,รพช. | BD4: หนองคาย,รพท. | BE4: โพนพิสัย,รพช. | BF4: ศรีเชียงใหม่,รพช. | BG4: สังคม,รพช. | BH4: สมเด็จพระยุพราชท่าบ่อ,รพท. | BI4: สระใคร,รพช. | BJ4: โพธิ์ตาก,รพช. | BK4: เฝ้าไร่,รพช. | BL4: รัตนวาปี,รพช. | BM4: หนองบัวลำภู,รพท. | BN4: นากลาง,รพช. | BO4: โนนสัง,รพช. | BP4: ศรีบุญเรือง,รพช. | BQ4: สุวรรณคูหา,รพช. | BR4: นาวัง เฉลิมพระเกียรติ 80 พรรษา,รพช. | BS4: อุดรธานี,รพศ. | BT4: กุดจับ,รพช. | BU4: หนองวัวซอ,รพช. | BV4: กุมภวาปี,รพท. | BW4: ห้วยเกิ้ง,รพช. | BX4: โนนสะอาด,รพช. | BY4: หนองหาน,รพช. | BZ4: ทุ่งฝน,รพช. | CA4: ไชยวาน,รพช. | CB4: ศรีธาตุ,รพช. | CC4: วังสามหมอ,รพช. | CD4: บ้านผือ,รพช. | CE4: น้ำโสม,รพช. | CF4: เพ็ญ,รพช. | CG4: สร้างคอม,รพช. | CH4: หนองแสง,รพช. | CI4: นายูง,รพช. | CJ4: พิบูลย์รักษ์,รพช. | CK4: สมเด็จพระยุพราชบ้านดุง,รพช. | CL4: กู่แก้ว,รพช. | CM4: ประจักษ์ศิลปาคม,รพช.
B5: 4201020106.101 | C5: รายได้แผ่นดิน - เงินชดใช้จากการผิดสัญญาการศึกษาและดูงาน | P5: 1496880
B6: 4201020199.101 | C6: รายได้แผ่นดิน - ค่าปรับอื่น | D6: 72832.88 | BS6: 11990
B7: 4202010199.101 | C7: รายได้ค่าธรรมเนียมการบริการอื่น | D7: 9200 | AL7: 30400 | BD7: 1500 | BM7: 4000 | CH7: 8107
B8: 4202020102.101 | C8: รายได้ค่าเช่าอสังหาริมทรัพย์จากบุคคลภายนอก | X8: 21000 | AL8: 8000
B9: 4202030105.101 | C9: รายได้แผ่นดิน-ค่าขายของเบ็ดเตล็ด | D9: 83000 | BS9: 970589 | BV9: 254800
B10: 4203010101.101 | C10: รายได้ดอกเบี้ยเงินฝากที่สถาบันการเงิน | P10: 549.69 | U10: 30082.03 | BD10: 9404.48 | BH10: 7548.35 | BI10: 1978.24 | BM10: 449.04 | BS10: 43275.72 | BV10: 313.45
B11: 4205010104.101 | C11: รายรับจากการขายอาคารและสิ่งปลูกสร้าง
B12: 4205010110.101 | C12: รายรับจากการขายครุภัณฑ์ | P12: 11400 | BD12: 95500 | BX12: 3000
B13: 4206010102.101 | C13: รายได้เงินเหลือจ่ายปีเก่า/รายที่ไม่ใช่ภาษีอื่น | D13: 13741.21 | AL13: 465865.29 | BM13: 22979.23 | BS13: 1793091.6 | BV13: 2750
B14: 4206010199.101 | C14: บัญชีรายได้ที่ไม่ใช่ภาษีอื่น | BH14: 2838.71
B15: 4207010102.102 | C15: รายได้แผ่นดิน-ค่าปรับอื่นจ่ายคืน
A16: 15 | B16: 4301010102.101 | C16: รายได้จากการจำหน่ายยาสมุนไพร - บุคคลภายนอก | I16: 13543 | AO16: 164105 | BE16: 100920
A17: 15 | B17: 4301010102.102 | C17: รายได้จากการจำหน่ายสินค้าอื่น ๆ - บุคคลภายนอก
A18: 15 | B18: 4301010102.103 | C18: รายได้จากการจำหน่ายยาสมุนไพร - หน่วยงานภาครัฐ | I18: 20450 | AO18: 10372081 | BE18: 756617.72 | BW18: 972190
A19: 15 | B19: 4301010102.104 | C19: รายได้จากการจำหน่ายสินค้าอื่น ๆ - หน่วยงานภาครัฐ | H19: 909732 | BM19: 262786.75
A20: 15 | B20: 4301020102.101 | C20: รายได้ค่าสิ่งส่งตรวจ - บุคคลภายนอก | K20: 360 | X20: 8340 | AD20: 4000 | BB20: 4675 | BD20: 745342 | BE20: 11100 | BF20: 44740 | BH20: 124890.5 | BM20: 432256 | BS20: 201250 | BV20: 123270 | BY20: 31785 | CE20: 148270 | CF20: 98133.08
A21: 15 | B21: 4301020102.102 | C21: รายได้ค่าตรวจสุขภาพ - บุคคลภายนอก | D21: 377380 | H21: 32190 | P21: 676638.5 | X21: 640213 | AL21: 8860688.5 | AP21: 88830 | AS21: 10890 | AV21: 13630 | AW21: 3380 | BD21: 844100.25 | BE21: 8500 | BG21: 15710 | BM21: 66380 | BU21: 34104.03 | BV21: 310818 | BY21: 327295 | CD21: 7850
A22: 15 | B22: 4301020102.103 | C22: รายได้ค่าสิ่งส่งตรวจ - หน่วยงานภาครัฐ | D22: 11525755 | I22: 6000 | K22: 9000 | N22: 17300 | P22: 43380 | S22: 1090 | X22: 4048206 | AI22: 29160 | AL22: 1161740 | AR22: 1800 | AS22: 9000 | BB22: 197035 | BD22: 409095 | BE22: 5220 | BH22: 152990 | BM22: 3397632 | BS22: 2082635 | BV22: 276260 | BY22: 71560 | CC22: 1000
A23: 15 | B23: 4301020102.104 | C23: รายได้ค่าตรวจสุขภาพ-หน่วยงานภาครัฐ | D23: 655225.5 | F23: 480 | G23: 60905 | H23: 30440 | I23: 79100 | J23: 5970 | K23: 1000 | L23: 9590 | M23: 44120 | N23: 59350 | P23: 365780 | R23: 96990 | S23: 14480 | T23: 52770 | U23: 5382 | V23: 44080 | X23: 1048195 | Y23: 78740 | AA23: 40760 | AC23: 10450 | AE23: 60940 | AG23: 48690 | AH23: 6569.5 | AI23: 2190 | AL23: 948800 | AN23: 43840 | AS23: 10965 | BB23: 441180 | BC23: 56000 | BD23: 1079860 | BE23: 57430 | BG23: 19480 | BH23: 776505 | BJ23: 125570 | BK23: 480 | BL23: 38293 | BM23: 202890 | BN23: 85620 | BO23: 81950 | BP23: 5780 | BQ23: 42500 | BS23: 594219 | BV23: 8415 | BY23: 111370 | CD23: 147005 | CH23: 600 | CK23: 9255 | CL23: 44530
A24: 4 | B24: 4301020102.105 | C24: รายได้จากระบบปฏิบัติการฉุกเฉิน (EMS) | D24: 1000950 | E24: 77400 | F24: 182950 | G24: 93050 | H24: 15200 | I24: 142600 | J24: 85050 | K24: 27550 | L24: 129250 | M24: 108350 | N24: 443700 | O24: 54350 | P24: 384000 | Q24: 106400 | R24: 101600 | S24: 49350 | T24: 47850 | U24: 81700 | V24: 110350 | W24: 59100 | X24: 966350 | Y24: 271500 | Z24: 371150 | AA24: 302700 | AB24: 83200 | AC24: 101800 | AD24: 454650 | AE24: 398750 | AF24: 220950 | AG24: 107700 | AH24: 72450 | AI24: 222410 | AJ24: 85600 | AK24: 371650 | AL24: 438050 | AM24: 19600 | AN24: 10900 | AO24: 106850 | AP24: 260900 | AQ24: 245450 | AR24: 81900 | AS24: 781150 | AT24: 162000 | AU24: 203750 | AV24: 286750 | AW24: 232300 | AX24: 38100 | AY24: 36450 | AZ24: 84400 | BA24: 56800 | BB24: 241600 | BC24: 76700 | BD24: 652680 | BE24: 107200 | BF24: 39700 | BG24: 25500 | BH24: 91800 | BI24: 53400 | BK24: 81000 | BL24: 71750 | BM24: 442150 | BN24: 163400 | BO24: 185200 | BP24: 177950 | BQ24: 74850 | BR24: 12400 | BS24: 1743400 | BT24: 169250 | BU24: 34250 | BV24: 171700 | BX24: 55350 | BY24: 146550 | BZ24: 148100 | CA24: 69900 | CB24: 22150 | CC24: 29900 | CD24: 263550 | CE24: 69350 | CF24: 149150 | CG24: 118050 | CH24: 26450 | CI24: 38200 | CJ24: 12450 | CK24: 154750 | CL24: 13500 | CM24: 23550
A25: 19 | B25: 4301020102.106 | C25: รายได้สนับสนุนยาและอื่น ๆ | D25: 5488832.7 | E25: 1044838.9 | F25: 406987.06 | G25: 240180 | H25: 519831.69 | I25: 1213101.3 | J25: 142237 | K25: 2061035.9 | L25: 1344291.2 | M25: 985220.31 | N25: 1397318.1 | O25: 488692.3 | P25: 30387.08 | Q25: 348607.56 | R25: 57771.73 | S25: 40726.63 | T25: 23974.15 | U25: 3407.65 | V25: 391852.42 | W25: 50359.25 | X25: 112243.84 | Y25: 312543.66 | Z25: 976529.01 | AC25: 453694.23 | AD25: 6703.61 | AE25: 2752545.5 | AG25: 182665.35 | AH25: 7446.74 | AI25: 179051.2 | AJ25: 1112082.4 | AM25: 528630.24 | AN25: 178400.25 | AO25: 1925451.7 | AP25: 1047799.7 | AQ25: 861474.17 | AR25: 322526.81 | AS25: 2112734.7 | AT25: 6757.9 | AU25: 433727.35 | AV25: 263621.1 | AW25: 1209512.7 | AX25: 91697.78 | AY25: 714572.35 | AZ25: 1089837.8 | BA25: 188676.26 | BB25: 5389492.6 | BC25: 425152.64 | BD25: 7430888.8 | BM25: 5087653.1 | BO25: 118469.92 | BS25: 65726340 | BV25: 2397086.9 | BW25: 1119045 | BX25: 840123.02 | BZ25: 120183.24 | CB25: 655321.61 | CC25: 846476.77 | CD25: 427033.78 | CE25: 26949.18 | CF25: 105734.78 | CG25: 677492.42 | CH25: 204778.97 | CK25: 365488.11 | CL25: 5000
A26: 8 | B26: 4301020104.104 | C26: รายได้ค่ารักษาเบิกต้นสังกัด OP | D26: 520 | K26: 23590 | P26: 10540 | Q26: 480 | T26: 3214.5 | U26: 4305 | X26: 15460.5 | Y26: 6293 | Z26: 1565 | AA26: 393520.11 | AB26: 6259 | AC26: 2563 | AF26: 1134 | AG26: 11000 | AH26: 2360 | AI26: 24549 | AJ26: 450 | AK26: 231861 | AL26: 335996 | AT26: 8511 | AU26: 7760 | AV26: 61370 | AX26: 2120 | BB26: 163474 | BC26: 8867.5 | BD26: 659154 | BE26: 28522.5 | BH26: 125848 | BL26: 22984 | BM26: 40304.5 | BN26: 215 | BS26: 1213022.9 | BT26: 4220 | BX26: 6520 | BZ26: 15854 | CC26: 4828
A27: 8 | B27: 4301020104.105 | C27: รายได้ค่ารักษาเบิกต้นสังกัด IP | D27: 666299.25 | G27: 54235 | I27: 59970.75 | J27: 5405.25 | K27: 12664 | L27: 26115 | N27: 285347 | P27: 892177.81 | R27: 33868.75 | S27: 191170 | T27: 15227.75 | U27: 18925 | X27: 2525583.2 | Z27: 21079 | AA27: 253357.61 | AB27: 2268.5 | AD27: 55618 | AE27: 43223 | AF27: 18794.5 | AG27: 56735 | AI27: 0.4 | AJ27: 11232 | AK27: 86003 | AL27: 4740927.7 | AO27: 52505 | AP27: 163044 | AQ27: 24318 | AS27: 458321 | AU27: 68084.08 | AV27: 16522.5 | AX27: 16706.5 | AY27: 28853.75 | BB27: 710125.75 | BC27: 21271.31 | BD27: 5395247.5 | BE27: 256496 | BG27: 9649.25 | BH27: 1788809.8 | BM27: 548049.5 | BN27: 12049.5 | BO27: 2704 | BP27: 35979 | BQ27: 9430.1 | BS27: 9191426.9 | BT27: 29639 | BU27: 28199.79 | BV27: 547781 | BX27: 5441.27 | BY27: 43856.5 | BZ27: 27923 | CB27: 33752.5 | CC27: 47883 | CD27: 163048 | CE27: 12079.4 | CF27: 127781.5 | CG27: 6026 | CK27: 93997.5
A28: 11 | B28: 4301020104.106 | C28: รายได้ค่ารักษาชำระเงิน OP | D28: 18253258 | E28: 689853.65 | F28: 854608.5 | G28: 2017643 | H28: 462681.5 | I28: 888213.4 | J28: 1067048 | K28: 1670737 | L28: 1156517 | M28: 798039.25 | N28: 5124495 | O28: 153773 | P28: 6685380.2 | Q28: 1623069 | R28: 819675.5 | S28: 1822837 | T28: 1122740.8 | U28: 2215331.7 | V28: 928760 | W28: 794725.5 | X28: 19850046 | Y28: 791910.5 | Z28: 3619608 | AA28: 1649567 | AB28: 432409 | AC28: 663519 | AD28: 2542637 | AE28: 3296675 | AF28: 577305.75 | AG28: 637879.38 | AH28: 613231 | AI28: 3134490.8 | AJ28: 829275.08 | AK28: 1208729.5 | AL28: 45451141 | AM28: 461598 | AN28: 711320.25 | AO28: 1473719.9 | AP28: 1597614 | AQ28: 1073181 | AR28: 180052.5 | AS28: 7586166.3 | AT28: 2119103.1 | AU28: 1544964.4 | AV28: 1601415.1 | AW28: 858358.9 | AX28: 602921.5 | AY28: 925096 | AZ28: 596053.75 | BA28: 534980 | BB28: 7296114 | BC28: 662858 | BD28: 33527785 | BE28: 4446743.5 | BF28: 790438.25 | BG28: 918757.5 | BH28: 14121003 | BI28: 367889.5 | BJ28: 337967 | BK28: 939413 | BL28: 671881.5 | BM28: 7530484.1 | BN28: 1560189.2 | BO28: 820514.38 | BP28: 1836825 | BQ28: 943830.69 | BR28: 1033848.4 | BS28: 1.0402356e+08 | BT28: 1145346 | BU28: 1077373.6 | BV28: 6832224 | BW28: 111873 | BX28: 784121 | BY28: 3443248.5 | BZ28: 398636 | CA28: 717958.92 | CB28: 652849 | CC28: 411089.85 | CD28: 2365480.8 | CE28: 1258433.5 | CF28: 2238220.5 | CG28: 544082.5 | CH28: 701465 | CI28: 429934.25 | CJ28: 543150 | CK28: 3443217.8 | CL28: 402008 | CM28: 438795.35
A29: 11 | B29: 4301020104.107 | C29: รายได้ค่ารักษาชำระเงิน IP | D29: 24075671 | E29: 110479.75 | F29: 392413 | G29: 1748129 | H29: 85632 | I29: 299025.25 | J29: 382349 | K29: 1206715 | L29: 275202 | M29: 496584.75 | N29: 9181556 | O29: 152693 | P29: 16192830 | Q29: 628397.04 | R29: 676604.5 | S29: 3216454.1 | T29: 752173.75 | U29: 1576827.9 | V29: 490552 | W29: 549807 | X29: 41676022 | Y29: 540583 | Z29: 2352661 | AA29: 1495249 | AB29: 176977 | AC29: 668638 | AD29: 2266772 | AE29: 3258379 | AF29: 217740 | AG29: 695987 | AH29: 390328 | AI29: 2683692.3 | AJ29: 383488 | AK29: 712608 | AL29: 31046809 | AM29: 204403 | AN29: 234406 | AO29: 627026.75 | AP29: 3521639 | AQ29: 745705.5 | AR29: 166472 | AS29: 12119346 | AT29: 306408.73 | AU29: 966229 | AV29: 871998 | AW29: 698567.5 | AX29: 130626 | AY29: 424124 | AZ29: 252748 | BA29: 102333 | BB29: 19553282 | BC29: 245450 | BD29: 59565258 | BE29: 4006046.8 | BF29: 869137.75 | BG29: 286696.25 | BH29: 32932150 | BI29: 255198 | BJ29: 187180 | BK29: 434298 | BL29: 685463 | BM29: 16912808 | BN29: 1340499.5 | BO29: 284959.81 | BP29: 1595092 | BQ29: 209851 | BR29: 605109.11 | BS29: 88313095 | BT29: 242061.5 | BU29: 385954 | BV29: 10407129 | BW29: 284950 | BX29: 275071.5 | BY29: 6958217.8 | BZ29: 270782 | CA29: 36505 | CB29: 166767 | CC29: 1181108 | CD29: 4679586 | CE29: 879128 | CF29: 2808944 | CG29: 180081 | CH29: 179705 | CI29: 154772 | CJ29: 152902 | CK29: 5682577.2 | CL29: 120830.1 | CM29: 192008.5
A30: 6 | B30: 4301020104.108 | C30: รายได้ค่ารักษาเบิกจ่ายตรงหน่วยงานอื่น - OP | D30: 108571.75 | E30: 560 | F30: 6547 | G30: 4206.5 | H30: 3024 | I30: 2125 | K30: 3912 | L30: 670 | N30: 9091 | P30: 28259.25 | Q30: 5671 | S30: 21677 | U30: 8547.5 | V30: 5540 | X30: 80343.5 | Y30: 11406.5 | Z30: 2076 | AA30: 2003 | AE30: 1556 | AG30: 6366 | AH30: 3969 | AL30: 52571 | AM30: 6285 | AO30: 64622 | AP30: 27192.4 | AQ30: 4517 | AS30: 5110 | AT30: 6071.5 | AV30: 12440 | AW30: 2681 | AZ30: 8129.75 | BB30: 18463.5 | BC30: 3066.5 | BD30: 396172.5 | BE30: 45992.5 | BF30: 213 | BH30: 21496 | BK30: 5729 | BL30: 4486 | BM30: 10529.5 | BO30: 4191.25 | BS30: 282915 | BU30: 216.83 | BV30: 12182.5 | BW30: 2644 | BY30: 25122.5 | CF30: 2955 | CK30: 12591.5 | CM30: 791
A31: 6 | B31: 4301020104.109 | C31: รายได้ค่ารักษาเบิกจ่ายตรงหน่วยงานอื่น - IP | D31: 214116.25 | N31: 44400.21 | P31: 3568 | Y31: 7183 | AL31: 77404 | AO31: 56051.86 | AP31: 13329.5 | AW31: 223.04 | BB31: 265182.25 | BE31: 45549.5 | BL31: 6950.5 | BM31: 17751.24 | BS31: 328577.28 | BV31: 17595.75 | BY31: 28550.5
A32: 6 | B32: 4301020104.110 | C32: ส่วนต่างค่ารักษาที่สูงกว่าข้อตกลงในการจ่ายตาม DRG - เบิกจ่ายตรงหน่วยงานอื่น | AL32: -11624.79 | AO32: -1328.14 | AP32: -3.91 | BB32: -18577.86 | BE32: -9009.9 | BV32: -891.31
A33: 6 | B33: 4301020104.111 | C33: ส่วนต่างค่ารักษาที่ต่ำกว่าข้อตกลงในการจ่ายตาม DRG - เบิกจ่ายตรงหน่วยงานอื่น | F33: 1480 | N33: 40135.75 | P33: 416.75 | Y33: 952.32 | AP33: 540.59 | BB33: 13500.7 | BE33: 27994.28 | BM33: 2000 | BO33: 1400 | BS33: 225966.46 | BV33: 20850.87 | CI33: 8938
A34: 6 | B34: 4301020104.401 | C34: รายได้ค่ารักษาเบิกจ่ายตรงกรมบัญชีกลาง OP | D34: 54420079 | E34: 4463976.4 | F34: 3643496.5 | G34: 4071516.5 | H34: 1462802.5 | I34: 12197872 | J34: 3373197.6 | K34: 9135681.8 | L34: 3296076.6 | M34: 3637405.1 | N34: 21654819 | O34: 1715619.8 | P34: 28793978 | Q34: 3822822.9 | R34: 11169517 | S34: 12038433 | T34: 3609165.7 | U34: 4424773.5 | V34: 4215090 | W34: 2619921 | X34: 56120670 | Y34: 2910718.8 | Z34: 9434558.2 | AA34: 9256015.6 | AB34: 1336796.5 | AC34: 2189433.5 | AD34: 2494555.5 | AE34: 11383589 | AF34: 1692317.8 | AG34: 2109068.5 | AH34: 2656450.2 | AI34: 9045657.4 | AJ34: 2467147.9 | AK34: 8673085 | AL34: 1.8768249e+08 | AM34: 5765062 | AN34: 6379837.1 | AO34: 15267095 | AP34: 10078879 | AQ34: 3934327.8 | AR34: 2060365.5 | AS34: 23914583 | AT34: 4875183.3 | AU34: 9444295.9 | AV34: 15928460 | AW34: 2953424.8 | AX34: 2065732.5 | AY34: 12838631 | AZ34: 3920997.5 | BA34: 3188208 | BB34: 32660892 | BC34: 2279812.2 | BD34: 1.0064732e+08 | BE34: 11668172 | BF34: 3682727.2 | BG34: 3615436.2 | BH34: 31532254 | BI34: 703905.5 | BJ34: 2272958.4 | BK34: 2279029.3 | BL34: 1826411.2 | BM34: 37349771 | BN34: 4572045.4 | BO34: 3612670.5 | BP34: 4597739 | BQ34: 3602282.1 | BR34: 3156495 | BS34: 2.6374431e+08 | BT34: 8804022.5 | BU34: 2691145.6 | BV34: 24607564 | BW34: 4581124 | BX34: 3548863.5 | BY34: 12920426 | BZ34: 2332377.2 | CA34: 1958883.5 | CB34: 4292768 | CC34: 6822091.8 | CD34: 11562410 | CE34: 4190213.2 | CF34: 9870863 | CG34: 6330723.5 | CH34: 1987187 | CI34: 1194565.2 | CJ34: 2577815.6 | CK34: 12779497 | CL34: 1579855.1 | CM34: 2480543.8
A35: 6 | B35: 4301020104.402 | C35: รายได้ค่ารักษาเบิกจ่ายตรงกรมบัญชีกลาง IP | D35: 32586586 | E35: 537388.5 | F35: 545150 | G35: 1238678.7 | H35: 205233.5 | I35: 1164941 | J35: 1025691.6 | K35: 2089257.4 | L35: 497105.5 | M35: 670067.33 | N35: 10147908 | O35: 353096.58 | P35: 17757270 | Q35: 1168954.7 | R35: 1574282.7 | S35: 4990326.1 | T35: 776365 | U35: 992488.76 | V35: 983492 | W35: 486808.5 | X35: 53278897 | Y35: 625317.5 | Z35: 1281068 | AA35: 943148.68 | AB35: 348394.75 | AC35: 571614 | AD35: 1204720.1 | AE35: 4258105.3 | AF35: 409509.01 | AG35: 642645.88 | AH35: 671289.9 | AI35: 2046954.1 | AJ35: 560863 | AK35: 944331.25 | AL35: 1.1606216e+08 | AM35: 676458 | AN35: 717918.94 | AO35: 5834504 | AP35: 5382544.6 | AQ35: 1118932.8 | AR35: 395237 | AS35: 17392994 | AT35: 626590.75 | AU35: 1670781.6 | AV35: 2435260.8 | AW35: 829767.75 | AX35: 473154.25 | AY35: 1202135.2 | AZ35: 399976.7 | BA35: 351581 | BB35: 14754542 | BC35: 511007.45 | BD35: 43655273 | BE35: 5059322.2 | BF35: 1016187.8 | BG35: 765444 | BH35: 19891196 | BI35: 157232.98 | BJ35: 421565.05 | BK35: 263684.5 | BL35: 699983.5 | BM35: 16098624 | BN35: 1355893.3 | BO35: 662011.35 | BP35: 2614412.5 | BQ35: 499589.14 | BR35: 1100413.4 | BS35: 1.8195883e+08 | BT35: 662168.54 | BU35: 875948.26 | BV35: 14003335 | BW35: 2824976 | BX35: 803724.5 | BY35: 4509521.5 | BZ35: 538971.17 | CA35: 442304.25 | CB35: 1511644 | CC35: 1529431.8 | CD35: 5190374.2 | CE35: 1269177.2 | CF35: 2695925 | CG35: 447389.5 | CH35: 476299.25 | CI35: 466183.4 | CJ35: 618719.35 | CK35: 5502186.3 | CL35: 346421.99 | CM35: 244306.43
A36: 6 | B36: 4301020104.405 | C36: ส่วนต่างค่ารักษาที่สูงกว่าข้อตกลงในการจ่ายตาม DRG - เบิกจ่ายตรงกรมบัญชีกลาง | D36: -4066744.6 | E36: -62448.82 | F36: -75114.38 | G36: -251116.34 | H36: -31288.67 | I36: -171449.74 | J36: -193235.37 | K36: -321323.9 | L36: -62674.68 | M36: -177588.12 | N36: -2086962.4 | O36: -41542.06 | P36: -2279075.5 | Q36: -231439.14 | R36: -492126.21 | S36: -1127116.6 | T36: -113024.7 | U36: -211708.25 | V36: -169767.43 | W36: -68986.26 | X36: -13428162 | Y36: -147593.94 | Z36: -215157.19 | AA36: -87460.39 | AB36: -34349.44 | AC36: -40585.13 | AD36: -51381.87 | AE36: -686905.17 | AF36: -17872.58 | AG36: -38798.71 | AH36: -37576.36 | AI36: -286439.02 | AJ36: -65335.23 | AK36: -273368.42 | AL36: -30973503 | AM36: -72003.84 | AN36: -103754.14 | AO36: -2067388.6 | AP36: -1231242.1 | AQ36: -186726.67 | AR36: -59153.98 | AS36: -3630198.7 | AT36: -167949.98 | AU36: -695503.75 | AV36: -274498.57 | AW36: -174478.4 | AX36: -121809.28 | AY36: -188201.95 | AZ36: -96128.57 | BA36: -30873.14 | BB36: -2164041.7 | BC36: -41488.1 | BD36: -6593615 | BE36: -1407118.2 | BF36: -260796.02 | BG36: -155772.32 | BH36: -2070087.4 | BI36: -11677.3 | BJ36: -73490.69 | BK36: -69529.01 | BL36: -107277.87 | BM36: -12000 | BN36: -225303.84 | BO36: -177600.74 | BP36: -533562.73 | BQ36: -26941.85 | BR36: -134040.73 | BS36: -21702464 | BT36: -38110.61 | BU36: -109101.38 | BV36: -892375.65 | BW36: -9716.47 | BX36: -84767.52 | BY36: -735368.65 | BZ36: -82175.12 | CA36: -31580.73 | CB36: -297899.5 | CC36: -120239.91 | CD36: -774508.42 | CE36: -119935.54 | CF36: -322624.17 | CG36: -45577.92 | CH36: -24569.42 | CI36: -85708.37 | CJ36: -69577.21 | CK36: -1060089.8 | CL36: -22336 | CM36: -18520.99
A37: 6 | B37: 4301020104.406 | C37: ส่วนต่างค่ารักษาที่ต่ำกว่าข้อตกลงในการจ่ายตาม DRG - เบิกจ่ายตรงกรมบัญชีกลาง | D37: 6351439 | E37: 86815.39 | F37: 134529.24 | G37: 95376.51 | H37: 42777.83 | I37: 230467.06 | J37: 241748.07 | K37: 512996.42 | L37: 88707.54 | M37: 59782.22 | N37: 1644104 | O37: 35624.7 | P37: 4489992.7 | Q37: 166267.8 | R37: 94421.06 | S37: 161256.68 | T37: 178628.75 | U37: 124170.95 | V37: 75697.37 | W37: 68557.71 | X37: 5655742.7 | Y37: 249147.2 | Z37: 443711.69 | AA37: 241258.03 | AB37: 100723.53 | AC37: 375749.9 | AD37: 102064.96 | AE37: 974981.57 | AF37: 167389.8 | AG37: 210685.85 | AH37: 307826.92 | AI37: 737872.19 | AJ37: 163176.18 | AK37: 216241.62 | AL37: 17767795 | AM37: 40328.66 | AN37: 70184.56 | AO37: 254833.54 | AP37: 554485.22 | AQ37: 122370.71 | AR37: 35060.41 | AS37: 3031161.7 | AT37: 129697.47 | AU37: 610416.87 | AV37: 523179.65 | AW37: 107130.27 | AX37: 161915.68 | AY37: 125057.58 | AZ37: 850625.64 | BA37: 102174.8 | BB37: 3145336.1 | BC37: 64606.83 | BD37: 7758947.5 | BE37: 536099.75 | BF37: 152456.55 | BG37: 124105.49 | BH37: 4203402.8 | BI37: 146873.06 | BJ37: 34738.99 | BK37: 45689.37 | BL37: 107044.37 | BM37: 6313389.8 | BN37: 501867.66 | BO37: 66989.44 | BP37: 403270.29 | BQ37: 184555.67 | BR37: 335831.4 | BS37: 27537757 | BT37: 177724.59 | BU37: 170971.22 | BV37: 5389900.9 | BW37: 614600.66 | BX37: 229726.42 | BY37: 897420.65 | BZ37: 107398.83 | CA37: 106325.24 | CB37: 218197.08 | CC37: 433662.22 | CD37: 1289234.9 | CE37: 199846.27 | CF37: 877525.87 | CG37: 130768.09 | CH37: 103442.96 | CI37: 294931.4 | CJ37: 75766.27 | CK37: 1293335 | CL37: 257965.56 | CM37: 84772
A38: 7 | B38: 4301020104.602 | C38: รายได้ค่ารักษา พรบ.รถ OP | D38: 263275 | E38: 107479.5 | F38: 91720 | G38: 37270 | H38: 158814.25 | I38: 184997.25 | J38: 279879.25 | K38: 355310 | L38: 127449.2 | M38: 367798.5 | N38: 728909 | O38: 73618.25 | P38: 396625.25 | Q38: 263968.94 | R38: 464212.25 | S38: 99573 | T38: 263385.5 | U38: 238846.8 | V38: 144579 | W38: 78639 | X38: 219803 | Y38: 122891.75 | Z38: 511960 | AA38: 180695 | AB38: 58061.5 | AC38: 140769 | AD38: 76768 | AE38: 477804 | AF38: 115952.25 | AG38: 70029 | AH38: 208532.4 | AI38: 233709 | AJ38: 119726 | AK38: 193778 | AL38: 608418.75 | AM38: 216665 | AN38: 260867 | AO38: 649269.72 | AP38: 416656 | AQ38: 665097 | AR38: 91813 | AS38: 547660.5 | AT38: 476220 | AU38: 518404 | AV38: 407272 | AW38: 125958 | AX38: 268230 | AY38: 177581 | AZ38: 180509 | BA38: 237930 | BB38: 907497.5 | BC38: 165173 | BD38: 806979.5 | BE38: 240740.5 | BF38: 196283 | BG38: 183811 | BH38: 315051.5 | BI38: 114623 | BJ38: 90515 | BK38: 387625 | BL38: 161799 | BM38: 227482 | BN38: 77009 | BO38: 62888.27 | BP38: 272025.5 | BQ38: 105638 | BR38: 76153.5 | BS38: 1012772.2 | BT38: 472033.5 | BU38: 195137 | BV38: 1024049 | BW38: 60022 | BX38: 187231 | BY38: 656167 | BZ38: 127518 | CA38: 41227 | CB38: 314557.5 | CC38: 273306 | CD38: 691661 | CE38: 238785 | CF38: 533036.5 | CG38: 48586 | CH38: 189500 | CI38: 131088 | CJ38: 162240 | CK38: 498458 | CL38: 152000.97 | CM38: 153890.9
A39: 7 | B39: 4301020104.603 | C39: รายได้ค่ารักษา พรบ.รถ IP | D39: 9319745.8 | E39: 39217 | F39: 49180 | G39: 47001 | H39: 36748.5 | I39: 37348 | J39: 107564.25 | K39: 146665 | L39: 61982.94 | M39: 282708.5 | N39: 922057 | O39: 66574 | P39: 5169450.5 | Q39: 290373.24 | R39: 227814 | S39: 578083.25 | T39: 326746 | U39: 148664.29 | V39: 135525 | W39: 105585 | X39: 12097687 | Y39: 72334.25 | Z39: 426567 | AA39: 116106 | AB39: 43872 | AC39: 63856 | AD39: 58989 | AE39: 786785 | AF39: 25852 | AG39: 71978 | AH39: 69795 | AI39: 283555.2 | AJ39: 78912 | AK39: 477106 | AL39: 19974450 | AM39: 33785.5 | AN39: 33081 | AO39: 113470 | AP39: 791339 | AQ39: 46697 | AR39: 34124 | AS39: 5847969 | AT39: 413028 | AU39: 704939 | AV39: 117456 | AW39: 103768 | AX39: 37963 | AY39: 62391 | AZ39: 77046 | BA39: 11613 | BB39: 4013045.8 | BC39: 18485 | BD39: 7219281.7 | BE39: 1144364.6 | BF39: 426812 | BG39: 96519.5 | BH39: 2112448.7 | BI39: 123029.5 | BJ39: 178936 | BK39: 217968 | BL39: 233709 | BM39: 3775162.5 | BN39: 118538 | BO39: 25438.36 | BP39: 460595 | BQ39: 18564 | BR39: 28525 | BS39: 25060483 | BT39: 83658.16 | BU39: 40703 | BV39: 4789987 | BX39: 123046.5 | BY39: 3140091.5 | BZ39: 51539 | CA39: 56556 | CB39: 124297 | CC39: 54872 | CD39: 3624070 | CE39: 168681 | CF39: 640647 | CG39: 32741 | CH39: 71924 | CI39: 106258 | CJ39: 28911 | CK39: 1558375 | CL39: 29323.71 | CM39: 19193.25
A40: 9 | B40: 4301020104.801 | C40: รายได้ค่ารักษาเบิกจ่ายตรง - อปท. OP | D40: 6775306.8 | E40: 620139.8 | F40: 420892.5 | G40: 607707.5 | H40: 277174 | I40: 1443850.5 | J40: 456419.55 | K40: 2127992 | L40: 628921.06 | M40: 688037.16 | N40: 2219306 | O40: 305358.55 | P40: 5945346.2 | Q40: 897332.93 | R40: 1224539.3 | S40: 2285424.2 | T40: 527333 | U40: 750247.95 | V40: 861367.5 | W40: 348327.5 | X40: 9529902.2 | Y40: 436300.25 | Z40: 1682891 | AA40: 1071946 | AB40: 282533.75 | AC40: 563179.5 | AD40: 475212 | AE40: 1922847.5 | AF40: 330490.95 | AG40: 617392.6 | AH40: 342493.91 | AI40: 719526.24 | AJ40: 458568.16 | AK40: 1236142.5 | AL40: 30168920 | AM40: 1330303 | AN40: 1636922 | AO40: 2909928.6 | AP40: 2140943 | AQ40: 674254.25 | AR40: 658795 | AS40: 4810657.5 | AT40: 1475527.8 | AU40: 3531371.7 | AV40: 2367741 | AW40: 791638 | AX40: 303046.25 | AY40: 1473893.9 | AZ40: 525081 | BA40: 572499 | BB40: 4636847.2 | BC40: 337004.91 | BD40: 14600463 | BE40: 1467155.5 | BF40: 468253 | BG40: 1189240.8 | BH40: 5975999.7 | BI40: 94231 | BJ40: 208766.77 | BK40: 352286.3 | BL40: 364061 | BM40: 5653814.5 | BN40: 759537.2 | BO40: 961779.65 | BP40: 904484.5 | BQ40: 703952.62 | BR40: 776093.21 | BS40: 32357360 | BT40: 1158005 | BU40: 458674.39 | BV40: 3640414 | BW40: 1276967 | BX40: 494395.5 | BY40: 1754347.9 | BZ40: 559911.61 | CA40: 388897.5 | CB40: 837696.5 | CC40: 2542319.1 | CD40: 1809819.8 | CE40: 671205 | CF40: 1702214.5 | CG40: 895299.96 | CH40: 305464 | CI40: 250672.1 | CJ40: 467682.8 | CK40: 1892851.9 | CL40: 309676.33 | CM40: 751512.75
A41: 9 | B41: 4301020104.802 | C41: รายได้ค่ารักษาเบิกจ่ายตรง - อปท. IP | D41: 5863941.8 | E41: 82883.55 | F41: 102221 | G41: 179237.5 | H41: 30827.5 | I41: 114263 | J41: 245573.3 | K41: 308636 | L41: 68163.19 | M41: 55316.25 | N41: 1240406 | O41: 50803.42 | P41: 5128525.5 | Q41: 333988.15 | R41: 309717 | S41: 1322644 | T41: 105207.5 | U41: 220339.68 | V41: 339810.5 | W41: 71082 | X41: 11158991 | Y41: 177608.5 | Z41: 355402.53 | AA41: 175632 | AB41: 63262 | AC41: 120920.5 | AD41: 77027.81 | AE41: 562285.75 | AF41: 120600 | AG41: 306806.67 | AH41: 88590.44 | AI41: 249863.02 | AJ41: 206035.89 | AK41: 69040.25 | AL41: 17927918 | AM41: 119975 | AN41: 317898.19 | AO41: 1178548.3 | AP41: 1180364 | AQ41: 160122 | AR41: 144247 | AS41: 2734839.5 | AT41: 517205.75 | AU41: 236732.44 | AV41: 457366.17 | AW41: 135095.5 | AX41: 63366.75 | AY41: 271933.5 | AZ41: 123161.5 | BA41: 145297 | BB41: 2518859.1 | BC41: 193826.75 | BD41: 6657668.9 | BE41: 821173.5 | BF41: 162205.25 | BG41: 60196.75 | BH41: 2522560 | BI41: 53652.5 | BJ41: 49743.38 | BK41: 25299 | BL41: 266029.75 | BM41: 5888950 | BN41: 417986 | BO41: 114228.75 | BP41: 391004 | BQ41: 87689.16 | BR41: 333886.95 | BS41: 25424659 | BT41: 87773.5 | BU41: 243519.14 | BV41: 2256158.8 | BW41: 213044 | BX41: 152632.5 | BY41: 570010.65 | BZ41: 64831.75 | CA41: 120620.8 | CB41: 346428.5 | CC41: 347897.37 | CD41: 841728 | CE41: 268747.6 | CF41: 263769 | CG41: 54674.41 | CH41: 56744.75 | CI41: 58284.75 | CJ41: 79354.6 | CK41: 1205459.4 | CL41: 34500.72 | CM41: 9924
A42: 9 | B42: 4301020104.803 | C42: ส่วนต่างค่ารักษาที่สูงกว่าข้อตกลงในการจ่ายตาม DRG - เบิกจ่ายตรง - อปท. | D42: -2350373.8 | E42: -20705.7 | F42: -13713.19 | G42: -14883.54 | H42: -9428.24 | I42: -13862.64 | J42: -55978.29 | K42: -45302.84 | L42: -8566.14 | M42: -1821 | N42: -251417.56 | O42: -2401.76 | P42: -438846.84 | Q42: -66378.4 | R42: -74230.71 | S42: -279995.95 | T42: -3370.08 | U42: -30625.34 | V42: -97226.96 | W42: -8809.78 | X42: -2671192.3 | Y42: -19653.41 | Z42: -91064.79 | AA42: -25230.48 | AB42: -6974.36 | AC42: -7298.48 | AE42: -121668.83 | AF42: -3535.02 | AG42: -21918.33 | AI42: -45508.31 | AJ42: -30694.59 | AK42: -11249.36 | AL42: -3360432.2 | AM42: -14983.29 | AN42: -49417.41 | AO42: -432266.93 | AP42: -269039.77 | AQ42: -28255.36 | AR42: -13037.97 | AS42: -903790.52 | AT42: -176933.07 | AU42: -193584.99 | AV42: -48808.61 | AW42: -10318.67 | AX42: -5816.92 | AY42: -81871.82 | AZ42: -21071.72 | BA42: -20074.79 | BB42: -373400.55 | BC42: -47380.18 | BD42: -1318039.9 | BE42: -208459.39 | BF42: -26341.42 | BG42: -11300.51 | BH42: -86377.53 | BI42: -6.93 | BJ42: -6103.97 | BK42: -6569 | BL42: -43857.16 | BM42: -2649691 | BN42: -81189.11 | BO42: -33595.94 | BP42: -74098.03 | BQ42: -3355.27 | BR42: -41718.11 | BS42: -2574443.6 | BT42: -6014.78 | BU42: -33148.11 | BV42: -151537.45 | BX42: -14001.54 | BY42: -100338.33 | BZ42: -1625.76 | CA42: -14963.45 | CB42: -72714.11 | CC42: -25711.74 | CD42: -199737.3 | CE42: -14714.17 | CF42: -37695.65 | CG42: -1282.87 | CI42: -3369.72 | CJ42: -10745.9 | CK42: -238939.18
A43: 9 | B43: 4301020104.804 | C43: ส่วนต่างค่ารักษาที่ต่ำกว่าข้อตกลงในการจ่ายตาม DRG - เบิกจ่ายตรง - อปท. | D43: 1786742.7 | E43: 121216.7 | F43: 8342.13 | G43: 13726.24 | I43: 22181.15 | J43: 51034.51 | K43: 62261.94 | L43: 15421.41 | M43: 13911.74 | N43: 159023.68 | P43: 1153377.8 | Q43: 47638.27 | R43: 24394.32 | S43: 38028.24 | T43: 16311.01 | U43: 50026.29 | V43: 41912.98 | W43: 5378.72 | X43: 1028581 | Y43: 42381.32 | Z43: 63370.94 | AA43: 89823.99 | AB43: 14586.24 | AC43: 107737.07 | AE43: 170495.81 | AF43: 57918.72 | AG43: 101583.63 | AH43: 49239.5 | AI43: 106995.75 | AJ43: 24055.36 | AK43: 50044.28 | AL43: 3232359 | AM43: 46664.17 | AN43: 27562.02 | AO43: 70382.52 | AP43: 109423.73 | AQ43: 38739.9 | AR43: 27584.96 | AS43: 453609.84 | AT43: 23065.03 | AU43: 169344.84 | AV43: 87552.42 | AW43: 27758.41 | AX43: 15428.77 | AY43: 23178.78 | AZ43: 4236.03 | BA43: 11791.95 | BB43: 717509.37 | BC43: 7081.56 | BD43: 1078076.6 | BE43: 57140.5 | BF43: 38856.1 | BG43: 27254.77 | BH43: 1340373.9 | BI43: 25790.07 | BJ43: 1226.58 | BK43: 2616.01 | BL43: 22134.95 | BM43: 1449924.6 | BN43: 165152.75 | BO43: 3658.95 | BP43: 92566.61 | BQ43: 31884.06 | BR43: 93229.2 | BS43: 3556102.3 | BT43: 11117.22 | BU43: 40544.82 | BV43: 938708.83 | BW43: 75536.76 | BX43: 30380.46 | BY43: 65543.15 | BZ43: 21334.88 | CA43: 29118.42 | CB43: 39392.92 | CC43: 121800.99 | CD43: 140314.39 | CE43: 42204.78 | CF43: 96335.12 | CG43: 18952.46 | CI43: 2041.04 | CJ43: 30902.89 | CK43: 346685.8 | CL43: 13942.27 | CM43: 5008.76
A44: 9 | B44: 4301020104.805 | C44: รายได้ค่ารักษาเบิกจ่ายตรง - อปท.รูปแบบพิเศษ OP | D44: 1342697.5 | E44: 5833.8 | F44: 44651 | G44: 11558.25 | H44: 17795 | I44: 12298 | J44: 44685.2 | K44: 326921.75 | L44: 36168.55 | M44: 51144.25 | N44: 61097.5 | O44: 1585 | P44: 310637.25 | Q44: 31981.79 | R44: 9703 | S44: 78976 | T44: 26622 | U44: 59327 | V44: 54600 | W44: 14845 | X44: 477243 | Y44: 5525.5 | Z44: 36329 | AA44: 14419 | AB44: 2067 | AC44: 10766.5 | AD44: 29664 | AE44: 73244.75 | AF44: 19155 | AG44: 17616.75 | AH44: 34782.43 | AI44: 38610.5 | AJ44: 23563 | AK44: 29055.25 | AL44: 1215684.2 | AM44: 8959 | AN44: 61148.5 | AO44: 279628.86 | AP44: 79518 | AQ44: 32997.5 | AR44: 32599 | AS44: 355116 | AT44: 67281 | AU44: 71797.34 | AV44: 98316.83 | AW44: 29287.75 | AX44: 30146.75 | AY44: 34968 | AZ44: 11816.75 | BA44: 15266 | BB44: 873116.25 | BC44: 9339 | BD44: 822364 | BE44: 57844.5 | BF44: 14349 | BG44: 3583 | BH44: 159946.25 | BI44: 10898 | BK44: 28224.5 | BL44: 29457 | BM44: 510045 | BN44: 39453.25 | BO44: 30427.5 | BP44: 47052 | BQ44: 19442.62 | BR44: 19491 | BS44: 1636155 | BT44: 13897.5 | BU44: 33626.39 | BV44: 515506 | BW44: 13040 | BY44: 259118 | BZ44: 7543.5 | CA44: 11770 | CB44: 29464 | CC44: 52495 | CD44: 48289.25 | CE44: 21180.5 | CF44: 36556 | CG44: 17241 | CH44: 8584 | CI44: 7267 | CJ44: 15964 | CK44: 64586.5 | CL44: 2792.5 | CM44: 13242.5
A45: 9 | B45: 4301020104.806 | C45: รายได้ค่ารักษาเบิกจ่ายตรง - อปท.รูปแบบพิเศษ IP | D45: 214843.5 | F45: 11127.5 | H45: 5463 | I45: 4153 | J45: 6629.25 | K45: 13936.75 | M45: 27686.56 | N45: 2227 | P45: 149614 | Q45: 8932 | R45: 10633.5 | S45: 163387.13 | T45: 28638 | U45: 24083.5 | V45: 4688.5 | X45: 523882.75 | AE45: 6234 | AG45: 17524.45 | AJ45: 4340 | AK45: 6690.73 | AL45: 2100670.5 | AN45: 10576 | AO45: 118098.14 | AP45: 36414 | AQ45: 9416 | AR45: 8141 | AS45: 291772.5 | AT45: 91361.5 | AU45: 23643.66 | AV45: 41927.88 | AW45: 33479.46 | AX45: 20182.25 | AY45: 1738 | AZ45: 4754.5 | BA45: 2438 | BB45: 162209 | BC45: 27937.9 | BD45: 214788.25 | BE45: 13563 | BF45: 9271.75 | BG45: 2531 | BH45: 101768.25 | BI45: 13126 | BK45: 62412 | BL45: 14940.75 | BM45: 297071.41 | BN45: 3161.5 | BQ45: 2766.74 | BR45: 4859 | BS45: 897624.27 | BT45: 1853 | BU45: 81949.14 | BV45: 211426 | BW45: 9720 | BY45: 17125.5 | CB45: 10316 | CD45: 20650.75 | CF45: 26737.45 | CH45: 5300.5 | CK45: 63862
A46: 9 | B46: 4301020104.807 | C46: ส่วนต่างค่ารักษาที่สูงกว่าข้อตกลงในการจ่ายตาม DRG - เบิกจ่ายตรง (พนักงานส่วนท้องถิ่นรูปแบบพิเศษ) | F46: -5845.15 | P46: -4370.01 | S46: -20276.64 | T46: -5657.13 | U46: -1013.41 | V46: -1885 | X46: -218241.63 | AG46: -4.89 | AK46: -1084.54 | AL46: -433486.96 | AN46: -3452.32 | AO46: -33239.88 | AP46: -5593.5 | AS46: -40353.04 | AT46: -23086.48 | AU46: -32784.61 | AV46: -2244.51 | AW46: -1849.72 | AX46: -1085.31 | AY46: -555 | BB46: -14558.76 | BC46: -3525.76 | BD46: -47248.72 | BE46: -920.65 | BF46: -693.8 | BK46: -15996.68 | BM46: -74698.4 | BQ46: -327.53 | BR46: -319.35 | BS46: -61897.05 | BU46: -14351.8 | BV46: -8705.73 | BY46: -3907.57 | CD46: -1824.72
A47: 9 | B47: 4301020104.808 | C47: ส่วนต่างค่ารักษาที่ต่ำกว่าข้อตกลงในการจ่ายตาม DRG -เบิกจ่ายตรง (พนักงานส่วนท้องถิ่นรูปแบบพิเศษ) | F47: 2920.3 | K47: 6317.77 | P47: 64180.91 | Q47: 1610.33 | R47: 3118.8 | S47: 6176.37 | T47: 897.55 | U47: 11193.9 | V47: 2383.89 | X47: 79804.2 | AC47: 895.44 | AE47: 13667.29 | AG47: 14619.07 | AJ47: 8247.6 | AL47: 184844.09 | AO47: 9776.01 | AP47: 1837.93 | AR47: 2029.38 | AS47: 92245.53 | AT47: 793.19 | AU47: 4903.9 | AV47: 4184.93 | AX47: 1489.99 | AY47: 256.02 | AZ47: 1436.99 | BA47: 1454.76 | BB47: 111517.4 | BD47: 24314.55 | BI47: 1150.52 | BK47: 3313.26 | BM47: 66801.09 | BN47: 678.33 | BO47: 299.07 | BQ47: 9833.79 | BR47: 1647.17 | BS47: 73367.12 | BT47: 1662.75 | BU47: 1943.38 | BV47: 74945.34 | BW47: 2881.48 | BY47: 2846.01 | CD47: 4362.92 | CH47: 5797.99
A48: 1 | B48: 4301020105.201 | C48: รายได้ค่ารักษา UC - OP ใน CUP | D48: 72754366 | E48: 18070770 | F48: 20290513 | G48: 22730600 | H48: 11859729 | I48: 20035859 | J48: 30610556 | K48: 48329289 | L48: 20453373 | M48: 28282931 | N48: 46918224 | O48: 8911185.6 | P48: 43909141 | Q48: 29990159 | R48: 27326399 | S48: 45494659 | T48: 18062785 | U48: 29801174 | V48: 19762769 | W48: 13094452 | X48: 68647815 | Y48: 15570600 | Z48: 33051475 | AA48: 23354552 | AB48: 7195746.8 | AC48: 14888218 | AD48: 17356303 | AE48: 52486310 | AF48: 13746647 | AG48: 15800590 | AH48: 18282089 | AI48: 26756987 | AJ48: 19622833 | AK48: 16277879 | AL48: 1.2118876e+08 | AM48: 22099050 | AN48: 14325624 | AO48: 45374316 | AP48: 23732552 | AQ48: 19072058 | AR48: 6379462 | AS48: 81947190 | AT48: 29878091 | AU48: 40640040 | AV48: 40756407 | AW48: 16436126 | AX48: 11840910 | AY48: 17326679 | AZ48: 19400299 | BA48: 19760490 | BB48: 90453102 | BC48: 13714439 | BD48: 1.0772204e+08 | BE48: 41054067 | BF48: 12782242 | BG48: 12407601 | BH48: 49236488 | BI48: 8265515.8 | BJ48: 6749355.3 | BK48: 22895002 | BL48: 18750987 | BM48: 8829673.5 | BN48: 41233099 | BO48: 24913679 | BP48: 37893216 | BQ48: 26643302 | BR48: 18950868 | BS48: 2.2630381e+08 | BT48: 29193515 | BU48: 23742488 | BV48: 57155693 | BW48: 2151252 | BX48: 23333231 | BY48: 44083208 | BZ48: 13801277 | CA48: 19072034 | CB48: 19538218 | CC48: 19673933 | CD48: 46736747 | CE48: 21707601 | CF48: 40101134 | CG48: 14128285 | CH48: 11569600 | CI48: 14839431 | CJ48: 13218664 | CK48: 66527209 | CL48: 12813184 | CM48: 11694132
A49: 1 | B49: 4301020105.202 | C49: รายได้ค่ารักษา UC - IP | D49: 227205327 | E49: 6625300.5 | F49: 9700550 | G49: 12580792 | H49: 4428178.5 | I49: 9429673.7 | J49: 16708564 | K49: 21179744 | L49: 9271039.1 | M49: 12624248 | N49: 62195373 | O49: 3776841.7 | P49: 1.2850083e+08 | Q49: 11177815 | R49: 21619752 | S49: 42725623 | T49: 12982928 | U49: 9911672 | V49: 9424580.3 | W49: 3844312.5 | X49: 3.2942981e+08 | Y49: 9718051 | Z49: 16229793 | AA49: 12985009 | AB49: 2339156.8 | AC49: 4899641.5 | AD49: 6215881 | AE49: 47749026 | AF49: 8423763.3 | AG49: 10069463 | AH49: 9237995.2 | AI49: 16262064 | AJ49: 6999293.2 | AK49: 7455420.2 | AL49: 5.4237568e+08 | AM49: 9419728 | AN49: 6863489.9 | AO49: 17932914 | AP49: 36604044 | AQ49: 10490977 | AR49: 3099844.8 | AS49: 1.2235354e+08 | AT49: 17254047 | AU49: 20697695 | AV49: 20264930 | AW49: 8180169.5 | AX49: 5894218.9 | AY49: 7128358.9 | AZ49: 7950413.6 | BA49: 6226252 | BB49: 1.1403499e+08 | BC49: 6709446.7 | BD49: 248279079 | BE49: 49787140 | BF49: 7851325.5 | BG49: 6581699.6 | BH49: 1.1859579e+08 | BI49: 5959131.3 | BJ49: 3934117.8 | BK49: 8490782.9 | BL49: 10606296 | BM49: 4.4237871e+08 | BN49: 17846417 | BO49: 8036244.6 | BP49: 33269125 | BQ49: 9347734.7 | BR49: 7984513.5 | BS49: 1.0607391e+09 | BT49: 13144318 | BU49: 13084750 | BV49: 1.3960797e+08 | BX49: 10619478 | BY49: 63318341 | BZ49: 6904441.9 | CA49: 7272181.3 | CB49: 10590133 | CC49: 15604956 | CD49: 69274906 | CE49: 13433188 | CF49: 38658940 | CG49: 3895488.1 | CH49: 5934207.4 | CI49: 10699820 | CJ49: 6871104.5 | CK49: 68219368 | CL49: 6253361.8 | CM49: 4575473.5
A50: 2 | B50: 4301020105.203 | C50: รายได้ค่ารักษา UC - OP นอก CUP ในจังหวัด | D50: 45577373 | E50: 540428.5 | F50: 258248 | G50: 571708 | H50: 619990.5 | I50: 540247 | J50: 22322 | K50: 1862117 | L50: 231301 | M50: 315008.1 | N50: 2724695.5 | O50: 97564.93 | P50: 24669160 | Q50: 423548.77 | R50: 1905202.3 | S50: 2379033.4 | T50: 2769637.2 | U50: 195962.68 | V50: 163627.1 | W50: 120608 | X50: 81015568 | Y50: 181670.75 | Z50: 313042.25 | AA50: 144184 | AB50: 95458 | AC50: 636975 | AD50: 4038 | AE50: 1792029 | AF50: 183329.5 | AG50: 164799.16 | AH50: 161691.23 | AI50: 1468357.9 | AJ50: 881312 | AK50: 1881848 | AL50: 93116720 | AM50: 663797 | AN50: 1885652.9 | AO50: 3951349 | AP50: 2133295 | AQ50: 463089.5 | AR50: 122317.5 | AS50: 13139952 | AT50: 397475.09 | AU50: 2043676.8 | AV50: 485453.17 | AW50: 411637 | AX50: 438238.15 | AY50: 1338869.2 | AZ50: 264254 | BA50: 152475 | BB50: 10543373 | BC50: 720587.86 | BD50: 41992720 | BE50: 5257357.5 | BF50: 257055.25 | BG50: 100846.75 | BH50: 10938108 | BI50: 341826 | BJ50: 339510.08 | BK50: 557015 | BL50: 82833 | BM50: 32500144 | BN50: 561015.75 | BO50: 113867.95 | BP50: 692346.75 | BQ50: 73178.55 | BR50: 185085.66 | BS50: 1.1807153e+08 | BT50: 558366.28 | BU50: 743210.75 | BV50: 12242384 | BW50: 821236.5 | BY50: 4162691 | BZ50: 183191.6 | CA50: 326451 | CB50: 21633 | CC50: 328356 | CD50: 166630 | CE50: 36361 | CF50: 1419947.5 | CG50: 46200 | CH50: 406543.5 | CI50: 97244.25 | CJ50: 452987 | CK50: 803594.78 | CM50: 226700.51
A51: 2 | B51: 4301020105.205 | C51: รายได้ค่ารักษา UC - OP นอก CUP ต่างจังหวัด | AI51: 4871.2 | AO51: 302204 | BS51: 13941123 | CI51: 30723.5 | CL51: 17150.81
A52: 2 | B52: 4301020105.207 | C52: รายได้ค่ารักษา UC - OP นอกสังกัด สป. | D52: 296 | F52: 4147 | G52: 16055 | H52: 3318 | J52: 1027 | K52: 18369.81 | L52: 5605.97 | N52: 1830 | AI52: 1134 | AP52: 5535 | AQ52: 6321 | AR52: 3317 | AV52: 26968.43 | AW52: 218 | AZ52: 140 | BB52: 191.75 | BC52: 5423.5 | BH52: 22381.5 | BK52: 281098 | BM52: 38992.5 | BS52: 14540495 | BT52: 18301 | BV52: 13322.26 | CD52: 72.5 | CF52: 11873.75 | CJ52: 5105 | CK52: 7843.25 | CM52: 1389.77
A53: 13 | B53: 4301020105.211 | C53: รายได้กองทุน UC (งบลงทุน) | D53: 13304535 | E53: 2150745.5 | F53: 1109100.6 | G53: 1082877.4 | H53: 1217159.5 | I53: 3446188.6 | J53: 5486315.3 | K53: 6141229.5 | L53: 2873960.8 | M53: 3562835.3 | N53: 6822491.3 | O53: 1246905.6 | P53: 9118773 | Q53: 2445256.6 | R53: 4934637.5 | S53: 4844366.2 | T53: 1919621.8 | U53: 3211422.2 | V53: 2862480.2 | W53: 2213778.3 | X53: 11292784 | Y53: 3212578.3 | Z53: 5108885.1 | AA53: 4400879.4 | AB53: 2111682 | AC53: 2606345.4 | AD53: 2627497.1 | AE53: 6414431.5 | AF53: 2740393.5 | AG53: 2906486.2 | AH53: 5372690.7 | AI53: 4474205.3 | AJ53: 2267120.3 | AK53: 3296155.3 | AM53: 8182338 | AN53: 3320948.9 | AO53: 4304418.7 | AP53: 5835941.2 | AQ53: 2906678.7 | AR53: 3437694 | AS53: 9332336.9 | AU53: 5499597.3 | AV53: 3508018.2 | AW53: 2831199.4 | AX53: 3791818.7 | AY53: 2802491.6 | AZ53: 3786512.1 | BA53: 800000 | BB53: 5273850 | BC53: 4524503.2 | BD53: 14797953 | BE53: 4844485.8 | BF53: 1278540.8 | BG53: 5661446.4 | BH53: 10566781 | BI53: 1321791.1 | BJ53: 1286191.5 | BK53: 4899329.5 | BL53: 4500923.9 | BM53: 11702069 | BN53: 4508345.7 | BO53: 3304817.1 | BP53: 6430000 | BQ53: 3168984.5 | BR53: 1482627.6 | BS53: 47585582 | BT53: 3114415.3 | BW53: 74457.08 | BX53: 3530877 | BY53: 9821166.9 | BZ53: 940770 | CA53: 2063639.6 | CB53: 1956500 | CD53: 5196466 | CE53: 1944714.6 | CF53: 7683785.8 | CG53: 1824851.6 | CI53: 1444000 | CJ53: 1423532.6 | CK53: 5875645.2 | CL53: 1194246.2 | CM53: 1590057.1
A54: 1 | B54: 4301020105.214 | C54: รายได้กองทุน UC - OP แบบเหมาจ่ายต่อผู้มีสิทธิ | D54: 0 | E54: 3274087.6 | F54: 0 | G54: 0 | H54: 0 | I54: 0 | J54: 0 | K54: 0 | L54: 1175179.3 | M54: 3369689.3 | N54: 0 | O54: 0 | P54: 0 | Q54: 0 | R54: 6152360.2 | S54: 0 | T54: 264570.71 | U54: 0 | V54: 0 | W54: 0 | X54: 0 | Y54: 3061808 | Z54: 4804629.6 | AA54: 2263739 | AB54: 0 | AC54: 0 | AD54: 0 | AE54: 0 | AF54: 6284730.6 | AG54: 0 | AH54: 5208902 | AI54: 0 | AJ54: 3235817.6 | AK54: 0 | AL54: 0 | AM54: 6176132.9 | AN54: 0 | AO54: 0 | AP54: 0 | AQ54: 8983800.2 | AR54: 170805.31 | AS54: 0 | AT54: 0 | AU54: 0 | AV54: 0 | AW54: 1437050.7 | AX54: 0 | AY54: 0 | AZ54: 2281521.8 | BA54: 0 | BB54: 0 | BC54: 5339717.7 | BD54: 0 | BE54: 0 | BF54: 0 | BG54: 1432619.1 | BH54: 0 | BI54: 9099865.9 | BJ54: 2274434.6 | BK54: 5017686 | BL54: 2677216.9 | BM54: 34701681 | BN54: 3109428.9 | BO54: 7801536.3 | BP54: 13119300 | BQ54: 10688219 | BR54: 8834194.5 | BS54: 0 | BT54: 68616.29 | BU54: 4243179.5 | BV54: 0 | BW54: 5643314.2 | BX54: 1324558.4 | BY54: 8885357.6 | BZ54: 2760917.6 | CA54: 2919876.9 | CB54: 1345547 | CC54: 10870401 | CD54: 0 | CE54: 0 | CF54: 4755256.8 | CG54: 4080520 | CH54: 1003517.2 | CI54: 42252.74 | CJ54: 0 | CK54: 0 | CL54: 0 | CM54: 3776090.7
A55: 1 | B55: 4301020105.217 | C55: รายได้กองทุน UC - P&P แบบเหมาจ่ายต่อผู้มีสิทธิ | D55: 2885041 | E55: 4579174 | F55: 5419493 | G55: 2663866.6 | H55: 7517167.9 | I55: 4007721.6 | J55: 6926428 | K55: 5845637.4 | L55: 3721600.6 | M55: 5456840.5 | N55: 7555641.1 | O55: 1138922.3 | P55: 1921506.7 | Q55: 4830768.5 | R55: 7726722.5 | S55: 3790753.5 | T55: 1912960 | U55: 2217964.5 | V55: 1788651.1 | W55: 1495222 | X55: 692278.61 | Y55: 3391210.2 | Z55: 2602952.2 | AA55: 7220320.5 | AB55: 2284805.6 | AC55: 3036878 | AD55: 3031324.6 | AE55: 11402927 | AF55: 3922519.6 | AG55: 3394322.1 | AH55: 6133848.3 | AI55: 5381940.4 | AJ55: 4413814.4 | AK55: 2535485.5 | AL55: 11597592 | AM55: 4278136.7 | AN55: 1293341.6 | AO55: 5239573.5 | AP55: 2797832.7 | AQ55: 3902245.6 | AR55: 1722344.9 | AS55: 0 | AT55: 4968954.6 | AU55: 6161609.1 | AV55: 3673537.6 | AW55: 2885515.8 | AX55: 2525431.9 | AY55: 7510919.2 | AZ55: 2988481.2 | BA55: 2600601.2 | BB55: 9791346.2 | BC55: 4196097.5 | BD55: 8007112.1 | BE55: 1530925.4 | BF55: 2424198.2 | BG55: 1027579.7 | BH55: 1220395.6 | BI55: 2898692.5 | BJ55: 1754097.6 | BK55: 4025693.6 | BL55: 2596823.1 | BM55: 2059092.6 | BN55: 2814980.1 | BO55: 1673070.9 | BP55: 4828460.2 | BQ55: 6637618 | BR55: 1291872.1 | BS55: 3697754.6 | BT55: 47104.1 | BU55: 2699494.2 | BV55: 0 | BW55: 62575.47 | BX55: 1674971.1 | BY55: 2929975.1 | BZ55: 2614717.4 | CA55: 2479471.7 | CB55: 81673.58 | CC55: 6257327.7 | CF55: 2262378.1 | CG55: 1356305.5 | CH55: 688189.38 | CI55: 0 | CJ55: 483228.13 | CK55: 5857527.3 | CL55: 0
A56: 3 | B56: 4301020105.222 | C56: รายได้กองทุน UC เฉพาะโรคอื่น | D56: 9015771.1 | E56: 295728.08 | F56: 921636 | G56: 519760.32 | H56: 131754.61 | I56: 651014 | J56: 2569354 | K56: 560722 | L56: 1089675 | M56: 700114.71 | N56: 1796351.2 | O56: 219824 | P56: 7188752.8 | Q56: 1653928.2 | R56: 1359903.1 | S56: 466171.26 | T56: 1140617.2 | U56: 762481.36 | V56: 685150.3 | W56: 434757.44 | X56: 16522945 | Y56: 1199051 | Z56: 976081.18 | AA56: 48139 | AB56: 246698.66 | AC56: 321653.88 | AD56: 93516.7 | AE56: 1744001.2 | AF56: 84587 | AG56: 568340.64 | AH56: 700274.63 | AI56: 1387921.6 | AJ56: 320436.5 | AK56: 232251 | AL56: 71768530 | AM56: 373606 | AN56: 347330.64 | AO56: 814179 | AP56: 1741715 | AQ56: 1806503.5 | AR56: 84468 | AS56: 2410288.2 | AT56: 333437 | AU56: 762628 | AV56: 1849614.2 | AW56: 269506 | AX56: 164415 | AY56: 278921 | AZ56: 136314 | BA56: 334128 | BB56: 1504017 | BC56: 226606 | BD56: 11273973 | BE56: 1084412.1 | BF56: 509679.9 | BG56: 917089.4 | BH56: 2043147.4 | BI56: 603385.33 | BJ56: 28075 | BK56: 1420224.4 | BL56: 384008.96 | BM56: 2089361.5 | BN56: 2307856.9 | BO56: 1325138.9 | BP56: 1984524.6 | BQ56: 1823750.8 | BR56: 639853.95 | BS56: 19623923 | BT56: 1443259.8 | BU56: 4293565.6 | BV56: 4369145.9 | BX56: 735744 | BY56: 4378293.1 | BZ56: 922621.82 | CA56: 298198 | CB56: 853422 | CC56: 1362646.3 | CD56: 2854640 | CE56: 1638467.4 | CF56: 2502083.4 | CG56: 170752 | CH56: 542262.64 | CI56: 50617 | CJ56: 443481.16 | CK56: 4842084 | CL56: 197908 | CM56: 154340.99
A57: 3 | B57: 4301020105.223 | C57: รายได้กองทุน UC - P&P อื่น | D57: 8908501.1 | E57: 996034.18 | F57: 1402425 | G57: 1409847.4 | H57: 699087.35 | I57: 2135158 | J57: 1954938.1 | K57: 1645535 | L57: 829875 | M57: 1670115 | N57: 1990385 | O57: 399889.35 | P57: 5713411.4 | Q57: 2343265.9 | R57: 1997107.3 | S57: 4822419.4 | T57: 712689.35 | U57: 1284444 | V57: 1122467.1 | W57: 353783.6 | X57: 5926642.6 | Y57: 261069 | Z57: 1966772.4 | AA57: 1527246 | AB57: 279462.36 | AC57: 847401.05 | AD57: 547084.25 | AE57: 3670340.4 | AF57: 280649.5 | AG57: 507643 | AH57: 1688895.1 | AI57: 2042760.2 | AJ57: 448835 | AK57: 372825 | AL57: 7591556.2 | AM57: 1297336 | AN57: 706046.68 | AO57: 684912 | AP57: 157545 | AQ57: 1290859.8 | AR57: 112834.3 | AS57: 1756460 | AT57: 212907 | AU57: 4522408 | AV57: 3140516.3 | AW57: 1014956.8 | AX57: 871283.04 | AY57: 536303.25 | AZ57: 808760 | BA57: 645189.31 | BB57: 2862569 | BC57: 1049162.5 | BD57: 2451547.3 | BE57: 3962690.3 | BF57: 1143256.2 | BG57: 575365 | BH57: 3240908.6 | BI57: 1365162.7 | BJ57: 355400 | BK57: 1015053.8 | BL57: 1057957.8 | BM57: 971595 | BN57: 1471794.5 | BO57: 1381005.8 | BP57: 1816047.5 | BQ57: 1135698.6 | BR57: 314723.62 | BS57: 11327727 | BT57: 3325345.2 | BU57: 1107618.6 | BV57: 3363808.1 | BW57: 1090.5 | BX57: 2567799.8 | BY57: 1731796.4 | BZ57: 472222.32 | CA57: 1646687 | CB57: 871334.29 | CC57: 989997.59 | CD57: 1671844.1 | CE57: 3554856 | CF57: 5529304.8 | CG57: 751908.54 | CH57: 563931 | CI57: 13138 | CJ57: 440890 | CK57: 6641623.8 | CL57: 531784.13 | CM57: 416400.87
A58: 3 | B58: 4301020105.228 | C58: รายได้กองทุน UC อื่น | D58: 21740452 | E58: 2136149 | F58: 1933239.3 | G58: 5278588.4 | H58: 2385830.3 | I58: 3134844.2 | J58: 4013319 | K58: 6917234.6 | L58: 1881394 | M58: 3748839.7 | N58: 5618189.8 | O58: 2319231 | P58: 7586217.1 | Q58: 744151.31 | R58: 873446.6 | S58: 3085242.1 | T58: 2611450.9 | U58: 385308.96 | V58: 1404457.1 | W58: 296876.81 | X58: 10814379 | Y58: 1106254.3 | Z58: 2262570.1 | AA58: 3046582.8 | AB58: 773508.05 | AC58: 1801392.2 | AD58: 3579081.7 | AE58: 8369684.2 | AF58: 1611257 | AG58: 912825.28 | AH58: 1573514.8 | AI58: 821610.72 | AJ58: 1006174.5 | AK58: 3017885.2 | AL58: 8097851.6 | AM58: 1720735.4 | AN58: 1725725.9 | AO58: 5504072.9 | AP58: 1974382.7 | AQ58: 1517842 | AR58: 1212745.5 | AS58: 7580464.7 | AT58: 1571969 | AU58: 5158532.6 | AV58: 762051.3 | AW58: 1230552.5 | AX58: 1077709.2 | AY58: 3001740.9 | AZ58: 3080690.7 | BA58: 1793147.4 | BB58: 5277351.1 | BC58: 571431.97 | BD58: 15826855 | BE58: 3625052.2 | BF58: 620692.03 | BG58: 2012907.5 | BH58: 1600746.2 | BI58: 844080.57 | BJ58: 1147494.7 | BK58: 698217.17 | BL58: 897546.4 | BM58: 5775202.3 | BN58: 1378291.9 | BO58: 1633516.1 | BP58: 1290158.3 | BQ58: 2044562.1 | BR58: 801614.38 | BS58: 7660553.6 | BT58: 2994187.9 | BU58: 2478441.3 | BV58: 1714850.3 | BW58: 735814.95 | BX58: 4021422.1 | BY58: 4824288.9 | BZ58: 1471299.7 | CA58: 1854254.2 | CB58: 1414441.9 | CC58: 4950847 | CD58: 5056680.8 | CE58: 3042381.6 | CF58: 1149302.4 | CG58: 1981363.3 | CH58: 2264354.7 | CI58: 1375728.8 | CJ58: 842169.7 | CK58: 7927485.2 | CL58: 3488837.8 | CM58: 1846421.6
A59: 1 | B59: 4301020105.229 | C59: ส่วนต่างค่ารักษาที่สูงกว่าเหมาจ่ายรายหัว - กองทุน UC OP | D59: -25214943 | F59: -452346.78 | G59: -8778125.9 | H59: -1450103.1 | I59: -4817036.5 | J59: -5339365.4 | K59: -21936864 | N59: -17823575 | O59: -1831340 | P59: -15038090 | Q59: -7168924.1 | S59: -20131629 | T59: 0 | U59: -8193009.1 | V59: -1241998.1 | W59: -6261366.4 | X59: -23300522 | AB59: -196295.61 | AC59: -4794497.5 | AD59: -7006764.6 | AE59: -20515937 | AG59: -883098.2 | AI59: -5196925.4 | AK59: -3821412.5 | AL59: -40893812 | AN59: -1922764.7 | AO59: -22377084 | AP59: -10863737 | AR59: 0 | AS59: -39240696 | AT59: -9494173.5 | AU59: -4930930.6 | AV59: -14179162 | AX59: -491263.17 | AY59: -5135608.7 | BA59: -417304.26 | BB59: -48704913 | BD59: -73877522 | BE59: -15390571 | BF59: -2138221.6 | BH59: -13220279 | BS59: -1.0259843e+08 | BV59: -18683985 | BX59: 0 | CD59: -10406075 | CE59: -388481.98 | CJ59: -1750893.9 | CK59: -6899238.4 | CL59: -464877.05
A60: 1 | B60: 4301020105.231 | C60: ส่วนต่างค่ารักษาที่สูงกว่าข้อตกลงในการจ่ายตาม DRG - กองทุน UC - IP | D60: -1.7001207e+08 | E60: -1605605.9 | F60: -2919413 | G60: -4112822.1 | H60: -457350.68 | I60: -2588966.8 | J60: -6888187.7 | K60: -6986476.7 | L60: -3524666.4 | M60: -4907104 | N60: -27342451 | O60: -1362460.4 | P60: -46035188 | Q60: -4027488 | R60: -7364784.3 | S60: -10568146 | T60: -4836197.1 | U60: -4015051.2 | V60: -3658274.5 | W60: -1855179.6 | X60: -1.3551213e+08 | Y60: -2574500.8 | Z60: -6117976.5 | AA60: -3455065.9 | AB60: -611547.48 | AC60: -608112.25 | AD60: -1456428.6 | AE60: -17006214 | AF60: -2560811.4 | AG60: -1505571.9 | AH60: -2225200.2 | AI60: -6049752.1 | AJ60: -2088494.7 | AK60: -3948139.8 | AL60: -1.9393942e+08 | AM60: -3209937.1 | AN60: -1533519.4 | AO60: -12615353 | AP60: -15710170 | AQ60: -4332890.6 | AR60: -1307683 | AS60: -59946632 | AT60: -7881986.7 | AU60: -8926470.4 | AV60: -7128496.7 | AW60: -2864499.6 | AX60: -2284308.2 | AY60: -3886481.3 | AZ60: -4256136.4 | BA60: -1672638.3 | BB60: -44479576 | BC60: -2243904.1 | BD60: -1.2987644e+08 | BE60: -20373338 | BF60: -2734335.1 | BG60: -1653657 | BH60: -51912175 | BI60: -1520713.8 | BJ60: -1465879.3 | BK60: -3379138.3 | BL60: -4590885.8 | BM60: -3.618138e+08 | BN60: -9066654.8 | BO60: -3297074.9 | BP60: -14150583 | BQ60: -4566198.2 | BR60: -3629465.9 | BS60: -4.0524928e+08 | BT60: -3786268.8 | BU60: -4597228.4 | BV60: -50084426 | BX60: -3797446.6 | BY60: -21877931 | BZ60: -2131747.5 | CA60: -2600649.4 | CB60: -4153832.2 | CC60: -4665155.4 | CD60: -23288613 | CE60: -3976773 | CF60: -13150350 | CG60: -1304420.4 | CH60: -1651152.6 | CI60: -3079159.4 | CJ60: -2206261 | CK60: -29739058 | CL60: -2242629.9 | CM60: -1373856.3
A61: 1 | B61: 4301020105.232 | C61: ส่วนต่างค่ารักษาที่ต่ำกว่าข้อตกลงในการจ่ายตาม DRG - กองทุน UC - IP | D61: 15132991 | E61: 1251003.5 | F61: 1947305.4 | G61: 1379619.3 | H61: 324299.42 | I61: 1556319.9 | J61: 1647152.5 | K61: 2933939.4 | L61: 1851708.3 | M61: 3102845.5 | N61: 5600368.5 | O61: 362407.14 | P61: 6479759.9 | Q61: 715155.55 | R61: 2689945.6 | S61: 1501963.6 | T61: 1772290.1 | U61: 812561.61 | V61: 80676.54 | W61: 282653.99 | X61: 15973553 | Y61: 3864065.1 | Z61: 2664647.1 | AA61: 1991061.6 | AB61: 722212.71 | AC61: 2062786.9 | AE61: 5059143.9 | AF61: 587076.32 | AG61: 1917958.6 | AH61: 3942154.4 | AI61: 1619504.9 | AJ61: 1227145.1 | AK61: 3673015.4 | AL61: 13248587 | AM61: 1859866 | AN61: 1175895.9 | AO61: 3052613.3 | AP61: 3385414.6 | AQ61: 1800029.6 | AR61: 392977.45 | AS61: 9406056.2 | AT61: 896035.01 | AU61: 2819998.2 | AV61: 3595300.7 | AW61: 3213044.2 | AX61: 1176437.6 | AY61: 3636689.2 | AZ61: 3077302.1 | BA61: 847704.13 | BB61: 5734706.4 | BC61: 1062056.2 | BD61: 10885457 | BE61: 1743075.4 | BF61: 1634231.8 | BG61: 1865941.2 | BH61: 5268733.3 | BI61: 2482930 | BJ61: 895925.63 | BK61: 629486.15 | BL61: 1016047.9 | BM61: 8401469.8 | BN61: 3075571.3 | BO61: 993517.02 | BP61: 2364751 | BQ61: 1324046.4 | BR61: 1653310.5 | BS61: 21267724 | BT61: 1947423.3 | BU61: 2222303.1 | BV61: 11020570 | BX61: 1855411.8 | BY61: 7679024.5 | BZ61: 1762259.8 | CA61: 769396.71 | CB61: 1713003.3 | CC61: 4053513.3 | CD61: 10954971 | CE61: 2411890.1 | CF61: 5903480.9 | CG61: 2627812.9 | CH61: 954619.01 | CI61: 576431.71 | CJ61: 1334774.3 | CK61: 1971935.2 | CL61: 1144590.4 | CM61: 1137242.8
A62: 2 | B62: 4301020105.239 | C62: ส่วนต่างค่ารักษาที่สูงกว่าข้อตกลงในการตามจ่าย UC OP | D62: -500233.5 | P62: -9643230.7 | Q62: -190312.46 | R62: -655828.75 | S62: -1001895.9 | T62: -919375.12 | U62: -87663.39 | W62: -16429 | X62: -40548030 | AD62: -4488 | AH62: -39291.23 | AJ62: -402512 | AK62: -767988 | AL62: -22476700 | AO62: -359621.99 | AU62: -6974.37 | AW62: -31876.5 | AY62: -1267626.3 | BB62: -738985.75 | BD62: -5044770.8 | BE62: -682496.5 | BH62: -69 | BM62: -21001130 | BN62: -339782 | BO62: -26592.3 | BQ62: -38215.46 | BR62: -88341.85 | BS62: -20162068 | BT62: -15834.5 | BV62: -3702795.7 | BW62: -409484 | BZ62: -89835 | CA62: -202418.42 | CC62: -91 | CF62: -640273.5 | CG62: -195 | CI62: -4040.62 | CJ62: -343594 | CK62: -199188.76 | CL62: -6344.6 | CM62: -63583.97
A63: 2 | B63: 4301020105.240 | C63: ส่วนต่างค่ารักษาที่ต่ำกว่าข้อตกลงในการตามจ่าย UC OP | D63: 55973 | F63: 49022 | H63: 6435 | K63: 1239212 | L63: 933164.53 | N63: 203515 | O63: 44419.88 | P63: 1868439.7 | R63: 390 | S63: 486269.4 | T63: 681063.06 | V63: 1670727.3 | W63: 22356 | X63: 267936.3 | AL63: 227654.25 | AO63: 7824 | AU63: 32565.33 | AW63: 148 | BE63: 8846.5 | BM63: 1654271.3 | BO63: 648.27 | BQ63: 7234.08 | BR63: 8022.6 | BS63: 1185.5 | BT63: 33109.5 | BU63: 16.74 | BV63: 1329148.2 | BW63: 238045 | BX63: 19351 | BY63: 1290157.8 | BZ63: 2157.12 | CA63: 3380 | CB63: 800727.25 | CC63: 465365.75 | CF63: 224502.98 | CG63: 391526.62 | CJ63: 1543393.2 | CK63: 86480.82 | CL63: 16715 | CM63: 842556.82
A64: 1 | B64: 4301020105.241 | C64: รายได้ค่ารักษาด้านการสร้างเสริมสุขภาพและป้องกันโรค (P&P) | D64: 5688391 | E64: 2324341 | F64: 1223935 | G64: 2205885 | H64: 910393.5 | I64: 2356598 | J64: 2467639.2 | K64: 1532850 | L64: 3332983.4 | M64: 1910262.8 | N64: 3068544 | O64: 1236330.1 | P64: 5125894 | Q64: 755943.62 | R64: 1466694.4 | S64: 1349790 | T64: 1681669.3 | U64: 1267304 | V64: 1763633.1 | W64: 592596 | X64: 8298244.2 | Y64: 1092351.5 | Z64: 1528027.8 | AA64: 2175032 | AB64: 834246 | AC64: 340811 | AD64: 1060833 | AE64: 1070171 | AF64: 1716874.5 | AG64: 1359501.3 | AH64: 4467915.9 | AI64: 2594680.8 | AJ64: 1437702.2 | AK64: 700084 | AL64: 6718435.2 | AM64: 3202021 | AN64: 1284171.2 | AO64: 2329155 | AP64: 2934162 | AQ64: 983011.75 | AR64: 526932 | AS64: 7315020 | AT64: 1083123 | AU64: 3447768.9 | AV64: 2984964 | AW64: 2131880 | AX64: 900688.4 | AY64: 566002 | AZ64: 1679335 | BA64: 1797611 | BB64: 5254980.8 | BC64: 1343245.9 | BD64: 3883462.7 | BE64: 4150644.1 | BF64: 923208.5 | BG64: 1922256.8 | BH64: 2872090.1 | BI64: 1369278 | BJ64: 301905 | BK64: 1122387 | BL64: 566463 | BM64: 2725536 | BN64: 1857722 | BO64: 1820503 | BP64: 2171011.5 | BQ64: 898118.34 | BR64: 291113 | BS64: 2227458.2 | BT64: 1357762 | BU64: 771726.52 | BV64: 9107550.2 | BW64: 16511 | BX64: 811471.5 | BY64: 5122407.5 | BZ64: 1214062.3 | CA64: 1061477 | CB64: 1020266.5 | CC64: 1232407 | CD64: 4311670.9 | CE64: 2798590 | CF64: 4676426 | CG64: 123595 | CH64: 962428.5 | CI64: 3797675.3 | CJ64: 634493.48 | CK64: 5366645.8 | CL64: 1390858.1 | CM64: 262476.77
A65: 3 | B65: 4301020105.242 | C65: รายได้กองทุน UC - บริการพื้นที่เฉพาะ | H65: 4134810 | P65: 8060131 | S65: 4878800 | U65: 4214045 | W65: 3885355 | AA65: 4781828 | AG65: 4147018 | AH65: 4281305 | AI65: 5150084 | AR65: 3988315 | AS65: 4516321 | BB65: 4699512 | BG65: 4147018 | BH65: 4029719 | BQ65: 5196896 | CE65: 4659749 | CI65: 4623125
A66: 14 | B66: 4301020105.243 | C66: รายได้กองทุน UC (CF) | D66: 102183.06 | E66: 4476488.8 | F66: 1130480.9 | G66: 2143740.6 | H66: 1415705 | I66: 1323480.7 | J66: 3817271 | K66: 5107686.4 | L66: 4443592.2 | M66: 3514520.9 | N66: 3711342.2 | O66: 851471.51 | P66: 28754488 | Q66: 4182713.9 | R66: 11591775 | S66: 7089605 | T66: 4830499.2 | U66: 4873608.8 | V66: 4916659.8 | W66: 1587086 | X66: 24555000 | Y66: 8698279.3 | Z66: 1954525.5 | AA66: 9648225.8 | AB66: 5108707.6 | AC66: 2303033.8 | AD66: 1400435.7 | AE66: 6284339.7 | AF66: 3266055.6 | AG66: 5317685.5 | AH66: 7902452.2 | AI66: 3151678.5 | AJ66: 3898962.8 | AK66: 8805594.9 | AL66: 2139200 | AM66: 9628798.6 | AN66: 5657941.7 | AO66: 549010.38 | AP66: 11768303 | AQ66: 194000 | AR66: 124086.68 | AS66: 35461577 | AT66: 5140332.2 | AU66: 911544.08 | AV66: 3490045.7 | AW66: 5621772.1 | AX66: 858865.62 | AY66: 944953.08 | AZ66: 3603743.9 | BA66: 3173754.2 | BB66: 10778772 | BC66: 2882981.7 | BD66: 4702503.1 | BE66: 2668041.3 | BF66: 2029393.4 | BG66: 3049938.8 | BH66: 7292685.6 | BI66: 2509182.3 | BJ66: 1683709.5 | BK66: 3520702.1 | BL66: 8610148.8 | BM66: 2098887.5 | BN66: 7636923.4 | BO66: 8984093.7 | BP66: 7642301.9 | BQ66: 1532921.1 | BR66: 8986521.9 | BS66: 50729924 | BT66: 5015597.5 | BU66: 4004859.5 | BV66: 27050404 | BW66: 7364.11 | BX66: 2597258.3 | BY66: 11712994 | BZ66: 1217186 | CA66: 5535050.7 | CB66: 1686081.3 | CC66: 3513253.6 | CD66: 11446230 | CE66: 6041313.2 | CF66: 10851026 | CG66: 3230538.4 | CH66: 80000 | CI66: 3400746.2 | CJ66: 1977718 | CK66: 17456459 | CL66: 2841889.8 | CM66: 5248008.3
A67: 2 | B67: 4301020105.244 | C67: รายได้ค่ารักษา UC - OP บริการกรณีเฉพาะ (CR) | D67: 3472980.5 | E67: 5604139 | F67: 523958.5 | G67: 492951 | H67: 418595.5 | I67: 3759484.2 | J67: 4760878.4 | K67: 19255619 | L67: 1100283.1 | M67: 4032545.6 | N67: 7670532.8 | O67: 211050.43 | P67: 17164419 | Q67: 1139639.2 | R67: 4923825 | S67: 3151492.5 | T67: 1615504.5 | U67: 561343.36 | V67: 423705 | W67: 450992.5 | X67: 37647716 | Y67: 799477.5 | Z67: 1582791.8 | AA67: 1380519.3 | AB67: 187191 | AC67: 572159.38 | AD67: 299395 | AE67: 2349504 | AF67: 420231.91 | AG67: 123396.12 | AH67: 939882 | AI67: 7906845.2 | AJ67: 1017858.3 | AK67: 1712375.5 | AL67: 84779335 | AM67: 730951 | AN67: 334500 | AO67: 4511770.7 | AP67: 6127950.3 | AQ67: 911030.44 | AR67: 196538.38 | AS67: 21361869 | AT67: 5344307.7 | AU67: 8071153.3 | AV67: 6673901.8 | AW67: 181401.5 | AX67: 468724.75 | AY67: 6126264.2 | AZ67: 517167.12 | BA67: 158221 | BB67: 18839634 | BC67: 324538.6 | BD67: 27975683 | BE67: 8602368.5 | BF67: 611857.5 | BG67: 6718459.5 | BH67: 32277924 | BI67: 559860.93 | BJ67: 1260213.4 | BK67: 1314824.7 | BL67: 521819.02 | BM67: 1.1608105e+08 | BN67: 1587602.4 | BO67: 5338894.8 | BP67: 979360.75 | BQ67: 488484.64 | BR67: 511984.73 | BS67: 94907944 | BT67: 7914791.2 | BU67: 637438.31 | BV67: 18605369 | BW67: 121432 | BX67: 352979.5 | BY67: 3940973.2 | BZ67: 536868.8 | CA67: 339539.5 | CB67: 1048976.6 | CC67: 11996284 | CD67: 5633493.5 | CE67: 1178472.1 | CF67: 3554522.2 | CG67: 1157427.2 | CH67: 166068 | CI67: 126686.25 | CJ67: 1284216.4 | CK67: 14443089 | CL67: 178630.46 | CM67: 474819.64
A68: 2 | B68: 4301020105.245 | C68: รายได้ค่ารักษา UC - IP บริการกรณีเฉพาะ (CR) | D68: 6280930 | E68: 209738.5 | F68: 47885 | G68: 54518.93 | H68: 18139.84 | I68: 124811 | J68: 136985.55 | K68: 1540668.8 | L68: 122188.59 | M68: 96693.76 | N68: 159620.49 | O68: 35702.76 | P68: 18146922 | Q68: 82487 | R68: 1075507 | S68: 669261.31 | T68: 78093.75 | U68: 53739.1 | V68: 37879.67 | W68: 22633 | X68: 33084618 | Y68: 51648.75 | Z68: 247989.29 | AA68: 122273 | AB68: 19442 | AC68: 87247 | AD68: 79807 | AE68: 118440.76 | AF68: 149733.04 | AG68: 98735.94 | AH68: 100566.06 | AI68: 1673213.9 | AJ68: 69786.88 | AK68: 155429.28 | AL68: 54402372 | AM68: 152955 | AN68: 1170137.3 | AO68: 29666590 | AP68: 2607231.9 | AQ68: 156268.26 | AR68: 130322.22 | AS68: 15491314 | AT68: 170832.81 | AU68: 114599.01 | AV68: 2083653.9 | AW68: 108557 | AX68: 43758.94 | AY68: 16377.06 | AZ68: 179732 | BA68: 37740 | BB68: 8987105.5 | BC68: 730802.62 | BD68: 64014927 | BE68: 1009952 | BF68: 46641.5 | BG68: 36494.44 | BH68: 42869074 | BI68: 33964 | BJ68: 19981 | BK68: 71490.93 | BL68: 92666 | BM68: 43958911 | BN68: 84449 | BO68: 83149.35 | BP68: 232341.45 | BQ68: 146357 | BR68: 3995328.6 | BS68: 1.2672538e+08 | BT68: 62389.6 | BU68: 93355.12 | BV68: 10425760 | BX68: 254555.36 | BY68: 5915455.4 | BZ68: 58637.92 | CA68: 58162 | CB68: 145707.9 | CC68: 145172.76 | CD68: 3432949.5 | CE68: 195822.48 | CF68: 767195.51 | CG68: 183497.5 | CH68: 58468 | CJ68: 53492 | CK68: 4833985.9 | CL68: 34488 | CM68: 46665.11
A69: 2 | B69: 4301020105.251 | C69: ส่วนต่างค่ารักษาที่สูงกว่าข้อตกลงในการจ่ายตาม DRG กองทุน UC (บริการเฉพาะ) CR - IP | D69: -4329672.2 | E69: -25678.72 | K69: -612966.24 | P69: -1889989.2 | R69: -5699.97 | X69: -15703170 | Y69: -509.66 | AD69: -7109.08 | AI69: -676952.17 | AL69: -6412967.7 | AM69: -33371.15 | AN69: -428374.58 | AO69: -6268538.6 | AQ69: -11608.46 | AR69: -27276.89 | AS69: -1249559 | AT69: -1297398.2 | AV69: -293698.02 | AZ69: -37314.53 | BB69: -806898.86 | BC69: -1857.72 | BD69: -24199746 | BE69: -200837.28 | BF69: -4693.53 | BH69: -25311537 | BK69: -1175.57 | BM69: -17752351 | BN69: -2064.16 | BP69: -4452.96 | BR69: -1408328.8 | BS69: -18832879 | BT69: -16061.49 | BV69: -2486787.8 | BW69: -29482 | BX69: -217670.15 | BY69: -1392033.3 | CC69: -2101032.1 | CD69: -352801.71 | CF69: -2867.06 | CG69: -27473.08 | CK69: -551036.08 | CM69: -55408.76
A70: 2 | B70: 4301020105.252 | C70: ส่วนต่างค่ารักษาที่ต่ำกว่าข้อตกลงในการจ่ายตาม DRG กองทุน UC (บริการเฉพาะ) CR - IP | D70: 1661604.2 | E70: 60922.02 | F70: 3842.57 | I70: 299595.38 | K70: 193258.34 | N70: 5888.05 | P70: 110612.97 | R70: 501.37 | W70: 2578.94 | X70: 74248.27 | AC70: 425.48 | AD70: 17608 | AK70: 13468.97 | AL70: 350592.37 | AM70: 21636.99 | AN70: 196521.89 | AR70: 10591.12 | AS70: 3806593.9 | AU70: 521.99 | AV70: 19056.77 | AW70: 10117.14 | AZ70: 9317.64 | BB70: 51105.51 | BC70: 1454.67 | BD70: 10863.76 | BE70: 254445.63 | BF70: 4193.82 | BH70: 93225.08 | BM70: 136778.62 | BN70: 7723.42 | BO70: 1125.09 | BP70: 841.93 | BR70: 2537.25 | BS70: 112731.61 | BT70: 6417.22 | BV70: 666289.53 | BY70: 37726.36 | CD70: 171891.12 | CF70: 95967.32 | CG70: 33260.56 | CI70: 1344.5 | CK70: 39000
A71: 3 | B71: 4301020105.255 | C71: รายได้กองทุน UC - P&P ตามเกณฑ์คุณภาพผลงานบริการ | AL71: 793200 | CI71: 181722.8
A72: 2 | B72: 4301020105.256 | C72: รายได้จากการยกหนี้กรณีส่งต่อผู้ป่วยระหว่างรพ.
A73: 1 | B73: 4301020105.257 | C73: ส่วนต่างค่ารักษาที่สูงกว่าเหมาจ่ายรายหัว - กองทุน UC P&P | D73: 0 | X73: 0 | AS73: -2294098.7 | BE73: 0 | BH73: 0 | BS73: 0 | BV73: -5959813.6 | CB73: 0 | CD73: -3160460.2 | CE73: -1782123.6 | CI73: -2069077.6 | CL73: -543863.25 | CM73: -190483.97
A74: 2 | B74: 4301020105.258 | C74: ส่วนต่างค่ารักษาที่สูงกว่าข้อตกลงตามหลักเกณฑ์การจ่ายกองทุนUC - บริการเฉพาะ (CR) - OP | D74: -3076347.7 | E74: -340842.92 | F74: -53878.25 | H74: -44686 | I74: -526469.14 | J74: -3878290.3 | L74: -286050.83 | N74: -2382454.1 | O74: -3205.75 | P74: -1103991.4 | Q74: -168466.05 | R74: -1200516.8 | T74: -835229.03 | U74: -59622.24 | V74: -49267.49 | W74: -229624.5 | X74: -19644049 | Y74: -192962.61 | Z74: -206185.12 | AA74: -582291.49 | AC74: -129846.97 | AE74: -10207 | AH74: -132333.95 | AI74: -85136.47 | AJ74: -403001.67 | AK74: -134640.6 | AL74: -24976807 | AO74: -3076830.6 | AP74: -3879079.5 | AQ74: -164922.86 | AR74: -3526.25 | AT74: -178464.27 | AU74: -1444540.1 | AV74: -363744.11 | AW74: -51720.98 | AX74: -79397.98 | AZ74: -431612.8 | BA74: -57802.75 | BB74: -553292.49 | BC74: -53150.08 | BD74: -14774691 | BE74: -360218.34 | BF74: -66358.99 | BG74: -105926.11 | BH74: -11940540 | BI74: -148720 | BJ74: -552588.55 | BK74: -681955.73 | BM74: -16025105 | BN74: -662040.87 | BO74: -216741.77 | BP74: -1165 | BQ74: -123599.56 | BR74: -194624.98 | BS74: -23779179 | BT74: -424634.72 | BU74: -356713.84 | BV74: -410 | BW74: -382.5 | BY74: -711232.35 | BZ74: -73659.55 | CB74: -96048.37 | CD74: -751464.25 | CE74: -739988.6 | CF74: -293161.97 | CG74: -41337.36 | CI74: -46877.29 | CJ74: -73583.36 | CK74: -2210367.6
A75: 2 | B75: 4301020105.260 | C75: ส่วนต่างค่ารักษาที่ต่ำกว่าข้อตกลงตามหลักเกณฑ์การจ่ายกองทุนUC - บริการเฉพาะ (CR) - OP | D75: 3485 | F75: 15427.75 | H75: 2425.5 | J75: 9195.65 | L75: 5066.5 | N75: 445807.63 | O75: 345944.75 | P75: 611724.21 | Q75: 3978.76 | R75: 122365 | T75: 11687.5 | U75: 3617.5 | V75: 259.5 | W75: 857.5 | X75: 251462.54 | Y75: 5291.75 | Z75: 300090.5 | AC75: 1830.25 | AD75: 110100.5 | AH75: 45408.2 | AI75: 16127.53 | AJ75: 52697 | AK75: 19 | AL75: 477929.3 | AO75: 3571 | AR75: 357 | AS75: 5797.5 | AT75: 39607.5 | AU75: 12242.8 | AV75: 35385.5 | AZ75: 44864.15 | BB75: 107710.5 | BD75: 367559.81 | BE75: 26560 | BF75: 11611.75 | BH75: 136674 | BJ75: 3203.15 | BK75: 982.25 | BM75: 726888.01 | BN75: 37648.75 | BO75: 13588.3 | BQ75: 28322.48 | BR75: 2212.5 | BS75: 550884.88 | BT75: 4282 | BU75: 3078.96 | BV75: 10990.01 | BY75: 33629 | BZ75: 5029.75 | CB75: 448 | CD75: 8946.5 | CE75: 3792.05 | CF75: 63133.75 | CG75: 1755.25 | CK75: 40928.58
A76: 2 | B76: 4301020105.263 | C76: รายได้ค่ารักษา OP Refer | P76: 20893.5 | R76: 438569.25 | S76: 110664.09 | X76: 115 | AL76: 1517695.8 | BD76: 268282 | BH76: 12507 | BS76: 4212291.2 | BZ76: 4038
A77: 1 | B77: 4301020105.264 | C77: ส่วนปรับลดค่าแรง OP | AL77: 0 | AS77: 0
A78: 1 | B78: 4301020105.265 | C78: ส่วนปรับลดค่าแรง IP | D78: -36788577 | E78: -1114418 | F78: -1491073 | G78: -1811031 | H78: -975680.07 | I78: -2112902 | J78: -2624010 | K78: -3594167 | L78: -1479850 | M78: -1797455 | N78: -9151822 | O78: -909989 | P78: -17551080 | Q78: -1738951 | R78: -2682934.6 | S78: -4534494 | T78: -1691194 | U78: -1942449 | V78: -1163362.3 | W78: -822618.8 | X78: -54422670 | Y78: -1621627.2 | Z78: -2643321 | AA78: -1929077 | AB78: -1256078.5 | AC78: -1688304 | AD78: -1764465 | AE78: -8208555 | AF78: -1555033 | AG78: -2093140 | AH78: -1484100 | AI78: -3144338 | AJ78: -1332015 | AK78: -1237194 | AL78: -46061213 | AM78: -2467375 | AN78: -1843909 | AO78: -5152054 | AP78: -5713255 | AQ78: -1425682 | AR78: -1286243.1 | AS78: -13409146 | AT78: -1892225 | AU78: -5196972 | AV78: -5202945 | AW78: -1932018.8 | AX78: -1606532 | AY78: -3035110 | AZ78: -1359170 | BA78: -1678032 | BB78: -15977846 | BC78: -1935458 | BD78: -37521409 | BE78: -7009700 | BF78: -1467903 | BG78: -1499058 | BH78: -19524067 | BI78: -1683418 | BJ78: -822482 | BK78: -938177 | BL78: -769856 | BM78: -27950772 | BN78: -2985244 | BO78: -1789815.1 | BP78: -4449713.4 | BQ78: -1609842 | BR78: -1093263 | BS78: -110649651 | BT78: -2077323 | BU78: -2387354.2 | BV78: -19023350 | BX78: -2027671 | BY78: -7701828 | BZ78: -1364219 | CA78: -833862 | CB78: -1797908 | CC78: -2529473 | CD78: -7008799 | CE78: -2704699 | CF78: -5181358 | CG78: -864501 | CH78: -1173600 | CI78: -1167180 | CJ78: -1560990 | CK78: -6498230 | CL78: -892779.96 | CM78: -866427
A79: 1 | B79: 4301020105.266 | C79: ส่วนปรับลดค่าแรง PP | AL79: 0 | AS79: 0
B80: 4301020105.271 | C80: ส่วนต่างค่ารักษาที่ต่ำกว่าข้อตกลงในการตามจ่าย UC OP (หน่วยบริการที่ตามจ่าย) | Q80: 2483677.9 | R80: 2697453.4 | U80: 1152161.1 | BS80: 1060261.7 | BZ80: 845564.15 | CJ80: 292 | CK80: 1838137.2
A81: 5 | B81: 4301020106.303 | C81: รายได้กองทุนประกันสังคม | D81: 9366082.8 | F81: 9600 | P81: 353350 | Q81: 150541.32 | R81: 6900 | S81: 79494.66 | T81: 118769.87 | U81: 156353 | V81: 12029.95 | W81: 5544.92 | X81: 15602676 | Y81: 96528.62 | Z81: 16740 | AD81: 20749 | AH81: 98982 | AL81: 46457249 | AM81: 75600.54 | AN81: 14368.21 | AQ81: 50000 | AR81: 25120.58 | AV81: 410 | AW81: 9561.24 | AX81: 132889.95 | AY81: 59888.34 | AZ81: 23313.27 | BA81: 71538.58 | BB81: 932646.67 | BD81: 4949130.8 | BE81: 115796.94 | BF81: 24689.53 | BG81: 13421.82 | BH81: 1355341.4 | BI81: 38510.04 | BM81: 8396157 | BP81: 6844.16 | BQ81: 301.92 | BR81: 60838 | BS81: 19207577 | BU81: 314727.74 | BV81: 1248796.6 | BW81: 49281 | BX81: 50567 | BZ81: 113024 | CA81: 22988 | CB81: 107161 | CC81: 56647.6 | CD81: 1110441.2 | CE81: 402824 | CF81: 2077214 | CG81: 23861 | CH81: 45580 | CI81: 109651.8 | CJ81: 66160 | CK81: 1510251.1 | CM81: 133219.02
A82: 5 | B82: 4301020106.305 | C82: รายได้ค่ารักษาประกันสังคม OP - เครือข่าย | D82: 15820685 | E82: 610282.01 | F82: 752750 | G82: 1028785 | H82: 411818 | I82: 850017.35 | J82: 921647.7 | K82: 1201362.6 | L82: 521090.28 | M82: 709867.26 | N82: 2093101.5 | O82: 321208.37 | P82: 6965056 | Q82: 934759.88 | R82: 1065260.8 | S82: 1679006.8 | T82: 1257750.6 | U82: 1035836.3 | V82: 857189.3 | W82: 537605.5 | X82: 19302260 | Y82: 541663.5 | Z82: 1087814.5 | AA82: 1110650.6 | AB82: 293206 | AC82: 849709.5 | AD82: 483636 | AE82: 2253968.8 | AF82: 500820.3 | AG82: 596422.97 | AH82: 550790.16 | AI82: 1171494.9 | AJ82: 836977.91 | AK82: 810067.86 | AL82: 35678743 | AM82: 1053404 | AN82: 609006.2 | AO82: 2120141 | AP82: 2279818 | AQ82: 609377.25 | AR82: 404473 | AS82: 5126091.5 | AT82: 1224223 | AU82: 1221658.6 | AV82: 1345983.2 | AW82: 564671.25 | AX82: 634603.25 | AY82: 814209.04 | AZ82: 545077.95 | BA82: 858448 | BB82: 5834583.8 | BC82: 610137.7 | BD82: 25601461 | BE82: 1761486.2 | BF82: 782746.5 | BG82: 496981.5 | BH82: 4072837.5 | BI82: 460261 | BJ82: 233501.31 | BK82: 526226.6 | BL82: 673550.5 | BM82: 12631434 | BN82: 1888652.2 | BO82: 875558.46 | BP82: 1275867.5 | BQ82: 795426.88 | BR82: 929602.85 | BS82: 60078560 | BT82: 2358957.8 | BU82: 978469.44 | BV82: 5463327 | BW82: 363576 | BX82: 719801 | BY82: 2853875.9 | BZ82: 431161 | CA82: 638987 | CB82: 795764 | CC82: 868303 | CD82: 2232622 | CE82: 885416.42 | CF82: 1762765.2 | CG82: 519641 | CH82: 555886 | CI82: 380248.1 | CJ82: 547617.02 | CK82: 2213665.2 | CL82: 341050.45 | CM82: 735143.25
A83: 5 | B83: 4301020106.306 | C83: รายได้ค่ารักษาประกันสังคม IP - เครือข่าย | D83: 11665265 | E83: 124666.7 | F83: 161364 | G83: 278287.5 | H83: 41203 | I83: 236462.5 | J83: 432745.25 | K83: 412567.5 | L83: 211242.67 | M83: 306964.5 | N83: 1708372 | O83: 56361.25 | P83: 5521517.7 | Q83: 244454.46 | R83: 450784.1 | S83: 1167236.8 | T83: 286321.25 | U83: 251013.71 | V83: 141648.26 | W83: 53359.5 | X83: 22143932 | Y83: 203422.5 | Z83: 563818.75 | AA83: 197328.52 | AB83: 155209.5 | AC83: 172758 | AD83: 106380 | AE83: 1812570 | AF83: 112010.48 | AG83: 221840.35 | AH83: 198594.46 | AI83: 476828 | AJ83: 208237.43 | AK83: 316368.7 | AL83: 17390424 | AM83: 103229 | AN83: 115387.5 | AO83: 809666 | AP83: 1786339.6 | AQ83: 232567.25 | AR83: 119991 | AS83: 3614737.1 | AT83: 215104 | AU83: 444878.6 | AV83: 524624.01 | AW83: 101162 | AX83: 239734 | AY83: 323673.25 | AZ83: 186142.32 | BA83: 121298 | BB83: 4001482.5 | BC83: 96509.6 | BD83: 13685949 | BE83: 1570528 | BF83: 315070.75 | BG83: 69917.75 | BH83: 4929856.8 | BI83: 295862 | BJ83: 44326.25 | BK83: 97667.5 | BL83: 136681.75 | BM83: 7696805.5 | BN83: 512951 | BO83: 272060.57 | BP83: 1050610.5 | BQ83: 82606.9 | BR83: 155829.94 | BS83: 73919087 | BT83: 467726.77 | BU83: 223514.45 | BV83: 7112632 | BX83: 188255.5 | BY83: 1979559.9 | BZ83: 118823.75 | CA83: 195164 | CB83: 173441 | CC83: 317610 | CD83: 2459638.8 | CE83: 443377.07 | CF83: 961860.5 | CG83: 48943 | CH83: 187247.4 | CI83: 165042.2 | CJ83: 244166.25 | CK83: 1817790.5 | CL83: 113798.5 | CM83: 135365.5
A84: 5 | B84: 4301020106.307 | C84: รายได้ค่ารักษาประกันสังคม OP - นอกเครือข่าย | D84: 6855 | O84: 9993 | X84: 2332 | AI84: 506 | AL84: 2603553.2 | AQ84: 4773 | AR84: 6797.5 | AT84: 2952.25 | AY84: 16392 | BB84: 92929.75 | BC84: 6690 | BD84: 349745.25 | BG84: 37191 | BH84: 37204.25 | BJ84: 205 | BS84: 1810151.1 | BV84: 23600 | CB84: 7801 | CC84: 4733 | CM84: 14406.5
A85: 5 | B85: 4301020106.308 | C85: รายได้ค่ารักษาประกันสังคม IP - นอกเครือข่าย | D85: 883484 | O85: 6367 | P85: 315995.75 | Q85: 23425.75 | U85: 10859 | X85: 419891.92 | AC85: 8280.5 | AE85: 167142 | AF85: 11991.75 | AJ85: 42500 | AL85: 7579955.5 | AP85: 16189.55 | AQ85: 1567 | AR85: 33496 | AS85: 23149 | AU85: 23579 | AV85: 680 | AY85: 36846 | BB85: 55283.5 | BD85: 4129719 | BE85: 69641 | BH85: 412732.25 | BM85: 190542.75 | BN85: 17970 | BQ85: 7343.4 | BS85: 16848483 | BT85: 67295 | BV85: 333238 | BY85: 57210.9 | BZ85: 65050.5 | CB85: 3478 | CC85: 235922 | CD85: 225354.5 | CF85: 70102.5 | CG85: 2946 | CK85: 91216 | CM85: 3529
A86: 5 | B86: 4301020106.309 | C86: รายได้ค่ารักษาประกันสังคม OP - นอกเครือข่าย ต่างสังกัด สป.สธ. | X86: 565.5 | AI86: 1171 | AY86: 140 | BB86: 760 | BS86: 243109
A87: 5 | B87: 4301020106.310 | C87: รายได้ค่ารักษาประกันสังคม IP - นอกเครือข่าย ต่างสังกัด สป.สธ. | D87: 118987.5 | X87: 115563 | AL87: 333441.75 | AS87: 87784 | AY87: 16445 | BB87: 80663.25 | BN87: 65680 | BS87: 3133194.5 | BV87: 81026
A88: 5 | B88: 4301020106.311 | C88: รายได้ค่ารักษาประกันสังคม-กองทุนทดแทน | D88: 1731076.8 | E88: 107155 | F88: 75422 | G88: 59175.96 | H88: 158049 | I88: 122780.4 | J88: 57968.75 | K88: 264759.25 | L88: 75475.2 | M88: 169542 | N88: 267515.6 | O88: 67969.6 | P88: 1034590.2 | Q88: 87988.18 | R88: 202336.75 | S88: 130133 | T88: 118586.25 | U88: 95345 | V88: 132463.5 | W88: 56127 | X88: 1085086.7 | Y88: 98912.9 | Z88: 130621 | AA88: 197357.8 | AB88: 61260 | AC88: 108469 | AD88: 39821 | AE88: 267929 | AF88: 84342.9 | AG88: 60147.9 | AH88: 63306.31 | AI88: 213938.2 | AJ88: 114959 | AK88: 115001.25 | AL88: 3851788.1 | AM88: 98787 | AN88: 75067.5 | AO88: 193154.83 | AP88: 472874 | AQ88: 197483 | AR88: 26898.5 | AS88: 310268 | AT88: 59829.5 | AU88: 154749 | AV88: 444639.53 | AW88: 120255.5 | AX88: 96201 | AY88: 77329.75 | AZ88: 72860 | BA88: 103201 | BB88: 667054 | BC88: 96915 | BD88: 2069770.4 | BE88: 262922.8 | BF88: 119187 | BG88: 37561.75 | BH88: 873794.75 | BI88: 90477 | BJ88: 27308 | BK88: 87194 | BL88: 75192.75 | BM88: 1192138.3 | BN88: 320489.8 | BO88: 206647.41 | BP88: 143290.2 | BQ88: 114710.75 | BR88: 71920 | BS88: 5194011.4 | BT88: 160524.8 | BU88: 56685 | BV88: 1280436.8 | BW88: 37072 | BX88: 75988 | BY88: 248468.45 | BZ88: 61104 | CA88: 87588 | CB88: 135479 | CC88: 30287 | CD88: 520798 | CE88: 73404.7 | CF88: 231427.6 | CG88: 36312 | CH88: 61921 | CI88: 104235 | CJ88: 43386 | CK88: 356371 | CL88: 16240 | CM88: 126845.7
A89: 5 | B89: 4301020106.312 | C89: รายได้ค่ารักษาประกันสังคม 72 ชั่วโมงแรก | D89: 1562770 | E89: 53182.25 | F89: 32581.5 | G89: 62203 | H89: 21994.5 | I89: 42630 | J89: 92098.25 | K89: 52138.6 | L89: 97496.21 | M89: 71884.75 | N89: 352123.5 | O89: 5483 | P89: 1027705.9 | Q89: 20686.68 | R89: 106695 | S89: 284608.25 | T89: 60986 | U89: 99713.86 | V89: 33906 | W89: 35839 | X89: 1171633.2 | Y89: 24512.75 | Z89: 96794.25 | AA89: 17130.11 | AB89: 31936 | AD89: 52744 | AF89: 79322.9 | AG89: 19564.25 | AH89: 69809.35 | AI89: 51704.1 | AK89: 31480.25 | AL89: 3594562.2 | AM89: 40750 | AN89: 62284.5 | AO89: 107111 | AP89: 298182.85 | AQ89: 7627.25 | AS89: 824958.75 | AT89: 147623.75 | AU89: 319284.04 | AV89: 97131.06 | AW89: 51701.25 | AX89: 16238 | AZ89: 43534.7 | BA89: 26746 | BB89: 769568.5 | BC89: 39797 | BD89: 3031102.1 | BE89: 482879.5 | BF89: 26328.25 | BG89: 11021.5 | BH89: 705755.5 | BI89: 54110 | BJ89: 19628.1 | BK89: 44046.5 | BL89: 29329 | BM89: 1113041.2 | BN89: 126189 | BO89: 35790.44 | BP89: 178791 | BQ89: 45838.73 | BR89: 17271.4 | BS89: 4780727 | BT89: 58900 | BU89: 23290 | BV89: 1629017 | BX89: 52078.5 | BY89: 256584.77 | CA89: 24194 | CB89: 39908 | CD89: 221640 | CE89: 72192.4 | CF89: 136752 | CG89: 10468 | CH89: 39179.25 | CJ89: 17036.5 | CK89: 596872.5 | CL89: 24704
A90: 5 | B90: 4301020106.313 | C90: รายได้ค่ารักษาประกันสังคม-ค่าใช้จ่ายสูง/อุบัติเหตุ/ฉุกเฉิน OP | D90: 305844.75 | E90: 186238 | H90: 10185 | I90: 424412 | J90: 3956.5 | K90: 1333005.5 | L90: 8670.7 | M90: 137621 | N90: 695798 | P90: 867707.75 | Q90: 8351.7 | R90: 858970.5 | S90: 2186 | T90: 52350.5 | U90: 13851 | V90: 27147 | X90: 296921 | Z90: 74728.75 | AA90: 11510 | AB90: 2903 | AC90: 20198 | AG90: 9089.5 | AI90: 521135 | AK90: 10431 | AL90: 7712747.8 | AM90: 396607 | AN90: 21453 | AO90: 279382 | AP90: 80578.9 | AQ90: 1150 | AS90: 2531128 | AT90: 13610.25 | AU90: 687977.02 | AV90: 270490.19 | AX90: 21923.25 | AY90: 433143.5 | AZ90: 0 | BA90: 9300 | BB90: 3037501.2 | BD90: 286139.25 | BE90: 65720.5 | BG90: 382458 | BH90: 1338984 | BI90: 31666 | BL90: 95209 | BM90: 726102.5 | BO90: 368706.34 | BP90: 25787.5 | BS90: 2810072.2 | BT90: 8917 | BV90: 336632 | BX90: 26275 | BY90: 111936.5 | BZ90: 24248 | CA90: 16408 | CC90: 129129.6 | CD90: 869311 | CE90: 16590.5 | CF90: 1124280.5 | CI90: 11276 | CJ90: 18984 | CK90: 119853
A91: 5 | B91: 4301020106.314 | C91: รายได้ค่ารักษาประกันสังคม-ค่าใช้จ่ายสูง IP | N91: 41826.5 | P91: 17438 | X91: 2422976.5 | Y91: 115203.6 | AA91: 6532 | AD91: 36884.4 | AI91: 8330.6 | AL91: 10451507 | AP91: 293166.5 | AS91: 535199 | AX91: 6441 | BB91: 92810 | BD91: 11558498 | BH91: 252174 | BM91: 1274500 | BS91: 19071651 | BV91: 234075 | BY91: 90000 | CD91: 99300 | CF91: 7000 | CI91: 29464.25 | CJ91: 20068
A92: 5 | B92: 4301020106.315 | C92: ส่วนต่างค่ารักษาที่สูงกว่าเหมาจ่ายรายหัว - กองทุนประกันสังคม - OP | D92: -13677541 | E92: -460495.49 | F92: -558708.38 | G92: -837613.6 | H92: -374658.56 | I92: -200092.24 | J92: -688778.07 | K92: -953096.31 | L92: -384683.17 | M92: -628469.14 | N92: -1738594.8 | O92: -186235.92 | P92: -4327321 | Q92: -647204.49 | R92: -753868.97 | S92: -1146802 | T92: -769672.31 | U92: -696854.35 | V92: -537747.06 | W92: -326200.83 | X92: -14399913 | Y92: -165612.75 | Z92: -778048.94 | AA92: -748542.66 | AB92: -80912 | AC92: -338126.69 | AD92: -259249.71 | AE92: -1054697.8 | AF92: -161978.18 | AG92: -247294.5 | AH92: -273445.16 | AI92: -622210.86 | AJ92: -313652.26 | AK92: -123289.87 | AL92: -16812696 | AM92: -685952.64 | AN92: -335728.54 | AO92: -1310716.2 | AP92: -1044491 | AQ92: -453850.52 | AR92: -230695.44 | AS92: -1693413.4 | AT92: -948928.88 | AU92: -664317.15 | AV92: -884912.39 | AW92: -424599.51 | AX92: -287517.47 | AY92: -454471.97 | AZ92: -490305.32 | BA92: -563727.26 | BB92: -4640217 | BC92: -390282.16 | BD92: -16293397 | BE92: -1471576.9 | BF92: -549802.8 | BG92: -327956.23 | BH92: -2990073.9 | BI92: -370953.56 | BJ92: -144902.17 | BK92: -440993.45 | BL92: -575448.51 | BM92: -9138954.6 | BN92: -1303066.2 | BO92: -593061.46 | BP92: -869724.49 | BQ92: -546937.88 | BR92: -804621.85 | BS92: -37516587 | BT92: -1288794.8 | BU92: -512606.35 | BV92: -4177730 | BW92: -222182 | BX92: -351703 | BY92: -1341050.9 | BZ92: -167486 | CA92: -475554 | CB92: -547837 | CC92: -845527 | CD92: -1238748 | CE92: -99563.59 | CF92: -525582.66 | CG92: -275378 | CH92: -209777 | CI92: -220702.1 | CJ92: -181253.1 | CK92: -1986574.1 | CL92: -81250.45 | CM92: -411067.25
A93: 5 | B93: 4301020106.317 | C93: ส่วนต่างค่ารักษาที่สูงกว่าข้อตกลงตามหลักเกณฑ์การจ่าย - กองทุนประกันสังคม - IP | D93: -8687373.8 | E93: -95757.14 | F93: -122305.14 | G93: -218874.9 | H93: -18773.56 | I93: -41406.02 | J93: -381708.47 | K93: -346178.94 | L93: -177536.21 | M93: -122722.7 | N93: -1474874.3 | O93: -14413.5 | P93: -3388532.3 | Q93: -131925.59 | R93: -224669 | S93: -735333.48 | T93: -61330.85 | U93: -84589.04 | V93: -15117.78 | W93: -28097.12 | X93: -12070885 | Y93: -36018.5 | Z93: -243359.45 | AA93: -137116.7 | AB93: -69140 | AC93: -55046.42 | AD93: -3243 | AE93: -266859.4 | AF93: -60893.33 | AG93: -19210.12 | AH93: -114051.96 | AI93: -256848.4 | AJ93: -70668.87 | AK93: 799.76 | AL93: -4997792.5 | AN93: -4866.53 | AO93: -202633.59 | AP93: -745456.18 | AQ93: -142526.45 | AR93: -23665.95 | AS93: -2078931 | AT93: -51844.92 | AU93: -64571.71 | AV93: -149249.17 | AW93: -50789.91 | AX93: -42717.87 | AY93: -69501.92 | AZ93: -148796.05 | BB93: -3038906.2 | BC93: -3682.68 | BD93: -6961164.5 | BE93: -1325713.7 | BF93: -212230.44 | BG93: -54033.34 | BH93: -3649486.5 | BI93: -206318.88 | BJ93: -32050.39 | BK93: -87123.76 | BL93: -94213.68 | BM93: -4574708.2 | BN93: -220981 | BO93: -154098.07 | BP93: -270317.5 | BQ93: -45979.9 | BR93: -66418.94 | BS93: -46422970 | BT93: -247398.77 | BU93: -128429.39 | BV93: -5745240.9 | BX93: -139624 | BY93: -1087963.9 | BZ93: -39922.25 | CA93: -113176 | CB93: -109381 | CC93: -283621.02 | CD93: -1416441.8 | CE93: -197965.97 | CF93: -463392 | CG93: -39791 | CH93: -59527.9 | CI93: -100754.2 | CJ93: -171944.25 | CK93: -1631988.7 | CL93: -80691.9 | CM93: -68288.27
A94: 5 | B94: 4301020106.319 | C94: ส่วนต่างค่ารักษาที่สูงกว่าข้อตกลงในการจ่ายตาม กองทุนประกันสังคม | P94: -478.1 | Q94: -2100 | T94: -60179.24 | W94: -53981.65 | AD94: -29217.37 | AJ94: -2998 | AK94: -126219.51 | AL94: -23616.25 | AU94: -256012.12 | AV94: -715 | AW94: -230 | AX94: -14000.39 | BA94: -50 | BD94: -1354371.8 | BE94: -13903.5 | BF94: -300 | BG94: -1270 | BI94: -50951.41 | BJ94: -400 | BK94: -3505 | BL94: -50 | BS94: -537783.9 | BT94: -17428 | BV94: -6000 | CB94: -1681 | CD94: -9591.55 | CG94: -7102 | CI94: -37827
A95: 5 | B95: 4301020106.320 | C95: ส่วนต่างค่ารักษาที่ต่ำกว่าข้อตกลงในการจ่ายตาม กองทุนประกันสังคม | O95: 10139 | P95: 64035.75 | S95: 102455.9 | X95: 3565671.6 | Z95: 121878 | AD95: 34835 | AF95: 17633 | AT95: 30116.34 | AU95: 25977.53 | AX95: 31578.69 | AY95: 14223.81 | BA95: 164 | BE95: 2927.4 | BF95: 1841.8 | BG95: 5368 | BI95: 35952.56 | BK95: 37367.96 | BS95: 460408.4 | BV95: 4500 | BZ95: 13170 | CB95: 5475.6 | CC95: 230067.01 | CD95: 41347.75 | CI95: 61241.55 | CL95: 3915
A96: 5 | B96: 4301020106.321 | C96: รายได้ค่าบริหารจัดการประกันสังคม | P96: 865753.22 | AJ96: 545 | AL96: 3828810.3 | AX96: 18971.73 | BM96: 499095
A97: 5 | B97: 4301020106.322 | C97: รายได้ค่าตอบแทนและพัฒนากิจการ | AL97: 0 | BB97: 1176563.5 | CK97: 421709.03
A98: 10 | B98: 4301020106.502 | C98: รายได้กองทุนแรงงานต่างด้าว | G98: 727.2 | AH98: 5830.83 | BI98: 3354.4
A99: 10 | B99: 4301020106.503 | C99: รายได้ค่ารักษาแรงงานต่างด้าว OP | D99: 106164.88 | E99: 29024 | F99: 118984 | G99: 89751 | H99: 22011.5 | I99: 67486 | J99: 46503.5 | K99: 88757 | L99: 6985.93 | M99: 31700 | N99: 76169 | O99: 5259.5 | P99: 110246.77 | Q99: 37660.1 | R99: 23864.5 | S99: 42875 | T99: 20604 | U99: 26649.5 | V99: 20400.5 | W99: 115546.5 | X99: 292036.5 | Y99: 10954.25 | Z99: 95154 | AA99: 100122 | AB99: 6251.5 | AC99: 39585 | AD99: 6305 | AE99: 168172 | AF99: 8463 | AG99: 8033.16 | AH99: 16618.8 | AI99: 51651.9 | AJ99: 27570 | AK99: 5480 | AL99: 114949.25 | AM99: 890 | AN99: 7313.5 | AO99: 44036 | AP99: 18198 | AQ99: 14581.75 | AR99: 50 | AS99: 29804 | AT99: 2232 | AU99: 32871.92 | AV99: 11677.5 | AW99: 2405 | AX99: 2385 | AY99: 10518 | AZ99: 3633 | BA99: 4150 | BB99: 74003 | BC99: 2390 | BD99: 209925 | BE99: 76375 | BF99: 71150 | BG99: 23905 | BH99: 94248.31 | BM99: 85700.75 | BN99: 54040.5 | BO99: 10268.5 | BP99: 20007.5 | BQ99: 33442.87 | BR99: 14961 | BS99: 246992.75 | BT99: 18049.5 | BU99: 21439 | BV99: 14902 | BW99: 983 | BX99: 6487.5 | BY99: 6610 | BZ99: 396 | CB99: 4826 | CC99: 34286 | CD99: 13084.25 | CE99: 36030 | CF99: 21842.5 | CG99: 2588 | CH99: 2415 | CI99: 5062.25 | CK99: 38820.5 | CM99: 1540
A100: 10 | B100: 4301020106.504 | C100: รายได้ค่ารักษาแรงงานต่างด้าว IP | D100: 62349.09 | F100: 99417 | G100: 19818 | J100: 26513.5 | K100: 18614 | L100: 3942.5 | N100: 45916 | P100: 40392.5 | Q100: 9865 | R100: 2839 | S100: 4210 | T100: 13075 | U100: 10177 | V100: 7837.5 | W100: 109637.5 | X100: 229218.75 | Y100: 1604.5 | Z100: 9209 | AA100: 55706 | AC100: 5236 | AE100: 206350 | AG100: 3734.5 | AH100: 1305.21 | AJ100: 3067 | AL100: 113118 | AP100: 11310 | AQ100: 20412.5 | AR100: 4368 | AS100: 56472 | AY100: 2360.75 | BB100: 82367 | BD100: 84080.5 | BE100: 24758 | BF100: 11586.25 | BH100: 44117.75 | BM100: 47898 | BN100: 22232.5 | BQ100: 6670.5 | BS100: 280346.5 | BT100: 12762.5 | BU100: 4370 | BV100: 11200 | BY100: 32112 | CD100: 21462.75 | CE100: 46978 | CF100: 19955 | CH100: 2888 | CK100: 91014.5
...

Sheet 6.รายรับ
G1: รายได้จากการขายสินค้าและบริการของหน่วยบริการ | Z1: สรุปรับ
G2: สิทธิ UC | K2: สิทธิประกันสังคม | L2: สิทธิข้าราชการ | M2: สิทธิ พรบ. | N2: สิทธิ ต้นสังกัด | O2: สิทธิ อปท. | P2: สิทธิ แรงงานต่างด้าว | Q2: ชำระเงินเอง | R2: ผู้มีปัญหาสถานะและสิทธิ | S2: รายได้ งบลงทุน | T2: รายได้จาก CF | U2: รายได้จากการขายสินทรัพย์และบริการอื่น | V2: รายได้จากการประมาณบุคลากร | W2: รายได้จากเงินงบประมาณอื่น | X2: รายได้ระหว่างหน่วยงานอื่น | Y2: รายได้อื่น | Z2: 1+2+3+4+5+6+7+8+9+10+11+12+13+14+15+16+17+18+19
A3: ลำดับเรียงตามงบทดลอง | B3: ลำดับเรียงตามจัดกลุ่ม | C3: กลุ่มที่ | D3: จังหวัด | E3: รหัส | F3: หน่วยบริการ | G3: เหมาจ่ายรายหัว 1 | H3: เรียกเก็บ UC 2 | I3: กองทุน UC 3 | J3: EMS 4 | K3: 5 | L3: 6 | M3: 7 | N3: 8 | O3: 9 | P3: 10 | Q3: 11 | R3: 12 | S3: 13 | T3: 14 | U3: 15 | V3: 16 | W3: 17 | X3: 18 | Y3: 19
A4: 72 | B4: 1 | C4: 1 | D4: อุดรธานี | E4: 11016 | F4: รพ.ห้วยเกิ้ง | G4: 7873652.7 | H4: 741365 | I4: 736905.45 | J4: 0 | K4: 227747 | L4: 8013628.2 | M4: 60022 | N4: 0 | O4: 1591189.2 | P4: 983 | Q4: 396823 | R4: 12193.25 | S4: 74457.08 | T4: 7364.11 | U4: 972190 | V4: 7834741 | W4: 314806.5 | X4: 0 | Y4: 3796062.7 | Z4: =SUM(G4:Y4) -> 32654130
A5: 41 | B5: 2 | C5: 1 | D5: สกลนคร | E5: 11094 | F5: รพ.นิคมน้ำอูน | G5: 9698440.2 | H5: 432640.08 | I5: 5398362.8 | J5: 81900 | K5: 362415.19 | L5: 2431508.9 | M5: 125937 | N5: 0 | O5: 860358.37 | P5: 4918 | Q5: 346524.5 | R5: 0 | S5: 3437694 | T5: 124086.68 | U5: 1800 | V5: 11327587 | W5: 488099.9 | X5: 0 | Y5: 2332116 | Z5: =SUM(G5:Y5) -> 37454388
A6: 25 | B6: 3 | C6: 1 | D6: เลย | E6: 11033 | F6: รพ.นาแห้ว | G6: 11312246 | H6: 302091 | I6: 1299669.1 | J6: 83200 | K6: 394462.5 | L6: 1751565.3 | M6: 101933.5 | N6: 8527.5 | O6: 355474.63 | P6: 500 | Q6: 609386 | R6: 116818.64 | S6: 2111682 | T6: 5108707.6 | U6: 0 | V6: 13086838 | W6: 516724.7 | X6: 0 | Y6: 6660776.8 | Z6: =SUM(G6:Y6) -> 43820604
A7: 12 | B7: 4 | C7: 1 | D7: นครพนม | E7: 40840 | F7: รพ.วังยาง | G7: 11321897 | H7: 731477 | I7: 2938944.3 | J7: 54350 | K7: 276871.8 | L7: 2062799 | M7: 140192.25 | N7: 0 | O7: 355345.21 | P7: 9279.5 | Q7: 306466 | R7: 0 | S7: 1246905.6 | T7: 851471.51 | U7: 0 | V7: 8555263.2 | W7: 366347.5 | X7: 0 | Y7: 1790190.1 | Z7: =SUM(G7:Y7) -> 31007800
A8: 59 | B8: 5 | C8: 1 | D8: หนองคาย | E8: 28778 | F8: รพ.โพธิ์ตาก | G8: 13621475 | H8: 1070319.1 | I8: 1530969.7 | J8: 0 | K8: 147616.1 | L8: 2655771.7 | M8: 269451 | N8: 0 | O8: 253632.76 | P8: 0 | Q8: 525147 | R8: 6541.5 | S8: 1286191.5 | T8: 1683709.5 | U8: 125570 | V8: 9432219 | W8: 395312.22 | X8: 0 | Y8: 1997655.6 | Z8: =SUM(G8:Y8) -> 35001581
A9: 20 | B9: 6 | C9: 1 | D9: บึงกาฬ | E9: 11050 | F9: รพ.บุ่งคล้า | G9: 10370072 | H9: 373972.44 | I9: 4970772.8 | J9: 59100 | K9: 280196.32 | L9: 3106301 | M9: 184224 | N9: 0 | O9: 430823.44 | P9: -19408.5 | Q9: 1344532.5 | R9: 48614.08 | S9: 2213778.3 | T9: 1587086 | U9: 0 | V9: 13085857 | W9: 517863.2 | X9: 0 | Y9: 4109334.2 | Z9: =SUM(G9:Y9) -> 42663119
A10: 88 | B10: 7 | C10: 2 | D10: อุดรธานี | E10: 25059 | F10: รพ.ประจักษ์ศิลปาคม | G10: 19014648 | H10: 1473139.1 | I10: 2417163.5 | J10: 23550 | K10: 669153.45 | L10: 2791892.2 | M10: 173084.15 | N10: 0 | O10: 779688.01 | P10: 4414 | Q10: 630803.85 | R10: 641.75 | S10: 1590057.1 | T10: 5248008.3 | U10: 0 | V10: 9210734.8 | W10: 369277.65 | X10: 0 | Y10: 1416764.3 | Z10: =SUM(G10:Y10) -> 45813020
A11: 87 | B11: 8 | C11: 2 | D11: อุดรธานี | E11: 25058 | F11: รพ.กู่แก้ว | G11: 17457844 | H11: 240639.67 | I11: 4218529.9 | J11: 13500 | K11: 337765.6 | L11: 2161906.6 | M11: 181324.68 | N11: 0 | O11: 360911.82 | P11: 0 | Q11: 522838.1 | R11: 0 | S11: 1194246.2 | T11: 2841889.8 | U11: 44530 | V11: 11129658 | W11: 475399.72 | X11: 0 | Y11: 2361403.9 | Z11: =SUM(G11:Y11) -> 43542388
A12: 5 | B12: 9 | C12: 2 | D12: นครพนม | E12: 11107 | F12: รพ.นาทม | G12: 22156634 | H12: 1024218.3 | I12: 7351482.2 | J12: 15200 | K12: 249817.38 | L12: 1682549.2 | M12: 195562.75 | N12: 0 | O12: 321831.26 | P12: 15859.5 | Q12: 548313.5 | R12: 8017.5 | S12: 1217159.5 | T12: 1415705 | U12: 972362 | V12: 18309941 | W12: 806757.67 | X12: 0 | Y12: 2101093.5 | Z12: =SUM(G12:Y12) -> 58392504
A13: 47 | B13: 10 | C13: 2 | D13: สกลนคร | E13: 11100 | F13: รพ.เต่างอย | G13: 17955583 | H13: 871323.86 | I13: 2113407.3 | J13: 38100 | K13: 854345.14 | L13: 2578993.2 | M13: 306193 | N13: 18826.5 | O13: 426758.53 | P13: 2385 | Q13: 733547.5 | R13: 642.05 | S13: 3791818.7 | T13: 858865.62 | U13: 0 | V13: 14584288 | W13: 601472.38 | X13: 0 | Y13: 2669820.6 | Z13: =SUM(G13:Y13) -> 48406370
A14: 26 | B14: 11 | C14: 2 | D14: เลย | E14: 11034 | F14: รพ.ภูเรือ | G14: 18137422 | H14: 1168790.1 | I14: 2970447.1 | J14: 101800 | K14: 766241.89 | L14: 3096212.3 | M14: 204625 | N14: 2563 | O14: 796200.53 | P14: 23532 | Q14: 1332157 | R14: 119527.88 | S14: 2606345.4 | T14: 2303033.8 | U14: 10450 | V14: 15099155 | W14: 563403.45 | X14: 0 | Y14: 3971924.1 | Z14: =SUM(G14:Y14) -> 53273830
A15: 85 | B15: 12 | C15: 2 | D15: อุดรธานี | E15: 11029 | F15: รพ.พิบูลย์รักษ์ | G15: 17024120 | H15: 2922016.2 | I15: 1726540.9 | J15: 12450 | K15: 604220.42 | L15: 3202724 | M15: 191151 | N15: 0 | O15: 583158.39 | P15: 0 | Q15: 696052 | R15: 641.75 | S15: 1423532.6 | T15: 1977718 | U15: 0 | V15: 16037892 | W15: 674405.86 | X15: 0 | Y15: 14200829 | Z15: =SUM(G15:Y15) -> 61277452
... A91: 68 | B91: 88 | C91: 13 | D91: อุดรธานี | E91: 10671 | F91: รพ.อุดรธานี | G91: 6.957385e+08 | H91: 3.1028944e+08 | I91: 38612204 | J91: 1743400 | K91: 1.2307969e+08 | L91: 4.5237589e+08 | M91: 26073256 | N91: 10404450 | O91: 61308926 | P91: 921369.57 | Q91: 1.9233665e+08 | R91: 1656352.9 | S91: 47585582 | T91: 50729924 | U91: 2878104 | V91: 4.4852113e+08 | W91: 1.0113782e+08 | X91: 2818475.5 | Y91: 1.1993957e+08 | Z91: =SUM(G91:Y91) -> 2.6881507e+09

Sheet 7.รายจ่าย
A1: ลำดับเรียงตามงบทดลอง | B1: ลำดับเรียงตามจัดกลุ่ม | C1: กลุ่มที่ | D1: จังหวัด | E1: รหัส | F1: หน่วยบริการ | G1: เงินเดือนและค่าจ้างประจำ (L1)[1] | H1: ค่าจ้างลูกจ้างชั่วคราว (L2.1)[2] | I1: ค่าตอบแทน(L2.2)[3] | J1: ค่าใช้จ่ายบุคลากรอื่น (L3)[4] | K1: สรุปจ่าย L2[5]=[2+3+4] | L1: ค่าใช้จ่ายด้านการฝึกอบรม/เดินทาง[6] | M1: ยาใช้ไป(M4.1)[7] | N1: เวชภัณฑ์ที่ไม่ใช่ยาใช้ไป (M4.2)[8] | O1: วัสดุการแพทย์ใช้ไป (M4.3)[9] | P1: วัสดุวิทยาศาสตร์ ใช้ไป (M4.4)[10] | Q1: รวมจ่าย M4non-drug[11]=[8+9+10] | R1: วัสดุอื่นใช้ไป (M5)[12] | S1: ค่าซ่อมแซม/บำรุงรักษาค่าจ้างเหมาบริการ [13] | T1: ค่าจ้างตรวจทางห้องปฏฺบัติการ[14] | U1: ค่าสาธารณูปโภค[15] | V1: ค่าใช้สอยอื่นๆ[16] | W1: ค่าใช้จ่ายจากการดำเนินงานอื่น[17] | X1: ค่าใช้จ่ายเงินอุดหนุน[18] | Y1: ค่าใช้จ่ายอื่น[19] | Z1: ค่าใช้จ่ายระหว่างหน่วยงาน[20] | AA1: ค่าเผื่อหนี้สูญ/หนี่สงสัยจะสูญ[21] | AB1: ค่าเสื่อมราคา/ตัดจำหน่าย[22] | AC1: รวมค่าใช้จ่าย[23] =[1+5+6+7+11+12+13+14+15+16+17+18+19+20+21+22]
A2: 72 | B2: 1 | C2: 1 | D2: อุดรธานี | E2: 11016 | F2: รพ.ห้วยเกิ้ง | G2: 7834741 | H2: 3284447.9 | I2: 3416694 | J2: 536715.5 | K2: 7237857.4 | L2: 91789.92 | M2: 1465115.5 | O2: 592109.46 | P2: 17845 | Q2: 609954.46 | R2: 2744860.3 | S2: 1204700 | T2: 322458 | U2: 632408.41 | V2: 12 | W2: 406494 | X2: 0 | Y2: 0 | Z2: 0 | AA2: 99773.73 | AB2: 4068945.1 | AC2: 26719110
A3: 41 | B3: 2 | C3: 1 | D3: สกลนคร | E3: 11094 | F3: รพ.นิคมน้ำอูน | G3: 11327587 | H3: 3898504.3 | I3: 6004033.8 | J3: 766182.9 | K3: 10668721 | L3: 55234.92 | M3: 1848059.6 | O3: 536557.44 | P3: 1007247.5 | Q3: 1543804.9 | R3: 1068170.8 | S3: 650900.77 | T3: 319889.5 | U3: 443695.8 | V3: 40126.74 | W3: 889350.25 | X3: 0 | Y3: 283310 | Z3: 0 | AA3: 11618.59 | AB3: 2582067.3 | AC3: 31732537
A4: 25 | B4: 3 | C4: 1 | D4: เลย | E4: 11033 | F4: รพ.นาแห้ว | G4: 13111948 | H4: 3824526 | I4: 7405627.5 | J4: 708992 | K4: 11939146 | L4: 36312 | M4: 1979280.4 | O4: 864012.76 | P4: 1435435.3 | Q4: 2299448.1 | R4: 969987.95 | S4: 380520.95 | T4: 125481 | U4: 473360.19 | V4: 258727.02 | W4: 534319 | X4: 0 | Y4: 630399.11 | Z4: 0 | AA4: 31664.84 | AB4: 2441534.2 | AC4: 35212128
A5: 12 | B5: 4 | C5: 1 | D5: นครพนม | E5: 40840 | F5: รพ.วังยาง | G5: 8550738.2 | H5: 2518930 | I5: 5621801.6 | J5: 548287.5 | K5: 8689019.1 | L5: 102893.98 | M5: 2595545.4 | O5: 1283149.4 | P5: 1576566.1 | Q5: 2859715.5 | R5: 493471.35 | S5: 705868.61 | T5: 442131 | U5: 421183.68 | V5: 40698.94 | W5: 517698.04 | X5: 0 | Y5: 1716125.3 | Z5: 0 | AA5: 8865.24 | AB5: 3490103 | AC5: 30634057
A6: 59 | B6: 5 | C6: 1 | D6: หนองคาย | E6: 28778 | F6: รพ.โพธิ์ตาก | G6: 9464163.8 | H6: 3804549 | I6: 6861780 | J6: 560569.5 | K6: 11226898 | L6: 66511.74 | M6: 2400132.7 | O6: 1069166.3 | P6: 1330816 | Q6: 2399982.3 | R6: 1381041.5 | S6: 1496522.6 | T6: 641008.5 | U6: 467084.55 | V6: 6037 | W6: 308919.5 | X6: 0 | Y6: 49609.05 | Z6: 0 | AA6: 72289.98 | AB6: 4593742.5 | AC6: 34573944
A7: 20 | B7: 6 | C7: 1 | D7: บึงกาฬ | E7: 11050 | F7: รพ.บุ่งคล้า | G7: 13177363 | H7: 4316627.4 | I7: 6788343.6 | J7: 727565.24 | K7: 11832536 | L7: 157428 | M7: 1971225.7 | O7: 846134.64 | P7: 1058049.2 | Q7: 1904183.9 | R7: 1285487.7 | S7: 903563.18 | T7: 524309 | U7: 674766.18 | V7: 45663.16 | W7: 817232.16 | X7: 0 | Y7: 1713002.3 | Z7: 0 | AA7: 30449.83 | AB7: 2203382.6 | AC7: 37240593
A8: 88 | B8: 7 | C8: 2 | D8: อุดรธานี | E8: 25059 | F8: รพ.ประจักษ์ศิลปาคม | G8: 9210734.8 | H8: 4607944.2 | I8: 6045965.5 | J8: 627454.45 | K8: 11281364 | L8: 168268.59 | M8: 2393169.8 | O8: 1230714.6 | P8: 1682448 | Q8: 2913162.6 | R8: 909218.77 | S8: 1962995.3 | T8: 268862 | U8: 829492.32 | V8: 36224 | W8: 1586202.8 | X8: 0 | Y8: 768352.81 | Z8: 0 | AA8: 49428.57 | AB8: 3345798.8 | AC8: 35723275
A9: 87 | B9: 8 | C9: 2 | D9: อุดรธานี | E9: 25058 | F9: รพ.กู่แก้ว | G9: 11196286 | H9: 4590035.1 | I9: 8088652.5 | J9: 689332.5 | K9: 13368020 | L9: 199918.52 | M9: 3005959.1 | O9: 1158693.9 | P9: 1450628.5 | Q9: 2609322.4 | R9: 772289.29 | S9: 973461.03 | T9: 227042.18 | U9: 403153.99 | V9: 683293.86 | W9: 226277 | X9: 0 | Y9: 102940 | Z9: 0 | AA9: 18781.91 | AB9: 3470081.4 | AC9: 37256827
A10: 5 | B10: 9 | C10: 2 | D10: นครพนม | E10: 11107 | F10: รพ.นาทม | G10: 18305856 | H10: 5843915.8 | I10: 7910606.5 | J10: 1132633.5 | K10: 14887156 | L10: 38022 | M10: 3738999.5 | O10: 1421666.2 | P10: 1701245.2 | Q10: 3122911.5 | R10: 1329142.8 | S10: 894978.2 | T10: 456215 | U10: 644080.57 | V10: 113861.8 | W10: 33310.27 | X10: 0 | Y10: 583475.26 | Z10: 0 | AA10: 60127.4 | AB10: 2918264.6 | AC10: 47126401
A11: 47 | B11: 10 | C11: 2 | D11: สกลนคร | E11: 11100 | F11: รพ.เต่างอย | G11: 14596371 | H11: 5167521.3 | I11: 7240699.2 | J11: 905316.4 | K11: 13313537 | L11: 33842 | M11: 2818925.7 | O11: 1386426.5 | P11: 2160312.5 | Q11: 3546739 | R11: 1429319.4 | S11: 298065.94 | T11: 154260 | U11: 558877.33 | V11: 48111.38 | W11: 502723 | X11: 0 | Y11: 41620 | Z11: 0 | AA11: 1767963.8 | AB11: 3690861 | AC11: 42801216
A12: 26 | B12: 11 | C12: 2 | D12: เลย | E12: 11034 | F12: รพ.ภูเรือ | G12: 15259943 | H12: 4780156.2 | I12: 7516865 | J12: 828383.19 | K12: 13125404 | L12: 95133 | M12: 3823467.9 | O12: 1103709.1 | P12: 1484235.1 | Q12: 2587944.1 | R12: 1582459.5 | S12: 693008.06 | T12: 336975 | U12: 689994.29 | V12: 54 | W12: 1027636.4 | X12: 0 | Y12: 994700.4 | Z12: 0 | AA12: 222226.07 | AB12: 2495962.4 | AC12: 42934908
A13: 85 | B13: 12 | C13: 2 | D13: อุดรธานี | E13: 11029 | F13: รพ.พิบูลย์รักษ์ | G13: 16065689 | H13: 4715809 | I13: 7645466.2 | J13: 956394.4 | K13: 13317670 | L13: 33885.47 | M13: 2973747.5 | O13: 1500760.9 | P13: 1956314.9 | Q13: 3457075.7 | R13: 1944630.7 | S13: 1095847.3 | T13: 319951.6 | U13: 932137.41 | V13: 33191.74 | W13: 2910075.1 | X13: 0 | Y13: 863960.15 | Z13: 0 | AA13: 33431.1 | AB13: 1871517.8 | AC13: 45852811
... A89: 68 | B89: 88 | C89: 13 | D89: อุดรธานี | E89: 10671 | F89: รพ.อุดรธานี | G89: 4.4989446e+08 | H89: 144315116 | I89: 3.318433e+08 | J89: 29889687 | K89: 5.060481e+08 | L89: 4732175.4 | M89: 5.3614849e+08 | O89: 2.9589972e+08 | P89: 12450783 | Q89: 3.0835051e+08 | R89: 59388745 | S89: 91671931 | T89: 77292331 | U89: 34355375 | V89: 4012798.4 | W89: 3708999.8 | X89: 0 | Y89: 31501990 | Z89: 5674423.4 | AA89: 5661187.5 | AB89: 1.3179963e+08 | AC89: 2.2502411e+09

Sheet 8.คำนวณ
A1: ลำดับเรียงตามงบทดลอง | B1: ลำดับเรียงตามจัดกลุ่ม | C1: กลุ่มที่ | D1: จังหวัด | E1: รหัส | F1: หน่วยบริการ | G1: ประชากรทั้งหมด | H1: สิทธิ UC | I1: สิทธิประกันสังคม | J1: สิทธิข้าราชการ | K1: สิทธิอื่นๆ | L1: รายได้(บาท)/ปชก. | S1: New Factor | T1: OP Visit รวม | U1: AdjRWรวม | V1: ค่า Adj.RW รวม quick method | W1: รวมค่าใช้จ่าย/RW
L2: เหมาจ่ายรายหัว UC | M2: เรียกเก็บUC/กองทุนUC/EMS | N2: ประกันสังคม | O2: ข้าราชการ | P2: พรบ. | Q2: ชำระเงินเอง | R2: งบบุคลากร | W2: บุคลากรรวม | X2: ค่าฝึกอบรม | Y2: ยาใช้ไป | Z2: วัสดุการแพทย์ | AA2: วัสดุวิทยาศาสตร์ | AB2: วัสดุอื่น | AC2: ซ่อมแซม/จ้างเหมา | AD2: จ้างตรวจLAB | AE2: ค่าสาธารณูปโภค | AF2: ค่าใช้สอยอื่นๆ | AG2: ค่าใช้จ่ายอื่นๆ
A3: 72 | B3: 1 | C3: 1 | D3: อุดรธานี | E3: 11016 | F3: รพ.ห้วยเกิ้ง | G3: =+DATA!G5 -> 4283 | H3: =+DATA!H5 -> 3920 | I3: =+DATA!I5 -> 310 | J3: =+DATA!J5 -> 402 | K3: =+DATA!K5 -> -349 | L3: =+'6.รายรับ'!G4/H3 -> 2008.5849 | M3: =+('6.รายรับ'!H4+'6.รายรับ'!I4+'6.รายรับ'!J4)/H3 -> 377.10981 | N3: =+'6.รายรับ'!K4/'8.คำนวณ'!I3 -> 734.66774 | O3: =+'6.รายรับ'!L4/'8.คำนวณ'!J3 -> 19934.398 | P3: =+'6.รายรับ'!M4/'8.คำนวณ'!G3 -> 14.014009 | Q3: =+'6.รายรับ'!Q4/'8.คำนวณ'!G3 -> 92.650712 | R3: =+'6.รายรับ'!V4/'8.คำนวณ'!H3 -> 1998.6584 | S3: ='2.Hosp. Group'!K5 -> 21 | T3: =+DATA!L5 -> 16255 | U3: =+DATA!M5 -> 414.262 | V3: =+(T3/S3)+U3 -> 1188.3096 | W3: =+('7.รายจ่าย'!G2+'7.รายจ่าย'!K2)/'8.คำนวณ'!V3 -> 12684.067 | X3: =+'7.รายจ่าย'!L2/'8.คำนวณ'!V3 -> 77.244111 | Y3: =+'7.รายจ่าย'!M2/'8.คำนวณ'!V3 -> 1232.9409 | Z3: =+'7.รายจ่าย'!O2/'8.คำนวณ'!V3 -> 498.27877 | AA3: =+'7.รายจ่าย'!P2/'8.คำนวณ'!V3 -> 15.01713 | AB3: =+'7.รายจ่าย'!R2/'8.คำนวณ'!V3 -> 2309.8865 | AC3: =+'7.รายจ่าย'!S2/'8.คำนวณ'!V3 -> 1013.793 | AD3: =+'7.รายจ่าย'!T2/'8.คำนวณ'!V3 -> 271.35857 | AE3: =+'7.รายจ่าย'!U2/'8.คำนวณ'!V3 -> 532.19161 | AF3: =+'7.รายจ่าย'!V2/'8.คำนวณ'!V3 -> 0.010098378 | AG3: =+'7.รายจ่าย'!Y2/'8.คำนวณ'!V3 -> 0
A4: 41 | B4: 2 | C4: 1 | D4: สกลนคร | E4: 11094 | F4: รพ.นิคมน้ำอูน | G4: =+DATA!G6 -> 12372 | H4: =+DATA!H6 -> 10569 | I4: =+DATA!I6 -> 515 | J4: =+DATA!J6 -> 1132 | K4: =+DATA!K6 -> 156 | L4: =+'6.รายรับ'!G5/H4 -> 917.63083 | M4: =+('6.รายรับ'!H5+'6.รายรับ'!I5+'6.รายรับ'!J5)/H4 -> 559.45717 | N4: =+'6.รายรับ'!K5/'8.คำนวณ'!I4 -> 703.71882 | O4: =+'6.รายรับ'!L5/'8.คำนวณ'!J4 -> 2147.9761 | P4: =+'6.รายรับ'!M5/'8.คำนวณ'!G4 -> 10.179195 | Q4: =+'6.รายรับ'!Q5/'8.คำนวณ'!G4 -> 28.00877 | R4: =+'6.รายรับ'!V5/'8.คำนวณ'!H4 -> 1071.7747 | S4: ='2.Hosp. Group'!K6 -> 21 | T4: =+DATA!L6 -> 22386 | U4: =+DATA!M6 -> 446.632 | V4: =+(T4/S4)+U4 -> 1512.632 | W4: =+('7.รายจ่าย'!G3+'7.รายจ่าย'!K3)/'8.คำนวณ'!V4 -> 14541.744 | X4: =+'7.รายจ่าย'!L3/'8.คำนวณ'!V4 -> 36.515769 | Y4: =+'7.รายจ่าย'!M3/'8.คำนวณ'!V4 -> 1221.7509 | Z4: =+'7.รายจ่าย'!O3/'8.คำนวณ'!V4 -> 354.71776 | AA4: =+'7.รายจ่าย'!P3/'8.คำนวณ'!V4 -> 665.89065 | AB4: =+'7.รายจ่าย'!R3/'8.คำนวณ'!V4 -> 706.16697 | AC4: =+'7.รายจ่าย'!S3/'8.คำนวณ'!V4 -> 430.31006 | AD4: =+'7.รายจ่าย'!T3/'8.คำนวณ'!V4 -> 211.47873 | AE4: =+'7.รายจ่าย'!U3/'8.คำนวณ'!V4 -> 293.327 | AF4: =+'7.รายจ่าย'!V3/'8.คำนวณ'!V4 -> 26.527761 | AG4: =+'7.รายจ่าย'!Y3/'8.คำนวณ'!V4 -> 187.29605
A5: 25 | B5: 3 | C5: 1 | D5: เลย | E5: 11033 | F5: รพ.นาแห้ว | G5: =+DATA!G7 -> 10457 | H5: =+DATA!H7 -> 8710 | I5: =+DATA!I7 -> 399 | J5: =+DATA!J7 -> 1154 | K5: =+DATA!K7 -> 194 | L5: =+'6.รายรับ'!G6/H5 -> 1298.7654 | M5: =+('6.รายรับ'!H6+'6.รายรับ'!I6+'6.รายรับ'!J6)/H5 -> 193.45121 | N5: =+'6.รายรับ'!K6/'8.คำนวณ'!I5 -> 988.62782 | O5: =+'6.รายรับ'!L6/'8.คำนวณ'!J5 -> 1517.8209 | P5: =+'6.รายรับ'!M6/'8.คำนวณ'!G5 -> 9.7478722 | Q5: =+'6.รายรับ'!Q6/'8.คำนวณ'!G5 -> 58.275414 | R5: =+'6.รายรับ'!V6/'8.คำนวณ'!H5 -> 1502.5072 | S5: ='2.Hosp. Group'!K7 -> 21 | T5: =+DATA!L7 -> 20974 | U5: =+DATA!M7 -> 487.012 | V5: =+(T5/S5)+U5 -> 1485.7739 | W5: =+('7.รายจ่าย'!G4+'7.รายจ่าย'!K4)/'8.คำนวณ'!V5 -> 16860.636 | X5: =+'7.รายจ่าย'!L4/'8.คำนวณ'!V5 -> 24.439789 | Y5: =+'7.รายจ่าย'!M4/'8.คำนวณ'!V5 -> 1332.1545 | Z5: =+'7.รายจ่าย'!O4/'8.คำนวณ'!V5 -> 581.52371 | AA5: =+'7.รายจ่าย'!P4/'8.คำนวณ'!V5 -> 966.11961 | AB5: =+'7.รายจ่าย'!R4/'8.คำนวณ'!V5 -> 652.85031 | AC5: =+'7.รายจ่าย'!S4/'8.คำนวณ'!V5 -> 256.10959 | AD5: =+'7.รายจ่าย'!T4/'8.คำนวณ'!V5 -> 84.454976 | AE5: =+'7.รายจ่าย'!U4/'8.คำนวณ'!V5 -> 318.59504 | AF5: =+'7.รายจ่าย'!V4/'8.คำนวณ'!V5 -> 174.1362 | AG5: =+'7.รายจ่าย'!Y4/'8.คำนวณ'!V5 -> 424.29007
A6: 12 | B6: 4 | C6: 1 | D6: นครพนม | E6: 40840 | F6: รพ.วังยาง | G6: =+DATA!G8 -> 13263 | H6: =+DATA!H8 -> 11617 | I6: =+DATA!I8 -> 320 | J6: =+DATA!J8 -> 875 | K6: =+DATA!K8 -> 451 | L6: =+'6.รายรับ'!G7/H6 -> 974.59735 | M6: =+('6.รายรับ'!H7+'6.รายรับ'!I7+'6.รายรับ'!J7)/H6 -> 320.63108 | N6: =+'6.รายรับ'!K7/'8.คำนวณ'!I6 -> 865.22437 | O6: =+'6.รายรับ'!L7/'8.คำนวณ'!J6 -> 2357.4845 | P6: =+'6.รายรับ'!M7/'8.คำนวณ'!G6 -> 10.570176 | Q6: =+'6.รายรับ'!Q7/'8.คำนวณ'!G6 -> 23.106839 | R6: =+'6.รายรับ'!V7/'8.คำนวณ'!H6 -> 736.44342 | S6: ='2.Hosp. Group'!K8 -> 21 | T6: =+DATA!L8 -> 24305 | U6: =+DATA!M8 -> 592.403 | V6: =+(T6/S6)+U6 -> 1749.784 | W6: =+('7.รายจ่าย'!G5+'7.รายจ่าย'!K5)/'8.คำนวณ'!V6 -> 9852.5062 | X6: =+'7.รายจ่าย'!L5/'8.คำนวณ'!V6 -> 58.80382 | Y6: =+'7.รายจ่าย'!M5/'8.คำนวณ'!V6 -> 1483.3519 | Z6: =+'7.รายจ่าย'!O5/'8.คำนวณ'!V6 -> 733.31874 | AA6: =+'7.รายจ่าย'!P5/'8.คำนวณ'!V6 -> 901.00615 | AB6: =+'7.รายจ่าย'!R5/'8.คำนวณ'!V6 -> 282.01845 | AC6: =+'7.รายจ่าย'!S5/'8.คำนวณ'!V6 -> 403.40329 | AD6: =+'7.รายจ่าย'!T5/'8.คำนวณ'!V6 -> 252.67748 | AE6: =+'7.รายจ่าย'!U5/'8.คำนวณ'!V6 -> 240.70611 | AF6: =+'7.รายจ่าย'!V5/'8.คำนวณ'!V6 -> 23.259409 | AG6: =+'7.รายจ่าย'!Y5/'8.คำนวณ'!V6 -> 980.76409
A7: 59 | B7: 5 | C7: 1 | D7: หนองคาย | E7: 28778 | F7: รพ.โพธิ์ตาก | G7: =+DATA!G9 -> 12971 | H7: =+DATA!H9 -> 11739 | I7: =+DATA!I9 -> 351 | J7: =+DATA!J9 -> 784 | K7: =+DATA!K9 -> 97 | L7: =+'6.รายรับ'!G8/H7 -> 1160.3607 | M7: =+('6.รายรับ'!H8+'6.รายรับ'!I8+'6.รายรับ'!J8)/H7 -> 221.59373 | N7: =+'6.รายรับ'!K8/'8.คำนวณ'!I7 -> 420.55869 | O7: =+'6.รายรับ'!L8/'8.คำนวณ'!J7 -> 3387.4639 | P7: =+'6.รายรับ'!M8/'8.คำนวณ'!G7 -> 20.773341 | Q7: =+'6.รายรับ'!Q8/'8.คำนวณ'!G7 -> 40.486239 | R7: =+'6.รายรับ'!V8/'8.คำนวณ'!H7 -> 803.49425 | S7: ='2.Hosp. Group'!K9 -> 21 | T7: =+DATA!L9 -> 20101 | U7: =+DATA!M9 -> 634.498 | V7: =+(T7/S7)+U7 -> 1591.6885 | W7: =+('7.รายจ่าย'!G6+'7.รายจ่าย'!K6)/'8.คำนวณ'!V7 -> 12999.442 | X7: =+'7.รายจ่าย'!L6/'8.คำนวณ'!V7 -> 41.786908 | Y7: =+'7.รายจ่าย'!M6/'8.คำนวณ'!V7 -> 1507.9161 | Z7: =+'7.รายจ่าย'!O6/'8.คำนวณ'!V7 -> 671.7183 | AA7: =+'7.รายจ่าย'!P6/'8.คำนวณ'!V7 -> 836.10333 | AB7: =+'7.รายจ่าย'!R6/'8.คำนวณ'!V7 -> 867.65817 | AC7: =+'7.รายจ่าย'!S6/'8.คำนวณ'!V7 -> 940.21071 | AD7: =+'7.รายจ่าย'!T6/'8.คำนวณ'!V7 -> 402.72234 | AE7: =+'7.รายจ่าย'!U6/'8.คำนวณ'!V7 -> 293.45224 | AF7: =+'7.รายจ่าย'!V6/'8.คำนวณ'!V7 -> 3.7928276 | AG7: =+'7.รายจ่าย'!Y6/'8.คำนวณ'!V7 -> 31.167562
A8: 20 | B8: 6 | C8: 1 | D8: บึงกาฬ | E8: 11050 | F8: รพ.บุ่งคล้า | G8: =+DATA!G10 -> 12400 | H8: =+DATA!H10 -> 11073 | I8: =+DATA!I10 -> 390 | J8: =+DATA!J10 -> 1085 | K8: =+DATA!K10 -> -148 | L8: =+'6.รายรับ'!G9/H8 -> 936.51876 | M8: =+('6.รายรับ'!H9+'6.รายรับ'!I9+'6.รายรับ'!J9)/H8 -> 488.01998 | N8: =+'6.รายรับ'!K9/'8.คำนวณ'!I8 -> 718.4521 | O8: =+'6.รายรับ'!L9/'8.คำนวณ'!J8 -> 2862.9502 | P8: =+'6.รายรับ'!M9/'8.คำนวณ'!G8 -> 14.856774 | Q8: =+'6.รายรับ'!Q9/'8.คำนวณ'!G8 -> 108.43004 | R8: =+'6.รายรับ'!V9/'8.คำนวณ'!H8 -> 1181.7806 | S8: ='2.Hosp. Group'!K10 -> 21 | T8: =+DATA!L10 -> 21308 | U8: =+DATA!M10 -> 536.407 | V8: =+(T8/S8)+U8 -> 1551.0737 | W8: =+('7.รายจ่าย'!G7+'7.รายจ่าย'!K7)/'8.คำนวณ'!V8 -> 16124.25 | X8: =+'7.รายจ่าย'!L7/'8.คำนวณ'!V8 -> 101.49615 | Y8: =+'7.รายจ่าย'!M7/'8.คำนวณ'!V8 -> 1270.8782 | Z8: =+'7.รายจ่าย'!O7/'8.คำนวณ'!V8 -> 545.51544 | AA8: =+'7.รายจ่าย'!P7/'8.คำนวณ'!V8 -> 682.13988 | AB8: =+'7.รายจ่าย'!R7/'8.คำนวณ'!V8 -> 828.7728 | AC8: =+'7.รายจ่าย'!S7/'8.คำนวณ'!V8 -> 582.54047 | AD8: =+'7.รายจ่าย'!T7/'8.คำนวณ'!V8 -> 338.02972 | AE8: =+'7.รายจ่าย'!U7/'8.คำนวณ'!V8 -> 435.03168 | AF8: =+'7.รายจ่าย'!V7/'8.คำนวณ'!V8 -> 29.439711 | AG8: =+'7.รายจ่าย'!Y7/'8.คำนวณ'!V8 -> 1104.3978
A9: 88 | B9: 7 | C9: 2 | D9: อุดรธานี | E9: 25059 | F9: รพ.ประจักษ์ศิลปาคม | G9: =+DATA!G11 -> 21423 | H9: =+DATA!H11 -> 18961 | I9: =+DATA!I11 -> 1168 | J9: =+DATA!J11 -> 1175 | K9: =+DATA!K11 -> 119 | L9: =+'6.รายรับ'!G10/H9 -> 1002.8294 | M9: =+('6.รายรับ'!H10+'6.รายรับ'!I10+'6.รายรับ'!J10)/H9 -> 206.41594 | N9: =+'6.รายรับ'!K10/'8.คำนวณ'!I9 -> 572.90535 | O9: =+'6.รายรับ'!L10/'8.คำนวณ'!J9 -> 2376.0785 | P9: =+'6.รายรับ'!M10/'8.คำนวณ'!G9 -> 8.079361 | Q9: =+'6.รายรับ'!Q10/'8.คำนวณ'!G9 -> 29.445169 | R9: =+'6.รายรับ'!V10/'8.คำนวณ'!H9 -> 485.77263 | S9: ='2.Hosp. Group'!K11 -> 21 | T9: =+DATA!L11 -> 32559 | U9: =+DATA!M11 -> 848.311 | V9: =+(T9/S9)+U9 -> 2398.7396 | W9: =+('7.รายจ่าย'!G8+'7.รายจ่าย'!K8)/'8.คำนวณ'!V9 -> 8542.8611 | X9: =+'7.รายจ่าย'!L8/'8.คำนวณ'!V9 -> 70.148753 | Y9: =+'7.รายจ่าย'!M8/'8.คำนวณ'!V9 -> 997.67805 | Z9: =+'7.รายจ่าย'!O8/'8.คำนวณ'!V9 -> 513.06719 | AA9: =+'7.รายจ่าย'!P8/'8.คำนวณ'!V9 -> 701.38835 | AB9: =+'7.รายจ่าย'!R8/'8.คำนวณ'!V9 -> 379.04022 | AC9: =+'7.รายจ่าย'!S8/'8.คำนวณ'!V9 -> 818.34449 | AD9: =+'7.รายจ่าย'!T8/'8.คำนวณ'!V9 -> 112.0847 | AE9: =+'7.รายจ่าย'!U8/'8.คำนวณ'!V9 -> 345.80341 | AF9: =+'7.รายจ่าย'!V8/'8.คำนวณ'!V9 -> 15.101264 | AG9: =+'7.รายจ่าย'!Y8/'8.คำนวณ'!V9 -> 320.31523
A10: 87 | B10: 8 | C10: 2 | D10: อุดรธานี | E10: 25058 | F10: รพ.กู่แก้ว | G10: =+DATA!G12 -> 19682 | H10: =+DATA!H12 -> 17958 | I10: =+DATA!I12 -> 581 | J10: =+DATA!J12 -> 1121 | K10: =+DATA!K12 -> 22 | L10: =+'6.รายรับ'!G11/H10 -> 972.14855 | M10: =+('6.รายรับ'!H11+'6.รายรับ'!I11+'6.รายรับ'!J11)/H10 -> 249.06279 | N10: =+'6.รายรับ'!K11/'8.คำนวณ'!I10 -> 581.35215 | O10: =+'6.รายรับ'!L11/'8.คำนวณ'!J10 -> 1928.5519 | P10: =+'6.รายรับ'!M11/'8.คำนวณ'!G10 -> 9.2127162 | Q10: =+'6.รายรับ'!Q11/'8.คำนวณ'!G10 -> 26.564277 | R10: =+'6.รายรับ'!V11/'8.คำนวณ'!H10 -> 619.76047 | S10: ='2.Hosp. Group'!K12 -> 21 | T10: =+DATA!L12 -> 35545 | U10: =+DATA!M12 -> 940.567 | V10: =+(T10/S10)+U10 -> 2633.186 | W10: =+('7.รายจ่าย'!G9+'7.รายจ่าย'!K9)/'8.คำนวณ'!V10 -> 9328.7392 | X10: =+'7.รายจ่าย'!L9/'8.คำนวณ'!V10 -> 75.922672 | Y10: =+'7.รายจ่าย'!M9/'8.คำนวณ'!V10 -> 1141.5673 | Z10: =+'7.รายจ่าย'!O9/'8.คำนวณ'!V10 -> 440.03496 | AA10: =+'7.รายจ่าย'!P9/'8.คำนวณ'!V10 -> 550.90239 | AB10: =+'7.รายจ่าย'!R9/'8.คำนวณ'!V10 -> 293.29082 | AC10: =+'7.รายจ่าย'!S9/'8.คำนวณ'!V10 -> 369.68942 | AD10: =+'7.รายจ่าย'!T9/'8.คำนวณ'!V10 -> 86.223372 | AE10: =+'7.รายจ่าย'!U9/'8.คำนวณ'!V10 -> 153.10502 | AF10: =+'7.รายจ่าย'!V9/'8.คำนวณ'!V10 -> 259.49319 | AG10: =+'7.รายจ่าย'!Y9/'8.คำนวณ'!V10 -> 39.093326
A11: 5 | B11: 9 | C11: 2 | D11: นครพนม | E11: 11107 | F11: รพ.นาทม | G11: =+DATA!G13 -> 19009 | H11: =+DATA!H13 -> 17227 | I11: =+DATA!I13 -> 569 | J11: =+DATA!J13 -> 1314 | K11: =+DATA!K13 -> -101 | L11: =+'6.รายรับ'!G12/H11 -> 1286.1574 | M11: =+('6.รายรับ'!H12+'6.รายรับ'!I12+'6.รายรับ'!J12)/H11 -> 487.07846 | N11: =+'6.รายรับ'!K12/'8.คำนวณ'!I11 -> 439.04636 | O11: =+'6.รายรับ'!L12/'8.คำนวณ'!J11 -> 1280.4788 | P11: =+'6.รายรับ'!M12/'8.คำนวณ'!G11 -> 10.287903 | Q11: =+'6.รายรับ'!Q12/'8.คำนวณ'!G11 -> 28.844942 | R11: =+'6.รายรับ'!V12/'8.คำนวณ'!H11 -> 1062.863 | S11: ='2.Hosp. Group'!K13 -> 21 | T11: =+DATA!L13 -> 31302 | U11: =+DATA!M13 -> 562.036 | V11: =+(T11/S11)+U11 -> 2052.6074 | W11: =+('7.รายจ่าย'!G10+'7.รายจ่าย'!K10)/'8.คำนวณ'!V11 -> 16171.145 | X11: =+'7.รายจ่าย'!L10/'8.คำนวณ'!V11 -> 18.523756 | Y11: =+'7.รายจ่าย'!M10/'8.คำนวณ'!V11 -> 1821.5853 | Z11: =+'7.รายจ่าย'!O10/'8.คำนวณ'!V11 -> 692.61478 | AA11: =+'7.รายจ่าย'!P10/'8.คำนวณ'!V11 -> 828.82154 | AB11: =+'7.รายจ่าย'!R10/'8.คำนวณ'!V11 -> 647.53873 | AC11: =+'7.รายจ่าย'!S10/'8.คำนวณ'!V11 -> 436.02015 | AD11: =+'7.รายจ่าย'!T10/'8.คำนวณ'!V11 -> 222.2612 | AE11: =+'7.รายจ่าย'!U10/'8.คำนวณ'!V11 -> 313.78653 | AF11: =+'7.รายจ่าย'!V10/'8.คำนวณ'!V11 -> 55.471786 | AG11: =+'7.รายจ่าย'!Y10/'8.คำนวณ'!V11 -> 284.26052
A12: 47 | B12: 10 | C12: 2 | D12: สกลนคร | E12: 11100 | F12: รพ.เต่างอย | G12: =+DATA!G14 -> 20453 | H12: =+DATA!H14 -> 17422 | I12: =+DATA!I14 -> 1496 | J12: =+DATA!J14 -> 1422 | K12: =+DATA!K14 -> 113 | L12: =+'6.รายรับ'!G13/H12 -> 1030.627 | M12: =+('6.รายรับ'!H13+'6.รายรับ'!I13+'6.รายรับ'!J13)/H12 -> 173.50655 | N12: =+'6.รายรับ'!K13/'8.คำนวณ'!I12 -> 571.08632 | O12: =+'6.รายรับ'!L13/'8.คำนวณ'!J12 -> 1813.6379 | P12: =+'6.รายรับ'!M13/'8.คำนวณ'!G12 -> 14.970567 | Q12: =+'6.รายรับ'!Q13/'8.คำนวณ'!G12 -> 35.865032 | R12: =+'6.รายรับ'!V13/'8.คำนวณ'!H12 -> 837.11904 | S12: ='2.Hosp. Group'!K14 -> 21 | T12: =+DATA!L14 -> 31574 | U12: =+DATA!M14 -> 836.888 | V12: =+(T12/S12)+U12 -> 2340.4118 | W12: =+('7.รายจ่าย'!G11+'7.รายจ่าย'!K11)/'8.คำนวณ'!V12 -> 11925.212 | X12: =+'7.รายจ่าย'!L11/'8.คำนวณ'!V12 -> 14.459848 | Y12: =+'7.รายจ่าย'!M11/'8.คำนวณ'!V12 -> 1204.4571 | Z12: =+'7.รายจ่าย'!O11/'8.คำนวณ'!V12 -> 592.38568 | AA12: =+'7.รายจ่าย'!P11/'8.คำนวณ'!V12 -> 923.04805 | AB12: =+'7.รายจ่าย'!R11/'8.คำนวณ'!V12 -> 610.71278 | AC12: =+'7.รายจ่าย'!S11/'8.คำนวณ'!V12 -> 127.35619 | AD12: =+'7.รายจ่าย'!T11/'8.คำนวณ'!V12 -> 65.911477 | AE12: =+'7.รายจ่าย'!U11/'8.คำนวณ'!V12 -> 238.79444 | AF12: =+'7.รายจ่าย'!V11/'8.คำนวณ'!V12 -> 20.556801 | AG12: =+'7.รายจ่าย'!Y11/'8.คำนวณ'!V12 -> 17.783195
A13: 26 | B13: 11 | C13: 2 | D13: เลย | E13: 11034 | F13: รพ.ภูเรือ | G13: =+DATA!G15 -> 21000 | H13: =+DATA!H15 -> 17762 | I13: =+DATA!I15 -> 953 | J13: =+DATA!J15 -> 1875 | K13: =+DATA!K15 -> 410 | L13: =+'6.รายรับ'!G14/H13 -> 1021.1362 | M13: =+('6.รายรับ'!H14+'6.รายรับ'!I14+'6.รายรับ'!J14)/H13 -> 238.77025 | N13: =+'6.รายรับ'!K14/'8.คำนวณ'!I13 -> 804.03136 | O13: =+'6.รายรับ'!L14/'8.คำนวณ'!J13 -> 1651.3132 | P13: =+'6.รายรับ'!M14/'8.คำนวณ'!G13 -> 9.7440476 | Q13: =+'6.รายรับ'!Q14/'8.คำนวณ'!G13 -> 63.436048 | R13: =+'6.รายรับ'!V14/'8.คำนวณ'!H13 -> 850.0819 | S13: ='2.Hosp. Group'!K15 -> 21 | T13: =+DATA!L15 -> 40609 | U13: =+DATA!M15 -> 1310.81 | V13: =+(T13/S13)+U13 -> 3244.5719 | W13: =+('7.รายจ่าย'!G12+'7.รายจ่าย'!K12)/'8.คำนวณ'!V13 -> 8748.5647 | X13: =+'7.รายจ่าย'!L12/'8.คำนวณ'!V13 -> 29.320663 | Y13: =+'7.รายจ่าย'!M12/'8.คำนวณ'!V13 -> 1178.4198 | Z13: =+'7.รายจ่าย'!O12/'8.คำนวณ'!V13 -> 340.17093 | AA13: =+'7.รายจ่าย'!P12/'8.คำนวณ'!V13 -> 457.45175 | AB13: =+'7.รายจ่าย'!R12/'8.คำนวณ'!V13 -> 487.7252 | AC13: =+'7.รายจ่าย'!S12/'8.คำนวณ'!V13 -> 213.58998 | AD13: =+'7.รายจ่าย'!T12/'8.คำนวณ'!V13 -> 103.85808 | AE13: =+'7.รายจ่าย'!U12/'8.คำนวณ'!V13 -> 212.66112 | AF13: =+'7.รายจ่าย'!V12/'8.คำนวณ'!V13 -> 0.016643182 | AG13: =+'7.รายจ่าย'!Y12/'8.คำนวณ'!V13 -> 306.5737
A14: 85 | B14: 12 | C14: 2 | D14: อุดรธานี | E14: 11029 | F14: รพ.พิบูลย์รักษ์ | G14: =+DATA!G16 -> 21500 | H14: =+DATA!H16 -> 19357 | I14: =+DATA!I16 -> 776 | J14: =+DATA!J16 -> 1309 | K14: =+DATA!K16 -> 58 | L14: =+'6.รายรับ'!G15/H14 -> 879.48131 | M14: =+('6.รายรับ'!H15+'6.รายรับ'!I15+'6.รายรับ'!J15)/H14 -> 240.79181 | N14: =+'6.รายรับ'!K15/'8.คำนวณ'!I14 -> 778.63456 | O14: =+'6.รายรับ'!L15/'8.คำนวณ'!J14 -> 2446.6952 | P14: =+'6.รายรับ'!M15/'8.คำนวณ'!G14 -> 8.8907442 | Q14: =+'6.รายรับ'!Q15/'8.คำนวณ'!G14 -> 32.374512 | R14: =+'6.รายรับ'!V15/'8.คำนวณ'!H14 -> 828.5319 | S14: ='2.Hosp. Group'!K16 -> 21 | T14: =+DATA!L16 -> 37296 | U14: =+DATA!M16 -> 1141.15 | V14: =+(T14/S14)+U14 -> 2917.15 | W14: =+('7.รายจ่าย'!G13+'7.รายจ่าย'!K13)/'8.คำนวณ'!V14 -> 10072.625 | X14: =+'7.รายจ่าย'!L13/'8.คำนวณ'!V14 -> 11.61595 | Y14: =+'7.รายจ่าย'!M13/'8.คำนวณ'!V14 -> 1019.4016 | Z14: =+'7.รายจ่าย'!O13/'8.คำนวณ'!V14 -> 514.46133 | AA14: =+'7.รายจ่าย'!P13/'8.คำนวณ'!V14 -> 670.62539 | AB14: =+'7.รายจ่าย'!R13/'8.คำนวณ'!V14 -> 666.62006 | AC14: =+'7.รายจ่าย'!S13/'8.คำนวณ'!V14 -> 375.65683 | AD14: =+'7.รายจ่าย'!T13/'8.คำนวณ'!V14 -> 109.67952 | AE14: =+'7.รายจ่าย'!U13/'8.คำนวณ'!V14 -> 319.53702 | AF14: =+'7.รายจ่าย'!V13/'8.คำนวณ'!V14 -> 11.37814 | AG14: =+'7.รายจ่าย'!Y13/'8.คำนวณ'!V14 -> 296.16583
... A90: 68 | B90: 88 | C90: 13 | D90: อุดรธานี | E90: 10671 | F90: รพ.อุดรธานี | G90: =+DATA!G92 -> 422536 | H90: =+DATA!H92 -> 260627 | I90: =+DATA!I92 -> 55026 | J90: =+DATA!J92 -> 52150 | K90: =+DATA!K92 -> 54733 | L90: =+'6.รายรับ'!G91/H90 -> 2669.4797 | M90: =+('6.รายรับ'!H91+'6.รายรับ'!I91+'6.รายรับ'!J91)/H90 -> 1345.3903 | N90: =+'6.รายรับ'!K91/'8.คำนวณ'!I90 -> 2236.7552 | O90: =+'6.รายรับ'!L91/'8.คำนวณ'!J90 -> 8674.5137 | P90: =+'6.รายรับ'!M91/'8.คำนวณ'!G90 -> 61.70659 | Q90: =+'6.รายรับ'!Q91/'8.คำนวณ'!G90 -> 455.19589 | R90: =+'6.รายรับ'!V91/'8.คำนวณ'!H90 -> 1720.9312 | S90: ='2.Hosp. Group'!K92 -> 14 | T90: =+DATA!L92 -> 556307 | U90: =+DATA!M92 -> 102665 | V90: =+(T90/S90)+U90 -> 142401.21 | W90: =+('7.รายจ่าย'!G89+'7.รายจ่าย'!K89)/'8.คำนวณ'!V90 -> 6713.0225 | X90: =+'7.รายจ่าย'!L89/'8.คำนวณ'!V90 -> 33.231286 | Y90: =+'7.รายจ่าย'!M89/'8.คำนวณ'!V90 -> 3765.0556 | Z90: =+'7.รายจ่าย'!O89/'8.คำนวณ'!V90 -> 2077.9298 | AA90: =+'7.รายจ่าย'!P89/'8.คำนวณ'!V90 -> 87.434527 | AB90: =+'7.รายจ่าย'!R89/'8.คำนวณ'!V90 -> 417.05224 | AC90: =+'7.รายจ่าย'!S89/'8.คำนวณ'!V90 -> 643.75807 | AD90: =+'7.รายจ่าย'!T89/'8.คำนวณ'!V90 -> 542.7786 | AE90: =+'7.รายจ่าย'!U89/'8.คำนวณ'!V90 -> 241.2576 | AF90: =+'7.รายจ่าย'!V89/'8.คำนวณ'!V90 -> 28.179524 | AG90: =+'7.รายจ่าย'!Y89/'8.คำนวณ'!V90 -> 221.21995

Sheet 9.รายได้(แยกกลุ่ม)
B1: ตารางที่ 1 เปรียบเทียบ รายได้ (บาท/ประชากร) ของโรงพยาบาลในเขตสุขภาพที่ 8 แยกตามกลุ่ม ณ ไตรมาส 2 ปี 2569 | J1: ตารางที่ 2 ร้อยละ ของรายได้ (บาท/ประชากร) ที่สูง-ต่ำกว่าค่าเฉลี่ยกลุ่ม ของโรงพยาบาลในเขตสุขภาพที่ 8 ณ ไตรมาส 2 ปี 2569 | R1: ตารางที่ 2 ร้อยละ ของรายได้ (บาท/ประชากร) ที่สูง-ต่ำกว่าค่าเฉลี่ยกลุ่ม ของโรงพยาบาลในเขตสุขภาพที่ 8 ณ ไตรมาส 2 ปี 2569 | Z1: ตารางที่ 3 รายได้ (บาท/ประชากร)เทียบกับค่า Mean-1SD ของกลุ่ม ของโรงพยาบาลในเขตสุขภาพที่ 8 ณ ไตรมาส 2 ปี 2569
B2: กลุ่ม 1 | C2: รายได้(บาท)/ปชก. | J2: กลุ่ม 1 | K2: %diff ค่าเฉลี่ย/ปชก. | R2: กลุ่ม 1 | S2: %diff ค่าเฉลี่ย/ปชก. | Z2: กลุ่ม 1 | AA2: >Mean-1SD
C3: เหมาจ่ายรายหัว UC | D3: เรียกเก็บUC/กองทุนUC/EMS | E3: ประกันสังคม | F3: ข้าราชการ | G3: พรบ. | H3: ชำระเงินเอง | I3: งบบุคลากร | K3: เหมาจ่ายรายหัว UC | L3: เรียกเก็บUC/กองทุนUC/EMS | M3: ประกันสังคม | N3: ข้าราชการ | O3: พรบ. | P3: ชำระเงินเอง | Q3: งบบุคลากร | S3: เหมาจ่ายรายหัว UC | T3: เรียกเก็บUC/กองทุนUC/EMS | U3: ประกันสังคม | V3: ข้าราชการ | W3: พรบ. | X3: ชำระเงินเอง | Y3: งบบุคลากร | AA3: เหมาจ่ายรายหัว UC | AB3: เรียกเก็บUC/กองทุนUC/EMS | AC3: ประกันสังคม | AD3: ข้าราชการ | AE3: พรบ. | AF3: ชำระเงินเอง | AG3: งบบุคลากร
A4: อุดร | B4: ='8.คำนวณ'!F3 -> รพ.ห้วยเกิ้ง | C4: ='8.คำนวณ'!L3 -> 2008.5849 | D4: ='8.คำนวณ'!M3 -> 377.10981 | E4: ='8.คำนวณ'!N3 -> 734.66774 | F4: ='8.คำนวณ'!O3 -> 19934.398 | G4: ='8.คำนวณ'!P3 -> 14.014009 | H4: ='8.คำนวณ'!Q3 -> 92.650712 | I4: ='8.คำนวณ'!R3 -> 1998.6584 | J4: =+B4 -> รพ.ห้วยเกิ้ง | K4: =+(C4-C10)*100/C10 -> 65.169311 | L4: =+(D4-D10)*100/D10 -> 4.7399719 | M4: =+(E4-E10)*100/E10 -> -0.52452682 | N4: =+(F4-F10)*100/F10 -> 271.35507 | O4: =+(G4-G10)*100/G10 -> 4.919664 | P4: =+(H4-H10)*100/H10 -> 58.396233 | Q4: =+(I4-I10)*100/I10 -> 64.39358 | R4: =+J4 -> รพ.ห้วยเกิ้ง | S4: =+K4/100 -> 0.65169311 | T4: =+L4/100 -> 0.047399719 | U4: =+M4/100 -> -0.0052452682 | V4: =+N4/100 -> 2.7135507 | W4: =+O4/100 -> 0.04919664 | X4: =+P4/100 -> 0.58396233 | Y4: =+Q4/100 -> 0.6439358 | Z4: =+R4 -> รพ.ห้วยเกิ้ง | AA4: =+IF(AND(C4>C12),"OK","Not OK") -> OK | AB4: =+IF(AND(D4>D12),"OK","Not OK") -> OK | AC4: =+IF(AND(E4>E12),"OK","Not OK") -> OK | AD4: =+IF(AND(F4>F12),"OK","Not OK") -> OK | AE4: =+IF(AND(G4>G12),"OK","Not OK") -> OK | AF4: =+IF(AND(H4>H12),"OK","Not OK") -> OK | AG4: =+IF(AND(I4>I12),"OK","Not OK") -> OK
A5: สกล | B5: ='8.คำนวณ'!F4 -> รพ.นิคมน้ำอูน | C5: ='8.คำนวณ'!L4 -> 917.63083 | D5: ='8.คำนวณ'!M4 -> 559.45717 | E5: ='8.คำนวณ'!N4 -> 703.71882 | F5: ='8.คำนวณ'!O4 -> 2147.9761 | G5: ='8.คำนวณ'!P4 -> 10.179195 | H5: ='8.คำนวณ'!Q4 -> 28.00877 | I5: ='8.คำนวณ'!R4 -> 1071.7747 | J5: =+B5 -> รพ.นิคมน้ำอูน | K5: =+(C5-C10)*100/C10 -> -24.541674 | L5: =+(D5-D10)*100/D10 -> 55.385852 | M5: =+(E5-E10)*100/E10 -> -4.715073 | N5: =+(F5-F10)*100/F10 -> -59.985659 | O5: =+(G5-G10)*100/G10 -> -23.790707 | P5: =+(H5-H10)*100/H10 -> -52.116033 | Q5: =+(I5-I10)*100/I10 -> -11.844427 | R5: =+J5 -> รพ.นิคมน้ำอูน | S5: =+K5/100 -> -0.24541674 | T5: =+L5/100 -> 0.55385852 | U5: =+M5/100 -> -0.04715073 | V5: =+N5/100 -> -0.59985659 | W5: =+O5/100 -> -0.23790707 | X5: =+P5/100 -> -0.52116033 | Y5: =+Q5/100 -> -0.11844427 | Z5: =+R5 -> รพ.นิคมน้ำอูน | AA5: =+IF(AND(C5>C12),"OK","Not OK") -> OK | AB5: =+IF(AND(D5>D12),"OK","Not OK") -> OK | AC5: =+IF(AND(E5>E12),"OK","Not OK") -> OK | AD5: =+IF(AND(F5>F12),"OK","Not OK") -> OK | AE5: =+IF(AND(G5>G12),"OK","Not OK") -> OK | AF5: =+IF(AND(H5>H12),"OK","Not OK") -> OK | AG5: =+IF(AND(I5>I12),"OK","Not OK") -> OK
A6: เลย | B6: ='8.คำนวณ'!F5 -> รพ.นาแห้ว | C6: ='8.คำนวณ'!L5 -> 1298.7654 | D6: ='8.คำนวณ'!M5 -> 193.45121 | E6: ='8.คำนวณ'!N5 -> 988.62782 | F6: ='8.คำนวณ'!O5 -> 1517.8209 | G6: ='8.คำนวณ'!P5 -> 9.7478722 | H6: ='8.คำนวณ'!Q5 -> 58.275414 | I6: ='8.คำนวณ'!R5 -> 1502.5072 | J6: =+B6 -> รพ.นาแห้ว | K6: =+(C6-C10)*100/C10 -> 6.7996587 | L6: =+(D6-D10)*100/D10 -> -46.270094 | M6: =+(E6-E10)*100/E10 -> 33.862173 | N6: =+(F6-F10)*100/F10 -> -71.72473 | O6: =+(G6-G10)*100/G10 -> -27.019921 | P6: =+(H6-H10)*100/H10 -> -0.37199075 | Q6: =+(I6-I10)*100/I10 -> 23.584172 | R6: =+J6 -> รพ.นาแห้ว | S6: =+K6/100 -> 0.067996587 | T6: =+L6/100 -> -0.46270094 | U6: =+M6/100 -> 0.33862173 | V6: =+N6/100 -> -0.7172473 | W6: =+O6/100 -> -0.27019921 | X6: =+P6/100 -> -0.0037199075 | Y6: =+Q6/100 -> 0.23584172 | Z6: =+R6 -> รพ.นาแห้ว | AA6: =+IF(AND(C6>C12),"OK","Not OK") -> OK | AB6: =+IF(AND(D6>D12),"OK","Not OK") -> Not OK | AC6: =+IF(AND(E6>E12),"OK","Not OK") -> OK | AD6: =+IF(AND(F6>F12),"OK","Not OK") -> OK | AE6: =+IF(AND(G6>G12),"OK","Not OK") -> OK | AF6: =+IF(AND(H6>H12),"OK","Not OK") -> OK | AG6: =+IF(AND(I6>I12),"OK","Not OK") -> OK
A7: นครพนม | B7: ='8.คำนวณ'!F6 -> รพ.วังยาง | C7: ='8.คำนวณ'!L6 -> 974.59735 | D7: ='8.คำนวณ'!M6 -> 320.63108 | E7: ='8.คำนวณ'!N6 -> 865.22437 | F7: ='8.คำนวณ'!O6 -> 2357.4845 | G7: ='8.คำนวณ'!P6 -> 10.570176 | H7: ='8.คำนวณ'!Q6 -> 23.106839 | I7: ='8.คำนวณ'!R6 -> 736.44342 | J7: =+B7 -> รพ.วังยาง | K7: =+(C7-C10)*100/C10 -> -19.857222 | L7: =+(D7-D10)*100/D10 -> -10.946653 | M7: =+(E7-E10)*100/E10 -> 17.153101 | N7: =+(F7-F10)*100/F10 -> -56.082756 | O7: =+(G7-G10)*100/G10 -> -20.863518 | P7: =+(H7-H10)*100/H10 -> -60.496405 | Q7: =+(I7-I10)*100/I10 -> -39.426082 | R7: =+J7 -> รพ.วังยาง | S7: =+K7/100 -> -0.19857222 | T7: =+L7/100 -> -0.10946653 | U7: =+M7/100 -> 0.17153101 | V7: =+N7/100 -> -0.56082756 | W7: =+O7/100 -> -0.20863518 | X7: =+P7/100 -> -0.60496405 | Y7: =+Q7/100 -> -0.39426082 | Z7: =+R7 -> รพ.วังยาง | AA7: =+IF(AND(C7>C12),"OK","Not OK") -> OK | AB7: =+IF(AND(D7>D12),"OK","Not OK") -> OK | AC7: =+IF(AND(E7>E12),"OK","Not OK") -> OK | AD7: =+IF(AND(F7>F12),"OK","Not OK") -> OK | AE7: =+IF(AND(G7>G12),"OK","Not OK") -> OK | AF7: =+IF(AND(H7>H12),"OK","Not OK") -> Not OK | AG7: =+IF(AND(I7>I12),"OK","Not OK") -> Not OK
A8: หนองคาย | B8: ='8.คำนวณ'!F7 -> รพ.โพธิ์ตาก | C8: ='8.คำนวณ'!L7 -> 1160.3607 | D8: ='8.คำนวณ'!M7 -> 221.59373 | E8: ='8.คำนวณ'!N7 -> 420.55869 | F8: ='8.คำนวณ'!O7 -> 3387.4639 | G8: ='8.คำนวณ'!P7 -> 20.773341 | H8: ='8.คำนวณ'!Q7 -> 40.486239 | I8: ='8.คำนวณ'!R7 -> 803.49425 | J8: =+B8 -> รพ.โพธิ์ตาก | K8: =+(C8-C10)*100/C10 -> -4.581586 | L8: =+(D8-D10)*100/D10 -> -38.453681 | M8: =+(E8-E10)*100/E10 -> -43.055517 | N8: =+(F8-F10)*100/F10 -> -36.895417 | O8: =+(G8-G10)*100/G10 -> 55.525227 | P8: =+(H8-H10)*100/H10 -> -30.784475 | Q8: =+(I8-I10)*100/I10 -> -33.911019 | R8: =+J8 -> รพ.โพธิ์ตาก | S8: =+K8/100 -> -0.04581586 | T8: =+L8/100 -> -0.38453681 | U8: =+M8/100 -> -0.43055517 | V8: =+N8/100 -> -0.36895417 | W8: =+O8/100 -> 0.55525227 | X8: =+P8/100 -> -0.30784475 | Y8: =+Q8/100 -> -0.33911019 | Z8: =+R8 -> รพ.โพธิ์ตาก | AA8: =+IF(AND(C8>C12),"OK","Not OK") -> OK | AB8: =+IF(AND(D8>D12),"OK","Not OK") -> OK | AC8: =+IF(AND(E8>E12),"OK","Not OK") -> Not OK | AD8: =+IF(AND(F8>F12),"OK","Not OK") -> OK | AE8: =+IF(AND(G8>G12),"OK","Not OK") -> OK | AF8: =+IF(AND(H8>H12),"OK","Not OK") -> OK | AG8: =+IF(AND(I8>I12),"OK","Not OK") -> OK
A9: บึงกาฬ | B9: ='8.คำนวณ'!F8 -> รพ.บุ่งคล้า | C9: ='8.คำนวณ'!L8 -> 936.51876 | D9: ='8.คำนวณ'!M8 -> 488.01998 | E9: ='8.คำนวณ'!N8 -> 718.4521 | F9: ='8.คำนวณ'!O8 -> 2862.9502 | G9: ='8.คำนวณ'!P8 -> 14.856774 | H9: ='8.คำนวณ'!Q8 -> 108.43004 | I9: ='8.คำนวณ'!R8 -> 1181.7806 | J9: =+B9 -> รพ.บุ่งคล้า | K9: =+(C9-C10)*100/C10 -> -22.988488 | L9: =+(D9-D10)*100/D10 -> 35.544603 | M9: =+(E9-E10)*100/E10 -> -2.7201566 | N9: =+(F9-F10)*100/F10 -> -46.666509 | O9: =+(G9-G10)*100/G10 -> 11.229254 | P9: =+(H9-H10)*100/H10 -> 85.372671 | Q9: =+(I9-I10)*100/I10 -> -2.7962238 | R9: =+J9 -> รพ.บุ่งคล้า | S9: =+K9/100 -> -0.22988488 | T9: =+L9/100 -> 0.35544603 | U9: =+M9/100 -> -0.027201566 | V9: =+N9/100 -> -0.46666509 | W9: =+O9/100 -> 0.11229254 | X9: =+P9/100 -> 0.85372671 | Y9: =+Q9/100 -> -0.027962238 | Z9: =+R9 -> รพ.บุ่งคล้า | AA9: =+IF(AND(C9>C12),"OK","Not OK") -> OK | AB9: =+IF(AND(D9>D12),"OK","Not OK") -> OK | AC9: =+IF(AND(E9>E12),"OK","Not OK") -> OK | AD9: =+IF(AND(F9>F12),"OK","Not OK") -> OK | AE9: =+IF(AND(G9>G12),"OK","Not OK") -> OK | AF9: =+IF(AND(H9>H12),"OK","Not OK") -> OK | AG9: =+IF(AND(I9>I12),"OK","Not OK") -> OK
B10: ค่าเฉลี่ยของกลุ่ม | C10: =AVERAGE(C4:C9) -> 1216.0763 | D10: =AVERAGE(D4:D9) -> 360.04383 | E10: =AVERAGE(E4:E9) -> 738.54159 | F10: =AVERAGE(F4:F9) -> 5368.0157 | G10: =AVERAGE(G4:G9) -> 13.356895 | H10: =AVERAGE(H4:H9) -> 58.493002 | I10: =AVERAGE(I4:I9) -> 1215.7764
B11: 1SD | C11: =STDEV(C4:C9) -> 415.5829 | D11: =STDEV(D4:D9) -> 144.85146 | E11: =STDEV(E4:E9) -> 190.43949 | F11: =STDEV(F4:F9) -> 7164.2641 | G11: =STDEV(G4:G9) -> 4.2088888 | H11: =STDEV(H4:H9) -> 35.117565 | I11: =STDEV(I4:I9) -> 472.59871
B12: mean-1SD | C12: =+C10-C11 -> 800.49341 | D12: =+D10-D11 -> 215.19238 | E12: =+E10-E11 -> 548.1021 | F12: =+F10-F11 -> -1796.2484 | G12: =+G10-G11 -> 9.1480058 | H12: =+H10-H11 -> 23.375437 | I12: =+I10-I11 -> 743.17773
B13: กลุ่ม 2 | C13: รายได้(บาท)/ปชก. | J13: กลุ่ม 2 | K13: %diff ค่าเฉลี่ย/ปชก. | R13: กลุ่ม 2 | S13: %diff ค่าเฉลี่ย/ปชก. | Z13: กลุ่ม 2 | AA13: >Mean-1SD
C14: เหมาจ่ายรายหัว UC | D14: เรียกเก็บUC/กองทุนUC/EMS | E14: ประกันสังคม | F14: ข้าราชการ | G14: พรบ. | H14: ชำระเงินเอง | I14: งบบุคลากร | K14: เหมาจ่ายรายหัว UC | L14: เรียกเก็บUC/กองทุนUC/EMS | M14: ประกันสังคม | N14: ข้าราชการ | O14: พรบ. | P14: ชำระเงินเอง | Q14: งบบุคลากร | S14: เหมาจ่ายรายหัว UC | T14: เรียกเก็บUC/กองทุนUC/EMS | U14: ประกันสังคม | V14: ข้าราชการ | W14: พรบ. | X14: ชำระเงินเอง | Y14: งบบุคลากร | AA14: เหมาจ่ายรายหัว UC | AB14: เรียกเก็บUC/กองทุนUC/EMS | AC14: ประกันสังคม | AD14: ข้าราชการ | AE14: พรบ. | AF14: ชำระเงินเอง | AG14: งบบุคลากร
A15: อุดร | B15: ='8.คำนวณ'!F9 -> รพ.ประจักษ์ศิลปาคม | C15: ='8.คำนวณ'!L9 -> 1002.8294 | D15: ='8.คำนวณ'!M9 -> 206.41594 | E15: ='8.คำนวณ'!N9 -> 572.90535 | F15: ='8.คำนวณ'!O9 -> 2376.0785 | G15: ='8.คำนวณ'!P9 -> 8.079361 | H15: ='8.คำนวณ'!Q9 -> 29.445169 | I15: ='8.คำนวณ'!R9 -> 485.77263 | J15: =+B15 -> รพ.ประจักษ์ศิลปาคม | K15: =+(C15-C26)*100/C26 -> -3.4552363 | L15: =+(D15-D26)*100/D26 -> -17.477353 | M15: =+(E15-E26)*100/E26 -> -12.084904 | N15: =+(F15-F26)*100/F26 -> 10.633293 | O15: =+(G15-G26)*100/G26 -> -39.313358 | P15: =+(H15-H26)*100/H26 -> -28.879335 | Q15: =+(I15-I26)*100/I26 -> -34.763551 | R15: =+J15 -> รพ.ประจักษ์ศิลปาคม | S15: =+K15/100 -> -0.034552363 | T15: =+L15/100 -> -0.17477353 | U15: =+M15/100 -> -0.12084904 | V15: =+N15/100 -> 0.10633293 | W15: =+O15/100 -> -0.39313358 | X15: =+P15/100 -> -0.28879335 | Y15: =+Q15/100 -> -0.34763551 | Z15: =+R15 -> รพ.ประจักษ์ศิลปาคม | AA15: =+IF(AND(C15>C28),"OK","Not OK") -> OK | AB15: =+IF(AND(D15>D28),"OK","Not OK") -> OK | AC15: =+IF(AND(E15>E28),"OK","Not OK") -> OK | AD15: =+IF(AND(F15>F28),"OK","Not OK") -> OK | AE15: =+IF(AND(G15>G28),"OK","Not OK") -> OK | AF15: =+IF(AND(H15>H28),"OK","Not OK") -> OK | AG15: =+IF(AND(I15>I28),"OK","Not OK") -> Not OK
A16: อุดร | B16: ='8.คำนวณ'!F10 -> รพ.กู่แก้ว | C16: ='8.คำนวณ'!L10 -> 972.14855 | D16: ='8.คำนวณ'!M10 -> 249.06279 | E16: ='8.คำนวณ'!N10 -> 581.35215 | F16: ='8.คำนวณ'!O10 -> 1928.5519 | G16: ='8.คำนวณ'!P10 -> 9.2127162 | H16: ='8.คำนวณ'!Q10 -> 26.564277 | I16: ='8.คำนวณ'!R10 -> 619.76047 | J16: =+B16 -> รพ.กู่แก้ว | K16: =+(C16-C26)*100/C26 -> -6.4089538 | L16: =+(D16-D26)*100/D26 -> -0.42764614 | M16: =+(E16-E26)*100/E26 -> -10.788702 | N16: =+(F16-F26)*100/F26 -> -10.204125 | O16: =+(G16-G26)*100/G26 -> -30.800367 | P16: =+(H16-H26)*100/H26 -> -35.837724 | Q16: =+(I16-I26)*100/I26 -> -16.76976 | R16: =+J16 -> รพ.กู่แก้ว | S16: =+K16/100 -> -0.064089538 | T16: =+L16/100 -> -0.0042764614 | U16: =+M16/100 -> -0.10788702 | V16: =+N16/100 -> -0.10204125 | W16: =+O16/100 -> -0.30800367 | X16: =+P16/100 -> -0.35837724 | Y16: =+Q16/100 -> -0.1676976 | Z16: =+R16 -> รพ.กู่แก้ว | AA16: =+IF(AND(C16>C28),"OK","Not OK") -> OK | AB16: =+IF(AND(D16>D28),"OK","Not OK") -> OK | AC16: =+IF(AND(E16>E28),"OK","Not OK") -> OK | AD16: =+IF(AND(F16>F28),"OK","Not OK") -> OK | AE16: =+IF(AND(G16>G28),"OK","Not OK") -> OK | AF16: =+IF(AND(H16>H28),"OK","Not OK") -> OK | AG16: =+IF(AND(I16>I28),"OK","Not OK") -> OK
A17: นครพนม | B17: ='8.คำนวณ'!F11 -> รพ.นาทม | C17: ='8.คำนวณ'!L11 -> 1286.1574 | D17: ='8.คำนวณ'!M11 -> 487.07846 | E17: ='8.คำนวณ'!N11 -> 439.04636 | F17: ='8.คำนวณ'!O11 -> 1280.4788 | G17: ='8.คำนวณ'!P11 -> 10.287903 | H17: ='8.คำนวณ'!Q11 -> 28.844942 | I17: ='8.คำนวณ'!R11 -> 1062.863 | J17: =+B17 -> รพ.นาทม | K17: =+(C17-C26)*100/C26 -> 23.821427 | L17: =+(D17-D26)*100/D26 -> 94.728199 | M17: =+(E17-E26)*100/E26 -> -32.626213 | N17: =+(F17-F26)*100/F26 -> -40.379247 | O17: =+(G17-G26)*100/G26 -> -22.724297 | P17: =+(H17-H26)*100/H26 -> -30.329098 | Q17: =+(I17-I26)*100/I26 -> 42.736341 | R17: =+J17 -> รพ.นาทม | S17: =+K17/100 -> 0.23821427 | T17: =+L17/100 -> 0.94728199 | U17: =+M17/100 -> -0.32626213 | V17: =+N17/100 -> -0.40379247 | W17: =+O17/100 -> -0.22724297 | X17: =+P17/100 -> -0.30329098 | Y17: =+Q17/100 -> 0.42736341 | Z17: =+R17 -> รพ.นาทม | AA17: =+IF(AND(C17>C28),"OK","Not OK") -> OK | AB17: =+IF(AND(D17>D28),"OK","Not OK") -> OK | AC17: =+IF(AND(E17>E28),"OK","Not OK") -> OK | AD17: =+IF(AND(F17>F28),"OK","Not OK") -> OK | AE17: =+IF(AND(G17>G28),"OK","Not OK") -> OK | AF17: =+IF(AND(H17>H28),"OK","Not OK") -> OK | AG17: =+IF(AND(I17>I28),"OK","Not OK") -> OK
A18: สกล | B18: ='8.คำนวณ'!F12 -> รพ.เต่างอย | C18: ='8.คำนวณ'!L12 -> 1030.627 | D18: ='8.คำนวณ'!M12 -> 173.50655 | E18: ='8.คำนวณ'!N12 -> 571.08632 | F18: ='8.คำนวณ'!O12 -> 1813.6379 | G18: ='8.คำนวณ'!P12 -> 14.970567 | H18: ='8.คำนวณ'!Q12 -> 35.865032 | I18: ='8.คำนวณ'!R12 -> 837.11904 | J18: =+B18 -> รพ.เต่างอย | K18: =+(C18-C26)*100/C26 -> -0.7790976 | L18: =+(D18-D26)*100/D26 -> -30.634135 | M18: =+(E18-E26)*100/E26 -> -12.364042 | N18: =+(F18-F26)*100/F26 -> -15.554667 | O18: =+(G18-G26)*100/G26 -> 12.448673 | P18: =+(H18-H26)*100/H26 -> -13.373057 | Q18: =+(I18-I26)*100/I26 -> 12.420236 | R18: =+J18 -> รพ.เต่างอย | S18: =+K18/100 -> -0.007790976 | T18: =+L18/100 -> -0.30634135 | U18: =+M18/100 -> -0.12364042 | V18: =+N18/100 -> -0.15554667 | W18: =+O18/100 -> 0.12448673 | X18: =+P18/100 -> -0.13373057 | Y18: =+Q18/100 -> 0.12420236 | Z18: =+R18 -> รพ.เต่างอย | AA18: =+IF(AND(C18>C28),"OK","Not OK") -> OK | AB18: =+IF(AND(D18>D28),"OK","Not OK") -> OK | AC18: =+IF(AND(E18>E28),"OK","Not OK") -> OK | AD18: =+IF(AND(F18>F28),"OK","Not OK") -> OK | AE18: =+IF(AND(G18>G28),"OK","Not OK") -> OK | AF18: =+IF(AND(H18>H28),"OK","Not OK") -> OK | AG18: =+IF(AND(I18>I28),"OK","Not OK") -> OK
A19: เลย | B19: ='8.คำนวณ'!F13 -> รพ.ภูเรือ | C19: ='8.คำนวณ'!L13 -> 1021.1362 | D19: ='8.คำนวณ'!M13 -> 238.77025 | E19: ='8.คำนวณ'!N13 -> 804.03136 | F19: ='8.คำนวณ'!O13 -> 1651.3132 | G19: ='8.คำนวณ'!P13 -> 9.7440476 | H19: ='8.คำนวณ'!Q13 -> 63.436048 | I19: ='8.คำนวณ'!R13 -> 850.0819 | J19: =+B19 -> รพ.ภูเรือ | K19: =+(C19-C26)*100/C26 -> -1.6927935 | L19: =+(D19-D26)*100/D26 -> -4.5424801 | M19: =+(E19-E26)*100/E26 -> 23.3825 | N19: =+(F19-F26)*100/F26 -> -23.112716 | O19: =+(G19-G26)*100/G26 -> -26.809368 | P19: =+(H19-H26)*100/H26 -> 53.220854 | Q19: =+(I19-I26)*100/I26 -> 14.161073 | R19: =+J19 -> รพ.ภูเรือ | S19: =+K19/100 -> -0.016927935 | T19: =+L19/100 -> -0.045424801 | U19: =+M19/100 -> 0.233825 | V19: =+N19/100 -> -0.23112716 | W19: =+O19/100 -> -0.26809368 | X19: =+P19/100 -> 0.53220854 | Y19: =+Q19/100 -> 0.14161073 | Z19: =+R19 -> รพ.ภูเรือ | AA19: =+IF(AND(C19>C28),"OK","Not OK") -> OK | AB19: =+IF(AND(D19>D28),"OK","Not OK") -> OK | AC19: =+IF(AND(E19>E28),"OK","Not OK") -> OK | AD19: =+IF(AND(F19>F28),"OK","Not OK") -> OK | AE19: =+IF(AND(G19>G28),"OK","Not OK") -> OK | AF19: =+IF(AND(H19>H28),"OK","Not OK") -> OK | AG19: =+IF(AND(I19>I28),"OK","Not OK") -> OK
A20: อุดร | B20: ='8.คำนวณ'!F14 -> รพ.พิบูลย์รักษ์ | C20: ='8.คำนวณ'!L14 -> 879.48131 | D20: ='8.คำนวณ'!M14 -> 240.79181 | E20: ='8.คำนวณ'!N14 -> 778.63456 | F20: ='8.คำนวณ'!O14 -> 2446.6952 | G20: ='8.คำนวณ'!P14 -> 8.8907442 | H20: ='8.คำนวณ'!Q14 -> 32.374512 | I20: ='8.คำนวณ'!R14 -> 828.5319 | J20: =+B20 -> รพ.พิบูลย์รักษ์ | K20: =+(C20-C26)*100/C26 -> -15.330249 | L20: =+(D20-D26)*100/D26 -> -3.7342852 | M20: =+(E20-E26)*100/E26 -> 19.485238 | N20: =+(F20-F26)*100/F26 -> 13.9213 | O20: =+(G20-G26)*100/G26 -> -33.218801 | P20: =+(H20-H26)*100/H26 -> -21.803919 | Q20: =+(I20-I26)*100/I26 -> 11.267033 | R20: =+J20 -> รพ.พิบูลย์รักษ์ | S20: =+K20/100 -> -0.15330249 | T20: =+L20/100 -> -0.037342852 | U20: =+M20/100 -> 0.19485238 | V20: =+N20/100 -> 0.139213 | W20: =+O20/100 -> -0.33218801 | X20: =+P20/100 -> -0.21803919 | Y20: =+Q20/100 -> 0.11267033 | Z20: =+R20 -> รพ.พิบูลย์รักษ์ | AA20: =+IF(AND(C20>C28),"OK","Not OK") -> OK | AB20: =+IF(AND(D20>D28),"OK","Not OK") -> OK | AC20: =+IF(AND(E20>E28),"OK","Not OK") -> OK | AD20: =+IF(AND(F20>F28),"OK","Not OK") -> OK | AE20: =+IF(AND(G20>G28),"OK","Not OK") -> OK | AF20: =+IF(AND(H20>H28),"OK","Not OK") -> OK | AG20: =+IF(AND(I20>I28),"OK","Not OK") -> OK
A21: หนองคาย | B21: ='8.คำนวณ'!F15 -> รพ.สระใคร | C21: ='8.คำนวณ'!L15 -> 1354.6041 | D21: ='8.คำนวณ'!M15 -> 184.14879 | E21: ='8.คำนวณ'!N15 -> 329.80379 | F21: ='8.คำนวณ'!O15 -> 881.71172 | G21: ='8.คำนวณ'!P15 -> 10.750588 | H21: ='8.คำนวณ'!Q15 -> 28.186352 | I21: ='8.คำนวณ'!R15 -> 671.14288 | J21: =+B21 -> รพ.สระใคร | K21: =+(C21-C26)*100/C26 -> 30.41095 | L21: =+(D21-D26)*100/D26 -> -26.379495 | M21: =+(E21-E26)*100/E26 -> -49.390014 | N21: =+(F21-F26)*100/F26 -> -58.946359 | O21: =+(G21-G26)*100/G26 -> -19.248924 | P21: =+(H21-H26)*100/H26 -> -31.919829 | Q21: =+(I21-I26)*100/I26 -> -9.8694007 | R21: =+J21 -> รพ.สระใคร | S21: =+K21/100 -> 0.3041095 | T21: =+L21/100 -> -0.26379495 | U21: =+M21/100 -> -0.49390014 | V21: =+N21/100 -> -0.58946359 | W21: =+O21/100 -> -0.19248924 | X21: =+P21/100 -> -0.31919829 | Y21: =+Q21/100 -> -0.098694007 | Z21: =+R21 -> รพ.สระใคร | AA21: =+IF(AND(C21>C28),"OK","Not OK") -> OK | AB21: =+IF(AND(D21>D28),"OK","Not OK") -> OK | AC21: =+IF(AND(E21>E28),"OK","Not OK") -> Not OK | AD21: =+IF(AND(F21>F28),"OK","Not OK") -> OK | AE21: =+IF(AND(G21>G28),"OK","Not OK") -> OK | AF21: =+IF(AND(H21>H28),"OK","Not OK") -> OK | AG21: =+IF(AND(I21>I28),"OK","Not OK") -> OK
A22: เลย | B22: ='8.คำนวณ'!F16 -> รพ.หนองหิน | C22: ='8.คำนวณ'!L16 -> 1128.7113 | D22: ='8.คำนวณ'!M16 -> 357.63373 | E22: ='8.คำนวณ'!N16 -> 1196.115 | F22: ='8.คำนวณ'!O16 -> 6085.4802 | G22: ='8.คำนวณ'!P16 -> 30.575335 | H22: ='8.คำนวณ'!Q16 -> 87.564374 | I22: ='8.คำนวณ'!R16 -> 687.21898 | J22: =+B22 -> รพ.หนองหิน | K22: =+(C22-C26)*100/C26 -> 8.6637114 | L22: =+(D22-D26)*100/D26 -> 42.977731 | M22: =+(E22-E26)*100/E26 -> 83.549624 | N22: =+(F22-F26)*100/F26 -> 183.34785 | O22: =+(G22-G26)*100/G26 -> 129.66104 | P22: =+(H22-H26)*100/H26 -> 111.49944 | Q22: =+(I22-I26)*100/I26 -> -7.710473 | R22: =+J22 -> รพ.หนองหิน | S22: =+K22/100 -> 0.086637114 | T22: =+L22/100 -> 0.42977731 | U22: =+M22/100 -> 0.83549624 | V22: =+N22/100 -> 1.8334785 | W22: =+O22/100 -> 1.2966104 | X22: =+P22/100 -> 1.1149944 | Y22: =+Q22/100 -> -0.07710473 | Z22: =+R22 -> รพ.หนองหิน | AA22: =+IF(AND(C22>C28),"OK","Not OK") -> OK | AB22: =+IF(AND(D22>D28),"OK","Not OK") -> OK | AC22: =+IF(AND(E22>E28),"OK","Not OK") -> OK | AD22: =+IF(AND(F22>F28),"OK","Not OK") -> OK | AE22: =+IF(AND(G22>G28),"OK","Not OK") -> OK | AF22: =+IF(AND(H22>H28),"OK","Not OK") -> OK | AG22: =+IF(AND(I22>I28),"OK","Not OK") -> OK
A23: อุดร | B23: ='8.คำนวณ'!F17 -> รพ.หนองแสง | C23: ='8.คำนวณ'!L17 -> 890.09094 | D23: ='8.คำนวณ'!M17 -> 196.05168 | E23: ='8.คำนวณ'!N17 -> 682.62789 | F23: ='8.คำนวณ'!O17 -> 1541.7585 | G23: ='8.คำนวณ'!P17 -> 11.299935 | H23: ='8.คำนวณ'!Q17 -> 38.088178 | I23: ='8.คำนวณ'!R17 -> 799.49531 | J23: =+B23 -> รพ.หนองแสง | K23: =+(C23-C26)*100/C26 -> -14.308834 | L23: =+(D23-D26)*100/D26 -> -21.62086 | M23: =+(E23-E26)*100/E26 -> 4.7525499 | N23: =+(F23-F26)*100/F26 -> -28.213725 | O23: =+(G23-G26)*100/G26 -> -15.122604 | P23: =+(H23-H26)*100/H26 -> -8.0033607 | Q23: =+(I23-I26)*100/I26 -> 7.3675871 | R23: =+J23 -> รพ.หนองแสง | S23: =+K23/100 -> -0.14308834 | T23: =+L23/100 -> -0.2162086 | U23: =+M23/100 -> 0.047525499 | V23: =+N23/100 -> -0.28213725 | W23: =+O23/100 -> -0.15122604 | X23: =+P23/100 -> -0.080033607 | Y23: =+Q23/100 -> 0.073675871 | Z23: =+R23 -> รพ.หนองแสง | AA23: =+IF(AND(C23>C28),"OK","Not OK") -> OK | AB23: =+IF(AND(D23>D28),"OK","Not OK") -> OK | AC23: =+IF(AND(E23>E28),"OK","Not OK") -> OK | AD23: =+IF(AND(F23>F28),"OK","Not OK") -> OK | AE23: =+IF(AND(G23>G28),"OK","Not OK") -> OK | AF23: =+IF(AND(H23>H28),"OK","Not OK") -> OK | AG23: =+IF(AND(I23>I28),"OK","Not OK") -> OK
A24: อุดร | B24: ='8.คำนวณ'!F18 -> รพ.นายูง | C24: ='8.คำนวณ'!L18 -> 1017.7018 | D24: ='8.คำนวณ'!M18 -> 279.28934 | E24: ='8.คำนวณ'!N18 -> 803.00096 | F24: ='8.คำนวณ'!O18 -> 1357.5937 | G24: ='8.คำนวณ'!P18 -> 9.3542742 | H24: ='8.คำนวณ'!Q18 -> 23.044427 | I24: ='8.คำนวณ'!R18 -> 542.15126 | J24: =+B24 -> รพ.นายูง | K24: =+(C24-C26)*100/C26 -> -2.0234376 | L24: =+(D24-D26)*100/D26 -> 11.656572 | M24: =+(E24-E26)*100/E26 -> 23.22438 | N24: =+(F24-F26)*100/F26 -> -36.788679 | O24: =+(G24-G26)*100/G26 -> -29.73708 | P24: =+(H24-H26)*100/H26 -> -44.339426 | Q24: =+(I24-I26)*100/I26 -> -27.192227 | R24: =+J24 -> รพ.นายูง | S24: =+K24/100 -> -0.020234376 | T24: =+L24/100 -> 0.11656572 | U24: =+M24/100 -> 0.2322438 | V24: =+N24/100 -> -0.36788679 | W24: =+O24/100 -> -0.2973708 | X24: =+P24/100 -> -0.44339426 | Y24: =+Q24/100 -> -0.27192227 | Z24: =+R24 -> รพ.นายูง | AA24: =+IF(AND(C24>C28),"OK","Not OK") -> OK | AB24: =+IF(AND(D24>D28),"OK","Not OK") -> OK | AC24: =+IF(AND(E24>E28),"OK","Not OK") -> OK | AD24: =+IF(AND(F24>F28),"OK","Not OK") -> OK | AE24: =+IF(AND(G24>G28),"OK","Not OK") -> OK | AF24: =+IF(AND(H24>H28),"OK","Not OK") -> OK | AG24: =+IF(AND(I24>I28),"OK","Not OK") -> Not OK
A25: หนองคาย | B25: ='8.คำนวณ'!F19 -> รพ.ศรีเชียงใหม่ | C25: ='8.คำนวณ'!L19 -> 842.42771 | D25: ='8.คำนวณ'!M19 -> 138.70784 | E25: ='8.คำนวณ'!N19 -> 409.62921 | F25: ='8.คำนวณ'!O19 -> 2261.4722 | G25: ='8.คำนวณ'!P19 -> 23.280217 | H25: ='8.คำนวณ'!Q19 -> 62.005455 | I25: ='8.คำนวณ'!R19 -> 806.83409 | J25: =+B25 -> รพ.ศรีเชียงใหม่ | K25: =+(C25-C26)*100/C26 -> -18.897486 | L25: =+(D25-D26)*100/D26 -> -44.546248 | M25: =+(E25-E26)*100/E26 -> -37.140417 | N25: =+(F25-F26)*100/F26 -> 5.2970764 | O25: =+(G25-G26)*100/G26 -> 74.86509 | P25: =+(H25-H26)*100/H26 -> 49.765459 | Q25: =+(I25-I26)*100/I26 -> 8.3531423 | R25: =+J25 -> รพ.ศรีเชียงใหม่ | S25: =+K25/100 -> -0.18897486 | T25: =+L25/100 -> -0.44546248 | U25: =+M25/100 -> -0.37140417 | V25: =+N25/100 -> 0.052970764 | W25: =+O25/100 -> 0.7486509 | X25: =+P25/100 -> 0.49765459 | Y25: =+Q25/100 -> 0.083531423 | Z25: =+R25 -> รพ.ศรีเชียงใหม่ | AA25: =+IF(AND(C25>C28),"OK","Not OK") -> Not OK | AB25: =+IF(AND(D25>D28),"OK","Not OK") -> Not OK | AC25: =+IF(AND(E25>E28),"OK","Not OK") -> Not OK | AD25: =+IF(AND(F25>F28),"OK","Not OK") -> OK | AE25: =+IF(AND(G25>G28),"OK","Not OK") -> OK | AF25: =+IF(AND(H25>H28),"OK","Not OK") -> OK | AG25: =+IF(AND(I25>I28),"OK","Not OK") -> OK
B26: ค่าเฉลี่ยของกลุ่ม | C26: =AVERAGE(C15:C25) -> 1038.7196 | D26: =AVERAGE(D15:D25) -> 250.13247 | E26: =AVERAGE(E15:E25) -> 651.65754 | F26: =AVERAGE(F15:F25) -> 2147.7065 | G26: =AVERAGE(G15:G25) -> 13.313244 | H26: =AVERAGE(H15:H25) -> 41.401706 | I26: =AVERAGE(I15:I25) -> 744.63377
B27: 1SD | C27: =STDEV(C15:C25) -> 161.74704 | D27: =STDEV(D15:D25) -> 98.104144 | E27: =STDEV(E15:E25) -> 241.79462 | F27: =STDEV(F15:F25) -> 1393.3007 | G27: =STDEV(G15:G25) -> 7.1555525 | H27: =STDEV(H15:H25) -> 20.485504 | I27: =STDEV(I15:I25) -> 163.45005
B28: mean-1SD | C28: =+C26-C27 -> 876.97257 | D28: =+D26-D27 -> 152.02833 | E28: =+E26-E27 -> 409.86292 | F28: =+F26-F27 -> 754.40586 | G28: =+G26-G27 -> 6.1576918 | H28: =+H26-H27 -> 20.916202 | I28: =+I26-I27 -> 581.18371
B29: กลุ่ม 3 | C29: รายได้(บาท)/ปชก. | J29: กลุ่ม 3 | K29: %diff ค่าเฉลี่ย/ปชก. | R29: กลุ่ม 3 | S29: %diff ค่าเฉลี่ย/ปชก. | Z29: กลุ่ม 3 | AA29: >Mean-1SD
C30: เหมาจ่ายรายหัว UC | D30: เรียกเก็บUC/กองทุนUC/EMS | E30: ประกันสังคม | F30: ข้าราชการ | G30: พรบ. | H30: ชำระเงินเอง | I30: งบบุคลากร | K30: เหมาจ่ายรายหัว UC | L30: เรียกเก็บUC/กองทุนUC/EMS | M30: ประกันสังคม | N30: ข้าราชการ | O30: พรบ. | P30: ชำระเงินเอง | Q30: งบบุคลากร | S30: เหมาจ่ายรายหัว UC | T30: เรียกเก็บUC/กองทุนUC/EMS | U30: ประกันสังคม | V30: ข้าราชการ | W30: พรบ. | X30: ชำระเงินเอง | Y30: งบบุคลากร | AA30: เหมาจ่ายรายหัว UC | AB30: เรียกเก็บUC/กองทุนUC/EMS | AC30: ประกันสังคม | AD30: ข้าราชการ | AE30: พรบ. | AF30: ชำระเงินเอง | AG30: งบบุคลากร
A31: อุดร | B31: ='8.คำนวณ'!F20 -> รพ.สร้างคอม | C31: ='8.คำนวณ'!L20 -> 1088.0209 | D31: ='8.คำนวณ'!M20 -> 215.70891 | E31: ='8.คำนวณ'!N20 -> 367.70115 | F31: ='8.คำนวณ'!O20 -> 4159.5777 | G31: ='8.คำนวณ'!P20 -> 3.2779927 | H31: ='8.คำนวณ'!Q20 -> 29.188372 | I31: ='8.คำนวณ'!R20 -> 603.42639 | J31: =+B31 -> รพ.สร้างคอม | K31: =+(C31-C40)*100/C40 -> 0.42441525 | L31: =+(D31-D40)*100/D40 -> -10.980031 | M31: =+(E31-E40)*100/E40 -> -36.796424 | N31: =+(F31-F40)*100/F40 -> 86.770737 | O31: =+(G31-G40)*100/G40 -> -54.950424 | P31: =+(H31-H40)*100/H40 -> -48.007861 | Q31: =+(I31-I40)*100/I40 -> -10.25592 | R31: =+J31 -> รพ.สร้างคอม | S31: =+K31/100 -> 0.0042441525 | T31: =+L31/100 -> -0.10980031 | U31: =+M31/100 -> -0.36796424 | V31: =+N31/100 -> 0.86770737 | W31: =+O31/100 -> -0.54950424 | X31: =+P31/100 -> -0.48007861 | Y31: =+Q31/100 -> -0.1025592 | Z31: =+R31 -> รพ.สร้างคอม | AA31: =+IF(AND(C31>C42),"OK","Not OK") -> OK | AB31: =+IF(AND(D31>D42),"OK","Not OK") -> OK | AC31: =+IF(AND(E31>E42),"OK","Not OK") -> OK | AD31: =+IF(AND(F31>F42),"OK","Not OK") -> OK | AE31: =+IF(AND(G31>G42),"OK","Not OK") -> Not OK | AF31: =+IF(AND(H31>H42),"OK","Not OK") -> OK | AG31: =+IF(AND(I31>I42),"OK","Not OK") -> OK
A32: เลย | B32: ='8.คำนวณ'!F21 -> รพ.นาด้วง | C32: ='8.คำนวณ'!L21 -> 1510.3842 | D32: ='8.คำนวณ'!M21 -> 171.12741 | E32: ='8.คำนวณ'!N21 -> 906.72097 | F32: ='8.คำนวณ'!O21 -> 2655.8688 | G32: ='8.คำนวณ'!P21 -> 8.1415405 | H32: ='8.คำนวณ'!Q21 -> 55.569186 | I32: ='8.คำนวณ'!R21 -> 681.33231 | J32: =+B32 -> รพ.นาด้วง | K32: =+(C32-C40)*100/C40 -> 39.408587 | L32: =+(D32-D40)*100/D40 -> -29.378176 | M32: =+(E32-E40)*100/E40 -> 55.85485 | N32: =+(F32-F40)*100/F40 -> 19.252148 | O32: =+(G32-G40)*100/G40 -> 11.889493 | P32: =+(H32-H40)*100/H40 -> -1.0167172 | Q32: =+(I32-I40)*100/I40 -> 1.3305718 | R32: =+J32 -> รพ.นาด้วง | S32: =+K32/100 -> 0.39408587 | T32: =+L32/100 -> -0.29378176 | U32: =+M32/100 -> 0.5585485 | V32: =+N32/100 -> 0.19252148 | W32: =+O32/100 -> 0.11889493 | X32: =+P32/100 -> -0.010167172 | Y32: =+Q32/100 -> 0.013305718 | Z32: =+R32 -> รพ.นาด้วง | AA32: =+IF(AND(C32>C42),"OK","Not OK") -> OK | AB32: =+IF(AND(D32>D42),"OK","Not OK") -> OK | AC32: =+IF(AND(E32>E42),"OK","Not OK") -> OK | AD32: =+IF(AND(F32>F42),"OK","Not OK") -> OK | AE32: =+IF(AND(G32>G42),"OK","Not OK") -> OK | AF32: =+IF(AND(H32>H42),"OK","Not OK") -> OK | AG32: =+IF(AND(I32>I42),"OK","Not OK") -> OK
A33: หนองคาย | B33: ='8.คำนวณ'!F22 -> รพ.รัตนวาปี | C33: ='8.คำนวณ'!L22 -> 1081.4642 | D33: ='8.คำนวณ'!M22 -> 108.96215 | E33: ='8.คำนวณ'!N22 -> 381.01994 | F33: ='8.คำนวณ'!O22 -> 1266.8985 | G33: ='8.คำนวณ'!P22 -> 12.546648 | H33: ='8.คำนวณ'!Q22 -> 43.058862 | I33: ='8.คำนวณ'!R22 -> 401.31425 | J33: =+B33 -> รพ.รัตนวาปี | K33: =+(C33-C40)*100/C40 -> -0.18076659 | L33: =+(D33-D40)*100/D40 -> -55.032887 | M33: =+(E33-E40)*100/E40 -> -34.507077 | N33: =+(F33-F40)*100/F40 -> -43.11452 | O33: =+(G33-G40)*100/G40 -> 72.429055 | P33: =+(H33-H40)*100/H40 -> -23.300882 | Q33: =+(I33-I40)*100/I40 -> -40.314878 | R33: =+J33 -> รพ.รัตนวาปี | S33: =+K33/100 -> -0.0018076659 | T33: =+L33/100 -> -0.55032887 | U33: =+M33/100 -> -0.34507077 | V33: =+N33/100 -> -0.4311452 | W33: =+O33/100 -> 0.72429055 | X33: =+P33/100 -> -0.23300882 | Y33: =+Q33/100 -> -0.40314878 | Z33: =+R33 -> รพ.รัตนวาปี | AA33: =+IF(AND(C33>C42),"OK","Not OK") -> OK | AB33: =+IF(AND(D33>D42),"OK","Not OK") -> OK | AC33: =+IF(AND(E33>E42),"OK","Not OK") -> OK | AD33: =+IF(AND(F33>F42),"OK","Not OK") -> OK | AE33: =+IF(AND(G33>G42),"OK","Not OK") -> OK | AF33: =+IF(AND(H33>H42),"OK","Not OK") -> OK | AG33: =+IF(AND(I33>I42),"OK","Not OK") -> Not OK
A34: หนองคาย | B34: ='8.คำนวณ'!F23 -> รพ.สังคม | C34: ='8.คำนวณ'!L23 -> 1083.8191 | D34: ='8.คำนวณ'!M23 -> 708.04115 | E34: ='8.คำนวณ'!N23 -> 1097.6461 | F34: ='8.คำนวณ'!O23 -> 2837.0603 | G34: ='8.คำนวณ'!P23 -> 12.369523 | H34: ='8.คำนวณ'!Q23 -> 53.190387 | I34: ='8.คำนวณ'!R23 -> 920.75772 | J34: =+B34 -> รพ.สังคม | K34: =+(C34-C40)*100/C40 -> 0.036595787 | L34: =+(D34-D40)*100/D40 -> 192.19841 | M34: =+(E34-E40)*100/E40 -> 88.672667 | N34: =+(F34-F40)*100/F40 -> 27.387894 | O34: =+(G34-G40)*100/G40 -> 69.994813 | P34: =+(H34-H40)*100/H40 -> -5.25398 | Q34: =+(I34-I40)*100/I40 -> 36.938913 | R34: =+J34 -> รพ.สังคม | S34: =+K34/100 -> 0.00036595787 | T34: =+L34/100 -> 1.9219841 | U34: =+M34/100 -> 0.88672667 | V34: =+N34/100 -> 0.27387894 | W34: =+O34/100 -> 0.69994813 | X34: =+P34/100 -> -0.0525398 | Y34: =+Q34/100 -> 0.36938913 | Z34: =+R34 -> รพ.สังคม | AA34: =+IF(AND(C34>C42),"OK","Not OK") -> OK | AB34: =+IF(AND(D34>D42),"OK","Not OK") -> OK | AC34: =+IF(AND(E34>E42),"OK","Not OK") -> OK | AD34: =+IF(AND(F34>F42),"OK","Not OK") -> OK | AE34: =+IF(AND(G34>G42),"OK","Not OK") -> OK | AF34: =+IF(AND(H34>H42),"OK","Not OK") -> OK | AG34: =+IF(AND(I34>I42),"OK","Not OK") -> OK
A35: เลย | B35: ='8.คำนวณ'!F24 -> รพ.ท่าลี่ | C35: ='8.คำนวณ'!L24 -> 853.31719 | D35: ='8.คำนวณ'!M24 -> 253.18998 | E35: ='8.คำนวณ'!N24 -> 457.27466 | F35: ='8.คำนวณ'!O24 -> 1519.4322 | G35: ='8.คำนวณ'!P24 -> 5.3359406 | H35: ='8.คำนวณ'!Q24 -> 189.03423 | I35: ='8.คำนวณ'!R24 -> 895.25827 | J35: =+B35 -> รพ.ท่าลี่ | K35: =+(C35-C40)*100/C40 -> -21.238754 | L35: =+(D35-D40)*100/D40 -> 4.4878673 | M35: =+(E35-E40)*100/E40 -> -21.399773 | N35: =+(F35-F40)*100/F40 -> -31.775412 | O35: =+(G35-G40)*100/G40 -> -26.667971 | P35: =+(H35-H40)*100/H40 -> 236.71951 | Q35: =+(I35-I40)*100/I40 -> 33.146529 | R35: =+J35 -> รพ.ท่าลี่ | S35: =+K35/100 -> -0.21238754 | T35: =+L35/100 -> 0.044878673 | U35: =+M35/100 -> -0.21399773 | V35: =+N35/100 -> -0.31775412 | W35: =+O35/100 -> -0.26667971 | X35: =+P35/100 -> 2.3671951 | Y35: =+Q35/100 -> 0.33146529 | Z35: =+R35 -> รพ.ท่าลี่ | AA35: =+IF(AND(C35>C42),"OK","Not OK") -> Not OK | AB35: =+IF(AND(D35>D42),"OK","Not OK") -> OK | AC35: =+IF(AND(E35>E42),"OK","Not OK") -> OK | AD35: =+IF(AND(F35>F42),"OK","Not OK") -> OK | AE35: =+IF(AND(G35>G42),"OK","Not OK") -> OK | AF35: =+IF(AND(H35>H42),"OK","Not OK") -> OK | AG35: =+IF(AND(I35>I42),"OK","Not OK") -> OK
A36: อุดร | B36: ='8.คำนวณ'!F25 -> รพ.ทุ่งฝน | C36: ='8.คำนวณ'!L25 -> 1046.8817 | D36: ='8.คำนวณ'!M25 -> 149.10401 | E36: ='8.คำนวณ'!N25 -> 731.01889 | F36: ='8.คำนวณ'!O25 -> 1603.8605 | G36: ='8.คำนวณ'!P25 -> 6.607757 | H36: ='8.คำนวณ'!Q25 -> 24.703594 | I36: ='8.คำนวณ'!R25 -> 633.38417 | J36: =+B36 -> รพ.ทุ่งฝน | K36: =+(C36-C40)*100/C40 -> -3.3727376 | L36: =+(D36-D40)*100/D40 -> -38.466919 | M36: =+(E36-E40)*100/E40 -> 25.653694 | N36: =+(F36-F40)*100/F40 -> -27.984466 | O36: =+(G36-G40)*100/G40 -> -9.1893501 | P36: =+(H36-H40)*100/H40 -> -55.996424 | Q36: =+(I36-I40)*100/I40 -> -5.8004748 | R36: =+J36 -> รพ.ทุ่งฝน | S36: =+K36/100 -> -0.033727376 | T36: =+L36/100 -> -0.38466919 | U36: =+M36/100 -> 0.25653694 | V36: =+N36/100 -> -0.27984466 | W36: =+O36/100 -> -0.091893501 | X36: =+P36/100 -> -0.55996424 | Y36: =+Q36/100 -> -0.058004748 | Z36: =+R36 -> รพ.ทุ่งฝน | AA36: =+IF(AND(C36>C42),"OK","Not OK") -> OK | AB36: =+IF(AND(D36>D42),"OK","Not OK") -> OK | AC36: =+IF(AND(E36>E42),"OK","Not OK") -> OK | AD36: =+IF(AND(F36>F42),"OK","Not OK") -> OK | AE36: =+IF(AND(G36>G42),"OK","Not OK") -> OK | AF36: =+IF(AND(H36>H42),"OK","Not OK") -> OK | AG36: =+IF(AND(I36>I42),"OK","Not OK") -> OK
A37: หนองบัว | B37: ='8.คำนวณ'!F26 -> รพ.นาวังเฉลิมพระเกียรติ ๘๐ พรรษา | C37: ='8.คำนวณ'!L26 -> 1210.5202 | D37: ='8.คำนวณ'!M26 -> 168.86648 | E37: ='8.คำนวณ'!N26 -> 417.91445 | F37: ='8.คำนวณ'!O26 -> 2135.3923 | G37: ='8.คำนวณ'!P26 -> 3.3364729 | H37: ='8.คำนวณ'!Q26 -> 52.239355 | I37: ='8.คำนวณ'!R26 -> 605.4546 | J37: =+B37 -> รพ.นาวังเฉลิมพระเกียรติ ๘๐ พรรษา | K37: =+(C37-C40)*100/C40 -> 11.731115 | L37: =+(D37-D40)*100/D40 -> -30.311228 | M37: =+(E37-E40)*100/E40 -> -28.165339 | N37: =+(F37-F40)*100/F40 -> -4.1179597 | O37: =+(G37-G40)*100/G40 -> -54.14673 | P37: =+(H37-H40)*100/H40 -> -6.9480188 | Q37: =+(I37-I40)*100/I40 -> -9.9542763 | R37: =+J37 -> รพ.นาวังเฉลิมพระเกียรติ ๘๐ พรรษา | S37: =+K37/100 -> 0.11731115 | T37: =+L37/100 -> -0.30311228 | U37: =+M37/100 -> -0.28165339 | V37: =+N37/100 -> -0.041179597 | W37: =+O37/100 -> -0.5414673 | X37: =+P37/100 -> -0.069480188 | Y37: =+Q37/100 -> -0.099542763 | Z37: =+R37 -> รพ.นาวังเฉลิมพระเกียรติ ๘๐ พรรษา | AA37: =+IF(AND(C37>C42),"OK","Not OK") -> OK | AB37: =+IF(AND(D37>D42),"OK","Not OK") -> OK | AC37: =+IF(AND(E37>E42),"OK","Not OK") -> OK | AD37: =+IF(AND(F37>F42),"OK","Not OK") -> OK | AE37: =+IF(AND(G37>G42),"OK","Not OK") -> Not OK | AF37: =+IF(AND(H37>H42),"OK","Not OK") -> OK | AG37: =+IF(AND(I37>I42),"OK","Not OK") -> OK
A38: สกล | B38: ='8.คำนวณ'!F27 -> รพ.กุดบาก | C38: ='8.คำนวณ'!L27 -> 842.25932 | D38: ='8.คำนวณ'!M27 -> 255.068 | E38: ='8.คำนวณ'!N27 -> 496.40984 | F38: ='8.คำนวณ'!O27 -> 2723.2793 | G38: ='8.คำนวณ'!P27 -> 10.838391 | H38: ='8.คำนวณ'!Q27 -> 34.870626 | I38: ='8.คำนวณ'!R27 -> 745.06391 | J38: =+B38 -> รพ.กุดบาก | K38: =+(C38-C40)*100/C40 -> -22.259396 | L38: =+(D38-D40)*100/D40 -> 5.2628972 | M38: =+(E38-E40)*100/E40 -> -14.672889 | N38: =+(F38-F40)*100/F40 -> 22.278971 | O38: =+(G38-G40)*100/G40 -> 48.952408 | P38: =+(H38-H40)*100/H40 -> -37.886276 | Q38: =+(I38-I40)*100/I40 -> 10.809 | R38: =+J38 -> รพ.กุดบาก | S38: =+K38/100 -> -0.22259396 | T38: =+L38/100 -> 0.052628972 | U38: =+M38/100 -> -0.14672889 | V38: =+N38/100 -> 0.22278971 | W38: =+O38/100 -> 0.48952408 | X38: =+P38/100 -> -0.37886276 | Y38: =+Q38/100 -> 0.10809 | Z38: =+R38 -> รพ.กุดบาก | AA38: =+IF(AND(C38>C42),"OK","Not OK") -> Not OK | AB38: =+IF(AND(D38>D42),"OK","Not OK") -> OK | AC38: =+IF(AND(E38>E42),"OK","Not OK") -> OK | AD38: =+IF(AND(F38>F42),"OK","Not OK") -> OK | AE38: =+IF(AND(G38>G42),"OK","Not OK") -> OK | AF38: =+IF(AND(H38>H42),"OK","Not OK") -> OK | AG38: =+IF(AND(I38>I42),"OK","Not OK") -> OK
A39: อุดร | B39: ='8.คำนวณ'!F28 -> รพ.ไชยวาน | C39: ='8.คำนวณ'!L28 -> 1034.1371 | D39: ='8.คำนวณ'!M28 -> 150.76868 | E39: ='8.คำนวณ'!N28 -> 380.24832 | F39: ='8.คำนวณ'!O28 -> 1142.5622 | G39: ='8.คำนวณ'!P28 -> 3.0334419 | H39: ='8.คำนวณ'!Q28 -> 23.405116 | I39: ='8.คำนวณ'!R28 -> 565.48 | J39: =+B39 -> รพ.ไชยวาน | K39: =+(C39-C40)*100/C40 -> -4.5490593 | L39: =+(D39-D40)*100/D40 -> -37.779931 | M39: =+(E39-E40)*100/E40 -> -34.63971 | N39: =+(F39-F40)*100/F40 -> -48.697392 | O39: =+(G39-G40)*100/G40 -> -58.311295 | P39: =+(H39-H40)*100/H40 -> -58.309354 | Q39: =+(I39-I40)*100/I40 -> -15.899466 | R39: =+J39 -> รพ.ไชยวาน | S39: =+K39/100 -> -0.045490593 | T39: =+L39/100 -> -0.37779931 | U39: =+M39/100 -> -0.3463971 | V39: =+N39/100 -> -0.48697392 | W39: =+O39/100 -> -0.58311295 | X39: =+P39/100 -> -0.58309354 | Y39: =+Q39/100 -> -0.15899466 | Z39: =+R39 -> รพ.ไชยวาน | AA39: =+IF(AND(C39>C42),"OK","Not OK") -> OK | AB39: =+IF(AND(D39>D42),"OK","Not OK") -> OK | AC39: =+IF(AND(E39>E42),"OK","Not OK") -> OK | AD39: =+IF(AND(F39>F42),"OK","Not OK") -> Not OK | AE39: =+IF(AND(G39>G42),"OK","Not OK") -> Not OK | AF39: =+IF(AND(H39>H42),"OK","Not OK") -> OK | AG39: =+IF(AND(I39>I42),"OK","Not OK") -> OK
B40: ค่าเฉลี่ยของกลุ่ม | C40: =AVERAGE(C31:C39) -> 1083.4227 | D40: =AVERAGE(D31:D39) -> 242.3152 | E40: =AVERAGE(E31:E39) -> 581.7727 | F40: =AVERAGE(F31:F39) -> 2227.1035 | G40: =AVERAGE(G31:G39) -> 7.276412 | H40: =AVERAGE(H31:H39) -> 56.13997 | I40: =AVERAGE(I31:I39) -> 672.38574
B41: 1SD | C41: =STDEV(C31:C39) -> 197.91023 | D41: =STDEV(D31:D39) -> 181.38495 | E41: =STDEV(E31:E39) -> 267.01302 | F41: =STDEV(F31:F39) -> 970.33491 | G41: =STDEV(G31:G39) -> 3.8871119 | H41: =STDEV(H31:H39) -> 51.350306 | I41: =STDEV(I31:I39) -> 162.93705
B42: mean-1SD | C42: =+C40-C41 -> 885.51242 | D42: =+D40-D41 -> 60.930251 | E42: =+E40-E41 -> 314.75968 | F42: =+F40-F41 -> 1256.7686 | G42: =+G40-G41 -> 3.3893001 | H42: =+H40-H41 -> 4.789664 | I42: =+I40-I41 -> 509.44869
B43: กลุ่ม 4 | C43: รายได้(บาท)/ปชก. | J43: กลุ่ม 4 | K43: %diff ค่าเฉลี่ย/ปชก. | R43: กลุ่ม 4 | S43: %diff ค่าเฉลี่ย/ปชก. | Z43: กลุ่ม 4 | AA43: >Mean-1SD
C44: เหมาจ่ายรายหัว UC | D44: เรียกเก็บUC/กองทุนUC/EMS | E44: ประกันสังคม | F44: ข้าราชการ | G44: พรบ. | H44: ชำระเงินเอง | I44: งบบุคลากร | K44: เหมาจ่ายรายหัว UC | L44: เรียกเก็บUC/กองทุนUC/EMS | M44: ประกันสังคม | N44: ข้าราชการ | O44: พรบ. | P44: ชำระเงินเอง | Q44: งบบุคลากร | S44: เหมาจ่ายรายหัว UC | T44: เรียกเก็บUC/กองทุนUC/EMS | U44: ประกันสังคม | V44: ข้าราชการ | W44: พรบ. | X44: ชำระเงินเอง | Y44: งบบุคลากร | AA44: เหมาจ่ายรายหัว UC | AB44: เรียกเก็บUC/กองทุนUC/EMS | AC44: ประกันสังคม | AD44: ข้าราชการ | AE44: พรบ. | AF44: ชำระเงินเอง | AG44: งบบุคลากร
A45: เลย | B45: ='8.คำนวณ'!F29 -> รพ.ภูหลวง | C45: ='8.คำนวณ'!L29 -> 1397.6204 | D45: ='8.คำนวณ'!M29 -> 330.25144 | E45: ='8.คำนวณ'!N29 -> 837.33379 | F45: ='8.คำนวณ'!O29 -> 1698.5319 | G45: ='8.คำนวณ'!P29 -> 6.4343906 | H45: ='8.คำนวณ'!Q29 -> 60.437987 | I45: ='8.คำนวณ'!R29 -> 835.47322 | J45: =+B45 -> รพ.ภูหลวง | K45: =+(C45-C57)*100/C57 -> 32.835169 | L45: =+(D45-D57)*100/D57 -> 84.193879 | M45: =+(E45-E57)*100/E57 -> 48.063145 | N45: =+(F45-F57)*100/F57 -> -12.873953 | O45: =+(G45-G57)*100/G57 -> -32.522446 | P45: =+(H45-H57)*100/H57 -> 56.316782 | Q45: =+(I45-I57)*100/I57 -> 28.250885 | R45: =+J45 -> รพ.ภูหลวง | S45: =+K45/100 -> 0.32835169 | T45: =+L45/100 -> 0.84193879 | U45: =+M45/100 -> 0.48063145 | V45: =+N45/100 -> -0.12873953 | W45: =+O45/100 -> -0.32522446 | X45: =+P45/100 -> 0.56316782 | Y45: =+Q45/100 -> 0.28250885 | Z45: =+R45 -> รพ.ภูหลวง | AA45: =+IF(AND(C45>C59),"OK","Not OK") -> OK | AB45: =+IF(AND(D45>D59),"OK","Not OK") -> OK | AC45: =+IF(AND(E45>E59),"OK","Not OK") -> OK | AD45: =+IF(AND(F45>F59),"OK","Not OK") -> OK | AE45: =+IF(AND(G45>G59),"OK","Not OK") -> OK | AF45: =+IF(AND(H45>H59),"OK","Not OK") -> OK | AG45: =+IF(AND(I45>I59),"OK","Not OK") -> OK
A46: เลย | B46: ='8.คำนวณ'!F30 -> รพ.ภูกระดึง | C46: ='8.คำนวณ'!L30 -> 1168.4162 | D46: ='8.คำนวณ'!M30 -> 112.79579 | E46: ='8.คำนวณ'!N30 -> 635.34839 | F46: ='8.คำนวณ'!O30 -> 1200.7168 | G46: ='8.คำนวณ'!P30 -> 4.9383336 | H46: ='8.คำนวณ'!Q30 -> 27.687472 | I46: ='8.คำนวณ'!R30 -> 743.99556 | J46: =+B46 -> รพ.ภูกระดึง | K46: =+(C46-C57)*100/C57 -> 11.050724 | L46: =+(D46-D57)*100/D57 -> -37.089465 | M46: =+(E46-E57)*100/E57 -> 12.346691 | N46: =+(F46-F57)*100/F57 -> -38.409334 | O46: =+(G46-G57)*100/G57 -> -48.211618 | P46: =+(H46-H57)*100/H57 -> -28.389136 | Q46: =+(I46-I57)*100/I57 -> 14.208436 | R46: =+J46 -> รพ.ภูกระดึง | S46: =+K46/100 -> 0.11050724 | T46: =+L46/100 -> -0.37089465 | U46: =+M46/100 -> 0.12346691 | V46: =+N46/100 -> -0.38409334 | W46: =+O46/100 -> -0.48211618 | X46: =+P46/100 -> -0.28389136 | Y46: =+Q46/100 -> 0.14208436 | Z46: =+R46 -> รพ.ภูกระดึง | AA46: =+IF(AND(C46>C59),"OK","Not OK") -> OK | AB46: =+IF(AND(D46>D59),"OK","Not OK") -> OK | AC46: =+IF(AND(E46>E59),"OK","Not OK") -> OK | AD46: =+IF(AND(F46>F59),"OK","Not OK") -> OK | AE46: =+IF(AND(G46>G59),"OK","Not OK") -> OK | AF46: =+IF(AND(H46>H59),"OK","Not OK") -> OK | AG46: =+IF(AND(I46>I59),"OK","Not OK") -> OK
A47: สกล | B47: ='8.คำนวณ'!F31 -> รพ.โพนนาแก้ว | C47: ='8.คำนวณ'!L31 -> 996.83086 | D47: ='8.คำนวณ'!M31 -> 113.23671 | E47: ='8.คำนวณ'!N31 -> 426.76536 | F47: ='8.คำนวณ'!O31 -> 1785.0176 | G47: ='8.คำนวณ'!P31 -> 7.9958666 | H47: ='8.คำนวณ'!Q31 -> 20.420808 | I47: ='8.คำนวณ'!R31 -> 552.52449 | J47: =+B47 -> รพ.โพนนาแก้ว | K47: =+(C47-C57)*100/C57 -> -5.2573975 | L47: =+(D47-D57)*100/D57 -> -36.843546 | M47: =+(E47-E57)*100/E57 -> -24.5364 | N47: =+(F47-F57)*100/F57 -> -8.4376746 | O47: =+(G47-G57)*100/G57 -> -16.147222 | P47: =+(H47-H57)*100/H57 -> -47.183632 | Q47: =+(I47-I57)*100/I57 -> -15.18369 | R47: =+J47 -> รพ.โพนนาแก้ว | S47: =+K47/100 -> -0.052573975 | T47: =+L47/100 -> -0.36843546 | U47: =+M47/100 -> -0.245364 | V47: =+N47/100 -> -0.084376746 | W47: =+O47/100 -> -0.16147222 | X47: =+P47/100 -> -0.47183632 | Y47: =+Q47/100 -> -0.1518369 | Z47: =+R47 -> รพ.โพนนาแก้ว | AA47: =+IF(AND(C47>C59),"OK","Not OK") -> OK | AB47: =+IF(AND(D47>D59),"OK","Not OK") -> OK | AC47: =+IF(AND(E47>E59),"OK","Not OK") -> OK | AD47: =+IF(AND(F47>F59),"OK","Not OK") -> OK | AE47: =+IF(AND(G47>G59),"OK","Not OK") -> OK | AF47: =+IF(AND(H47>H59),"OK","Not OK") -> Not OK | AG47: =+IF(AND(I47>I59),"OK","Not OK") -> OK
A48: หนองคาย | B48: ='8.คำนวณ'!F32 -> รพ.เฝ้าไร่ | C48: ='8.คำนวณ'!L32 -> 1045.9303 | D48: ='8.คำนวณ'!M32 -> 131.39899 | E48: ='8.คำนวณ'!N32 -> 311.68501 | F48: ='8.คำนวณ'!O32 -> 1174.7804 | G48: ='8.คำนวณ'!P32 -> 14.51113 | H48: ='8.คำนวณ'!Q32 -> 32.916661 | I48: ='8.คำนวณ'!R32 -> 319.93429 | J48: =+B48 -> รพ.เฝ้าไร่ | K48: =+(C48-C57)*100/C57 -> -0.59080045 | L48: =+(D48-D57)*100/D57 -> -26.713748 | M48: =+(E48-E57)*100/E57 -> -44.885704 | N48: =+(F48-F57)*100/F57 -> -39.739739 | O48: =+(G48-G57)*100/G57 -> 52.17845 | P48: =+(H48-H57)*100/H57 -> -14.864365 | Q48: =+(I48-I57)*100/I57 -> -50.887886 | R48: =+J48 -> รพ.เฝ้าไร่ | S48: =+K48/100 -> -0.0059080045 | T48: =+L48/100 -> -0.26713748 | U48: =+M48/100 -> -0.44885704 | V48: =+N48/100 -> -0.39739739 | W48: =+O48/100 -> 0.5217845 | X48: =+P48/100 -> -0.14864365 | Y48: =+Q48/100 -> -0.50887886 | Z48: =+R48 -> รพ.เฝ้าไร่ | AA48: =+IF(AND(C48>C59),"OK","Not OK") -> OK | AB48: =+IF(AND(D48>D59),"OK","Not OK") -> OK | AC48: =+IF(AND(E48>E59),"OK","Not OK") -> Not OK | AD48: =+IF(AND(F48>F59),"OK","Not OK") -> OK | AE48: =+IF(AND(G48>G59),"OK","Not OK") -> OK | AF48: =+IF(AND(H48>H59),"OK","Not OK") -> OK | AG48: =+IF(AND(I48>I59),"OK","Not OK") -> Not OK
A49: เลย | B49: ='8.คำนวณ'!F33 -> รพ.เอราวัณ | C49: ='8.คำนวณ'!L33 -> 1101.9232 | D49: ='8.คำนวณ'!M33 -> 101.16999 | E49: ='8.คำนวณ'!N33 -> 763.95151 | F49: ='8.คำนวณ'!O33 -> 1796.4666 | G49: ='8.คำนวณ'!P33 -> 5.9690486 | H49: ='8.คำนวณ'!Q33 -> 36.443388 | I49: ='8.คำนวณ'!R33 -> 553.53792 | J49: =+B49 -> รพ.เอราวัณ | K49: =+(C49-C57)*100/C57 -> 4.7309781 | L49: =+(D49-D57)*100/D57 -> -43.573619 | M49: =+(E49-E57)*100/E57 -> 35.087183 | N49: =+(F49-F57)*100/F57 -> -7.8504016 | O49: =+(G49-G57)*100/G57 -> -37.402494 | P49: =+(H49-H57)*100/H57 -> -5.7428376 | Q49: =+(I49-I57)*100/I57 -> -15.028122 | R49: =+J49 -> รพ.เอราวัณ | S49: =+K49/100 -> 0.047309781 | T49: =+L49/100 -> -0.43573619 | U49: =+M49/100 -> 0.35087183 | V49: =+N49/100 -> -0.078504016 | W49: =+O49/100 -> -0.37402494 | X49: =+P49/100 -> -0.057428376 | Y49: =+Q49/100 -> -0.15028122 | Z49: =+R49 -> รพ.เอราวัณ | AA49: =+IF(AND(C49>C59),"OK","Not OK") -> OK | AB49: =+IF(AND(D49>D59),"OK","Not OK") -> OK | AC49: =+IF(AND(E49>E59),"OK","Not OK") -> OK | AD49: =+IF(AND(F49>F59),"OK","Not OK") -> OK | AE49: =+IF(AND(G49>G59),"OK","Not OK") -> OK | AF49: =+IF(AND(H49>H59),"OK","Not OK") -> OK | AG49: =+IF(AND(I49>I59),"OK","Not OK") -> OK
A50: สกล | B50: ='8.คำนวณ'!F34 -> รพ.พระอาจารย์แบน ธนากโร | C50: ='8.คำนวณ'!L34 -> 999.20734 | D50: ='8.คำนวณ'!M34 -> 129.45618 | E50: ='8.คำนวณ'!N34 -> 482.11888 | F50: ='8.คำนวณ'!O34 -> 1375.4907 | G50: ='8.คำนวณ'!P34 -> 5.8828918 | H50: ='8.คำนวณ'!Q34 -> 29.094718 | I50: ='8.คำนวณ'!R34 -> 593.99693 | J50: =+B50 -> รพ.พระอาจารย์แบน ธนากโร | K50: =+(C50-C57)*100/C57 -> -5.0315272 | L50: =+(D50-D57)*100/D57 -> -27.797329 | M50: =+(E50-E57)*100/E57 -> -14.748409 | N50: =+(F50-F57)*100/F57 -> -29.444325 | O50: =+(G50-G57)*100/G57 -> -38.306021 | P50: =+(H50-H57)*100/H57 -> -24.749435 | Q50: =+(I50-I57)*100/I57 -> -8.8173862 | R50: =+J50 -> รพ.พระอาจารย์แบน ธนากโร | S50: =+K50/100 -> -0.050315272 | T50: =+L50/100 -> -0.27797329 | U50: =+M50/100 -> -0.14748409 | V50: =+N50/100 -> -0.29444325 | W50: =+O50/100 -> -0.38306021 | X50: =+P50/100 -> -0.24749435 | Y50: =+Q50/100 -> -0.088173862 | Z50: =+R50 -> รพ.พระอาจารย์แบน ธนากโร | AA50: =+IF(AND(C50>C59),"OK","Not OK") -> OK | AB50: =+IF(AND(D50>D59),"OK","Not OK") -> OK | AC50: =+IF(AND(E50>E59),"OK","Not OK") -> OK | AD50: =+IF(AND(F50>F59),"OK","Not OK") -> OK | AE50: =+IF(AND(G50>G59),"OK","Not OK") -> OK | AF50: =+IF(AND(H50>H59),"OK","Not OK") -> OK | AG50: =+IF(AND(I50>I59),"OK","Not OK") -> OK
A51: สกล | B51: ='8.คำนวณ'!F35 -> รพ.พระอาจารย์วัน อุตฺตโม | C51: ='8.คำนวณ'!L35 -> 1133.8204 | D51: ='8.คำนวณ'!M35 -> 129.80338 | E51: ='8.คำนวณ'!N35 -> 525.78758 | F51: ='8.คำนวณ'!O35 -> 1898.2892 | G51: ='8.คำนวณ'!P35 -> 7.9702321 | H51: ='8.คำนวณ'!Q35 -> 54.016806 | I51: ='8.คำนวณ'!R35 -> 761.21187 | J51: =+B51 -> รพ.พระอาจารย์วัน อุตฺตโม | K51: =+(C51-C57)*100/C57 -> 7.762613 | L51: =+(D51-D57)*100/D57 -> -27.603685 | M51: =+(E51-E57)*100/E57 -> -7.0266076 | N51: =+(F51-F57)*100/F57 -> -2.6274213 | O51: =+(G51-G57)*100/G57 -> -16.416051 | P51: =+(H51-H57)*100/H57 -> 39.709041 | Q51: =+(I51-I57)*100/I57 -> 16.851257 | R51: =+J51 -> รพ.พระอาจารย์วัน อุตฺตโม | S51: =+K51/100 -> 0.07762613 | T51: =+L51/100 -> -0.27603685 | U51: =+M51/100 -> -0.070266076 | V51: =+N51/100 -> -0.026274213 | W51: =+O51/100 -> -0.16416051 | X51: =+P51/100 -> 0.39709041 | Y51: =+Q51/100 -> 0.16851257 | Z51: =+R51 -> รพ.พระอาจารย์วัน อุตฺตโม | AA51: =+IF(AND(C51>C59),"OK","Not OK") -> OK | AB51: =+IF(AND(D51>D59),"OK","Not OK") -> OK | AC51: =+IF(AND(E51>E59),"OK","Not OK") -> OK | AD51: =+IF(AND(F51>F59),"OK","Not OK") -> OK | AE51: =+IF(AND(G51>G59),"OK","Not OK") -> OK | AF51: =+IF(AND(H51>H59),"OK","Not OK") -> OK | AG51: =+IF(AND(I51>I59),"OK","Not OK") -> OK
A52: สกล | B52: ='8.คำนวณ'!F36 -> รพ.เจริญศิลป์ | C52: ='8.คำนวณ'!L36 -> 963.7128 | D52: ='8.คำนวณ'!M36 -> 141.29232 | E52: ='8.คำนวณ'!N36 -> 221.42012 | F52: ='8.คำนวณ'!O36 -> 2263.4021 | G52: ='8.คำนวณ'!P36 -> 7.0852246 | H52: ='8.คำนวณ'!Q36 -> 23.350162 | I52: ='8.คำนวณ'!R36 -> 601.87193 | J52: =+B52 -> รพ.เจริญศิลป์ | K52: =+(C52-C57)*100/C57 -> -8.4050639 | L52: =+(D52-D57)*100/D57 -> -21.19586 | M52: =+(E52-E57)*100/E57 -> -60.846964 | N52: =+(F52-F57)*100/F57 -> 16.101015 | O52: =+(G52-G57)*100/G57 -> -25.697139 | P52: =+(H52-H57)*100/H57 -> -39.607151 | Q52: =+(I52-I57)*100/I57 -> -7.6085191 | R52: =+J52 -> รพ.เจริญศิลป์ | S52: =+K52/100 -> -0.084050639 | T52: =+L52/100 -> -0.2119586 | U52: =+M52/100 -> -0.60846964 | V52: =+N52/100 -> 0.16101015 | W52: =+O52/100 -> -0.25697139 | X52: =+P52/100 -> -0.39607151 | Y52: =+Q52/100 -> -0.076085191 | Z52: =+R52 -> รพ.เจริญศิลป์ | AA52: =+IF(AND(C52>C59),"OK","Not OK") -> OK | AB52: =+IF(AND(D52>D59),"OK","Not OK") -> OK | AC52: =+IF(AND(E52>E59),"OK","Not OK") -> Not OK | AD52: =+IF(AND(F52>F59),"OK","Not OK") -> OK | AE52: =+IF(AND(G52>G59),"OK","Not OK") -> OK | AF52: =+IF(AND(H52>H59),"OK","Not OK") -> OK | AG52: =+IF(AND(I52>I59),"OK","Not OK") -> OK
A53: อุดร | B53: ='8.คำนวณ'!F37 -> รพ.ศรีธาตุ | C53: ='8.คำนวณ'!L37 -> 807.50886 | D53: ='8.คำนวณ'!M37 -> 144.84192 | E53: ='8.คำนวณ'!N37 -> 364.16284 | F53: ='8.คำนวณ'!O37 -> 1273.0064 | G53: ='8.คำนวณ'!P37 -> 10.626017 | H53: ='8.คำนวณ'!Q37 -> 19.845424 | I53: ='8.คำนวณ'!R37 -> 608.30343 | J53: =+B53 -> รพ.ศรีธาตุ | K53: =+(C53-C57)*100/C57 -> -23.251282 | L53: =+(D53-D57)*100/D57 -> -19.216113 | M53: =+(E53-E57)*100/E57 -> -35.60621 | N53: =+(F53-F57)*100/F57 -> -34.701249 | O53: =+(G53-G57)*100/G57 -> 11.435206 | P53: =+(H53-H57)*100/H57 -> -48.671806 | Q53: =+(I53-I57)*100/I57 -> -6.6212397 | R53: =+J53 -> รพ.ศรีธาตุ | S53: =+K53/100 -> -0.23251282 | T53: =+L53/100 -> -0.19216113 | U53: =+M53/100 -> -0.3560621 | V53: =+N53/100 -> -0.34701249 | W53: =+O53/100 -> 0.11435206 | X53: =+P53/100 -> -0.48671806 | Y53: =+Q53/100 -> -0.066212397 | Z53: =+R53 -> รพ.ศรีธาตุ | AA53: =+IF(AND(C53>C59),"OK","Not OK") -> Not OK | AB53: =+IF(AND(D53>D59),"OK","Not OK") -> OK | AC53: =+IF(AND(E53>E59),"OK","Not OK") -> OK | AD53: =+IF(AND(F53>F59),"OK","Not OK") -> OK | AE53: =+IF(AND(G53>G59),"OK","Not OK") -> OK | AF53: =+IF(AND(H53>H59),"OK","Not OK") -> Not OK | AG53: =+IF(AND(I53>I59),"OK","Not OK") -> OK
A54: สกล | B54: ='8.คำนวณ'!F38 -> รพ.โคกศรีสุพรรณ | C54: ='8.คำนวณ'!L38 -> 988.41716 | D54: ='8.คำนวณ'!M38 -> 412.69572 | E54: ='8.คำนวณ'!N38 -> 785.33548 | F54: ='8.คำนวณ'!O38 -> 4596.3901 | G54: ='8.คำนวณ'!P38 -> 8.2323156 | H54: ='8.คำนวณ'!Q38 -> 46.28542 | I54: ='8.คำนวณ'!R38 -> 973.88744 | J54: =+B54 -> รพ.โคกศรีสุพรรณ | K54: =+(C54-C57)*100/C57 -> -6.0570671 | L54: =+(D54-D57)*100/D57 -> 130.17621 | M54: =+(E54-E57)*100/E57 -> 38.868445 | N54: =+(F54-F57)*100/F57 -> 135.77143 | O54: =+(G54-G57)*100/G57 -> -13.667578 | P54: =+(H54-H57)*100/H57 -> 19.712589 | Q54: =+(I54-I57)*100/I57 -> 49.49842 | R54: =+J54 -> รพ.โคกศรีสุพรรณ | S54: =+K54/100 -> -0.060570671 | T54: =+L54/100 -> 1.3017621 | U54: =+M54/100 -> 0.38868445 | V54: =+N54/100 -> 1.3577143 | W54: =+O54/100 -> -0.13667578 | X54: =+P54/100 -> 0.19712589 | Y54: =+Q54/100 -> 0.4949842 | Z54: =+R54 -> รพ.โคกศรีสุพรรณ | AA54: =+IF(AND(C54>C59),"OK","Not OK") -> OK | AB54: =+IF(AND(D54>D59),"OK","Not OK") -> OK | AC54: =+IF(AND(E54>E59),"OK","Not OK") -> OK | AD54: =+IF(AND(F54>F59),"OK","Not OK") -> OK | AE54: =+IF(AND(G54>G59),"OK","Not OK") -> OK | AF54: =+IF(AND(H54>H59),"OK","Not OK") -> OK | AG54: =+IF(AND(I54>I59),"OK","Not OK") -> OK
A55: บึงกาฬ | B55: ='8.คำนวณ'!F39 -> รพ.ศรีวิไล | C55: ='8.คำนวณ'!L39 -> 859.3761 | D55: ='8.คำนวณ'!M39 -> 178.87765 | E55: ='8.คำนวณ'!N39 -> 603.81758 | F55: ='8.คำนวณ'!O39 -> 1848.1201 | G55: ='8.คำนวณ'!P39 -> 7.9486932 | H55: ='8.คำนวณ'!Q39 -> 40.276739 | I55: ='8.คำนวณ'!R39 -> 640.20299 | J55: =+B55 -> รพ.ศรีวิไล | K55: =+(C55-C57)*100/C57 -> -18.321622 | L55: =+(D55-D57)*100/D57 -> -0.23308251 | M55: =+(E55-E57)*100/E57 -> 6.7711961 | N55: =+(F55-F57)*100/F57 -> -5.2008413 | O55: =+(G55-G57)*100/G57 -> -16.64193 | P55: =+(H55-H57)*100/H57 -> 4.1717381 | Q55: =+(I55-I57)*100/I57 -> -1.7244379 | R55: =+J55 -> รพ.ศรีวิไล | S55: =+K55/100 -> -0.18321622 | T55: =+L55/100 -> -0.0023308251 | U55: =+M55/100 -> 0.067711961 | V55: =+N55/100 -> -0.052008413 | W55: =+O55/100 -> -0.1664193 | X55: =+P55/100 -> 0.041717381 | Y55: =+Q55/100 -> -0.017244379 | Z55: =+R55 -> รพ.ศรีวิไล | AA55: =+IF(AND(C55>C59),"OK","Not OK") -> Not OK | AB55: =+IF(AND(D55>D59),"OK","Not OK") -> OK | AC55: =+IF(AND(E55>E59),"OK","Not OK") -> OK | AD55: =+IF(AND(F55>F59),"OK","Not OK") -> OK | AE55: =+IF(AND(G55>G59),"OK","Not OK") -> OK | AF55: =+IF(AND(H55>H59),"OK","Not OK") -> OK | AG55: =+IF(AND(I55>I59),"OK","Not OK") -> OK
A56: สกล | B56: ='8.คำนวณ'!F40 -> รพ.คำตากล้า | C56: ='8.คำนวณ'!L40 -> 1162.9929 | D56: ='8.คำนวณ'!M40 -> 225.72658 | E56: ='8.คำนวณ'!N40 -> 828.57092 | F56: ='8.คำนวณ'!O40 -> 2483.9206 | G56: ='8.คำนวณ'!P40 -> 26.833072 | H56: ='8.คำนวณ'!Q40 -> 73.189858 | I56: ='8.คำนวณ'!R40 -> 632.29923 | J56: =+B56 -> รพ.คำตากล้า | K56: =+(C56-C57)*100/C57 -> 10.535275 | L56: =+(D56-D57)*100/D57 -> 25.896358 | M56: =+(E56-E57)*100/E57 -> 46.513634 | N56: =+(F56-F57)*100/F57 -> 27.412491 | O56: =+(G56-G57)*100/G57 -> 181.39884 | P56: =+(H56-H57)*100/H57 -> 89.298213 | Q56: =+(I56-I57)*100/I57 -> -2.9377192 | R56: =+J56 -> รพ.คำตากล้า | S56: =+K56/100 -> 0.10535275 | T56: =+L56/100 -> 0.25896358 | U56: =+M56/100 -> 0.46513634 | V56: =+N56/100 -> 0.27412491 | W56: =+O56/100 -> 1.8139884 | X56: =+P56/100 -> 0.89298213 | Y56: =+Q56/100 -> -0.029377192 | Z56: =+R56 -> รพ.คำตากล้า | AA56: =+IF(AND(C56>C59),"OK","Not OK") -> OK | AB56: =+IF(AND(D56>D59),"OK","Not OK") -> OK | AC56: =+IF(AND(E56>E59),"OK","Not OK") -> OK | AD56: =+IF(AND(F56>F59),"OK","Not OK") -> OK | AE56: =+IF(AND(G56>G59),"OK","Not OK") -> OK | AF56: =+IF(AND(H56>H59),"OK","Not OK") -> OK | AG56: =+IF(AND(I56>I59),"OK","Not OK") -> OK
B57: ค่าเฉลี่ยของกลุ่ม | C57: =AVERAGE(C45:C56) -> 1052.1464 | D57: =AVERAGE(D45:D56) -> 179.29556 | E57: =AVERAGE(E45:E56) -> 565.52479 | F57: =AVERAGE(F45:F56) -> 1949.511 | G57: =AVERAGE(G45:G56) -> 9.5356013 | H57: =AVERAGE(H45:H56) -> 38.663787 | I57: =AVERAGE(I45:I56) -> 651.43661
B58: 1SD | C58: =+STDEV(C45:C56) -> 156.40771 | D58: =+STDEV(D45:D56) -> 97.31287 | E58: =+STDEV(E45:E56) -> 210.68806 | F58: =+STDEV(F45:F56) -> 927.58353 | G58: =+STDEV(G45:G56) -> 6.0076064 | H58: =+STDEV(H45:H56) -> 16.879309 | I58: =+STDEV(I45:I56) -> 163.9934
B59: mean-1SD | C59: =+C57-C58 -> 895.73866 | D59: =+D57-D58 -> 81.982687 | E59: =+E57-E58 -> 354.83673 | F59: =+F57-F58 -> 1021.9275 | G59: =+G57-G58 -> 3.5279949 | H59: =+H57-H58 -> 21.784478 | I59: =+I57-I58 -> 487.4432
B60: กลุ่ม 5 | C60: รายได้(บาท)/ปชก. | J60: กลุ่ม 5 | K60: %diff ค่าเฉลี่ย/ปชก. | R60: กลุ่ม 5 | S60: %diff ค่าเฉลี่ย/ปชก. | Z60: กลุ่ม 5 | AA60: >Mean-1SD
C61: เหมาจ่ายรายหัว UC | D61: เรียกเก็บUC/กองทุนUC/EMS | E61: ประกันสังคม | F61: ข้าราชการ | G61: พรบ. | H61: ชำระเงินเอง | I61: งบบุคลากร | K61: เหมาจ่ายรายหัว UC | L61: เรียกเก็บUC/กองทุนUC/EMS | M61: ประกันสังคม | N61: ข้าราชการ | O61: พรบ. | P61: ชำระเงินเอง | Q61: งบบุคลากร | S61: เหมาจ่ายรายหัว UC | T61: เรียกเก็บUC/กองทุนUC/EMS | U61: ประกันสังคม | V61: ข้าราชการ | W61: พรบ. | X61: ชำระเงินเอง | Y61: งบบุคลากร | AA61: เหมาจ่ายรายหัว UC | AB61: เรียกเก็บUC/กองทุนUC/EMS | AC61: ประกันสังคม | AD61: ข้าราชการ | AE61: พรบ. | AF61: ชำระเงินเอง | AG61: งบบุคลากร
A62: บึงกาฬ | B62: ='8.คำนวณ'!F41 -> รพ.บึงโขงหลง | C62: ='8.คำนวณ'!L41 -> 971.82082 | D62: ='8.คำนวณ'!M41 -> 240.68725 | E62: ='8.คำนวณ'!N41 -> 1227.7555 | F62: ='8.คำนวณ'!O41 -> 2368.3551 | G62: ='8.คำนวณ'!P41 -> 11.937008 | H62: ='8.คำนวณ'!Q41 -> 116.81482 | I62: ='8.คำนวณ'!R41 -> 629.17289 | J62: =+B62 -> รพ.บึงโขงหลง | K62: =+(C62-C72)*100/C72 -> -6.2718256 | L62: =+(D62-D72)*100/D72 -> -5.7335732 | M62: =+(E62-E72)*100/E72 -> 79.498943 | N62: =+(F62-F72)*100/F72 -> 11.766933 | O62: =+(G62-G72)*100/G72 -> 34.446713 | P62: =+(H62-H72)*100/H72 -> 104.96008 | Q62: =+(I62-I72)*100/I72 -> -1.360296 | R62: =+J62 -> รพ.บึงโขงหลง | S62: =+K62/100 -> -0.062718256 | T62: =+L62/100 -> -0.057335732 | U62: =+M62/100 -> 0.79498943 | V62: =+N62/100 -> 0.11766933 | W62: =+O62/100 -> 0.34446713 | X62: =+P62/100 -> 1.0496008 | Y62: =+Q62/100 -> -0.01360296 | Z62: =+R62 -> รพ.บึงโขงหลง | AA62: =+IF(AND(C62>C74),"OK","Not OK") -> OK | AB62: =+IF(AND(D62>D74),"OK","Not OK") -> OK | AC62: =+IF(AND(E62>E74),"OK","Not OK") -> OK | AD62: =+IF(AND(F62>F74),"OK","Not OK") -> OK | AE62: =+IF(AND(G62>G74),"OK","Not OK") -> OK | AF62: =+IF(AND(H62>H74),"OK","Not OK") -> OK | AG62: =+IF(AND(I62>I74),"OK","Not OK") -> OK
A63: สกล | B63: ='8.คำนวณ'!F42 -> รพ.วาริชภูมิ | C63: ='8.คำนวณ'!L42 -> 1070.6433 | D63: ='8.คำนวณ'!M42 -> 168.72802 | E63: ='8.คำนวณ'!N42 -> 339.91156 | F63: ='8.คำนวณ'!O42 -> 1070.6307 | G63: ='8.คำนวณ'!P42 -> 16.418564 | H63: ='8.คำนวณ'!Q42 -> 41.955263 | I63: ='8.คำนวณ'!R42 -> 563.66288 | J63: =+B63 -> รพ.วาริชภูมิ | K63: =+(C63-C72)*100/C72 -> 3.2592051 | L63: =+(D63-D72)*100/D72 -> -33.916785 | M63: =+(E63-E72)*100/E72 -> -50.30463 | N63: =+(F63-F72)*100/F72 -> -49.475014 | O63: =+(G63-G72)*100/G72 -> 84.92255 | P63: =+(H63-H72)*100/H72 -> -26.386449 | Q63: =+(I63-I72)*100/I72 -> -11.630745 | R63: =+J63 -> รพ.วาริชภูมิ | S63: =+K63/100 -> 0.032592051 | T63: =+L63/100 -> -0.33916785 | U63: =+M63/100 -> -0.5030463 | V63: =+N63/100 -> -0.49475014 | W63: =+O63/100 -> 0.8492255 | X63: =+P63/100 -> -0.26386449 | Y63: =+Q63/100 -> -0.11630745 | Z63: =+R63 -> รพ.วาริชภูมิ | AA63: =+IF(AND(C63>C74),"OK","Not OK") -> OK | AB63: =+IF(AND(D63>D74),"OK","Not OK") -> Not OK | AC63: =+IF(AND(E63>E74),"OK","Not OK") -> OK | AD63: =+IF(AND(F63>F74),"OK","Not OK") -> Not OK | AE63: =+IF(AND(G63>G74),"OK","Not OK") -> OK | AF63: =+IF(AND(H63>H74),"OK","Not OK") -> OK | AG63: =+IF(AND(I63>I74),"OK","Not OK") -> OK
A64: บึงกาฬ | B64: ='8.คำนวณ'!F43 -> รพ.ปากคาด | C64: ='8.คำนวณ'!L43 -> 1004.2907 | D64: ='8.คำนวณ'!M43 -> 263.61511 | E64: ='8.คำนวณ'!N43 -> 1232.9018 | F64: ='8.คำนวณ'!O43 -> 2307.483 | G64: ='8.คำนวณ'!P43 -> 20.316435 | H64: ='8.คำนวณ'!Q43 -> 64.547616 | I64: ='8.คำนวณ'!R43 -> 708.2925 | J64: =+B64 -> รพ.ปากคาด | K64: =+(C64-C72)*100/C72 -> -3.1402334 | L64: =+(D64-D72)*100/D72 -> 3.2462459 | M64: =+(E64-E72)*100/E72 -> 80.251326 | N64: =+(F64-F72)*100/F72 -> 8.8942688 | O64: =+(G64-G72)*100/G72 -> 128.82434 | P64: =+(H64-H72)*100/H72 -> 13.253472 | Q64: =+(I64-I72)*100/I72 -> 11.043823 | R64: =+J64 -> รพ.ปากคาด | S64: =+K64/100 -> -0.031402334 | T64: =+L64/100 -> 0.032462459 | U64: =+M64/100 -> 0.80251326 | V64: =+N64/100 -> 0.088942688 | W64: =+O64/100 -> 1.2882434 | X64: =+P64/100 -> 0.13253472 | Y64: =+Q64/100 -> 0.11043823 | Z64: =+R64 -> รพ.ปากคาด | AA64: =+IF(AND(C64>C74),"OK","Not OK") -> OK | AB64: =+IF(AND(D64>D74),"OK","Not OK") -> OK | AC64: =+IF(AND(E64>E74),"OK","Not OK") -> OK | AD64: =+IF(AND(F64>F74),"OK","Not OK") -> OK | AE64: =+IF(AND(G64>G74),"OK","Not OK") -> OK | AF64: =+IF(AND(H64>H74),"OK","Not OK") -> OK | AG64: =+IF(AND(I64>I74),"OK","Not OK") -> OK
A65: นครพนม | B65: ='8.คำนวณ'!F44 -> รพ.ปลาปาก | C65: ='8.คำนวณ'!L44 -> 866.95524 | D65: ='8.คำนวณ'!M44 -> 247.95665 | E65: ='8.คำนวณ'!N44 -> 332.87157 | F65: ='8.คำนวณ'!O44 -> 1611.5074 | G65: ='8.คำนวณ'!P44 -> 3.3948093 | H65: ='8.คำนวณ'!Q44 -> 18.521091 | I65: ='8.คำนวณ'!R44 -> 487.29525 | J65: =+B65 -> รพ.ปลาปาก | K65: =+(C65-C72)*100/C72 -> -16.385685 | L65: =+(D65-D72)*100/D72 -> -2.8864741 | M65: =+(E65-E72)*100/E72 -> -51.333883 | N65: =+(F65-F72)*100/F72 -> -23.950072 | O65: =+(G65-G72)*100/G72 -> -61.764208 | P65: =+(H65-H72)*100/H72 -> -67.503402 | Q65: =+(I65-I72)*100/I72 -> -23.603416 | R65: =+J65 -> รพ.ปลาปาก | S65: =+K65/100 -> -0.16385685 | T65: =+L65/100 -> -0.028864741 | U65: =+M65/100 -> -0.51333883 | V65: =+N65/100 -> -0.23950072 | W65: =+O65/100 -> -0.61764208 | X65: =+P65/100 -> -0.67503402 | Y65: =+Q65/100 -> -0.23603416 | Z65: =+R65 -> รพ.ปลาปาก | AA65: =+IF(AND(C65>C74),"OK","Not OK") -> OK | AB65: =+IF(AND(D65>D74),"OK","Not OK") -> OK | AC65: =+IF(AND(E65>E74),"OK","Not OK") -> OK | AD65: =+IF(AND(F65>F74),"OK","Not OK") -> OK | AE65: =+IF(AND(G65>G74),"OK","Not OK") -> OK | AF65: =+IF(AND(H65>H74),"OK","Not OK") -> OK | AG65: =+IF(AND(I65>I74),"OK","Not OK") -> Not OK
A66: เลย | B66: ='8.คำนวณ'!F45 -> รพ.ปากชม | C66: ='8.คำนวณ'!L45 -> 1285.9449 | D66: ='8.คำนวณ'!M45 -> 310.525 | E66: ='8.คำนวณ'!N45 -> 675.10274 | F66: ='8.คำนวณ'!O45 -> 4461.4239 | G66: ='8.คำนวณ'!P45 -> 7.6631381 | H66: ='8.คำนวณ'!Q45 -> 81.196354 | I66: ='8.คำนวณ'!R45 -> 560.02095 | J66: =+B66 -> รพ.ปากชม | K66: =+(C66-C72)*100/C72 -> 24.024168 | L66: =+(D66-D72)*100/D72 -> 21.618748 | M66: =+(E66-E72)*100/E72 -> -1.2993825 | N66: =+(F66-F72)*100/F72 -> 110.54261 | O66: =+(G66-G72)*100/G72 -> -13.689952 | P66: =+(H66-H72)*100/H72 -> 42.464892 | Q66: =+(I66-I72)*100/I72 -> -12.201715 | R66: =+J66 -> รพ.ปากชม | S66: =+K66/100 -> 0.24024168 | T66: =+L66/100 -> 0.21618748 | U66: =+M66/100 -> -0.012993825 | V66: =+N66/100 -> 1.1054261 | W66: =+O66/100 -> -0.13689952 | X66: =+P66/100 -> 0.42464892 | Y66: =+Q66/100 -> -0.12201715 | Z66: =+R66 -> รพ.ปากชม | AA66: =+IF(AND(C66>C74),"OK","Not OK") -> OK | AB66: =+IF(AND(D66>D74),"OK","Not OK") -> OK | AC66: =+IF(AND(E66>E74),"OK","Not OK") -> OK | AD66: =+IF(AND(F66>F74),"OK","Not OK") -> OK | AE66: =+IF(AND(G66>G74),"OK","Not OK") -> OK | AF66: =+IF(AND(H66>H74),"OK","Not OK") -> OK | AG66: =+IF(AND(I66>I74),"OK","Not OK") -> OK
A67: นครพนม | B67: ='8.คำนวณ'!F46 -> รพ.นาหว้า | C67: ='8.คำนวณ'!L46 -> 945.35536 | D67: ='8.คำนวณ'!M46 -> 164.12009 | E67: ='8.คำนวณ'!N46 -> 534.5831 | F67: ='8.คำนวณ'!O46 -> 1194.8342 | G67: ='8.คำนวณ'!P46 -> 4.6554962 | H67: ='8.คำนวณ'!Q46 -> 35.186016 | I67: ='8.คำนวณ'!R46 -> 574.44957 | J67: =+B67 -> รพ.นาหว้า | K67: =+(C67-C72)*100/C72 -> -8.8243124 | L67: =+(D67-D72)*100/D72 -> -35.721504 | M67: =+(E67-E72)*100/E72 -> -21.843478 | N67: =+(F67-F72)*100/F72 -> -43.613627 | O67: =+(G67-G72)*100/G72 -> -47.565071 | P67: =+(H67-H72)*100/H72 -> -38.263583 | Q67: =+(I67-I72)*100/I72 -> -9.9396424 | R67: =+J67 -> รพ.นาหว้า | S67: =+K67/100 -> -0.088243124 | T67: =+L67/100 -> -0.35721504 | U67: =+M67/100 -> -0.21843478 | V67: =+N67/100 -> -0.43613627 | W67: =+O67/100 -> -0.47565071 | X67: =+P67/100 -> -0.38263583 | Y67: =+Q67/100 -> -0.099396424 | Z67: =+R67 -> รพ.นาหว้า | AA67: =+IF(AND(C67>C74),"OK","Not OK") -> OK | AB67: =+IF(AND(D67>D74),"OK","Not OK") -> Not OK | AC67: =+IF(AND(E67>E74),"OK","Not OK") -> OK | AD67: =+IF(AND(F67>F74),"OK","Not OK") -> OK | AE67: =+IF(AND(G67>G74),"OK","Not OK") -> OK | AF67: =+IF(AND(H67>H74),"OK","Not OK") -> OK | AG67: =+IF(AND(I67>I74),"OK","Not OK") -> OK
A68: นครพนม | B68: ='8.คำนวณ'!F47 -> รพ.เรณูนคร | C68: ='8.คำนวณ'!L47 -> 874.07525 | D68: ='8.คำนวณ'!M47 -> 321.85197 | E68: ='8.คำนวณ'!N47 -> 1091.9361 | F68: ='8.คำนวณ'!O47 -> 3129.1272 | G68: ='8.คำนวณ'!P47 -> 5.9004127 | H68: ='8.คำนวณ'!Q47 -> 31.505948 | I68: ='8.คำนวณ'!R47 -> 768.63458 | J68: =+B68 -> รพ.เรณูนคร | K68: =+(C68-C72)*100/C72 -> -15.69899 | L68: =+(D68-D72)*100/D72 -> 26.055019 | M68: =+(E68-E72)*100/E72 -> 59.642018 | N68: =+(F68-F72)*100/F72 -> 47.669135 | O68: =+(G68-G72)*100/G72 -> -33.543557 | P68: =+(H68-H72)*100/H72 -> -44.720529 | Q68: =+(I68-I72)*100/I72 -> 20.504061 | R68: =+J68 -> รพ.เรณูนคร | S68: =+K68/100 -> -0.1569899 | T68: =+L68/100 -> 0.26055019 | U68: =+M68/100 -> 0.59642018 | V68: =+N68/100 -> 0.47669135 | W68: =+O68/100 -> -0.33543557 | X68: =+P68/100 -> -0.44720529 | Y68: =+Q68/100 -> 0.20504061 | Z68: =+R68 -> รพ.เรณูนคร | AA68: =+IF(AND(C68>C74),"OK","Not OK") -> OK | AB68: =+IF(AND(D68>D74),"OK","Not OK") -> OK | AC68: =+IF(AND(E68>E74),"OK","Not OK") -> OK | AD68: =+IF(AND(F68>F74),"OK","Not OK") -> OK | AE68: =+IF(AND(G68>G74),"OK","Not OK") -> OK | AF68: =+IF(AND(H68>H74),"OK","Not OK") -> OK | AG68: =+IF(AND(I68>I74),"OK","Not OK") -> OK
A69: เลย | B69: ='8.คำนวณ'!F48 -> รพ.ผาขาว | C69: ='8.คำนวณ'!L48 -> 1391.2751 | D69: ='8.คำนวณ'!M48 -> 299.96046 | E69: ='8.คำนวณ'!N48 -> 567.32107 | F69: ='8.คำนวณ'!O48 -> 1533.4013 | G69: ='8.คำนวณ'!P48 -> 7.9871266 | H69: ='8.คำนวณ'!Q48 -> 28.799007 | I69: ='8.คำนวณ'!R48 -> 610.53367 | J69: =+B69 -> รพ.ผาขาว | K69: =+(C69-C72)*100/C72 -> 34.182835 | L69: =+(D69-D72)*100/D72 -> 17.481091 | M69: =+(E69-E72)*100/E72 -> -17.057158 | N69: =+(F69-F72)*100/F72 -> -27.636038 | O69: =+(G69-G72)*100/G72 -> -10.040864 | P69: =+(H69-H72)*100/H72 -> -49.470054 | Q69: =+(I69-I72)*100/I72 -> -4.2824926 | R69: =+J69 -> รพ.ผาขาว | S69: =+K69/100 -> 0.34182835 | T69: =+L69/100 -> 0.17481091 | U69: =+M69/100 -> -0.17057158 | V69: =+N69/100 -> -0.27636038 | W69: =+O69/100 -> -0.10040864 | X69: =+P69/100 -> -0.49470054 | Y69: =+Q69/100 -> -0.042824926 | Z69: =+R69 -> รพ.ผาขาว | AA69: =+IF(AND(C69>C74),"OK","Not OK") -> OK | AB69: =+IF(AND(D69>D74),"OK","Not OK") -> OK | AC69: =+IF(AND(E69>E74),"OK","Not OK") -> OK | AD69: =+IF(AND(F69>F74),"OK","Not OK") -> OK | AE69: =+IF(AND(G69>G74),"OK","Not OK") -> OK | AF69: =+IF(AND(H69>H74),"OK","Not OK") -> OK | AG69: =+IF(AND(I69>I74),"OK","Not OK") -> OK
A70: อุดร | B70: ='8.คำนวณ'!F49 -> รพ.โนนสะอาด | C70: ='8.คำนวณ'!L49 -> 947.80547 | D70: ='8.คำนวณ'!M49 -> 218.46955 | E70: ='8.คำนวณ'!N49 -> 450.46232 | F70: ='8.คำนวณ'!O49 -> 1411.2165 | G70: ='8.คำนวณ'!P49 -> 7.7141241 | H70: ='8.คำนวณ'!Q49 -> 26.333661 | I70: ='8.คำนวณ'!R49 -> 641.15036 | J70: =+B70 -> รพ.โนนสะอาด | K70: =+(C70-C72)*100/C72 -> -8.5880088 | L70: =+(D70-D72)*100/D72 -> -14.435253 | M70: =+(E70-E72)*100/E72 -> -34.142011 | N70: =+(F70-F72)*100/F72 -> -33.402159 | O70: =+(G70-G72)*100/G72 -> -13.115696 | P70: =+(H70-H72)*100/H72 -> -53.795683 | Q70: =+(I70-I72)*100/I72 -> 0.51749394 | R70: =+J70 -> รพ.โนนสะอาด | S70: =+K70/100 -> -0.085880088 | T70: =+L70/100 -> -0.14435253 | U70: =+M70/100 -> -0.34142011 | V70: =+N70/100 -> -0.33402159 | W70: =+O70/100 -> -0.13115696 | X70: =+P70/100 -> -0.53795683 | Y70: =+Q70/100 -> 0.0051749394 | Z70: =+R70 -> รพ.โนนสะอาด | AA70: =+IF(AND(C70>C74),"OK","Not OK") -> OK | AB70: =+IF(AND(D70>D74),"OK","Not OK") -> OK | AC70: =+IF(AND(E70>E74),"OK","Not OK") -> OK | AD70: =+IF(AND(F70>F74),"OK","Not OK") -> OK | AE70: =+IF(AND(G70>G74),"OK","Not OK") -> OK | AF70: =+IF(AND(H70>H74),"OK","Not OK") -> OK | AG70: =+IF(AND(I70>I74),"OK","Not OK") -> OK
A71: นครพนม | B71: ='8.คำนวณ'!F50 -> รพ.บ้านแพง | C71: ='8.คำนวณ'!L50 -> 1010.3364 | D71: ='8.คำนวณ'!M50 -> 317.35176 | E71: ='8.คำนวณ'!N50 -> 387.05823 | F71: ='8.คำนวณ'!O50 -> 2102.1442 | G71: ='8.คำนวณ'!P50 -> 2.7990501 | H71: ='8.คำนวณ'!Q50 -> 125.07962 | I71: ='8.คำนวณ'!R50 -> 835.28265 | J71: =+B71 -> รพ.บ้านแพง | K71: =+(C71-C72)*100/C72 -> -2.5571525 | L71: =+(D71-D72)*100/D72 -> 24.292485 | M71: =+(E71-E72)*100/E72 -> -43.411745 | N71: =+(F71-F72)*100/F72 -> -0.79603681 | O71: =+(G71-G72)*100/G72 -> -68.474254 | P71: =+(H71-H72)*100/H72 -> 119.46126 | Q71: =+(I71-I72)*100/I72 -> 30.95293 | R71: =+J71 -> รพ.บ้านแพง | S71: =+K71/100 -> -0.025571525 | T71: =+L71/100 -> 0.24292485 | U71: =+M71/100 -> -0.43411745 | V71: =+N71/100 -> -0.0079603681 | W71: =+O71/100 -> -0.68474254 | X71: =+P71/100 -> 1.1946126 | Y71: =+Q71/100 -> 0.3095293 | Z71: =+R71 -> รพ.บ้านแพง | AA71: =+IF(AND(C71>C74),"OK","Not OK") -> OK | AB71: =+IF(AND(D71>D74),"OK","Not OK") -> OK | AC71: =+IF(AND(E71>E74),"OK","Not OK") -> OK | AD71: =+IF(AND(F71>F74),"OK","Not OK") -> OK | AE71: =+IF(AND(G71>G74),"OK","Not OK") -> Not OK | AF71: =+IF(AND(H71>H74),"OK","Not OK") -> OK | AG71: =+IF(AND(I71>I74),"OK","Not OK") -> OK
B72: ค่าเฉลี่ยของกลุ่ม | C72: =AVERAGE(C62:C71) -> 1036.8503 | D72: =AVERAGE(D62:D71) -> 255.32658 | E72: =AVERAGE(E62:E71) -> 683.99039 | F72: =AVERAGE(F62:F71) -> 2119.0124 | G72: =AVERAGE(G62:G71) -> 8.8786164 | H72: =AVERAGE(H62:H71) -> 56.99394 | I72: =AVERAGE(I62:I71) -> 637.84953
B73: 1SD | C73: =STDEV(C62:C71) -> 172.06566 | D73: =STDEV(D62:D71) -> 58.523975 | E73: =STDEV(E62:E71) -> 362.67461 | F73: =STDEV(F62:F71) -> 1036.012 | G73: =STDEV(G62:G71) -> 5.7193061 | H73: =STDEV(H62:H71) -> 38.620036 | I73: =STDEV(I62:I71) -> 105.47575
B74: mean-1SD | C74: =+C72-C73 -> 864.78461 | D74: =+D72-D73 -> 196.80261 | E74: =+E72-E73 -> 321.31578 | F74: =+F72-F73 -> 1083.0004 | G74: =+G72-G73 -> 3.1593103 | H74: =+H72-H73 -> 18.373904 | I74: =+I72-I73 -> 532.37378
B75: กลุ่ม 6 | C75: รายได้(บาท)/ปชก. | J75: กลุ่ม 6 | K75: %diff ค่าเฉลี่ย/ปชก. | R75: กลุ่ม 6 | S75: %diff ค่าเฉลี่ย/ปชก. | Z75: กลุ่ม 6 | AA75: >Mean-1SD
C76: เหมาจ่ายรายหัว UC | D76: เรียกเก็บUC/กองทุนUC/EMS | E76: ประกันสังคม | F76: ข้าราชการ | G76: พรบ. | H76: ชำระเงินเอง | I76: งบบุคลากร | K76: เหมาจ่ายรายหัว UC | L76: เรียกเก็บUC/กองทุนUC/EMS | M76: ประกันสังคม | N76: ข้าราชการ | O76: พรบ. | P76: ชำระเงินเอง | Q76: งบบุคลากร | S76: เหมาจ่ายรายหัว UC | T76: เรียกเก็บUC/กองทุนUC/EMS | U76: ประกันสังคม | V76: ข้าราชการ | W76: พรบ. | X76: ชำระเงินเอง | Y76: งบบุคลากร | AA76: เหมาจ่ายรายหัว UC | AB76: เรียกเก็บUC/กองทุนUC/EMS | AC76: ประกันสังคม | AD76: ข้าราชการ | AE76: พรบ. | AF76: ชำระเงินเอง | AG76: งบบุคลากร
A77: สกล | B77: ='8.คำนวณ'!F51 -> รพ.กุสุมาลย์ | C77: ='8.คำนวณ'!L51 -> 1176.7042 | D77: ='8.คำนวณ'!M51 -> 140.75871 | E77: ='8.คำนวณ'!N51 -> 731.36818 | F77: ='8.คำนวณ'!O51 -> 3596.4853 | G77: ='8.คำนวณ'!P51 -> 6.5340595 | H77: ='8.คำนวณ'!Q51 -> 17.37545 | I77: ='8.คำนวณ'!R51 -> 579.9995 | J77: =+B77 -> รพ.กุสุมาลย์ | K77: =+(C77-C83)*100/C83 -> 23.17137 | L77: =+(D77-D83)*100/D83 -> -21.993253 | M77: =+(E77-E83)*100/E83 -> 39.396276 | N77: =+(F77-F83)*100/F83 -> 108.44305 | O77: =+(G77-G83)*100/G83 -> -7.116597 | P77: =+(H77-H83)*100/H83 -> -39.639049 | Q77: =+(I77-I83)*100/I83 -> -4.746934 | R77: =+J77 -> รพ.กุสุมาลย์ | S77: =+K77/100 -> 0.2317137 | T77: =+L77/100 -> -0.21993253 | U77: =+M77/100 -> 0.39396276 | V77: =+N77/100 -> 1.0844305 | W77: =+O77/100 -> -0.07116597 | X77: =+P77/100 -> -0.39639049 | Y77: =+Q77/100 -> -0.04746934 | Z77: =+R77 -> รพ.กุสุมาลย์ | AA77: =+IF(AND(C77>C85),"OK","Not OK") -> OK | AB77: =+IF(AND(D77>D85),"OK","Not OK") -> OK | AC77: =+IF(AND(E77>E85),"OK","Not OK") -> OK | AD77: =+IF(AND(F77>F85),"OK","Not OK") -> OK | AE77: =+IF(AND(G77>G85),"OK","Not OK") -> OK | AF77: =+IF(AND(H77>H85),"OK","Not OK") -> OK | AG77: =+IF(AND(I77>I85),"OK","Not OK") -> OK
A78: นครพนม | B78: ='8.คำนวณ'!F52 -> รพ.ท่าอุเทน | C78: ='8.คำนวณ'!L52 -> 772.07803 | D78: ='8.คำนวณ'!M52 -> 121.10235 | E78: ='8.คำนวณ'!N52 -> 177.21272 | F78: ='8.คำนวณ'!O52 -> 1079.4036 | G78: ='8.คำนวณ'!P52 -> 2.8173238 | H78: ='8.คำนวณ'!Q52 -> 24.934446 | I78: ='8.คำนวณ'!R52 -> 1019.0924 | J78: =+B78 -> รพ.ท่าอุเทน | K78: =+(C78-C83)*100/C83 -> -19.182826 | L78: =+(D78-D83)*100/D83 -> -32.886565 | M78: =+(E78-E83)*100/E83 -> -66.22386 | N78: =+(F78-F83)*100/F83 -> -37.44054 | O78: =+(G78-G83)*100/G83 -> -59.950988 | P78: =+(H78-H83)*100/H83 -> -13.37969 | Q78: =+(I78-I83)*100/I83 -> 67.365099 | R78: =+J78 -> รพ.ท่าอุเทน | S78: =+K78/100 -> -0.19182826 | T78: =+L78/100 -> -0.32886565 | U78: =+M78/100 -> -0.6622386 | V78: =+N78/100 -> -0.3744054 | W78: =+O78/100 -> -0.59950988 | X78: =+P78/100 -> -0.1337969 | Y78: =+Q78/100 -> 0.67365099 | Z78: =+R78 -> รพ.ท่าอุเทน | AA78: =+IF(AND(C78>C85),"OK","Not OK") -> Not OK | AB78: =+IF(AND(D78>D85),"OK","Not OK") -> Not OK | AC78: =+IF(AND(E78>E85),"OK","Not OK") -> Not OK | AD78: =+IF(AND(F78>F85),"OK","Not OK") -> OK | AE78: =+IF(AND(G78>G85),"OK","Not OK") -> OK | AF78: =+IF(AND(H78>H85),"OK","Not OK") -> OK | AG78: =+IF(AND(I78>I85),"OK","Not OK") -> OK
