Workbook
Name data: '[1]งบทดลอง รพ.'!$A$2:$CL$438
Name data1: #REF!
Name data1: #REF!
Name NEW: #REF!
Name NEW: #REF!
Name test1: #REF!
Name test1: #REF!

Sheet 1.รายชื่อ รพ.
B1: จ.หนองคาย | D1: จ.นครพนม | F1: จ.เลย | H1: จ.หนองบัวลำภู | J1: จ.บึงกาฬ | L1: จ.อุดรธานี | N1: จ.สกลนคร
A2: 1 | B2: หนองคาย | C2: 1 | D2: นครพนม | E2: 1 | F2: เลย | G2: 1 | H2: หนองบัวลำภู | I2: 1 | J2: บึงกาฬ | K2: 1 | L2: อุดรธานี | M2: 1 | N2: สกลนคร
A3: 2 | B3: โพนพิสัย | C3: 2 | D3: ปลาปาก | E3: 2 | F3: นาด้วง | G3: 2 | H3: นากลาง | I3: 2 | J3: พรเจริญ | K3: 2 | L3: กุดจับ | M3: 2 | N3: กุสุมาลย์
A4: 3 | B4: ศรีเชียงใหม่ | C4: 3 | D4: ท่าอุเทน | E4: 3 | F4: เชียงคาน | G4: 3 | H4: โนนสัง | I4: 3 | J4: โซ่พิสัย | K4: 3 | L4: หนองวัวซอ | M4: 3 | N4: กุดบาก
A5: 4 | B5: สังคม | C5: 4 | D5: บ้านแพง | E5: 4 | F5: ปากชม | G5: 4 | H5: ศรีบุญเรือง | I5: 4 | J5: เซกา | K5: 4 | L5: กุมภวาปี | M5: 4 | N5: พระอาจารย์ฝั้น
A6: 5 | B6: ท่าบ่อ | C6: 5 | D6: นาทม | E6: 5 | F6: นาแห้ว | G6: 5 | H6: สุวรรณคูหา | I6: 5 | J6: ปากคาด | K6: 5 | L6: ห้วยเกิ้ง | M6: 5 | N6: พังโคน
A7: 6 | B7: สระใคร | C7: 6 | D7: เรณูนคร | E7: 6 | F7: ภูเรือ | G7: 6 | H7: นาวัง | I7: 6 | J7: บึงโขงหลง | K7: 6 | L7: โนนสะอาด | M7: 6 | N7: วาริชภูมิ
A8: 7 | B8: โพธิ์ตาก | C8: 7 | D8: นาแก | E8: 7 | F8: ท่าลี่ | I8: 7 | J8: ศรีวิไล | K8: 7 | L8: หนองหาน | M8: 7 | N8: นิคมน้ำอูน
A9: 8 | B9: เฝ้าไร่ | C9: 8 | D9: ศรีสงคราม | E9: 8 | F9: วังสะพุง | I9: 8 | J9: บุ่งคล้า | K9: 8 | L9: ทุ่งฝน | M9: 8 | N9: วานรนิวาส
A10: 9 | B10: รัตนวาปี | C10: 9 | D10: นาหว้า | E10: 9 | F10: ภูกระดึง | K10: 9 | L10: ไชยวาน | M10: 9 | N10: คำตากล้า
C11: 10 | D11: โพนสวรรค์ | E11: 10 | F11: ภูหลวง | K11: 10 | L11: ศรีธาตุ | M11: 10 | N11: พระอาจารย์มั่น
C12: 11 | D12: ธาตุพนม | E12: 11 | F12: ผาขาว | K12: 11 | L12: วังสามหมอ | M12: 11 | N12: อากาศอำนวย
C13: 12 | D13: วังยาง | E13: 12 | F13: ด่านซาย | K13: 12 | L13: บ้านผือ | M13: 12 | N13: พระอาจารย์วัน
E14: 13 | F14: เอราวัณ | K14: 13 | L14: น้ำโสม | M14: 13 | N14: เต่างอย
E15: 14 | F15: หนองหิน | K15: 14 | L15: เพ็ญ | M15: 14 | N15: โคกศรีสุพรรณ
B16: งบทดลองเบื้องต้น | K16: 15 | L16: สร้างคอม | M16: 15 | N16: เจริญศิลป์
K17: 16 | L17: หนองแสง | M17: 16 | N17: โพนนาแก้ว
K18: 17 | L18: นายูง | M18: 17 | N18: สว่างแดนดิน
K19: 18 | L19: พิบูลย์รักษ์ | M19: 18 | N19: พระอาจารย์แบน
K20: 19 | L20: บ้านดุง
K21: 20 | L21: กู่แก้ว
K22: 21 | L22: ประจักษ์ศิลปาคม | N22: =9+12+14+6+8+21+18 -> 88

Sheet 2.Hosp. Group
B1: การจัดกลุ่ม Benchmarking รายได้ ค่าใช้จ่าย ปี 2569
A2: 1 | B2: 2 | C2: 3 | D2: 4 | E2: 5 | F2: 6 | G2: 7 | H2: 8 | I2: 9 | J2: 10 | K2: 11
A3: ลำดับเรียงตามจัดกลุ่ม | B3: กลุ่ม | C3: Province | D3: OrgID | E3: Org | F3: ประเภท | G3: ServBed | H3: CapacityGroup | I3: pop | J3: จำนวนเตียงจริง | K3: New Factor
A5: 1 | B5: 1 | C5: อุดรธานี | D5: 11016 | E5: รพ.ห้วยเกิ้ง | F5: รพช. | H5: รพช.F3 P<=15,000 | I5: 3920 | J5: 10 | K5: 21
A6: 2 | B6: 1 | C6: สกลนคร | D6: 11094 | E6: รพ.นิคมน้ำอูน | F6: รพช. | H6: รพช.F3 P<=15,000 | I6: 11615 | J6: 17 | K6: 21
A7: 3 | B7: 1 | C7: เลย | D7: 11033 | E7: รพ.นาแห้ว | F7: รพช. | H7: รพช.F3 P<=15,000 | I7: 9631 | J7: 20 | K7: 21
A8: 4 | B8: 1 | C8: นครพนม | D8: 40840 | E8: รพ.วังยาง | F8: รพช. | H8: รพช.F3 P<=15,000 | I8: 12726 | J8: 20 | K8: 21
A9: 5 | B9: 1 | C9: หนองคาย | D9: 28778 | E9: รพ.โพธิ์ตาก | F9: รพช. | H9: รพช.F3 P<=15,000 | I9: 12310 | J9: 30 | K9: 21
A10: 6 | B10: 1 | C10: บึงกาฬ | D10: 11050 | E10: รพ.บุ่งคล้า | F10: รพช. | H10: รพช.F3 P<=15,000 | I10: 12025 | J10: 34 | K10: 21
A11: 7 | B11: 2 | C11: อุดรธานี | D11: 25059 | E11: รพ.ประจักษ์ศิลปาคม | F11: รพช. | H11: รพช.F3 P15,000-25,000 | I11: 20749 | J11: 30 | K11: 21
A12: 8 | B12: 2 | C12: อุดรธานี | D12: 25058 | E12: รพ.กู่แก้ว | F12: รพช. | H12: รพช.F2 P<=30,000 | I12: 19647 | J12: 30 | K12: 21
A13: 9 | B13: 2 | C13: นครพนม | D13: 11107 | E13: รพ.นาทม | F13: รพช. | H13: รพช.F2 P<=30,000 | I13: 18866 | J13: 36 | K13: 21
A14: 10 | B14: 2 | C14: สกลนคร | D14: 11100 | E14: รพ.เต่างอย | F14: รพช. | H14: รพช.F2 P<=30,000 | I14: 19146 | J14: 35 | K14: 21
A15: 11 | B15: 2 | C15: เลย | D15: 11034 | E15: รพ.ภูเรือ | F15: รพช. | H15: รพช.F2 P<=30,000 | I15: 19640 | J15: 30 | K15: 21
A16: 12 | B16: 2 | C16: อุดรธานี | D16: 11029 | E16: รพ.พิบูลย์รักษ์ | F16: รพช. | H16: รพช.F2 P<=30,000 | I16: 21176 | J16: 30 | K16: 21
... A92: 88 | B92: 13 | C92: อุดรธานี | D92: 10671 | E92: รพ.อุดรธานี | F92: รพศ. | H92: รพศ.A B>1000 | I92: 379668 | J92: 1155 | K92: 14

Sheet 3.สูตรการคำนวณ
A1: สูตรคำนวนข้อมูลหมวดรายได้
A2: ลำดับ | B2: หมวดรายได้ | C2: รายได้(บาท)/ปชก. | D2: %diff ค่าเฉลี่ย/ปชก.
A3: 1 | B3: เหมาจ่ายรายหัว UC | C3: = รายได้ในหมวดเหมาจ่ายรายหัว UC หารด้วยประชากร UC ในพื้นที่รับผิดชอบ | D3: = (รายได้(บาท)/ปชก.ในหมวดเหมาจ่ายรายหัว UC ของร.พ. - ค่าเฉลี่ยรายได้(บาท)/ปชก.ในหมวดเหมาจ่ายรายหัว UC ของกลุ่มร.พ.นั้น) คูณ 100 หารด้วยค่าเฉลี่ยรายได้(บาท)/ปชก.ในหมวดเหมาจ่ายรายหัว UC ของกลุ่มร.พ.นั้น
A4: 2 | B4: เรียกเก็บUC/กองทุนUC/EMS | C4: = รายได้ในหมวดเรียกเก็บUC/กองทุนUC/EMS หารด้วยประชากร UC ในพื้นที่รับผิดชอบ | D4: = (รายได้(บาท)/ปชก.ในหมวดเรียกเก็บUC/กองทุนUC/EMS ของร.พ. - ค่าเฉลี่ยรายได้(บาท)/ปชก.ในหมวดเรียกเก็บUC/กองทุนUC/EMS ของกลุ่มร.พ.นั้น) คูณ 100 หารด้วยค่าเฉลี่ยรายได้(บาท)/ปชก.ในหมวดเรียกเก็บUC/กองทุนUC/EMS ของกลุ่มร.พ.นั้น
A5: 3 | B5: ประกันสังคม | C5: = รายได้ในหมวดประกันสังคม หารด้วยประชากรประกันสังคมในพื้นที่รับผิดชอบ | D5: = (รายได้(บาท)/ปชก.ในหมวดประกันสังคมของร.พ. - ค่าเฉลี่ยรายได้(บาท)/ปชก.ในหมวดประกันสังคมของกลุ่มร.พ.นั้น) คูณ 100 หารด้วยค่าเฉลี่ยรายได้(บาท)/ปชก.ในหมวดประกันสังคมของกลุ่มร.พ.นั้น
A6: 4 | B6: ข้าราชการ | C6: = รายได้ในหมวดข้าราชการ หารด้วยประชากรข้าราชการในพื้นที่รับผิดชอบ | D6: = (รายได้(บาท)/ปชก.ในหมวดข้าราชการของร.พ. - ค่าเฉลี่ยรายได้(บาท)/ปชก.ในหมวดข้าราชการของกลุ่มร.พ.นั้น) คูณ 100 หารด้วยค่าเฉลี่ยรายได้(บาท)/ปชก.ในหมวดข้าราชการของกลุ่มร.พ.นั้น
A7: 5 | B7: พรบ. | C7: = รายได้ในหมวดพรบ. หารด้วยประชากรทุกสิทธิ์ในพื้นที่รับผิดชอบ | D7: = (รายได้(บาท)/ปชก.ในหมวดพรบ.ของร.พ. - ค่าเฉลี่ยรายได้(บาท)/ปชก.ในหมวดพรบ.ของกลุ่มร.พ.นั้น) คูณ 100 หารด้วยค่าเฉลี่ยรายได้(บาท)/ปชก.ในหมวดพรบ.ของกลุ่มร.พ.นั้น
A8: 6 | B8: ชำระเงินเอง | C8: = รายได้ในหมวดชำระเงินเอง หารด้วยประชากรทุกสิทธิ์ในพื้นที่รับผิดชอบ | D8: = (รายได้(บาท)/ปชก.ในหมวดชำระเงินเองของร.พ. - ค่าเฉลี่ยรายได้(บาท)/ปชก.ในหมวดชำระเงินเองของกลุ่มร.พ.นั้น) คูณ 100 หารด้วยค่าเฉลี่ยรายได้(บาท)/ปชก.ในหมวดชำระเงินเองของกลุ่มร.พ.นั้น
A9: 7 | B9: งบบุคลากร | C9: = รายได้ในหมวดงบบุคลากร หารด้วยประชากร UC ในพื้นที่รับผิดชอบ | D9: = (รายได้(บาท)/ปชก.ในหมวดงบบุคลากรของร.พ. - ค่าเฉลี่ยรายได้(บาท)/ปชก.ในหมวดงบบุคลากรของกลุ่มร.พ.นั้น) คูณ 100 หารด้วยค่าเฉลี่ยรายได้(บาท)/ปชก.ในหมวดงบบุคลากรของกลุ่มร.พ.นั้น
A11: สูตรคำนวนข้อมูลหมวดค่าใช้จ่าย
A12: ลำดับ | B12: หมวดค่าใช้จ่าย | C12: ค่าใช้จ่าย(บาท)/RW | D12: %diff ค่าเฉลี่ย/ปชก.
A13: 1 | B13: บุคลากรรวม | C13: = ค่าใช้จ่ายในหมวดบุคลากรรวม หารด้วย Adj.RW รวม(Quick Method) | D13: = (ค่าใช้จ่าย(บาท)/RWในหมวดบุคลากรรวมของร.พ. - ค่าเฉลี่ยค่าใช้จ่าย(บาท)/RWในหมวดบุคลากรรวมของกลุ่มร.พ.นั้น) คูณ 100 หารด้วยค่าเฉลี่ยค่าใช้จ่าย(บาท)/RWในหมวดบุคลากรรวมของกลุ่มร.พ.นั้น
A14: 2 | B14: ค่าฝึกอบรม | C14: = ค่าใช้จ่ายในหมวดค่าฝึกอบรม หารด้วย Adj.RW รวม(Quick Method) | D14: = (ค่าใช้จ่าย(บาท)/RWในหมวดค่าฝึกอบรมของร.พ. - ค่าเฉลี่ยค่าใช้จ่าย(บาท)/RWในหมวดค่าฝึกอบรมของกลุ่มร.พ.นั้น) คูณ 100 หารด้วยค่าเฉลี่ยค่าใช้จ่าย(บาท)/RWในหมวดค่าฝึกอบรมของกลุ่มร.พ.นั้น
A15: 3 | B15: ยาใช้ไป | C15: = ค่าใช้จ่ายในหมวดยาใช้ไป หารด้วย Adj.RW รวม(Quick Method) | D15: = (ค่าใช้จ่าย(บาท)/RWในหมวดยาใช้ไปของร.พ. - ค่าเฉลี่ยค่าใช้จ่าย(บาท)/RWในหมวดยาใช้ไปของกลุ่มร.พ.นั้น) คูณ 100 หารด้วยค่าเฉลี่ยค่าใช้จ่าย(บาท)/RWในหมวดยาใช้ไปของกลุ่มร.พ.นั้น
A16: 4 | B16: เวชภัณฑ์ที่ไม่ใช่ยา | C16: = ค่าใช้จ่ายในหมวดเวชภัณฑ์ที่ไม่ใช่ยา หารด้วย Adj.RW รวม(Quick Method) | D16: = (ค่าใช้จ่าย(บาท)/RWในหมวดเวชภัณฑ์ที่ไม่ใช่ยาของร.พ. - ค่าเฉลี่ยค่าใช้จ่าย(บาท)/RWในหมวดเวชภัณฑ์ที่ไม่ใช่ยาของกลุ่มร.พ.นั้น) คูณ 100 หารด้วยค่าเฉลี่ยค่าใช้จ่าย(บาท)/RWในหมวดเวชภัณฑ์ที่ไม่ใช่ยาของกลุ่มร.พ.นั้น
A17: 5 | B17: วัสดุการแพทย์ | C17: = ค่าใช้จ่ายในหมวดวัสดุการแพทย์ หารด้วย Adj.RW รวม(Quick Method) | D17: = (ค่าใช้จ่าย(บาท)/RWในหมวดวัสดุการแพทย์ของร.พ. - ค่าเฉลี่ยค่าใช้จ่าย(บาท)/RWในหมวดวัสดุการแพทย์ของกลุ่มร.พ.นั้น) คูณ 100 หารด้วยค่าเฉลี่ยค่าใช้จ่าย(บาท)/RWในหมวดวัสดุการแพทย์ของกลุ่มร.พ.นั้น
A18: 6 | B18: วัสดุวิทยาศาสตร์ | C18: = ค่าใช้จ่ายในหมวดวัสดุวิทยาศาสตร์ หารด้วย Adj.RW รวม(Quick Method) | D18: = (ค่าใช้จ่าย(บาท)/RWในหมวดวัสดุวิทยาศาสตร์ของร.พ. - ค่าเฉลี่ยค่าใช้จ่าย(บาท)/RWในหมวดวัสดุวิทยาศาสตร์ของกลุ่มร.พ.นั้น) คูณ 100 หารด้วยค่าเฉลี่ยค่าใช้จ่าย(บาท)/RWในหมวดวัสดุวิทยาศาสตร์ของกลุ่มร.พ.นั้น
A19: 7 | B19: วัสดุอื่น | C19: = ค่าใช้จ่ายในหมวดวัสดุอื่น หารด้วย Adj.RW รวม(Quick Method) | D19: = (ค่าใช้จ่าย(บาท)/RWในหมวดวัสดุอื่นของร.พ. - ค่าเฉลี่ยค่าใช้จ่าย(บาท)/RWในหมวดวัสดุอื่นของกลุ่มร.พ.นั้น) คูณ 100 หารด้วยค่าเฉลี่ยค่าใช้จ่าย(บาท)/RWในหมวดวัสดุอื่นของกลุ่มร.พ.นั้น
A20: 8 | B20: ซ่อมแซม/จ้างเหมา | C20: = ค่าใช้จ่ายในหมวดซ่อมแซม/จ้างเหมา หารด้วย Adj.RW รวม(Quick Method) | D20: = (ค่าใช้จ่าย(บาท)/RWในหมวดซ่อมแซม/จ้างเหมาของร.พ. - ค่าเฉลี่ยค่าใช้จ่าย(บาท)/RWในหมวดซ่อมแซม/จ้างเหมาของกลุ่มร.พ.นั้น) คูณ 100 หารด้วยค่าเฉลี่ยค่าใช้จ่าย(บาท)/RWในหมวดซ่อมแซม/จ้างเหมาของกลุ่มร.พ.นั้น
A21: 9 | B21: จ้างตรวจLAB | C21: = ค่าใช้จ่ายในหมวดจ้างตรวจLAB หารด้วย Adj.RW รวม(Quick Method) | D21: = (ค่าใช้จ่าย(บาท)/RWในหมวดจ้างตรวจLABของร.พ. - ค่าเฉลี่ยค่าใช้จ่าย(บาท)/RWในหมวดจ้างตรวจLABของกลุ่มร.พ.นั้น) คูณ 100 หารด้วยค่าเฉลี่ยค่าใช้จ่าย(บาท)/RWในหมวดจ้างตรวจLABของกลุ่มร.พ.นั้น
A22: 10 | B22: ค่าสาธารณูปโภค | C22: = ค่าใช้จ่ายในหมวดค่าสาธารณูปโภค หารด้วย Adj.RW รวม(Quick Method) | D22: = (ค่าใช้จ่าย(บาท)/RWในหมวดค่าสาธารณูปโภคของร.พ. - ค่าเฉลี่ยค่าใช้จ่าย(บาท)/RWในหมวดค่าสาธารณูปโภคของกลุ่มร.พ.นั้น) คูณ 100 หารด้วยค่าเฉลี่ยค่าใช้จ่าย(บาท)/RWในหมวดค่าสาธารณูปโภคของกลุ่มร.พ.นั้น
A23: 11 | B23: ค่าใช้สอยอื่นๆ | C23: = ค่าใช้จ่ายในหมวดค่าใช้สอยอื่นๆ หารด้วย Adj.RW รวม(Quick Method) | D23: = (ค่าใช้จ่าย(บาท)/RWในหมวดค่าใช้สอยอื่นๆของร.พ. - ค่าเฉลี่ยค่าใช้จ่าย(บาท)/RWในหมวดค่าใช้สอยอื่นๆของกลุ่มร.พ.นั้น) คูณ 100 หารด้วยค่าเฉลี่ยค่าใช้จ่าย(บาท)/RWในหมวดค่าใช้สอยอื่นๆของกลุ่มร.พ.นั้น
A24: 12 | B24: ค่าใช้จ่ายอื่นๆ | C24: = ค่าใช้จ่ายในหมวดค่าใช้จ่ายอื่นๆ หารด้วย Adj.RW รวม(Quick Method) | D24: = (ค่าใช้จ่าย(บาท)/RWในหมวดค่าใช้จ่ายอื่นๆของร.พ. - ค่าเฉลี่ยค่าใช้จ่าย(บาท)/RWในหมวดค่าใช้จ่ายอื่นๆของกลุ่มร.พ.นั้น) คูณ 100 หารด้วยค่าเฉลี่ยค่าใช้จ่าย(บาท)/RWในหมวดค่าใช้จ่ายอื่นๆของกลุ่มร.พ.นั้น
A26: หมายเหตุ : Factor Quick Method ในการคำนวนหาค่า Adj.RW รวม คือ รพ.ศูนย์/รพ.ทั่วไป = 14, รพช.ขนาดใหญ่ = 17, รพช.ขนาดกลาง/เล็ก = 21
A27: สูตรหา: | B27: Rw รวมคิดแบบ quick method = (จำนวน visit ผู้ป่วยนอก/ค่า factor) + rw ผู้ป่วยใน

Sheet DATA
B1: ข้อมูลประชากรและผลงานบริการไตรมาสที่ 2/2569
I2: สิทธิประกันสังคม | J2: สิทธิข้าราชการ | K2: สิทธิอื่นๆ | L2: HDC | M2: CMI@MOPH
A3: ลำดับเรียงตามงบทดลอง | B3: ลำดับเรียงตามจัดกลุ่ม | C3: กลุ่ม | D3: จังหวัด | E3: รหัส | F3: โรงพยาบาล | G3: จำนวนประชากรแยกตามสิทธิ (คน) | L3: OPD (จำนวนครั้ง) | M3: IPD
G4: ประชากรทั้งหมด | H4: สิทธิ UC 1 เม.ย.68 | I4: สิทธิประกันสังคม | J4: สิทธิข้าราชการ | K4: สิทธิอื่นๆ | L4: OP Visit รวม | M4: AdjRW รวม
A5: 72 | B5: 1 | C5: 1 | D5: อุดรธานี | E5: 11016 | F5: ห้วยเกิ้ง | G5: 4283 | H5: 3920 | I5: 310 | J5: 402 | K5: =G5-(H5+I5+J5) -> -349 | L5: 16255 | M5: 414.262
A6: 41 | B6: 2 | C6: 1 | D6: สกลนคร | E6: 11094 | F6: นิคมน้ำอูน | G6: 12372 | H6: 10569 | I6: 515 | J6: 1132 | K6: =G6-(H6+I6+J6) -> 156 | L6: 22386 | M6: 446.632
A7: 25 | B7: 3 | C7: 1 | D7: เลย | E7: 11033 | F7: นาแห้ว | G7: 10457 | H7: 8710 | I7: 399 | J7: 1154 | K7: =G7-(H7+I7+J7) -> 194 | L7: 20974 | M7: 487.012
A8: 12 | B8: 4 | C8: 1 | D8: นครพนม | E8: 40840 | F8: วังยาง | G8: 13263 | H8: 11617 | I8: 320 | J8: 875 | K8: =G8-(H8+I8+J8) -> 451 | L8: 24305 | M8: 592.403
A9: 59 | B9: 5 | C9: 1 | D9: หนองคาย | E9: 28778 | F9: โพธิ์ตาก | G9: 12971 | H9: 11739 | I9: 351 | J9: 784 | K9: =G9-(H9+I9+J9) -> 97 | L9: 20101 | M9: 634.498
A10: 20 | B10: 6 | C10: 1 | D10: บึงกาฬ | E10: 11050 | F10: บุ่งคล้า | G10: 12400 | H10: 11073 | I10: 390 | J10: 1085 | K10: =G10-(H10+I10+J10) -> -148 | L10: 21308 | M10: 536.407
A11: 88 | B11: 7 | C11: 2 | D11: อุดรธานี | E11: 25059 | F11: ประจักษ์ | G11: 21423 | H11: 18961 | I11: 1168 | J11: 1175 | K11: =G11-(H11+I11+J11) -> 119 | L11: 32559 | M11: 848.311
A12: 87 | B12: 8 | C12: 2 | D12: อุดรธานี | E12: 25058 | F12: กู่แก้ว | G12: 19682 | H12: 17958 | I12: 581 | J12: 1121 | K12: =G12-(H12+I12+J12) -> 22 | L12: 35545 | M12: 940.567
A13: 5 | B13: 9 | C13: 2 | D13: นครพนม | E13: 11107 | F13: นาทม | G13: 19009 | H13: 17227 | I13: 569 | J13: 1314 | K13: =G13-(H13+I13+J13) -> -101 | L13: 31302 | M13: 562.036
A14: 47 | B14: 10 | C14: 2 | D14: สกลนคร | E14: 11100 | F14: เต่างอย | G14: 20453 | H14: 17422 | I14: 1496 | J14: 1422 | K14: =G14-(H14+I14+J14) -> 113 | L14: 31574 | M14: 836.888
A15: 26 | B15: 11 | C15: 2 | D15: เลย | E15: 11034 | F15: ภูเรือ | G15: 21000 | H15: 17762 | I15: 953 | J15: 1875 | K15: =G15-(H15+I15+J15) -> 410 | L15: 40609 | M15: 1310.81
A16: 85 | B16: 12 | C16: 2 | D16: อุดรธานี | E16: 11029 | F16: พิบูลย์รักษ์ | G16: 21500 | H16: 19357 | I16: 776 | J16: 1309 | K16: =G16-(H16+I16+J16) -> 58 | L16: 37296 | M16: 1141.15
A17: 58 | B17: 13 | C17: 2 | D17: หนองคาย | E17: 21356 | F17: สระใคร | G17: 22106 | H17: 19837 | I17: 1148 | J17: 1130 | K17: =G17-(H17+I17+J17) -> -9 | L17: 33412 | M17: 1219.55
... A26: 27 | B26: 22 | C26: 3 | D26: เลย | E26: 11035 | F26: ท่าลี่ | G26: 25442 | H26: 20434 | I26: 1057 | J26: 2468 | K26: =G26-(H26+I26+J26) -> 1483 | L26: 36340 | M26: 1173.92
A27: 75 | B27: 23 | C27: 3 | D27: อุดรธานี | E27: 11019 | F27: ทุ่งฝน | G27: 27098 | H27: 24417 | I27: 847 | J27: 1806 | K27: =G27-(H27+I27+J27) -> 28 | L27: 40253 | M27: 1123.59
A28: 67 | B28: 24 | C28: 4 | D28: หนองบัวลำภู | E28: 23367 | F28: นาวังฯ | G28: 31374 | H28: 28321 | I28: 872 | J28: 2088 | K28: =G28-(H28+I28+J28) -> 93 | L28: 41246 | M28: 1377.32
A29: 37 | B29: 25 | C29: 3 | D29: สกลนคร | E29: 11090 | F29: กุดบาก | G29: 27121 | H29: 23321 | I29: 1122 | J29: 2594 | K29: =G29-(H29+I29+J29) -> 84 | L29: 42055 | M29: 1353.24
A30: 76 | B30: 26 | C30: 3 | D30: อุดรธานี | E30: 11020 | F30: ไชยวาน | G30: 32235 | H30: 29145 | I30: 1043 | J30: 2167 | K30: =G30-(H30+I30+J30) -> -120 | L30: 46073 | M30: 1058.44
A31: 30 | B31: 27 | C31: 4 | D31: เลย | E31: 11038 | F31: ภูหลวง | G31: 22070 | H31: 20077 | I31: 765 | J31: 1725 | K31: =G31-(H31+I31+J31) -> -497 | L31: 43276 | M31: 1693.17
A32: 29 | B32: 28 | C32: 4 | D32: เลย | E32: 11037 | F32: ภูกระดึง | G32: 28715 | H32: 26160 | I32: 918 | J32: 1875 | K32: =G32-(H32+I32+J32) -> -238 | L32: 45049 | M32: 1325.06
A33: 50 | B33: 29 | C33: 4 | D33: สกลนคร | E33: 11103 | F33: โพนนาแก้ว | G33: 31209 | H33: 27552 | I33: 1469 | J33: 2023 | K33: =G33-(H33+I33+J33) -> 165 | L33: 40976 | M33: 1011.38
A34: 60 | B34: 30 | C34: 4 | D34: หนองคาย | E34: 28811 | F34: เฝ้าไร่ | G34: 41733 | H34: 36201 | I34: 837 | J34: 2149 | K34: =G34-(H34+I34+J34) -> 2546 | L34: 38246 | M34: 902.95
A35: 33 | B35: 31 | C35: 4 | D35: เลย | E35: 14133 | F35: เอราวัณ | G35: 33278 | H35: 30416 | I35: 1068 | J35: 1740 | K35: =G35-(H35+I35+J35) -> 54 | L35: 46349 | M35: 1132.91
A36: 52 | B36: 32 | C36: 4 | D36: สกลนคร | E36: 21323 | F36: พระอาจารย์แบนฯ | G36: 31219 | H36: 28208 | I36: 946 | J36: 2048 | K36: =G36-(H36+I36+J36) -> 17 | L36: 36516 | M36: 1193.01
A37: 46 | B37: 33 | C37: 4 | D37: สกลนคร | E37: 11099 | F37: พระอาจารย์วันฯ | G37: 28823 | H37: 26007 | I37: 707 | J37: 1959 | K37: =G37-(H37+I37+J37) -> 150 | L37: 48268 | M37: 1335.38
A38: 49 | B38: 34 | C38: 4 | D38: สกลนคร | E38: 11102 | F38: เจริญศิลป์ | G38: 36351 | H38: 32958 | I38: 1047 | J38: 2246 | K38: =G38-(H38+I38+J38) -> 100 | L38: 47864 | M38: 1231.7
A39: 77 | B39: 35 | C39: 4 | D39: อุดรธานี | E39: 11021 | F39: ศรีธาตุ | G39: 41300 | H39: 35092 | I39: 1674 | J39: 4497 | K39: =G39-(H39+I39+J39) -> 37 | L39: 49672 | M39: 1699.8
... A91: 35 | B91: 87 | C91: 13 | D91: สกลนคร | E91: 10710 | F91: สกลนคร | G91: 201159 | H91: 144787 | I91: 24166 | J91: 22663 | K91: =G91-(H91+I91+J91) -> 9543 | L91: 476106 | M91: 60242.9
A92: 68 | B92: 88 | C92: 13 | D92: อุดรธานี | E92: 10671 | F92: อุดรธานี | G92: 422536 | H92: 260627 | I92: 55026 | J92: 52150 | K92: =G92-(H92+I92+J92) -> 54733 | L92: 556307 | M92: 102665
A93: รวมเขต 8 | L93: =SUM(L5:L92) -> 7208555 | M93: =SUM(M5:M92) -> 516508.84
A94: หมายเหตุ ข้อมูลบริการ ณ มีนาคม 2569

Sheet 4.งบ มี.ค.69
D1: 1 | E1: 2 | F1: 3 | G1: 4 | H1: 5 | I1: 6 | J1: 7 | K1: 8 | L1: 9 | M1: 10 | N1: 11 | O1: 12 | P1: 13 | Q1: 14 | R1: 15 | S1: 16 | T1: 17 | U1: 18 | V1: 19 | W1: 20 | X1: 21 | Y1: 22 | Z1: 23 | AA1: 24 | AB1: 25 | AC1: 26 | AD1: 27 | AE1: 28 | AF1: 29 | AG1: 30 | AH1: 31 | AI1: 32 | AJ1: 33 | AK1: 34 | AL1: 35 | AM1: 36 | AN1: 37 | AO1: 38 | AP1: 39 | AQ1: 40 | AR1: 41 | AS1: 42 | AT1: 43 | AU1: 44 | AV1: 45 | AW1: 46 | AX1: 47 | AY1: 48 | AZ1: 49 | BA1: 50 | BB1: 51 | BC1: 52 | BD1: 53 | BE1: 54 | BF1: 55 | BG1: 56 | BH1: 57 | BI1: 58 | BJ1: 59 | BK1: 60 | BL1: 61 | BM1: 62 | BN1: 63 | BO1: 64 | BP1: 65 | BQ1: 66 | BR1: 67 | BS1: 68 | BT1: 69 | BU1: 70 | BV1: 71 | BW1: 72 | BX1: 73 | BY1: 74 | BZ1: 75 | CA1: 76 | CB1: 77 | CC1: 78 | CD1: 79 | CE1: 80 | CF1: 81 | CG1: 82 | CH1: 83 | CI1: 84 | CJ1: 85 | CK1: 86 | CL1: 87 | CM1: 88
D2: นครพนม | E2: นครพนม | F2: นครพนม | G2: นครพนม | H2: นครพนม | I2: นครพนม | J2: นครพนม | K2: นครพนม | L2: นครพนม | M2: นครพนม | N2: นครพนม | O2: นครพนม | P2: บึงกาฬ | Q2: บึงกาฬ | R2: บึงกาฬ | S2: บึงกาฬ | T2: บึงกาฬ | U2: บึงกาฬ | V2: บึงกาฬ | W2: บึงกาฬ | X2: เลย | Y2: เลย | Z2: เลย | AA2: เลย | AB2: เลย | AC2: เลย | AD2: เลย | AE2: เลย | AF2: เลย | AG2: เลย | AH2: เลย | AI2: เลย | AJ2: เลย | AK2: เลย | AL2: สกลนคร | AM2: สกลนคร | AN2: สกลนคร | AO2: สกลนคร | AP2: สกลนคร | AQ2: สกลนคร | AR2: สกลนคร | AS2: สกลนคร | AT2: สกลนคร | AU2: สกลนคร | AV2: สกลนคร | AW2: สกลนคร | AX2: สกลนคร | AY2: สกลนคร | AZ2: สกลนคร | BA2: สกลนคร | BB2: สกลนคร | BC2: สกลนคร | BD2: หนองคาย | BE2: หนองคาย | BF2: หนองคาย | BG2: หนองคาย | BH2: หนองคาย | BI2: หนองคาย | BJ2: หนองคาย | BK2: หนองคาย | BL2: หนองคาย | BM2: หนองบัวลำภู | BN2: หนองบัวลำภู | BO2: หนองบัวลำภู | BP2: หนองบัวลำภู | BQ2: หนองบัวลำภู | BR2: หนองบัวลำภู | BS2: อุดรธานี | BT2: อุดรธานี | BU2: อุดรธานี | BV2: อุดรธานี | BW2: อุดรธานี | BX2: อุดรธานี | BY2: อุดรธานี | BZ2: อุดรธานี | CA2: อุดรธานี | CB2: อุดรธานี | CC2: อุดรธานี | CD2: อุดรธานี | CE2: อุดรธานี | CF2: อุดรธานี | CG2: อุดรธานี | CH2: อุดรธานี | CI2: อุดรธานี | CJ2: อุดรธานี | CK2: อุดรธานี | CL2: อุดรธานี | CM2: อุดรธานี
D3: 10711 | E3: 11104 | F3: 11105 | G3: 11106 | H3: 11107 | I3: 11108 | J3: 11109 | K3: 11110 | L3: 11111 | M3: 11112 | N3: 11451 | O3: 40840 | P3: 11040 | Q3: 11041 | R3: 11043 | S3: 11046 | T3: 11047 | U3: 11048 | V3: 11049 | W3: 11050 | X3: 10705 | Y3: 11030 | Z3: 11031 | AA3: 11032 | AB3: 11033 | AC3: 11034 | AD3: 11035 | AE3: 11036 | AF3: 11037 | AG3: 11038 | AH3: 11039 | AI3: 11447 | AJ3: 14133 | AK3: 28861 | AL3: 10710 | AM3: 11089 | AN3: 11090 | AO3: 11091 | AP3: 11092 | AQ3: 11093 | AR3: 11094 | AS3: 11095 | AT3: 11096 | AU3: 11097 | AV3: 11098 | AW3: 11099 | AX3: 11100 | AY3: 11101 | AZ3: 11102 | BA3: 11103 | BB3: 11450 | BC3: 21323 | BD3: 10706 | BE3: 11042 | BF3: 11044 | BG3: 11045 | BH3: 11448 | BI3: 21356 | BJ3: 28778 | BK3: 28811 | BL3: 28815 | BM3: 10704 | BN3: 10991 | BO3: 10992 | BP3: 10993 | BQ3: 10994 | BR3: 23367 | BS3: 10671 | BT3: 11013 | BU3: 11014 | BV3: 11015 | BW3: 11016 | BX3: 11017 | BY3: 11018 | BZ3: 11019 | CA3: 11020 | CB3: 11021 | CC3: 11022 | CD3: 11023 | CE3: 11024 | CF3: 11025 | CG3: 11026 | CH3: 11027 | CI3: 11028 | CJ3: 11029 | CK3: 11446 | CL3: 25058 | CM3: 25059
B4: CodeL1 | C4: Account1 | D4: นครพนม,รพท. | E4: ปลาปาก,รพช. | F4: ท่าอุเทน,รพช. | G4: บ้านแพง,รพช. | H4: นาทม,รพช. | I4: เรณูนคร,รพช. | J4: นาแก,รพช. | K4: ศรีสงคราม,รพช. | L4: นาหว้า,รพช. | M4: โพนสวรรค์,รพช. | N4: สมเด็จพระยุพราชธาตุพนม,รพช. | O4: วังยาง,รพช. | P4: บึงกาฬ,รพท. | Q4: พรเจริญ,รพช. | R4: โซ่พิสัย,รพช. | S4: เซกา,รพช. | T4: ปากคาด,รพช. | U4: บึงโขงหลง,รพช. | V4: ศรีวิไล,รพช. | W4: บุ่งคล้า,รพช. | X4: เลย,รพท. | Y4: นาด้วง,รพช. | Z4: เชียงคาน,รพช. | AA4: ปากชม,รพช. | AB4: นาแห้ว,รพช. | AC4: ภูเรือ,รพช. | AD4: ท่าลี่,รพช. | AE4: วังสะพุง,รพช. | AF4: ภูกระดึง,รพช. | AG4: ภูหลวง,รพช. | AH4: ผาขาว,รพช. | AI4: สมเด็จพระยุพราชด่านซ้าย,รพช. | AJ4: เอราวัณ,รพช. | AK4: หนองหิน,รพช. | AL4: สกลนคร,รพศ. | AM4: กุสุมาลย์,รพช. | AN4: กุดบาก,รพช. | AO4: พระอาจารย์ฝั้นอาจาโร,รพช. | AP4: พังโคน,รพช. | AQ4: วาริชภูมิ,รพช. | AR4: นิคมน้ำอูน,รพช. | AS4: วานรนิวาส,รพท. | AT4: คำตากล้า,รพช. | AU4: พระอาจารย์มั่นฯ,รพช. | AV4: อากาศอำนวย,รพช. | AW4: พระอาจารย์วันฯ,รพช. | AX4: เต่างอย,รพช. | AY4: โคกศรีสุพรรณ,รพช. | AZ4: เจริญศิลป์,รพช. | BA4: โพนนาแก้ว,รพช. | BB4: สมเด็จพระยุพราชสว่างแดนดิน,รพท. | BC4: พระอาจารย์แบน ธนากโร,รพช. | BD4: หนองคาย,รพท. | BE4: โพนพิสัย,รพช. | BF4: ศรีเชียงใหม่,รพช. | BG4: สังคม,รพช. | BH4: สมเด็จพระยุพราชท่าบ่อ,รพท. | BI4: สระใคร,รพช. | BJ4: โพธิ์ตาก,รพช. | BK4: เฝ้าไร่,รพช. | BL4: รัตนวาปี,รพช. | BM4: หนองบัวลำภู,รพท. | BN4: นากลาง,รพช. | BO4: โนนสัง,รพช. | BP4: ศรีบุญเรือง,รพช. | BQ4: สุวรรณคูหา,รพช. | BR4: นาวัง เฉลิมพระเกียรติ 80 พรรษา,รพช. | BS4: อุดรธานี,รพศ. | BT4: กุดจับ,รพช. | BU4: หนองวัวซอ,รพช. | BV4: กุมภวาปี,รพท. | BW4: ห้วยเกิ้ง,รพช. | BX4: โนนสะอาด,รพช. | BY4: หนองหาน,รพช. | BZ4: ทุ่งฝน,รพช. | CA4: ไชยวาน,รพช. | CB4: ศรีธาตุ,รพช. | CC4: วังสามหมอ,รพช. | CD4: บ้านผือ,รพช. | CE4: น้ำโสม,รพช. | CF4: เพ็ญ,รพช. | CG4: สร้างคอม,รพช. | CH4: หนองแสง,รพช. | CI4: นายูง,รพช. | CJ4: พิบูลย์รักษ์,รพช. | CK4: สมเด็จพระยุพราชบ้านดุง,รพช. | CL4: กู่แก้ว,รพช. | CM4: ประจักษ์ศิลปาคม,รพช.
B5: 4201020106.101 | C5: รายได้แผ่นดิน - เงินชดใช้จากการผิดสัญญาการศึกษาและดูงาน | P5: 1496880
B6: 4201020199.101 | C6: รายได้แผ่นดิน - ค่าปรับอื่น | D6: 72832.88 | BS6: 11990
B7: 4202010199.101 | C7: รายได้ค่าธรรมเนียมการบริการอื่น | D7: 9200 | AL7: 30400 | BD7: 1500 | BM7: 4000 | CH7: 8107
B8: 4202020102.101 | C8: รายได้ค่าเช่าอสังหาริมทรัพย์จากบุคคลภายนอก | X8: 21000 | AL8: 8000
B9: 4202030105.101 | C9: รายได้แผ่นดิน-ค่าขายของเบ็ดเตล็ด | D9: 83000 | BS9: 970589 | BV9: 254800
B10: 4203010101.101 | C10: รายได้ดอกเบี้ยเงินฝากที่สถาบันการเงิน | P10: 549.69 | U10: 30082.03 | BD10: 9404.48 | BH10: 7548.35 | BI10: 1978.24 | BM10: 449.04 | BS10: 43275.72 | BV10: 313.45
B11: 4205010104.101 | C11: รายรับจากการขายอาคารและสิ่งปลูกสร้าง
B12: 4205010110.101 | C12: รายรับจากการขายครุภัณฑ์ | P12: 11400 | BD12: 95500 | BX12: 3000
B13: 4206010102.101 | C13: รายได้เงินเหลือจ่ายปีเก่า/รายที่ไม่ใช่ภาษีอื่น | D13: 13741.21 | AL13: 465865.29 | BM13: 22979.23 | BS13: 1793091.6 | BV13: 2750
B14: 4206010199.101 | C14: บัญชีรายได้ที่ไม่ใช่ภาษีอื่น | BH14: 2838.71
B15: 4207010102.102 | C15: รายได้แผ่นดิน-ค่าปรับอื่นจ่ายคืน
A16: 15 | B16: 4301010102.101 | C16: รายได้จากการจำหน่ายยาสมุนไพร - บุคคลภายนอก | I16: 13543 | AO16: 164105 | BE16: 100920
A17: 15 | B17: 4301010102.102 | C17: รายได้จากการจำหน่ายสินค้าอื่น ๆ - บุคคลภายนอก
A18: 15 | B18: 4301010102.103 | C18: รายได้จากการจำหน่ายยาสมุนไพร - หน่วยงานภาครัฐ | I18: 20450 | AO18: 10372081 | BE18: 756617.72 | BW18: 972190
A19: 15 | B19: 4301010102.104 | C19: รายได้จากการจำหน่ายสินค้าอื่น ๆ - หน่วยงานภาครัฐ | H19: 909732 | BM19: 262786.75
A20: 15 | B20: 4301020102.101 | C20: รายได้ค่าสิ่งส่งตรวจ - บุคคลภายนอก | K20: 360 | X20: 8340 | AD20: 4000 | BB20: 4675 | BD20: 745342 | BE20: 11100 | BF20: 44740 | BH20: 124890.5 | BM20: 432256 | BS20: 201250 | BV20: 123270 | BY20: 31785 | CE20: 148270 | CF20: 98133.08
A21: 15 | B21: 4301020102.102 | C21: รายได้ค่าตรวจสุขภาพ - บุคคลภายนอก | D21: 377380 | H21: 32190 | P21: 676638.5 | X21: 640213 | AL21: 8860688.5 | AP21: 88830 | AS21: 10890 | AV21: 13630 | AW21: 3380 | BD21: 844100.25 | BE21: 8500 | BG21: 15710 | BM21: 66380 | BU21: 34104.03 | BV21: 310818 | BY21: 327295 | CD21: 7850
A22: 15 | B22: 4301020102.103 | C22: รายได้ค่าสิ่งส่งตรวจ - หน่วยงานภาครัฐ | D22: 11525755 | I22: 6000 | K22: 9000 | N22: 17300 | P22: 43380 | S22: 1090 | X22: 4048206 | AI22: 29160 | AL22: 1161740 | AR22: 1800 | AS22: 9000 | BB22: 197035 | BD22: 409095 | BE22: 5220 | BH22: 152990 | BM22: 3397632 | BS22: 2082635 | BV22: 276260 | BY22: 71560 | CC22: 1000
A23: 15 | B23: 4301020102.104 | C23: รายได้ค่าตรวจสุขภาพ-หน่วยงานภาครัฐ | D23: 655225.5 | F23: 480 | G23: 60905 | H23: 30440 | I23: 79100 | J23: 5970 | K23: 1000 | L23: 9590 | M23: 44120 | N23: 59350 | P23: 365780 | R23: 96990 | S23: 14480 | T23: 52770 | U23: 5382 | V23: 44080 | X23: 1048195 | Y23: 78740 | AA23: 40760 | AC23: 10450 | AE23: 60940 | AG23: 48690 | AH23: 6569.5 | AI23: 2190 | AL23: 948800 | AN23: 43840 | AS23: 10965 | BB23: 441180 | BC23: 56000 | BD23: 1079860 | BE23: 57430 | BG23: 19480 | BH23: 776505 | BJ23: 125570 | BK23: 480 | BL23: 38293 | BM23: 202890 | BN23: 85620 | BO23: 81950 | BP23: 5780 | BQ23: 42500 | BS23: 594219 | BV23: 8415 | BY23: 111370 | CD23: 147005 | CH23: 600 | CK23: 9255 | CL23: 44530
A24: 4 | B24: 4301020102.105 | C24: รายได้จากระบบปฏิบัติการฉุกเฉิน (EMS) | D24: 1000950 | E24: 77400 | F24: 182950 | G24: 93050 | H24: 15200 | I24: 142600 | J24: 85050 | K24: 27550 | L24: 129250 | M24: 108350 | N24: 443700 | O24: 54350 | P24: 384000 | Q24: 106400 | R24: 101600 | S24: 49350 | T24: 47850 | U24: 81700 | V24: 110350 | W24: 59100 | X24: 966350 | Y24: 271500 | Z24: 371150 | AA24: 302700 | AB24: 83200 | AC24: 101800 | AD24: 454650 | AE24: 398750 | AF24: 220950 | AG24: 107700 | AH24: 72450 | AI24: 222410 | AJ24: 85600 | AK24: 371650 | AL24: 438050 | AM24: 19600 | AN24: 10900 | AO24: 106850 | AP24: 260900 | AQ24: 245450 | AR24: 81900 | AS24: 781150 | AT24: 162000 | AU24: 203750 | AV24: 286750 | AW24: 232300 | AX24: 38100 | AY24: 36450 | AZ24: 84400 | BA24: 56800 | BB24: 241600 | BC24: 76700 | BD24: 652680 | BE24: 107200 | BF24: 39700 | BG24: 25500 | BH24: 91800 | BI24: 53400 | BK24: 81000 | BL24: 71750 | BM24: 442150 | BN24: 163400 | BO24: 185200 | BP24: 177950 | BQ24: 74850 | BR24: 12400 | BS24: 1743400 | BT24: 169250 | BU24: 34250 | BV24: 171700 | BX24: 55350 | BY24: 146550 | BZ24: 148100 | CA24: 69900 | CB24: 22150 | CC24: 29900 | CD24: 263550 | CE24: 69350 | CF24: 149150 | CG24: 118050 | CH24: 26450 | CI24: 38200 | CJ24: 12450 | CK24: 154750 | CL24: 13500 | CM24: 23550
A25: 19 | B25: 4301020102.106 | C25: รายได้สนับสนุนยาและอื่น ๆ | D25: 5488832.7 | E25: 1044838.9 | F25: 406987.06 | G25: 240180 | H25: 519831.69 | I25: 1213101.3 | J25: 142237 | K25: 2061035.9 | L25: 1344291.2 | M25: 985220.31 | N25: 1397318.1 | O25: 488692.3 | P25: 30387.08 | Q25: 348607.56 | R25: 57771.73 | S25: 40726.63 | T25: 23974.15 | U25: 3407.65 | V25: 391852.42 | W25: 50359.25 | X25: 112243.84 | Y25: 312543.66 | Z25: 976529.01 | AC25: 453694.23 | AD25: 6703.61 | AE25: 2752545.5 | AG25: 182665.35 | AH25: 7446.74 | AI25: 179051.2 | AJ25: 1112082.4 | AM25: 528630.24 | AN25: 178400.25 | AO25: 1925451.7 | AP25: 1047799.7 | AQ25: 861474.17 | AR25: 322526.81 | AS25: 2112734.7 | AT25: 6757.9 | AU25: 433727.35 | AV25: 263621.1 | AW25: 1209512.7 | AX25: 91697.78 | AY25: 714572.35 | AZ25: 1089837.8 | BA25: 188676.26 | BB25: 5389492.6 | BC25: 425152.64 | BD25: 7430888.8 | BM25: 5087653.1 | BO25: 118469.92 | BS25: 65726340 | BV25: 2397086.9 | BW25: 1119045 | BX25: 840123.02 | BZ25: 120183.24 | CB25: 655321.61 | CC25: 846476.77 | CD25: 427033.78 | CE25: 26949.18 | CF25: 105734.78 | CG25: 677492.42 | CH25: 204778.97 | CK25: 365488.11 | CL25: 5000
A26: 8 | B26: 4301020104.104 | C26: รายได้ค่ารักษาเบิกต้นสังกัด OP | D26: 520 | K26: 23590 | P26: 10540 | Q26: 480 | T26: 3214.5 | U26: 4305 | X26: 15460.5 | Y26: 6293 | Z26: 1565 | AA26: 393520.11 | AB26: 6259 | AC26: 2563 | AF26: 1134 | AG26: 11000 | AH26: 2360 | AI26: 24549 | AJ26: 450 | AK26: 231861 | AL26: 335996 | AT26: 8511 | AU26: 7760 | AV26: 61370 | AX26: 2120 | BB26: 163474 | BC26: 8867.5 | BD26: 659154 | BE26: 28522.5 | BH26: 125848 | BL26: 22984 | BM26: 40304.5 | BN26: 215 | BS26: 1213022.9 | BT26: 4220 | BX26: 6520 | BZ26: 15854 | CC26: 4828
A27: 8 | B27: 4301020104.105 | C27: รายได้ค่ารักษาเบิกต้นสังกัด IP | D27: 666299.25 | G27: 54235 | I27: 59970.75 | J27: 5405.25 | K27: 12664 | L27: 26115 | N27: 285347 | P27: 892177.81 | R27: 33868.75 | S27: 191170 | T27: 15227.75 | U27: 18925 | X27: 2525583.2 | Z27: 21079 | AA27: 253357.61 | AB27: 2268.5 | AD27: 55618 | AE27: 43223 | AF27: 18794.5 | AG27: 56735 | AI27: 0.4 | AJ27: 11232 | AK27: 86003 | AL27: 4740927.7 | AO27: 52505 | AP27: 163044 | AQ27: 24318 | AS27: 458321 | AU27: 68084.08 | AV27: 16522.5 | AX27: 16706.5 | AY27: 28853.75 | BB27: 710125.75 | BC27: 21271.31 | BD27: 5395247.5 | BE27: 256496 | BG27: 9649.25 | BH27: 1788809.8 | BM27: 548049.5 | BN27: 12049.5 | BO27: 2704 | BP27: 35979 | BQ27: 9430.1 | BS27: 9191426.9 | BT27: 29639 | BU27: 28199.79 | BV27: 547781 | BX27: 5441.27 | BY27: 43856.5 | BZ27: 27923 | CB27: 33752.5 | CC27: 47883 | CD27: 163048 | CE27: 12079.4 | CF27: 127781.5 | CG27: 6026 | CK27: 93997.5
A28: 11 | B28: 4301020104.106 | C28: รายได้ค่ารักษาชำระเงิน OP | D28: 18253258 | E28: 689853.65 | F28: 854608.5 | G28: 2017643 | H28: 462681.5 | I28: 888213.4 | J28: 1067048 | K28: 1670737 | L28: 1156517 | M28: 798039.25 | N28: 5124495 | O28: 153773 | P28: 6685380.2 | Q28: 1623069 | R28: 819675.5 | S28: 1822837 | T28: 1122740.8 | U28: 2215331.7 | V28: 928760 | W28: 794725.5 | X28: 19850046 | Y28: 791910.5 | Z28: 3619608 | AA28: 1649567 | AB28: 432409 | AC28: 663519 | AD28: 2542637 | AE28: 3296675 | AF28: 577305.75 | AG28: 637879.38 | AH28: 613231 | AI28: 3134490.8 | AJ28: 829275.08 | AK28: 1208729.5 | AL28: 45451141 | AM28: 461598 | AN28: 711320.25 | AO28: 1473719.9 | AP28: 1597614 | AQ28: 1073181 | AR28: 180052.5 | AS28: 7586166.3 | AT28: 2119103.1 | AU28: 1544964.4 | AV28: 1601415.1 | AW28: 858358.9 | AX28: 602921.5 | AY28: 925096 | AZ28: 596053.75 | BA28: 534980 | BB28: 7296114 | BC28: 662858 | BD28: 33527785 | BE28: 4446743.5 | BF28: 790438.25 | BG28: 918757.5 | BH28: 14121003 | BI28: 367889.5 | BJ28: 337967 | BK28: 939413 | BL28: 671881.5 | BM28: 7530484.1 | BN28: 1560189.2 | BO28: 820514.38 | BP28: 1836825 | BQ28: 943830.69 | BR28: 1033848.4 | BS28: 1.0402356e+08 | BT28: 1145346 | BU28: 1077373.6 | BV28: 6832224 | BW28: 111873 | BX28: 784121 | BY28: 3443248.5 | BZ28: 398636 | CA28: 717958.92 | CB28: 652849 | CC28: 411089.85 | CD28: 2365480.8 | CE28: 1258433.5 | CF28: 2238220.5 | CG28: 544082.5 | CH28: 701465 | CI28: 429934.25 | CJ28: 543150 | CK28: 3443217.8 | CL28: 402008 | CM28: 438795.35
A29: 11 | B29: 4301020104.107 | C29: รายได้ค่ารักษาชำระเงิน IP | D29: 24075671 | E29: 110479.75 | F29: 392413 | G29: 1748129 | H29: 85632 | I29: 299025.25 | J29: 382349 | K29: 1206715 | L29: 275202 | M29: 496584.75 | N29: 9181556 | O29: 152693 | P29: 16192830 | Q29: 628397.04 | R29: 676604.5 | S29: 3216454.1 | T29: 752173.75 | U29: 1576827.9 | V29: 490552 | W29: 549807 | X29: 41676022 | Y29: 540583 | Z29: 2352661 | AA29: 1495249 | AB29: 176977 | AC29: 668638 | AD29: 2266772 | AE29: 3258379 | AF29: 217740 | AG29: 695987 | AH29: 390328 | AI29: 2683692.3 | AJ29: 383488 | AK29: 712608 | AL29: 31046809 | AM29: 204403 | AN29: 234406 | AO29: 627026.75 | AP29: 3521639 | AQ29: 745705.5 | AR29: 166472 | AS29: 12119346 | AT29: 306408.73 | AU29: 966229 | AV29: 871998 | AW29: 698567.5 | AX29: 130626 | AY29: 424124 | AZ29: 252748 | BA29: 102333 | BB29: 19553282 | BC29: 245450 | BD29: 59565258 | BE29: 4006046.8 | BF29: 869137.75 | BG29: 286696.25 | BH29: 32932150 | BI29: 255198 | BJ29: 187180 | BK29: 434298 | BL29: 685463 | BM29: 16912808 | BN29: 1340499.5 | BO29: 284959.81 | BP29: 1595092 | BQ29: 209851 | BR29: 605109.11 | BS29: 88313095 | BT29: 242061.5 | BU29: 385954 | BV29: 10407129 | BW29: 284950 | BX29: 275071.5 | BY29: 6958217.8 | BZ29: 270782 | CA29: 36505 | CB29: 166767 | CC29: 1181108 | CD29: 4679586 | CE29: 879128 | CF29: 2808944 | CG29: 180081 | CH29: 179705 | CI29: 154772 | CJ29: 152902 | CK29: 5682577.2 | CL29: 120830.1 | CM29: 192008.5
A30: 6 | B30: 4301020104.108 | C30: รายได้ค่ารักษาเบิกจ่ายตรงหน่วยงานอื่น - OP | D30: 108571.75 | E30: 560 | F30: 6547 | G30: 4206.5 | H30: 3024 | I30: 2125 | K30: 3912 | L30: 670 | N30: 9091 | P30: 28259.25 | Q30: 5671 | S30: 21677 | U30: 8547.5 | V30: 5540 | X30: 80343.5 | Y30: 11406.5 | Z30: 2076 | AA30: 2003 | AE30: 1556 | AG30: 6366 | AH30: 3969 | AL30: 52571 | AM30: 6285 | AO30: 64622 | AP30: 27192.4 | AQ30: 4517 | AS30: 5110 | AT30: 6071.5 | AV30: 12440 | AW30: 2681 | AZ30: 8129.75 | BB30: 18463.5 | BC30: 3066.5 | BD30: 396172.5 | BE30: 45992.5 | BF30: 213 | BH30: 21496 | BK30: 5729 | BL30: 4486 | BM30: 10529.5 | BO30: 4191.25 | BS30: 282915 | BU30: 216.83 | BV30: 12182.5 | BW30: 2644 | BY30: 25122.5 | CF30: 2955 | CK30: 12591.5 | CM30: 791
A31: 6 | B31: 4301020104.109 | C31: รายได้ค่ารักษาเบิกจ่ายตรงหน่วยงานอื่น - IP | D31: 214116.25 | N31: 44400.21 | P31: 3568 | Y31: 7183 | AL31: 77404 | AO31: 56051.86 | AP31: 13329.5 | AW31: 223.04 | BB31: 265182.25 | BE31: 45549.5 | BL31: 6950.5 | BM31: 17751.24 | BS31: 328577.28 | BV31: 17595.75 | BY31: 28550.5
A32: 6 | B32: 4301020104.110 | C32: ส่วนต่างค่ารักษาที่สูงกว่าข้อตกลงในการจ่ายตาม DRG - เบิกจ่ายตรงหน่วยงานอื่น | AL32: -11624.79 | AO32: -1328.14 | AP32: -3.91 | BB32: -18577.86 | BE32: -9009.9 | BV32: -891.31
A33: 6 | B33: 4301020104.111 | C33: ส่วนต่างค่ารักษาที่ต่ำกว่าข้อตกลงในการจ่ายตาม DRG - เบิกจ่ายตรงหน่วยงานอื่น | F33: 1480 | N33: 40135.75 | P33: 416.75 | Y33: 952.32 | AP33: 540.59 | BB33: 13500.7 | BE33: 27994.28 | BM33: 2000 | BO33: 1400 | BS33: 225966.46 | BV33: 20850.87 | CI33: 8938
A34: 6 | B34: 4301020104.401 | C34: รายได้ค่ารักษาเบิกจ่ายตรงกรมบัญชีกลาง OP | D34: 54420079 | E34: 4463976.4 | F34: 3643496.5 | G34: 4071516.5 | H34: 1462802.5 | I34: 12197872 | J34: 3373197.6 | K34: 9135681.8 | L34: 3296076.6 | M34: 3637405.1 | N34: 21654819 | O34: 1715619.8 | P34: 28793978 | Q34: 3822822.9 | R34: 11169517 | S34: 12038433 | T34: 3609165.7 | U34: 4424773.5 | V34: 4215090 | W34: 2619921 | X34: 56120670 | Y34: 2910718.8 | Z34: 9434558.2 | AA34: 9256015.6 | AB34: 1336796.5 | AC34: 2189433.5 | AD34: 2494555.5 | AE34: 11383589 | AF34: 1692317.8 | AG34: 2109068.5 | AH34: 2656450.2 | AI34: 9045657.4 | AJ34: 2467147.9 | AK34: 8673085 | AL34: 1.8768249e+08 | AM34: 5765062 | AN34: 6379837.1 | AO34: 15267095 | AP34: 10078879 | AQ34: 3934327.8 | AR34: 2060365.5 | AS34: 23914583 | AT34: 4875183.3 | AU34: 9444295.9 | AV34: 15928460 | AW34: 2953424.8 | AX34: 2065732.5 | AY34: 12838631 | AZ34: 3920997.5 | BA34: 3188208 | BB34: 32660892 | BC34: 2279812.2 | BD34: 1.0064732e+08 | BE34: 11668172 | BF34: 3682727.2 | BG34: 3615436.2 | BH34: 31532254 | BI34: 703905.5 | BJ34: 2272958.4 | BK34: 2279029.3 | BL34: 1826411.2 | BM34: 37349771 | BN34: 4572045.4 | BO34: 3612670.5 | BP34: 4597739 | BQ34: 3602282.1 | BR34: 3156495 | BS34: 2.6374431e+08 | BT34: 8804022.5 | BU34: 2691145.6 | BV34: 24607564 | BW34: 4581124 | BX34: 3548863.5 | BY34: 12920426 | BZ34: 2332377.2 | CA34: 1958883.5 | CB34: 4292768 | CC34: 6822091.8 | CD34: 11562410 | CE34: 4190213.2 | CF34: 9870863 | CG34: 6330723.5 | CH34: 1987187 | CI34: 1194565.2 | CJ34: 2577815.6 | CK34: 12779497 | CL34: 1579855.1 | CM34: 2480543.8
A35: 6 | B35: 4301020104.402 | C35: รายได้ค่ารักษาเบิกจ่ายตรงกรมบัญชีกลาง IP | D35: 32586586 | E35: 537388.5 | F35: 545150 | G35: 1238678.7 | H35: 205233.5 | I35: 1164941 | J35: 1025691.6 | K35: 2089257.4 | L35: 497105.5 | M35: 670067.33 | N35: 10147908 | O35: 353096.58 | P35: 17757270 | Q35: 1168954.7 | R35: 1574282.7 | S35: 4990326.1 | T35: 776365 | U35: 992488.76 | V35: 983492 | W35: 486808.5 | X35: 53278897 | Y35: 625317.5 | Z35: 1281068 | AA35: 943148.68 | AB35: 348394.75 | AC35: 571614 | AD35: 1204720.1 | AE35: 4258105.3 | AF35: 409509.01 | AG35: 642645.88 | AH35: 671289.9 | AI35: 2046954.1 | AJ35: 560863 | AK35: 944331.25 | AL35: 1.1606216e+08 | AM35: 676458 | AN35: 717918.94 | AO35: 5834504 | AP35: 5382544.6 | AQ35: 1118932.8 | AR35: 395237 | AS35: 17392994 | AT35: 626590.75 | AU35: 1670781.6 | AV35: 2435260.8 | AW35: 829767.75 | AX35: 473154.25 | AY35: 1202135.2 | AZ35: 399976.7 | BA35: 351581 | BB35: 14754542 | BC35: 511007.45 | BD35: 43655273 | BE35: 5059322.2 | BF35: 1016187.8 | BG35: 765444 | BH35: 19891196 | BI35: 157232.98 | BJ35: 421565.05 | BK35: 263684.5 | BL35: 699983.5 | BM35: 16098624 | BN35: 1355893.3 | BO35: 662011.35 | BP35: 2614412.5 | BQ35: 499589.14 | BR35: 1100413.4 | BS35: 1.8195883e+08 | BT35: 662168.54 | BU35: 875948.26 | BV35: 14003335 | BW35: 2824976 | BX35: 803724.5 | BY35: 4509521.5 | BZ35: 538971.17 | CA35: 442304.25 | CB35: 1511644 | CC35: 1529431.8 | CD35: 5190374.2 | CE35: 1269177.2 | CF35: 2695925 | CG35: 447389.5 | CH35: 476299.25 | CI35: 466183.4 | CJ35: 618719.35 | CK35: 5502186.3 | CL35: 346421.99 | CM35: 244306.43
A36: 6 | B36: 4301020104.405 | C36: ส่วนต่างค่ารักษาที่สูงกว่าข้อตกลงในการจ่ายตาม DRG - เบิกจ่ายตรงกรมบัญชีกลาง | D36: -4066744.6 | E36: -62448.82 | F36: -75114.38 | G36: -251116.34 | H36: -31288.67 | I36: -171449.74 | J36: -193235.37 | K36: -321323.9 | L36: -62674.68 | M36: -177588.12 | N36: -2086962.4 | O36: -41542.06 | P36: -2279075.5 | Q36: -231439.14 | R36: -492126.21 | S36: -1127116.6 | T36: -113024.7 | U36: -211708.25 | V36: -169767.43 | W36: -68986.26 | X36: -13428162 | Y36: -147593.94 | Z36: -215157.19 | AA36: -87460.39 | AB36: -34349.44 | AC36: -40585.13 | AD36: -51381.87 | AE36: -686905.17 | AF36: -17872.58 | AG36: -38798.71 | AH36: -37576.36 | AI36: -286439.02 | AJ36: -65335.23 | AK36: -273368.42 | AL36: -30973503 | AM36: -72003.84 | AN36: -103754.14 | AO36: -2067388.6 | AP36: -1231242.1 | AQ36: -186726.67 | AR36: -59153.98 | AS36: -3630198.7 | AT36: -167949.98 | AU36: -695503.75 | AV36: -274498.57 | AW36: -174478.4 | AX36: -121809.28 | AY36: -188201.95 | AZ36: -96128.57 | BA36: -30873.14 | BB36: -2164041.7 | BC36: -41488.1 | BD36: -6593615 | BE36: -1407118.2 | BF36: -260796.02 | BG36: -155772.32 | BH36: -2070087.4 | BI36: -11677.3 | BJ36: -73490.69 | BK36: -69529.01 | BL36: -107277.87 | BM36: -12000 | BN36: -225303.84 | BO36: -177600.74 | BP36: -533562.73 | BQ36: -26941.85 | BR36: -134040.73 | BS36: -21702464 | BT36: -38110.61 | BU36: -109101.38 | BV36: -892375.65 | BW36: -9716.47 | BX36: -84767.52 | BY36: -735368.65 | BZ36: -82175.12 | CA36: -31580.73 | CB36: -297899.5 | CC36: -120239.91 | CD36: -774508.42 | CE36: -119935.54 | CF36: -322624.17 | CG36: -45577.92 | CH36: -24569.42 | CI36: -85708.37 | CJ36: -69577.21 | CK36: -1060089.8 | CL36: -22336 | CM36: -18520.99
A37: 6 | B37: 4301020104.406 | C37: ส่วนต่างค่ารักษาที่ต่ำกว่าข้อตกลงในการจ่ายตาม DRG - เบิกจ่ายตรงกรมบัญชีกลาง | D37: 6351439 | E37: 86815.39 | F37: 134529.24 | G37: 95376.51 | H37: 42777.83 | I37: 230467.06 | J37: 241748.07 | K37: 512996.42 | L37: 88707.54 | M37: 59782.22 | N37: 1644104 | O37: 35624.7 | P37: 4489992.7 | Q37: 166267.8 | R37: 94421.06 | S37: 161256.68 | T37: 178628.75 | U37: 124170.95 | V37: 75697.37 | W37: 68557.71 | X37: 5655742.7 | Y37: 249147.2 | Z37: 443711.69 | AA37: 241258.03 | AB37: 100723.53 | AC37: 375749.9 | AD37: 102064.96 | AE37: 974981.57 | AF37: 167389.8 | AG37: 210685.85 | AH37: 307826.92 | AI37: 737872.19 | AJ37: 163176.18 | AK37: 216241.62 | AL37: 17767795 | AM37: 40328.66 | AN37: 70184.56 | AO37: 254833.54 | AP37: 554485.22 | AQ37: 122370.71 | AR37: 35060.41 | AS37: 3031161.7 | AT37: 129697.47 | AU37: 610416.87 | AV37: 523179.65 | AW37: 107130.27 | AX37: 161915.68 | AY37: 125057.58 | AZ37: 850625.64 | BA37: 102174.8 | BB37: 3145336.1 | BC37: 64606.83 | BD37: 7758947.5 | BE37: 536099.75 | BF37: 152456.55 | BG37: 124105.49 | BH37: 4203402.8 | BI37: 146873.06 | BJ37: 34738.99 | BK37: 45689.37 | BL37: 107044.37 | BM37: 6313389.8 | BN37: 501867.66 | BO37: 66989.44 | BP37: 403270.29 | BQ37: 184555.67 | BR37: 335831.4 | BS37: 27537757 | BT37: 177724.59 | BU37: 170971.22 | BV37: 5389900.9 | BW37: 614600.66 | BX37: 229726.42 | BY37: 897420.65 | BZ37: 107398.83 | CA37: 106325.24 | CB37: 218197.08 | CC37: 433662.22 | CD37: 1289234.9 | CE37: 199846.27 | CF37: 877525.87 | CG37: 130768.09 | CH37: 103442.96 | CI37: 294931.4 | CJ37: 75766.27 | CK37: 1293335 | CL37: 257965.56 | CM37: 84772
A38: 7 | B38: 4301020104.602 | C38: รายได้ค่ารักษา พรบ.รถ OP | D38: 263275 | E38: 107479.5 | F38: 91720 | G38: 37270 | H38: 158814.25 | I38: 184997.25 | J38: 279879.25 | K38: 355310 | L38: 127449.2 | M38: 367798.5 | N38: 728909 | O38: 73618.25 | P38: 396625.25 | Q38: 263968.94 | R38: 464212.25 | S38: 99573 | T38: 263385.5 | U38: 238846.8 | V38: 144579 | W38: 78639 | X38: 219803 | Y38: 122891.75 | Z38: 511960 | AA38: 180695 | AB38: 58061.5 | AC38: 140769 | AD38: 76768 | AE38: 477804 | AF38: 115952.25 | AG38: 70029 | AH38: 208532.4 | AI38: 233709 | AJ38: 119726 | AK38: 193778 | AL38: 608418.75 | AM38: 216665 | AN38: 260867 | AO38: 649269.72 | AP38: 416656 | AQ38: 665097 | AR38: 91813 | AS38: 547660.5 | AT38: 476220 | AU38: 518404 | AV38: 407272 | AW38: 125958 | AX38: 268230 | AY38: 177581 | AZ38: 180509 | BA38: 237930 | BB38: 907497.5 | BC38: 165173 | BD38: 806979.5 | BE38: 240740.5 | BF38: 196283 | BG38: 183811 | BH38: 315051.5 | BI38: 114623 | BJ38: 90515 | BK38: 387625 | BL38: 161799 | BM38: 227482 | BN38: 77009 | BO38: 62888.27 | BP38: 272025.5 | BQ38: 105638 | BR38: 76153.5 | BS38: 1012772.2 | BT38: 472033.5 | BU38: 195137 | BV38: 1024049 | BW38: 60022 | BX38: 187231 | BY38: 656167 | BZ38: 127518 | CA38: 41227 | CB38: 314557.5 | CC38: 273306 | CD38: 691661 | CE38: 238785 | CF38: 533036.5 | CG38: 48586 | CH38: 189500 | CI38: 131088 | CJ38: 162240 | CK38: 498458 | CL38: 152000.97 | CM38: 153890.9
A39: 7 | B39: 4301020104.603 | C39: รายได้ค่ารักษา พรบ.รถ IP | D39: 9319745.8 | E39: 39217 | F39: 49180 | G39: 47001 | H39: 36748.5 | I39: 37348 | J39: 107564.25 | K39: 146665 | L39: 61982.94 | M39: 282708.5 | N39: 922057 | O39: 66574 | P39: 5169450.5 | Q39: 290373.24 | R39: 227814 | S39: 578083.25 | T39: 326746 | U39: 148664.29 | V39: 135525 | W39: 105585 | X39: 12097687 | Y39: 72334.25 | Z39: 426567 | AA39: 116106 | AB39: 43872 | AC39: 63856 | AD39: 58989 | AE39: 786785 | AF39: 25852 | AG39: 71978 | AH39: 69795 | AI39: 283555.2 | AJ39: 78912 | AK39: 477106 | AL39: 19974450 | AM39: 33785.5 | AN39: 33081 | AO39: 113470 | AP39: 791339 | AQ39: 46697 | AR39: 34124 | AS39: 5847969 | AT39: 413028 | AU39: 704939 | AV39: 117456 | AW39: 103768 | AX39: 37963 | AY39: 62391 | AZ39: 77046 | BA39: 11613 | BB39: 4013045.8 | BC39: 18485 | BD39: 7219281.7 | BE39: 1144364.6 | BF39: 426812 | BG39: 96519.5 | BH39: 2112448.7 | BI39: 123029.5 | BJ39: 178936 | BK39: 217968 | BL39: 233709 | BM39: 3775162.5 | BN39: 118538 | BO39: 25438.36 | BP39: 460595 | BQ39: 18564 | BR39: 28525 | BS39: 25060483 | BT39: 83658.16 | BU39: 40703 | BV39: 4789987 | BX39: 123046.5 | BY39: 3140091.5 | BZ39: 51539 | CA39: 56556 | CB39: 124297 | CC39: 54872 | CD39: 3624070 | CE39: 168681 | CF39: 640647 | CG39: 32741 | CH39: 71924 | CI39: 106258 | CJ39: 28911 | CK39: 1558375 | CL39: 29323.71 | CM39: 19193.25
A40: 9 | B40: 4301020104.801 | C40: รายได้ค่ารักษาเบิกจ่ายตรง - อปท. OP | D40: 6775306.8 | E40: 620139.8 | F40: 420892.5 | G40: 607707.5 | H40: 277174 | I40: 1443850.5 | J40: 456419.55 | K40: 2127992 | L40: 628921.06 | M40: 688037.16 | N40: 2219306 | O40: 305358.55 | P40: 5945346.2 | Q40: 897332.93 | R40: 1224539.3 | S40: 2285424.2 | T40: 527333 | U40: 750247.95 | V40: 861367.5 | W40: 348327.5 | X40: 9529902.2 | Y40: 436300.25 | Z40: 1682891 | AA40: 1071946 | AB40: 282533.75 | AC40: 563179.5 | AD40: 475212 | AE40: 1922847.5 | AF40: 330490.95 | AG40: 617392.6 | AH40: 342493.91 | AI40: 719526.24 | AJ40: 458568.16 | AK40: 1236142.5 | AL40: 30168920 | AM40: 1330303 | AN40: 1636922 | AO40: 2909928.6 | AP40: 2140943 | AQ40: 674254.25 | AR40: 658795 | AS40: 4810657.5 | AT40: 1475527.8 | AU40: 3531371.7 | AV40: 2367741 | AW40: 791638 | AX40: 303046.25 | AY40: 1473893.9 | AZ40: 525081 | BA40: 572499 | BB40: 4636847.2 | BC40: 337004.91 | BD40: 14600463 | BE40: 1467155.5 | BF40: 468253 | BG40: 1189240.8 | BH40: 5975999.7 | BI40: 94231 | BJ40: 208766.77 | BK40: 352286.3 | BL40: 364061 | BM40: 5653814.5 | BN40: 759537.2 | BO40: 961779.65 | BP40: 904484.5 | BQ40: 703952.62 | BR40: 776093.21 | BS40: 32357360 | BT40: 1158005 | BU40: 458674.39 | BV40: 3640414 | BW40: 1276967 | BX40: 494395.5 | BY40: 1754347.9 | BZ40: 559911.61 | CA40: 388897.5 | CB40: 837696.5 | CC40: 2542319.1 | CD40: 1809819.8 | CE40: 671205 | CF40: 1702214.5 | CG40: 895299.96 | CH40: 305464 | CI40: 250672.1 | CJ40: 467682.8 | CK40: 1892851.9 | CL40: 309676.33 | CM40: 751512.75
...

Sheet 6.รายรับ
G1: รายได้จากการขายสินค้าและบริการของหน่วยบริการ | Z1: สรุปรับ
G2: สิทธิ UC | K2: สิทธิประกันสังคม | L2: สิทธิข้าราชการ | M2: สิทธิ พรบ. | N2: สิทธิ ต้นสังกัด | O2: สิทธิ อปท. | P2: สิทธิ แรงงานต่างด้าว | Q2: ชำระเงินเอง | R2: ผู้มีปัญหาสถานะและสิทธิ | S2: รายได้ งบลงทุน | T2: รายได้จาก CF | U2: รายได้จากการขายสินทรัพย์และบริการอื่น | V2: รายได้จากการประมาณบุคลากร | W2: รายได้จากเงินงบประมาณอื่น | X2: รายได้ระหว่างหน่วยงานอื่น | Y2: รายได้อื่น | Z2: 1+2+3+4+5+6+7+8+9+10+11+12+13+14+15+16+17+18+19
A3: ลำดับเรียงตามงบทดลอง | B3: ลำดับเรียงตามจัดกลุ่ม | C3: กลุ่มที่ | D3: จังหวัด | E3: รหัส | F3: หน่วยบริการ | G3: เหมาจ่ายรายหัว 1 | H3: เรียกเก็บ UC 2 | I3: กองทุน UC 3 | J3: EMS 4 | K3: 5 | L3: 6 | M3: 7 | N3: 8 | O3: 9 | P3: 10 | Q3: 11 | R3: 12 | S3: 13 | T3: 14 | U3: 15 | V3: 16 | W3: 17 | X3: 18 | Y3: 19
A4: 72 | B4: 1 | C4: 1 | D4: อุดรธานี | E4: 11016 | F4: รพ.ห้วยเกิ้ง | G4: 7873652.7 | H4: 741365 | I4: 736905.45 | J4: 0 | K4: 227747 | L4: 8013628.2 | M4: 60022 | N4: 0 | O4: 1591189.2 | P4: 983 | Q4: 396823 | R4: 12193.25 | S4: 74457.08 | T4: 7364.11 | U4: 972190 | V4: 7834741 | W4: 314806.5 | X4: 0 | Y4: 3796062.7 | Z4: =SUM(G4:Y4) -> 32654130
A5: 41 | B5: 2 | C5: 1 | D5: สกลนคร | E5: 11094 | F5: รพ.นิคมน้ำอูน | G5: 9698440.2 | H5: 432640.08 | I5: 5398362.8 | J5: 81900 | K5: 362415.19 | L5: 2431508.9 | M5: 125937 | N5: 0 | O5: 860358.37 | P5: 4918 | Q5: 346524.5 | R5: 0 | S5: 3437694 | T5: 124086.68 | U5: 1800 | V5: 11327587 | W5: 488099.9 | X5: 0 | Y5: 2332116 | Z5: =SUM(G5:Y5) -> 37454388
A6: 25 | B6: 3 | C6: 1 | D6: เลย | E6: 11033 | F6: รพ.นาแห้ว | G6: 11312246 | H6: 302091 | I6: 1299669.1 | J6: 83200 | K6: 394462.5 | L6: 1751565.3 | M6: 101933.5 | N6: 8527.5 | O6: 355474.63 | P6: 500 | Q6: 609386 | R6: 116818.64 | S6: 2111682 | T6: 5108707.6 | U6: 0 | V6: 13086838 | W6: 516724.7 | X6: 0 | Y6: 6660776.8 | Z6: =SUM(G6:Y6) -> 43820604
A7: 12 | B7: 4 | C7: 1 | D7: นครพนม | E7: 40840 | F7: รพ.วังยาง | G7: 11321897 | H7: 731477 | I7: 2938944.3 | J7: 54350 | K7: 276871.8 | L7: 2062799 | M7: 140192.25 | N7: 0 | O7: 355345.21 | P7: 9279.5 | Q7: 306466 | R7: 0 | S7: 1246905.6 | T7: 851471.51 | U7: 0 | V7: 8555263.2 | W7: 366347.5 | X7: 0 | Y7: 1790190.1 | Z7: =SUM(G7:Y7) -> 31007800
A8: 59 | B8: 5 | C8: 1 | D8: หนองคาย | E8: 28778 | F8: รพ.โพธิ์ตาก | G8: 13621475 | H8: 1070319.1 | I8: 1530969.7 | J8: 0 | K8: 147616.1 | L8: 2655771.7 | M8: 269451 | N8: 0 | O8: 253632.76 | P8: 0 | Q8: 525147 | R8: 6541.5 | S8: 1286191.5 | T8: 1683709.5 | U8: 125570 | V8: 9432219 | W8: 395312.22 | X8: 0 | Y8: 1997655.6 | Z8: =SUM(G8:Y8) -> 35001581
A9: 20 | B9: 6 | C9: 1 | D9: บึงกาฬ | E9: 11050 | F9: รพ.บุ่งคล้า | G9: 10370072 | H9: 373972.44 | I9: 4970772.8 | J9: 59100 | K9: 280196.32 | L9: 3106301 | M9: 184224 | N9: 0 | O9: 430823.44 | P9: -19408.5 | Q9: 1344532.5 | R9: 48614.08 | S9: 2213778.3 | T9: 1587086 | U9: 0 | V9: 13085857 | W9: 517863.2 | X9: 0 | Y9: 4109334.2 | Z9: =SUM(G9:Y9) -> 42663119
A10: 88 | B10: 7 | C10: 2 | D10: อุดรธานี | E10: 25059 | F10: รพ.ประจักษ์ศิลปาคม | G10: 19014648 | H10: 1473139.1 | I10: 2417163.5 | J10: 23550 | K10: 669153.45 | L10: 2791892.2 | M10: 173084.15 | N10: 0 | O10: 779688.01 | P10: 4414 | Q10: 630803.85 | R10: 641.75 | S10: 1590057.1 | T10: 5248008.3 | U10: 0 | V10: 9210734.8 | W10: 369277.65 | X10: 0 | Y10: 1416764.3 | Z10: =SUM(G10:Y10) -> 45813020
A11: 87 | B11: 8 | C11: 2 | D11: อุดรธานี | E11: 25058 | F11: รพ.กู่แก้ว | G11: 17457844 | H11: 240639.67 | I11: 4218529.9 | J11: 13500 | K11: 337765.6 | L11: 2161906.6 | M11: 181324.68 | N11: 0 | O11: 360911.82 | P11: 0 | Q11: 522838.1 | R11: 0 | S11: 1194246.2 | T11: 2841889.8 | U11: 44530 | V11: 11129658 | W11: 475399.72 | X11: 0 | Y11: 2361403.9 | Z11: =SUM(G11:Y11) -> 43542388
A12: 5 | B12: 9 | C12: 2 | D12: นครพนม | E12: 11107 | F12: รพ.นาทม | G12: 22156634 | H12: 1024218.3 | I12: 7351482.2 | J12: 15200 | K12: 249817.38 | L12: 1682549.2 | M12: 195562.75 | N12: 0 | O12: 321831.26 | P12: 15859.5 | Q12: 548313.5 | R12: 8017.5 | S12: 1217159.5 | T12: 1415705 | U12: 972362 | V12: 18309941 | W12: 806757.67 | X12: 0 | Y12: 2101093.5 | Z12: =SUM(G12:Y12) -> 58392504
A13: 47 | B13: 10 | C13: 2 | D13: สกลนคร | E13: 11100 | F13: รพ.เต่างอย | G13: 17955583 | H13: 871323.86 | I13: 2113407.3 | J13: 38100 | K13: 854345.14 | L13: 2578993.2 | M13: 306193 | N13: 18826.5 | O13: 426758.53 | P13: 2385 | Q13: 733547.5 | R13: 642.05 | S13: 3791818.7 | T13: 858865.62 | U13: 0 | V13: 14584288 | W13: 601472.38 | X13: 0 | Y13: 2669820.6 | Z13: =SUM(G13:Y13) -> 48406370
A14: 26 | B14: 11 | C14: 2 | D14: เลย | E14: 11034 | F14: รพ.ภูเรือ | G14: 18137422 | H14: 1168790.1 | I14: 2970447.1 | J14: 101800 | K14: 766241.89 | L14: 3096212.3 | M14: 204625 | N14: 2563 | O14: 796200.53 | P14: 23532 | Q14: 1332157 | R14: 119527.88 | S14: 2606345.4 | T14: 2303033.8 | U14: 10450 | V14: 15099155 | W14: 563403.45 | X14: 0 | Y14: 3971924.1 | Z14: =SUM(G14:Y14) -> 53273830
A15: 85 | B15: 12 | C15: 2 | D15: อุดรธานี | E15: 11029 | F15: รพ.พิบูลย์รักษ์ | G15: 17024120 | H15: 2922016.2 | I15: 1726540.9 | J15: 12450 | K15: 604220.42 | L15: 3202724 | M15: 191151 | N15: 0 | O15: 583158.39 | P15: 0 | Q15: 696052 | R15: 641.75 | S15: 1423532.6 | T15: 1977718 | U15: 0 | V15: 16037892 | W15: 674405.86 | X15: 0 | Y15: 14200829 | Z15: =SUM(G15:Y15) -> 61277452
... A91: 68 | B91: 88 | C91: 13 | D91: อุดรธานี | E91: 10671 | F91: รพ.อุดรธานี | G91: 6.957385e+08 | H91: 3.1028944e+08 | I91: 38612204 | J91: 1743400 | K91: 1.2307969e+08 | L91: 4.5237589e+08 | M91: 26073256 | N91: 10404450 | O91: 61308926 | P91: 921369.57 | Q91: 1.9233665e+08 | R91: 1656352.9 | S91: 47585582 | T91: 50729924 | U91: 2878104 | V91: 4.4852113e+08 | W91: 1.0113782e+08 | X91: 2818475.5 | Y91: 1.1993957e+08 | Z91: =SUM(G91:Y91) -> 2.6881507e+09

Sheet 7.รายจ่าย
A1: ลำดับเรียงตามงบทดลอง | B1: ลำดับเรียงตามจัดกลุ่ม | C1: กลุ่มที่ | D1: จังหวัด | E1: รหัส | F1: หน่วยบริการ | G1: เงินเดือนและค่าจ้างประจำ (L1)[1] | H1: ค่าจ้างลูกจ้างชั่วคราว (L2.1)[2] | I1: ค่าตอบแทน(L2.2)[3] | J1: ค่าใช้จ่ายบุคลากรอื่น (L3)[4] | K1: สรุปจ่าย L2[5]=[2+3+4] | L1: ค่าใช้จ่ายด้านการฝึกอบรม/เดินทาง[6] | M1: ยาใช้ไป(M4.1)[7] | N1: เวชภัณฑ์ที่ไม่ใช่ยาใช้ไป (M4.2)[8] | O1: วัสดุการแพทย์ใช้ไป (M4.3)[9] | P1: วัสดุวิทยาศาสตร์ ใช้ไป (M4.4)[10] | Q1: รวมจ่าย M4non-drug[11]=[8+9+10] | R1: วัสดุอื่นใช้ไป (M5)[12] | S1: ค่าซ่อมแซม/บำรุงรักษาค่าจ้างเหมาบริการ [13] | T1: ค่าจ้างตรวจทางห้องปฏฺบัติการ[14] | U1: ค่าสาธารณูปโภค[15] | V1: ค่าใช้สอยอื่นๆ[16] | W1: ค่าใช้จ่ายจากการดำเนินงานอื่น[17] | X1: ค่าใช้จ่ายเงินอุดหนุน[18] | Y1: ค่าใช้จ่ายอื่น[19] | Z1: ค่าใช้จ่ายระหว่างหน่วยงาน[20] | AA1: ค่าเผื่อหนี้สูญ/หนี่สงสัยจะสูญ[21] | AB1: ค่าเสื่อมราคา/ตัดจำหน่าย[22] | AC1: รวมค่าใช้จ่าย[23] =[1+5+6+7+11+12+13+14+15+16+17+18+19+20+21+22]
A2: 72 | B2: 1 | C2: 1 | D2: อุดรธานี | E2: 11016 | F2: รพ.ห้วยเกิ้ง | G2: 7834741 | H2: 3284447.9 | I2: 3416694 | J2: 536715.5 | K2: 7237857.4 | L2: 91789.92 | M2: 1465115.5 | O2: 592109.46 | P2: 17845 | Q2: 609954.46 | R2: 2744860.3 | S2: 1204700 | T2: 322458 | U2: 632408.41 | V2: 12 | W2: 406494 | X2: 0 | Y2: 0 | Z2: 0 | AA2: 99773.73 | AB2: 4068945.1 | AC2: 26719110
A3: 41 | B3: 2 | C3: 1 | D3: สกลนคร | E3: 11094 | F3: รพ.นิคมน้ำอูน | G3: 11327587 | H3: 3898504.3 | I3: 6004033.8 | J3: 766182.9 | K3: 10668721 | L3: 55234.92 | M3: 1848059.6 | O3: 536557.44 | P3: 1007247.5 | Q3: 1543804.9 | R3: 1068170.8 | S3: 650900.77 | T3: 319889.5 | U3: 443695.8 | V3: 40126.74 | W3: 889350.25 | X3: 0 | Y3: 283310 | Z3: 0 | AA3: 11618.59 | AB3: 2582067.3 | AC3: 31732537
A4: 25 | B4: 3 | C4: 1 | D4: เลย | E4: 11033 | F4: รพ.นาแห้ว | G4: 13111948 | H4: 3824526 | I4: 7405627.5 | J4: 708992 | K4: 11939146 | L4: 36312 | M4: 1979280.4 | O4: 864012.76 | P4: 1435435.3 | Q4: 2299448.1 | R4: 969987.95 | S4: 380520.95 | T4: 125481 | U4: 473360.19 | V4: 258727.02 | W4: 534319 | X4: 0 | Y4: 630399.11 | Z4: 0 | AA4: 31664.84 | AB4: 2441534.2 | AC4: 35212128
A5: 12 | B5: 4 | C5: 1 | D5: นครพนม | E5: 40840 | F5: รพ.วังยาง | G5: 8550738.2 | H5: 2518930 | I5: 5621801.6 | J5: 548287.5 | K5: 8689019.1 | L5: 102893.98 | M5: 2595545.4 | O5: 1283149.4 | P5: 1576566.1 | Q5: 2859715.5 | R5: 493471.35 | S5: 705868.61 | T5: 442131 | U5: 421183.68 | V5: 40698.94 | W5: 517698.04 | X5: 0 | Y5: 1716125.3 | Z5: 0 | AA5: 8865.24 | AB5: 3490103 | AC5: 30634057
A6: 59 | B6: 5 | C6: 1 | D6: หนองคาย | E6: 28778 | F6: รพ.โพธิ์ตาก | G6: 9464163.8 | H6: 3804549 | I6: 6861780 | J6: 560569.5 | K6: 11226898 | L6: 66511.74 | M6: 2400132.7 | O6: 1069166.3 | P6: 1330816 | Q6: 2399982.3 | R6: 1381041.5 | S6: 1496522.6 | T6: 641008.5 | U6: 467084.55 | V6: 6037 | W6: 308919.5 | X6: 0 | Y6: 49609.05 | Z6: 0 | AA6: 72289.98 | AB6: 4593742.5 | AC6: 34573944
A7: 20 | B7: 6 | C7: 1 | D7: บึงกาฬ | E7: 11050 | F7: รพ.บุ่งคล้า | G7: 13177363 | H7: 4316627.4 | I7: 6788343.6 | J7: 727565.24 | K7: 11832536 | L7: 157428 | M7: 1971225.7 | O7: 846134.64 | P7: 1058049.2 | Q7: 1904183.9 | R7: 1285487.7 | S7: 903563.18 | T7: 524309 | U7: 674766.18 | V7: 45663.16 | W7: 817232.16 | X7: 0 | Y7: 1713002.3 | Z7: 0 | AA7: 30449.83 | AB7: 2203382.6 | AC7: 37240593
A8: 88 | B8: 7 | C8: 2 | D8: อุดรธานี | E8: 25059 | F8: รพ.ประจักษ์ศิลปาคม | G8: 9210734.8 | H8: 4607944.2 | I8: 6045965.5 | J8: 627454.45 | K8: 11281364 | L8: 168268.59 | M8: 2393169.8 | O8: 1230714.6 | P8: 1682448 | Q8: 2913162.6 | R8: 909218.77 | S8: 1962995.3 | T8: 268862 | U8: 829492.32 | V8: 36224 | W8: 1586202.8 | X8: 0 | Y8: 768352.81 | Z8: 0 | AA8: 49428.57 | AB8: 3345798.8 | AC8: 35723275
A9: 87 | B9: 8 | C9: 2 | D9: อุดรธานี | E9: 25058 | F9: รพ.กู่แก้ว | G9: 11196286 | H9: 4590035.1 | I9: 8088652.5 | J9: 689332.5 | K9: 13368020 | L9: 199918.52 | M9: 3005959.1 | O9: 1158693.9 | P9: 1450628.5 | Q9: 2609322.4 | R9: 772289.29 | S9: 973461.03 | T9: 227042.18 | U9: 403153.99 | V9: 683293.86 | W9: 226277 | X9: 0 | Y9: 102940 | Z9: 0 | AA9: 18781.91 | AB9: 3470081.4 | AC9: 37256827
A10: 5 | B10: 9 | C10: 2 | D10: นครพนม | E10: 11107 | F10: รพ.นาทม | G10: 18305856 | H10: 5843915.8 | I10: 7910606.5 | J10: 1132633.5 | K10: 14887156 | L10: 38022 | M10: 3738999.5 | O10: 1421666.2 | P10: 1701245.2 | Q10: 3122911.5 | R10: 1329142.8 | S10: 894978.2 | T10: 456215 | U10: 644080.57 | V10: 113861.8 | W10: 33310.27 | X10: 0 | Y10: 583475.26 | Z10: 0 | AA10: 60127.4 | AB10: 2918264.6 | AC10: 47126401
A11: 47 | B11: 10 | C11: 2 | D11: สกลนคร | E11: 11100 | F11: รพ.เต่างอย | G11: 14596371 | H11: 5167521.3 | I11: 7240699.2 | J11: 905316.4 | K11: 13313537 | L11: 33842 | M11: 2818925.7 | O11: 1386426.5 | P11: 2160312.5 | Q11: 3546739 | R11: 1429319.4 | S11: 298065.94 | T11: 154260 | U11: 558877.33 | V11: 48111.38 | W11: 502723 | X11: 0 | Y11: 41620 | Z11: 0 | AA11: 1767963.8 | AB11: 3690861 | AC11: 42801216
A12: 26 | B12: 11 | C12: 2 | D12: เลย | E12: 11034 | F12: รพ.ภูเรือ | G12: 15259943 | H12: 4780156.2 | I12: 7516865 | J12: 828383.19 | K12: 13125404 | L12: 95133 | M12: 3823467.9 | O12: 1103709.1 | P12: 1484235.1 | Q12: 2587944.1 | R12: 1582459.5 | S12: 693008.06 | T12: 336975 | U12: 689994.29 | V12: 54 | W12: 1027636.4 | X12: 0 | Y12: 994700.4 | Z12: 0 | AA12: 222226.07 | AB12: 2495962.4 | AC12: 42934908
A13: 85 | B13: 12 | C13: 2 | D13: อุดรธานี | E13: 11029 | F13: รพ.พิบูลย์รักษ์ | G13: 16065689 | H13: 4715809 | I13: 7645466.2 | J13: 956394.4 | K13: 13317670 | L13: 33885.47 | M13: 2973747.5 | O13: 1500760.9 | P13: 1956314.9 | Q13: 3457075.7 | R13: 1944630.7 | S13: 1095847.3 | T13: 319951.6 | U13: 932137.41 | V13: 33191.74 | W13: 2910075.1 | X13: 0 | Y13: 863960.15 | Z13: 0 | AA13: 33431.1 | AB13: 1871517.8 | AC13: 45852811
... A89: 68 | B89: 88 | C89: 13 | D89: อุดรธานี | E89: 10671 | F89: รพ.อุดรธานี | G89: 4.4989446e+08 | H89: 144315116 | I89: 3.318433e+08 | J89: 29889687 | K89: 5.060481e+08 | L89: 4732175.4 | M89: 5.3614849e+08 | O89: 2.9589972e+08 | P89: 12450783 | Q89: 3.0835051e+08 | R89: 59388745 | S89: 91671931 | T89: 77292331 | U89: 34355375 | V89: 4012798.4 | W89: 3708999.8 | X89: 0 | Y89: 31501990 | Z89: 5674423.4 | AA89: 5661187.5 | AB89: 1.3179963e+08 | AC89: 2.2502411e+09

Sheet 8.คำนวณ
A1: ลำดับเรียงตามงบทดลอง | B1: ลำดับเรียงตามจัดกลุ่ม | C1: กลุ่มที่ | D1: จังหวัด | E1: รหัส | F1: หน่วยบริการ | G1: ประชากรทั้งหมด | H1: สิทธิ UC | I1: สิทธิประกันสังคม | J1: สิทธิข้าราชการ | K1: สิทธิอื่นๆ | L1: รายได้(บาท)/ปชก. | S1: New Factor | T1: OP Visit รวม | U1: AdjRWรวม | V1: ค่า Adj.RW รวม quick method | W1: รวมค่าใช้จ่าย/RW
L2: เหมาจ่ายรายหัว UC | M2: เรียกเก็บUC/กองทุนUC/EMS | N2: ประกันสังคม | O2: ข้าราชการ | P2: พรบ. | Q2: ชำระเงินเอง | R2: งบบุคลากร | W2: บุคลากรรวม | X2: ค่าฝึกอบรม | Y2: ยาใช้ไป | Z2: วัสดุการแพทย์ | AA2: วัสดุวิทยาศาสตร์ | AB2: วัสดุอื่น | AC2: ซ่อมแซม/จ้างเหมา | AD2: จ้างตรวจLAB | AE2: ค่าสาธารณูปโภค | AF2: ค่าใช้สอยอื่นๆ | AG2: ค่าใช้จ่ายอื่นๆ
A3: 72 | B3: 1 | C3: 1 | D3: อุดรธานี | E3: 11016 | F3: รพ.ห้วยเกิ้ง | G3: =+DATA!G5 -> 4283 | H3: =+DATA!H5 -> 3920 | I3: =+DATA!I5 -> 310 | J3: =+DATA!J5 -> 402 | K3: =+DATA!K5 -> -349 | L3: =+'6.รายรับ'!G4/H3 -> 2008.5849 | M3: =+('6.รายรับ'!H4+'6.รายรับ'!I4+'6.รายรับ'!J4)/H3 -> 377.10981 | N3: =+'6.รายรับ'!K4/'8.คำนวณ'!I3 -> 734.66774 | O3: =+'6.รายรับ'!L4/'8.คำนวณ'!J3 -> 19934.398 | P3: =+'6.รายรับ'!M4/'8.คำนวณ'!G3 -> 14.014009 | Q3: =+'6.รายรับ'!Q4/'8.คำนวณ'!G3 -> 92.650712 | R3: =+'6.รายรับ'!V4/'8.คำนวณ'!H3 -> 1998.6584 | S3: ='2.Hosp. Group'!K5 -> 21 | T3: =+DATA!L5 -> 16255 | U3: =+DATA!M5 -> 414.262 | V3: =+(T3/S3)+U3 -> 1188.3096 | W3: =+('7.รายจ่าย'!G2+'7.รายจ่าย'!K2)/'8.คำนวณ'!V3 -> 12684.067 | X3: =+'7.รายจ่าย'!L2/'8.คำนวณ'!V3 -> 77.244111 | Y3: =+'7.รายจ่าย'!M2/'8.คำนวณ'!V3 -> 1232.9409 | Z3: =+'7.รายจ่าย'!O2/'8.คำนวณ'!V3 -> 498.27877 | AA3: =+'7.รายจ่าย'!P2/'8.คำนวณ'!V3 -> 15.01713 | AB3: =+'7.รายจ่าย'!R2/'8.คำนวณ'!V3 -> 2309.8865 | AC3: =+'7.รายจ่าย'!S2/'8.คำนวณ'!V3 -> 1013.793 | AD3: =+'7.รายจ่าย'!T2/'8.คำนวณ'!V3 -> 271.35857 | AE3: =+'7.รายจ่าย'!U2/'8.คำนวณ'!V3 -> 532.19161 | AF3: =+'7.รายจ่าย'!V2/'8.คำนวณ'!V3 -> 0.010098378 | AG3: =+'7.รายจ่าย'!Y2/'8.คำนวณ'!V3 -> 0
A4: 41 | B4: 2 | C4: 1 | D4: สกลนคร | E4: 11094 | F4: รพ.นิคมน้ำอูน | G4: =+DATA!G6 -> 12372 | H4: =+DATA!H6 -> 10569 | I4: =+DATA!I6 -> 515 | J4: =+DATA!J6 -> 1132 | K4: =+DATA!K6 -> 156 | L4: =+'6.รายรับ'!G5/H4 -> 917.63083 | M4: =+('6.รายรับ'!H5+'6.รายรับ'!I5+'6.รายรับ'!J5)/H4 -> 559.45717 | N4: =+'6.รายรับ'!K5/'8.คำนวณ'!I4 -> 703.71882 | O4: =+'6.รายรับ'!L5/'8.คำนวณ'!J4 -> 2147.9761 | P4: =+'6.รายรับ'!M5/'8.คำนวณ'!G4 -> 10.179195 | Q4: =+'6.รายรับ'!Q5/'8.คำนวณ'!G4 -> 28.00877 | R4: =+'6.รายรับ'!V5/'8.คำนวณ'!H4 -> 1071.7747 | S4: ='2.Hosp. Group'!K6 -> 21 | T4: =+DATA!L6 -> 22386 | U4: =+DATA!M6 -> 446.632 | V4: =+(T4/S4)+U4 -> 1512.632 | W4: =+('7.รายจ่าย'!G3+'7.รายจ่าย'!K3)/'8.คำนวณ'!V4 -> 14541.744 | X4: =+'7.รายจ่าย'!L3/'8.คำนวณ'!V4 -> 36.515769 | Y4: =+'7.รายจ่าย'!M3/'8.คำนวณ'!V4 -> 1221.7509 | Z4: =+'7.รายจ่าย'!O3/'8.คำนวณ'!V4 -> 354.71776 | AA4: =+'7.รายจ่าย'!P3/'8.คำนวณ'!V4 -> 665.89065 | AB4: =+'7.รายจ่าย'!R3/'8.คำนวณ'!V4 -> 706.16697 | AC4: =+'7.รายจ่าย'!S3/'8.คำนวณ'!V4 -> 430.31006 | AD4: =+'7.รายจ่าย'!T3/'8.คำนวณ'!V4 -> 211.47873 | AE4: =+'7.รายจ่าย'!U3/'8.คำนวณ'!V4 -> 293.327 | AF4: =+'7.รายจ่าย'!V3/'8.คำนวณ'!V4 -> 26.527761 | AG4: =+'7.รายจ่าย'!Y3/'8.คำนวณ'!V4 -> 187.29605
