Workbook
Name _: #REF!
Name _q06: #REF!
Name DATA: #REF!
Name Data222: #REF!
Name data2222: #REF!
Name q: #REF!
Name q_รหัสหลัก51: #REF!
Name q_สส: #REF!
Name q_สสจ51: #REF!
Name q_สสอ_51: #REF!
Name q_สสอ51: #REF!
Name q_สอ_51: #REF!
Name q00_เขต: #REF!
Name q01_: #REF!
Name q01_จังหวัด: #REF!
Name q01_รพสต9762: #REF!
Name q01_รหัสหลัก: #REF!
Name q01_สสจ: #REF!
Name q01_สสจ1: #REF!
Name q02_: #REF!
Name q02_รพศ_รพท: [1]รพศ_รพท_รพช!$A$1:$V$836
Name q02_รพศ_รพท_รพช: #REF!
Name q03_ทำเนียบเตียงใหม่: #REF!
Name q03_ทำเนียบเตียงใหม่1: #REF!
Name q03_รพศ_รพท_รพช_52: #REF!
Name q03_สสอ: #REF!
Name q04_รพสต: #REF!
Name q05_: #REF!
Name q05_รพศ_รพท_รพช_มีอำเภอรับผิดชอบ: #REF!
Name q05_หน่วยงานย่อย: #REF!
Name q06_: #REF!
Name q06_รพ: #REF!
Name q07_: #REF!
Name q07_สสอ: #REF!
Name q07_สสอ1: #REF!
Name q08_: #REF!
Name q08_รพสตหน่วยงานย่อย: #REF!
Name q08_รพสตหน่วยงานย่อย1: #REF!
Name q09_: #REF!
Name q1_: #REF!
Name q1_รพ877: #REF!
Name q11_: #REF!
Name q11_สสจ_มีเขตรหัสพื้นที่: #REF!
Name q12_: #REF!
Name q12_รพศรพทรพช891: #REF!
Name q12_รพศรพทรพช8911: #REF!
Name q12_รพศรพทรพช896: #REF!
Name q12_สสจ_52: #REF!
Name q13_: #REF!
Name q14_: #REF!
Name q14_รพสต97631: #REF!
Name q16_: #REF!
Name q2_: #REF!
Name q2_รพ883: #REF!
Name q21_: #REF!
Name Query1: #REF!
Name t01_รพศรพทรพช876: #REF!
Name t02_สสอ: #REF!
Name t03_รพสต9762: #REF!
Name t11_สสจ_ที่ไม่ตรงกับ_t12_สสจ: #REF!

Sheet PlanFin Analysis
B1: ความเสี่ยงด้านกระแสเงินสด | C1: ความเสี่ยงด้านการลงทุน | D1: ความเสี่ยงด้านเงินทุนหมุนเวียน
A2: PlanFin | B2: EBITDA | C2: % Investment ต่อ EBITDA | D2: สัดส่วน NWC เหลือหลัง Investment ต่อ รายจ่าย:เดือน | E2: การปรับ PlanFin
A3: แบบ | B3: บวก=Normal | C3: <20% Normal | D3: < 1 = Risk
B4: ลบ = Risk | C4: >20% Risk | D4: > 1 = Normal
A5: 1 | B5: Normal | C5: Normal | D5: Normal | E5: ไม่ต้องปรับ | G5: Normal
A6: 2 | B6: Normal | C6: Normal | D6: Risk | E6: ทบทวนการลงทุนอีกครั้ง | G6: Low Risk
A7: 3 | B7: Normal | C7: Risk | D7: Normal | E7: ทบทวนการลงทุนอีกครั้ง ทำFeasibility study | G7: Low Risk
A8: 4 | B8: Normal | C8: Risk | D8: Risk | E8: ปรับลดการลงทุนให้ < 20% EBITDA เพื่อเงินเหลือจาก EBITDA – ลงทุนจะไปเพิ่ม NWC ทำ Feasibility study | G8: Medium Risk
A9: 5 | B9: Risk | C9: Normal | D9: Normal | E9: ปรับ EBITDA ให้เป็น + | G9: Low Risk
A10: 6 | B10: Risk | C10: Normal | D10: Risk | E10: ปรับ EBITDA ให้เป็น + และทบทวนการลงทุนอีกครั้งเพื่อเงินเหลือจาก EBITDA – ลงทุนจะไปเพิ่ม NWC | G10: Medium Risk
A11: 7 | B11: Risk | C11: Risk | D11: Normal | E11: ปรับ EBITDA ให้เป็น + และ ทบทวนการลงทุนอีกครั้งควร ลงทุนให้ < 20% EBITDAทำ Feasibility study | G11: Medium Risk
A12: 8 | B12: Risk | C12: Risk | D12: Risk | E12: ปรับ EBITDA ให้เป็น + และ ชะลอการลงทุน | G12: High Risk

Sheet 1.ครบ7แผน ราย รพ
B3: 1 | C3: 2 | D3: 3 | E3: 4 | F3: 5 | G3: 6 | H3: 7 | I3: 8 | J3: 9 | K3: 10 | L3: 11 | M3: 12 | N3: 13 | O3: 14 | P3: 15 | Q3: 16 | R3: 17 | S3: 18 | T3: 19 | U3: 20 | V3: 21 | W3: 22 | X3: 23 | Y3: 24 | Z3: 25 | AA3: 26 | AB3: 27 | AC3: 28 | AD3: 29 | AE3: 30 | AF3: 31 | AG3: 32 | AH3: 33 | AI3: 34 | AJ3: 35 | AK3: 36 | AL3: 37 | AM3: 38 | AN3: 39 | AO3: 40 | AP3: 41 | AQ3: 42 | AR3: 43 | AS3: 44 | AT3: 45 | AU3: 46 | AV3: 47 | AW3: 48 | AX3: 49 | AY3: 50 | AZ3: 51 | BA3: 52 | BB3: 53 | BC3: 54 | BD3: 55 | BE3: 56 | BF3: 57 | BG3: 58 | BH3: 59 | BI3: 60 | BJ3: 61 | BK3: 62 | BL3: 63 | BM3: 64 | BN3: 65 | BO3: 66 | BP3: 67 | BQ3: 68 | BR3: 69 | BS3: 70 | BT3: 71 | BU3: 72 | BV3: 73 | BW3: 74 | BX3: 75 | BY3: 76 | BZ3: 77 | CA3: 78 | CB3: 79 | CC3: 80 | CD3: 81 | CE3: 82 | CF3: 83 | CG3: 84 | CH3: 85 | CI3: 86 | CJ3: 87 | CK3: 88
A4: การจัดทำแผนทางการเงิน Planfin ปีงบประมาณ 2569 เขตสุขภาพที่ 8 (ราย รพ.) | B4: นครพนม | N4: บึงกาฬ | V4: เลย | AJ4: สกลนคร | BB4: หนองคาย | BK4: หนองบัวลำภู | BQ4: อุดรธานี | CL4: รวมนครพนม | CM4: รวมบึงกาฬ | CN4: จังหวัดเลย | CO4: จังหวัดสกลนคร | CP4: จังหวัดหนองคาย | CQ4: จังหวัดหนองบัวลำภู | CR4: จังหวัดอุดรธานี | CS4: รวมเขต 8
B5: 10711 | C5: 11104 | D5: 11105 | E5: 11106 | F5: 11107 | G5: 11108 | H5: 11109 | I5: 11110 | J5: 11111 | K5: 11112 | L5: 11451 | M5: 40840 | N5: 11040 | O5: 11041 | P5: 11043 | Q5: 11046 | R5: 11047 | S5: 11048 | T5: 11049 | U5: 11050 | V5: 10705 | W5: 11030 | X5: 11031 | Y5: 11032 | Z5: 11033 | AA5: 11034 | AB5: 11035 | AC5: 11036 | AD5: 11037 | AE5: 11038 | AF5: 11039 | AG5: 11447 | AH5: 14133 | AI5: 28861 | AJ5: 10710 | AK5: 11089 | AL5: 11090 | AM5: 11091 | AN5: 11092 | AO5: 11093 | AP5: 11094 | AQ5: 11095 | AR5: 11096 | AS5: 11097 | AT5: 11098 | AU5: 11099 | AV5: 11100 | AW5: 11101 | AX5: 11102 | AY5: 11103 | AZ5: 11450 | BA5: 21323 | BB5: 10706 | BC5: 11042 | BD5: 11044 | BE5: 11045 | BF5: 11448 | BG5: 21356 | BH5: 28778 | BI5: 28811 | BJ5: 28815 | BK5: 10704 | BL5: 10991 | BM5: 10992 | BN5: 10993 | BO5: 10994 | BP5: 23367 | BQ5: 10671 | BR5: 11013 | BS5: 11014 | BT5: 11015 | BU5: 11016 | BV5: 11017 | BW5: 11018 | BX5: 11019 | BY5: 11020 | BZ5: 11021 | CA5: 11022 | CB5: 11023 | CC5: 11024 | CD5: 11025 | CE5: 11026 | CF5: 11027 | CG5: 11028 | CH5: 11029 | CI5: 11446 | CJ5: 25058 | CK5: 25059
A6: รายการ | B6: นครพนม,รพท. | C6: ปลาปาก,รพช. | D6: ท่าอุเทน,รพช. | E6: บ้านแพง,รพช. | F6: นาทม,รพช. | G6: เรณูนคร,รพช. | H6: นาแก,รพช. | I6: ศรีสงคราม,รพช. | J6: นาหว้า,รพช. | K6: โพนสวรรค์,รพช. | L6: รพร.ธาตุพนม | M6: วังยาง,รพช. | N6: บึงกาฬ,รพท. | O6: พรเจริญ,รพช. | P6: โซ่พิสัย,รพช. | Q6: เซกา,รพช. | R6: ปากคาด,รพช. | S6: บึงโขงหลง,รพช. | T6: ศรีวิไล,รพช. | U6: บุ่งคล้า รพช. | V6: เลย,รพท. | W6: นาด้วง,รพช. | X6: เชียงคาน,รพช. | Y6: ปากชม,รพช. | Z6: นาแห้ว,รพช. | AA6: ภูเรือ,รพช. | AB6: ท่าลี่,รพช. | AC6: วังสะพุง,รพช. | AD6: ภูกระดึง,รพช. | AE6: ภูหลวง,รพช. | AF6: ผาขาว,รพช. | AG6: สมเด็จพระยุพราชด่านซ้าย,รพช. | AH6: เอราวัณ,รพช. | AI6: หนองหิน,รพช. | AJ6: สกลนคร,รพศ. | AK6: กุสุมาลย์,รพช. | AL6: กุดบาก,รพช. | AM6: พระอาจารย์ฝั้นอาจาโร,รพช. | AN6: พังโคน,รพช. | AO6: วาริชภูมิ,รพช. | AP6: นิคมน้ำอูน,รพช. | AQ6: วานรนิวาส,รพช. | AR6: คำตากล้า,รพช. | AS6: พระอาจารย์มั่น,รพช. | AT6: อากาศอำนวย,รพช. | AU6: พระอาจารย์วัน,รพช. | AV6: เต่างอย,รพช. | AW6: โคกศรีสุพรรณ,รพช. | AX6: เจริญศิลป์,รพช. | AY6: โพนนาแก้ว,รพช. | AZ6: สมเด็จพระยุพราชสว่างแดนดิน,รพช. | BA6: พระอาจารย์แบน ธนากโร,รพช. | BB6: หนองคาย,รพท. | BC6: โพนพิสัย,รพช. | BD6: ศรีเชียงใหม่,รพช. | BE6: สังคม,รพช. | BF6: รพร.ท่าบ่อ | BG6: สระใคร,รพช. | BH6: โพธิ์ตาก,รพช. | BI6: เฝ้าไร่,รพช | BJ6: รัตนวาปี,รพช | BK6: หนองบัวลำภู,รพท. | BL6: นากลาง,รพช. | BM6: โนนสัง,รพช. | BN6: ศรีบุญเรือง,รพช. | BO6: สุวรรณคูหา,รพช. | BP6: นาวัง ,รพช. | BQ6: อุดรธานี,รพศ. | BR6: กุดจับ,รพช. | BS6: หนองวัวซอ,รพช. | BT6: กุมภวาปี,รพช. | BU6: ห้วยเกิ้ง,รพช. | BV6: โนนสะอาด,รพช. | BW6: หนองหาน,รพช. | BX6: ทุ่งฝน,รพช. | BY6: ไชยวาน,รพช. | BZ6: ศรีธาตุ,รพช. | CA6: วังสามหมอ,รพช. | CB6: บ้านผือ,รพช. | CC6: น้ำโสม,รพช. | CD6: เพ็ญ,รพช. | CE6: สร้างคอม,รพช. | CF6: หนองแสง,รพช. | CG6: นายูง,รพช. | CH6: พิบูลย์รักษ์,รพช. | CI6: รพร.บ้านดุง | CJ6: กู่แก้ว | CK6: ประจักษ์ศิลปาคม
A8: รายได้
A9: P04 รายได้ UC | B9: 3.7255437e+08 | C9: 62810971 | D9: 61680000 | E9: 44869354 | F9: 41471452 | G9: 60705265 | H9: 81402058 | I9: 1.225501e+08 | J9: 67800000 | K9: 95980000 | L9: 1.5562765e+08 | M9: 22508173 | N9: 4.5389309e+08 | O9: 72952964 | P9: 124000000 | Q9: 1.2997879e+08 | R9: 66716341 | S9: 80521975 | T9: 56278461 | U9: 25756735 | V9: 534300000 | W9: 76015670 | X9: 95500000 | Y9: 81356435 | Z9: 28380432 | AA9: 45963949 | AB9: 42000000 | AC9: 160000000 | AD9: 49500000 | AE9: 52807687 | AF9: 87667200 | AG9: 84613262 | AH9: 59000000 | AI9: 60500000 | AJ9: 1.3665875e+09 | AK9: 76071842 | AL9: 63730251 | AM9: 1.1286138e+08 | AN9: 1.0760744e+08 | AO9: 62596472 | AP9: 26505735 | AQ9: 3.8646022e+08 | AR9: 62693688 | AS9: 124480000 | AT9: 1.1232867e+08 | AU9: 54231753 | AV9: 33534750 | AW9: 75000000 | AX9: 73823485 | AY9: 48880000 | AZ9: 3.1031792e+08 | BA9: 49676604 | BB9: 450600000 | BC9: 154748000 | BD9: 38939610 | BE9: 65810615 | BF9: 337500000 | BG9: 52784030 | BH9: 29836352 | BI9: 87485528 | BJ9: 73102155 | BK9: 500000000 | BL9: 109000000 | BM9: 87504500 | BN9: 136833333 | BO9: 83161054 | BP9: 62730833 | BQ9: 1959570349 | BR9: 96887677 | BS9: 69611800 | BT9: 3.4383688e+08 | BU9: 14428254 | BV9: 66834681 | BW9: 2.25341e+08 | BX9: 55321295 | BY9: 52979399 | BZ9: 64313174 | CA9: 1.0586663e+08 | CB9: 1.807679e+08 | CC9: 98808619 | CD9: 1.6688017e+08 | CE9: 47733861 | CF9: 40275242 | CG9: 47334173 | CH9: 43875891 | CI9: 2.4213428e+08 | CJ9: 48510918 | CK9: 41277176 | CL9: =SUM(B9:M9) -> 1.1899594e+09 | CM9: =SUM(N9:U9) -> 1.0100984e+09 | CN9: =SUM(V9:AI9) -> 1.4576046e+09 | CO9: =SUM(AJ9:BA9) -> 3.1473877e+09 | CP9: =SUM(BB9:BJ9) -> 1.2908063e+09 | CQ9: =SUM(BK9:BP9) -> 9.7922972e+08 | CR9: =SUM(BQ9:CK9) -> 4.0125894e+09 | CS9: =SUM(B9:CK9) -> 1.3087675e+10
A10: P05 รายได้จาก EMS | B10: 2000000 | C10: 150000 | D10: 365900 | E10: 160000 | F10: 102000 | G10: 300000 | H10: 179865 | I10: 197350 | J10: 200000 | K10: 216700 | L10: 600000 | M10: 60000 | N10: 800000 | O10: 250000 | P10: 200000 | Q10: 98700 | R10: 116235 | S10: 170000 | T10: 263836.36 | U10: 120000 | V10: 1800000 | W10: 420000 | X10: 800000 | Y10: 605400 | Z10: 250000 | AA10: 200000 | AB10: 800000 | AC10: 1000000 | AD10: 400000 | AE10: 215400 | AF10: 300000 | AG10: 350000 | AH10: 170000 | AI10: 880000 | AJ10: 1300000 | AK10: 50000 | AL10: 22000 | AM10: 230000 | AN10: 492360 | AO10: 398450 | AP10: 195000 | AQ10: 1524350 | AR10: 324000 | AS10: 415000 | AT10: 600000 | AU10: 490000 | AV10: 82950 | AW10: 50000 | AX10: 160800 | AY10: 120000 | AZ10: 483200 | BA10: 153000 | BB10: 800000 | BC10: 400000 | BD10: 79400 | BE10: 50000 | BF10: 200000 | BG10: 100000 | BH10: 12000 | BI10: 162000 | BJ10: 100000 | BK10: 1000000 | BL10: 400000 | BM10: 250000 | BN10: 390000 | BO10: 120000 | BP10: 24800 | BQ10: 3500000 | BR10: 310291.67 | BS10: 158500 | BT10: 764633.33 | BU10: 0 | BV10: 122640 | BW10: 350000 | BX10: 176900 | BY10: 139800 | BZ10: 60000 | CA10: 52800 | CB10: 600000 | CC10: 82120 | CD10: 330300 | CE10: 270000 | CF10: 31643 | CG10: 164800 | CH10: 29900 | CI10: 322000 | CJ10: 27000 | CK10: 47100 | CL10: =SUM(B10:M10) -> 4531815 | CM10: =SUM(N10:U10) -> 2018771.4 | CN10: =SUM(V10:AI10) -> 8190800 | CO10: =SUM(AJ10:BA10) -> 7091110 | CP10: =SUM(BB10:BJ10) -> 1903400 | CQ10: =SUM(BK10:BP10) -> 2184800 | CR10: =SUM(BQ10:CK10) -> 7540428 | CS10: =SUM(B10:CK10) -> 33461124
A11: P06 รายได้ค่ารักษาเบิกต้นสังกัด | B11: 2000000 | C11: 2000 | D11: 16100 | E11: 134206 | F11: 5000 | G11: 153000 | H11: 6679.05 | I11: 105806.5 | J11: 0 | K11: 0 | L11: 795053.92 | M11: 0 | N11: 1790967.3 | O11: 15668 | P11: 60000 | Q11: 469236.67 | R11: 35947.01 | S11: 183153.35 | T11: 10021.09 | U11: 0 | V11: 3975000 | W11: 37000 | X11: 77000 | Y11: 1297761.4 | Z11: 50000 | AA11: 7000 | AB11: 200000 | AC11: 250000 | AD11: 100000 | AE11: 149150 | AF11: 20000 | AG11: 103000 | AH11: 24000 | AI11: 750000 | AJ11: 10745289 | AK11: 13000 | AL11: 28842 | AM11: 337343.72 | AN11: 438205.16 | AO11: 28835 | AP11: 0 | AQ11: 793396.03 | AR11: 124168 | AS11: 110000 | AT11: 150000 | AU11: 4700 | AV11: 47737 | AW11: 50000 | AX11: 16259.5 | AY11: 0 | AZ11: 2304336.7 | BA11: 45000 | BB11: 14000000 | BC11: 700000 | BD11: 426 | BE11: 30000 | BF11: 3500000 | BG11: 2000 | BH11: 0 | BI11: 11458 | BJ11: 74000 | BK11: 1200000 | BL11: 50000 | BM11: 25000 | BN11: 83800 | BO11: 18800 | BP11: 0 | BQ11: 23620000 | BR11: 67718 | BS11: 202974.22 | BT11: 1195037.6 | BU11: 5000 | BV11: 24263.45 | BW11: 210000 | BX11: 74392 | BY11: 0 | BZ11: 50000 | CA11: 100422 | CB11: 250000 | CC11: 19108.8 | CD11: 261473 | CE11: 8000 | CF11: 5000 | CG11: 17876 | CH11: 6000 | CI11: 206492.8 | CJ11: 0 | CK11: 2000 | CL11: =SUM(B11:M11) -> 3217845.5 | CM11: =SUM(N11:U11) -> 2564993.4 | CN11: =SUM(V11:AI11) -> 7039911.4 | CO11: =SUM(AJ11:BA11) -> 15237112 | CP11: =SUM(BB11:BJ11) -> 18317884 | CQ11: =SUM(BK11:BP11) -> 1377600 | CR11: =SUM(BQ11:CK11) -> 26325758 | CS11: =SUM(B11:CK11) -> 74081105
A12: P61 รายได้ค่ารักษา อปท. | B12: 26412267 | C12: 1720000 | D12: 1142000 | E12: 1708061.4 | F12: 586000 | G12: 3650000 | H12: 1809323.1 | I12: 5873010.5 | J12: 1480000 | K12: 1650000 | L12: 6860538 | M12: 631198.32 | N12: 22650448 | O12: 2957808 | P12: 3000000 | Q12: 7962322.3 | R12: 1246847.4 | S12: 2162001 | T12: 2006972.1 | U12: 930000 | V12: 37610000 | W12: 1401000 | X12: 2510000 | Y12: 2053181 | Z12: 857611.88 | AA12: 1575230 | AB12: 1900000 | AC12: 6000000 | AD12: 1200000 | AE12: 1876600 | AF12: 1090000 | AG12: 2250200 | AH12: 1388000 | AI12: 3000000 | AJ12: 1.0591685e+08 | AK12: 2347717.9 | AL12: 4021942.5 | AM12: 8024757.4 | AN12: 6847734.8 | AO12: 1797728.5 | AP12: 1503566.8 | AQ12: 13988592 | AR12: 3230429.4 | AS12: 7640000 | AT12: 6000000 | AU12: 2162000 | AV12: 824455.29 | AW12: 3000000 | AX12: 1298830.1 | AY12: 1400000 | AZ12: 17264198 | BA12: 1061990 | BB12: 36000000 | BC12: 4424000 | BD12: 1319978.9 | BE12: 2651908.5 | BF12: 20500000 | BG12: 418328.76 | BH12: 513026.18 | BI12: 903170.82 | BJ12: 1658639.1 | BK12: 22000000 | BL12: 2600000 | BM12: 1961000 | BN12: 2721220 | BO12: 1722000 | BP12: 2513094.1 | BQ12: 124800000 | BR12: 2286588.4 | BS12: 1312757.4 | BT12: 14953831 | BU12: 1592319.2 | BV12: 1486199.6 | BW12: 5655000 | BX12: 978596.97 | BY12: 1070886.5 | BZ12: 1605000 | CA12: 6277601.4 | CB12: 7057000 | CC12: 1787036.8 | CD12: 4175832.9 | CE12: 1350000 | CF12: 697494.18 | CG12: 629790.34 | CH12: 1136316.8 | CI12: 6669012.9 | CJ12: 713900.4 | CK12: 1347168.4 | CL12: =SUM(B12:M12) -> 53522398 | CM12: =SUM(N12:U12) -> 42916399 | CN12: =SUM(V12:AI12) -> 64711823 | CO12: =SUM(AJ12:BA12) -> 1.883308e+08 | CP12: =SUM(BB12:BJ12) -> 68389052 | CQ12: =SUM(BK12:BP12) -> 33517314 | CR12: =SUM(BQ12:CK12) -> 1.8758233e+08 | CS12: =SUM(B12:CK12) -> 6.3897012e+08
A13: P07 รายได้ค่ารักษาเบิกจ่ายตรงกรมบัญชีกลาง | B13: 1.7822462e+08 | C13: 10500000 | D13: 8569000 | E13: 8663833.1 | F13: 3790000 | G13: 27979100 | H13: 8016471.7 | I13: 23815289 | J13: 7700000 | K13: 8423000 | L13: 62638438 | M13: 2990000 | N13: 92298605 | O13: 10380207 | P13: 22000000 | Q13: 34684206 | R13: 10262343 | S13: 10962329 | T13: 10200821 | U13: 6060000 | V13: 190000000 | W13: 6924000 | X13: 21200000 | Y13: 15787444 | Z13: 3947097.6 | AA13: 5918010 | AB13: 7000000 | AC13: 33000000 | AD13: 5000000 | AE13: 5578290 | AF13: 7020000 | AG13: 23477000 | AH13: 6362000 | AI13: 19000000 | AJ13: 6.5085903e+08 | AK13: 9261879.2 | AL13: 9418698.7 | AM13: 38965840 | AN13: 31069333 | AO13: 10826098 | AP13: 4720602.5 | AQ13: 85965265 | AR13: 12477043 | AS13: 22760000 | AT13: 35000000 | AU13: 7272718.4 | AV13: 5407276.1 | AW13: 25000000 | AX13: 12011890 | AY13: 7200000 | AZ13: 97675817 | BA13: 5694300 | BB13: 275500000 | BC13: 31834000 | BD13: 9338850.5 | BE13: 8936666.3 | BF13: 107710000 | BG13: 3381055 | BH13: 6093240.2 | BI13: 5038708.3 | BJ13: 6018705 | BK13: 120000000 | BL13: 13000000 | BM13: 8270000 | BN13: 15403330 | BO13: 8644000 | BP13: 9469398.3 | BQ13: 899500000 | BR13: 16851610 | BS13: 6574704.4 | BT13: 88058181 | BU13: 15397536 | BV13: 8616293.8 | BW13: 40620000 | BX13: 5300118 | BY13: 4951864.5 | BZ13: 12300000 | CA13: 17629892 | CB13: 37050000 | CC13: 12185990 | CD13: 27093379 | CE13: 8500000 | CF13: 6396283.7 | CG13: 3739943.3 | CH13: 6375448 | CI13: 37146927 | CJ13: 4412873.2 | CK13: 4938395.7 | CL13: =SUM(B13:M13) -> 3.5130975e+08 | CM13: =SUM(N13:U13) -> 1.9684851e+08 | CN13: =SUM(V13:AI13) -> 3.5021384e+08 | CO13: =SUM(AJ13:BA13) -> 1.0715858e+09 | CP13: =SUM(BB13:BJ13) -> 4.5385123e+08 | CQ13: =SUM(BK13:BP13) -> 1.7478673e+08 | CR13: =SUM(BQ13:CK13) -> 1.2636394e+09 | CS13: =SUM(B13:CK13) -> 3.8622353e+09
A14: P08 รายได้ประกันสังคม | B14: 37607550 | C14: 1400000 | D14: 753000 | E14: 822296.5 | F14: 487500 | G14: 3300000 | H14: 767072.38 | I14: 4419488.1 | J14: 800000 | K14: 1347000 | L14: 3850531.9 | M14: 333374.23 | N14: 19970334 | O14: 1337875 | P14: 4000000 | Q14: 4556521.5 | R14: 1767794.4 | S14: 2005058.5 | T14: 1500409 | U14: 740000 | V14: 91000000 | W14: 1690000 | X14: 2540000 | Y14: 1309699.3 | Z14: 821390 | AA14: 1960000 | AB14: 1000000 | AC14: 7000000 | AD14: 1300000 | AE14: 1298865 | AF14: 1730000 | AG14: 3277500 | AH14: 1709000 | AI14: 1500000 | AJ14: 2.6551327e+08 | AK14: 2139683 | AL14: 1286419.9 | AM14: 4269224.1 | AN14: 6874404.5 | AO14: 1029262.3 | AP14: 929531.49 | AQ14: 18654833 | AR14: 1485370.6 | AS14: 3797000 | AT14: 3500000 | AU14: 773744.69 | AV14: 1732615.1 | AW14: 2300000 | AX14: 460755.1 | AY14: 1350000 | AZ14: 18125447 | BA14: 843050 | BB14: 99500000 | BC14: 3050000 | BD14: 1034937 | BE14: 1614216.9 | BF14: 13000000 | BG14: 1077305 | BH14: 492647.44 | BI14: 521760.7 | BJ14: 615159 | BK14: 40000000 | BL14: 2800000 | BM14: 2430000 | BN14: 3047480 | BO14: 940603.84 | BP14: 1043957.8 | BQ14: 246200000 | BR14: 3266293 | BS14: 2988424.9 | BT14: 15636619 | BU14: 497162.56 | BV14: 1587820 | BW14: 7570000 | BX14: 1287455.6 | BY14: 793198 | BZ14: 1382000 | CA14: 1457972.8 | CB14: 13730000 | CC14: 3246140.1 | CD14: 10764855 | CE14: 800000 | CF14: 995972.2 | CG14: 1003751.6 | CH14: 1115440.8 | CI14: 7018331.1 | CJ14: 677277.64 | CK14: 1388306.9 | CL14: =SUM(B14:M14) -> 55887813 | CM14: =SUM(N14:U14) -> 35877993 | CN14: =SUM(V14:AI14) -> 1.1813645e+08 | CO14: =SUM(AJ14:BA14) -> 3.3506461e+08 | CP14: =SUM(BB14:BJ14) -> 1.2090603e+08 | CQ14: =SUM(BK14:BP14) -> 50262042 | CR14: =SUM(BQ14:CK14) -> 3.2340702e+08 | CS14: =SUM(B14:CK14) -> 1.039542e+09
A15: P09 รายได้แรงงานต่างด้าว | B15: 900000 | C15: 80000 | D15: 534000 | E15: 80912 | F15: 131700 | G15: 150000 | H15: 35632.8 | I15: 294522.8 | J15: 40000 | K15: 29500 | L15: 446238 | M15: 23639.43 | N15: 217908.25 | O15: 76286 | P15: 40000 | Q15: 40648.38 | R15: 68864.36 | S15: 92827.27 | T15: 50033.12 | U15: 120000 | V15: 1696000 | W15: 23000 | X15: 131500 | Y15: 289630 | Z15: 5000 | AA15: 69000 | AB15: 50000 | AC15: 300000 | AD15: 20000 | AE15: 9336 | AF15: 54000 | AG15: 158000 | AH15: 71000 | AI15: 12000 | AJ15: 209779.11 | AK15: 2500 | AL15: 17794 | AM15: 28478 | AN15: 104252.54 | AO15: 21744.88 | AP15: 8746 | AQ15: 78440.6 | AR15: 6464 | AS15: 72800 | AT15: 30000 | AU15: 20000 | AV15: 5704 | AW15: 13000 | AX15: 18266 | AY15: 10000 | AZ15: 363065.5 | BA15: 9540 | BB15: 500000 | BC15: 120000 | BD15: 64647.25 | BE15: 41194.2 | BF15: 150000 | BG15: 0 | BH15: 0 | BI15: 0 | BJ15: 25375 | BK15: 200000 | BL15: 120000 | BM15: 22000 | BN15: 39570 | BO15: 44000 | BP15: 36922 | BQ15: 1687000 | BR15: 71910 | BS15: 2880 | BT15: 131500 | BU15: 5000 | BV15: 23760 | BW15: 53000 | BX15: 1792 | BY15: 17140 | BZ15: 7500 | CA15: 17600 | CB15: 101700 | CC15: 26800 | CD15: 101735.94 | CE15: 7440 | CF15: 9128 | CG15: 8400 | CH15: 2000 | CI15: 27993.96 | CJ15: 0 | CK15: 9000 | CL15: =SUM(B15:M15) -> 2746145 | CM15: =SUM(N15:U15) -> 706567.38 | CN15: =SUM(V15:AI15) -> 2888466 | CO15: =SUM(AJ15:BA15) -> 1020574.6 | CP15: =SUM(BB15:BJ15) -> 901216.45 | CQ15: =SUM(BK15:BP15) -> 462492 | CR15: =SUM(BQ15:CK15) -> 2313279.9 | CS15: =SUM(B15:CK15) -> 11038741
A16: P10 รายได้ค่ารักษาและบริการอื่น ๆ | B16: 1.2371739e+08 | C16: 4207417.7 | D16: 3870000 | E16: 8212702.5 | F16: 2355000 | G16: 5576560.8 | H16: 4561562.2 | I16: 11723265 | J16: 6000000 | K16: 5382000 | L16: 35681270 | M16: 1542415.3 | N16: 53762512 | O16: 4828793.8 | P16: 4957603.8 | Q16: 15090263 | R16: 4355852.1 | S16: 8800148.3 | T16: 4165597 | U16: 3250000 | V16: 149532000 | W16: 3437000 | X16: 16194000 | Y16: 7486193 | Z16: 2100120 | AA16: 3695000 | AB16: 12000000 | AC16: 21000000 | AD16: 2705000 | AE16: 3211404 | AF16: 3058400 | AG16: 12820500 | AH16: 4949000 | AI16: 5200000 | AJ16: 2.4294032e+08 | AK16: 2892714 | AL16: 2482318.3 | AM16: 29262742 | AN16: 14993314 | AO16: 7103789.2 | AP16: 1903510.6 | AQ16: 54299681 | AR16: 6778035.6 | AS16: 8287500 | AT16: 6000000 | AU16: 6310496.9 | AV16: 2340407.2 | AW16: 4800358 | AX16: 4398021.1 | AY16: 2500000 | AZ16: 74744655 | BA16: 3000000 | BB16: 200500000 | BC16: 22344000 | BD16: 5240413 | BE16: 3714940.3 | BF16: 103300000 | BG16: 1745697.2 | BH16: 1695201 | BI16: 3958608 | BJ16: 2521932.5 | BK16: 81000000 | BL16: 6400000 | BM16: 2725500 | BN16: 7955970 | BO16: 2506363.4 | BP16: 3504182.8 | BQ16: 565000000 | BR16: 4036198.3 | BS16: 3101169.9 | BT16: 54176779 | BU16: 6079000 | BV16: 5748978.1 | BW16: 24986000 | BX16: 2012212.1 | BY16: 1713578.3 | BZ16: 3660000 | CA16: 5558808.2 | CB16: 21017750 | CC16: 5934525.6 | CD16: 12856522 | CE16: 3115000 | CF16: 2494646.2 | CG16: 1714931.4 | CH16: 1763089.5 | CI16: 23984257 | CJ16: 1418325.6 | CK16: 1609059.5 | CL16: =SUM(B16:M16) -> 2.1282958e+08 | CM16: =SUM(N16:U16) -> 99210770 | CN16: =SUM(V16:AI16) -> 2.4738862e+08 | CO16: =SUM(AJ16:BA16) -> 4.7503786e+08 | CP16: =SUM(BB16:BJ16) -> 3.4502079e+08 | CQ16: =SUM(BK16:BP16) -> 1.0409202e+08 | CR16: =SUM(BQ16:CK16) -> 7.5198083e+08 | CS16: =SUM(B16:CK16) -> 2.2355605e+09
A17: P11 รายได้งบประมาณส่วนบุคลากร | B17: 315000000 | C17: 37199779 | D17: 41105640 | E17: 43919747 | F17: 32671000 | G17: 49000000 | H17: 66412741 | I17: 67282910 | J17: 45103500 | K17: 45077000 | L17: 89400441 | M17: 17156880 | N17: 1.5666002e+08 | O17: 40239074 | P17: 44155428 | Q17: 68026741 | R17: 43026367 | S17: 38988620 | T17: 40577684 | U17: 27000000 | V17: 375000000 | W17: 30014500 | X17: 44094875 | Y17: 39850893 | Z17: 27146970 | AA17: 32505052 | AB17: 36600000 | AC17: 104153200 | AD17: 38695900 | AE17: 34206143 | AF17: 41793707 | AG17: 68199000 | AH17: 34897700 | AI17: 26345227 | AJ17: 6.1518548e+08 | AK17: 40756442 | AL17: 35266105 | AM17: 70320169 | AN17: 66705310 | AO17: 41139092 | AP17: 22549120 | AQ17: 1.2099063e+08 | AR17: 39915887 | AS17: 56717100 | AT17: 77948072 | AU17: 41275987 | AV17: 30113175 | AW17: 48000000 | AX17: 40293876 | AY17: 31000000 | AZ17: 1.718144e+08 | BA17: 33676129 | BB17: 325000000 | BC17: 93586000 | BD17: 36920728 | BE17: 38075840 | BF17: 187033280 | BG17: 27573647 | BH17: 18870000 | BI17: 23163883 | BJ17: 25898188 | BK17: 253000000 | BL17: 65017674 | BM17: 49549379 | BN17: 67942771 | BO17: 51656351 | BP17: 34294160 | BQ17: 1000581000 | BR17: 50738178 | BS17: 50940294 | BT17: 1.6834086e+08 | BU17: 14184600 | BV17: 45963294 | BW17: 100458000 | BX17: 31582308 | BY17: 32961829 | BZ17: 44313342 | CA17: 52401793 | CB17: 91972611 | CC17: 54017590 | CD17: 76707907 | CE17: 26764083 | CF17: 31270709 | CG17: 25659520 | CH17: 32075784 | CI17: 87295591 | CJ17: 22417944 | CK17: 18607005 | CL17: =SUM(B17:M17) -> 8.4932964e+08 | CM17: =SUM(N17:U17) -> 4.5867393e+08 | CN17: =SUM(V17:AI17) -> 9.3350317e+08 | CO17: =SUM(AJ17:BA17) -> 1.583667e+09 | CP17: =SUM(BB17:BJ17) -> 7.7612157e+08 | CQ17: =SUM(BK17:BP17) -> 5.2146033e+08 | CR17: =SUM(BQ17:CK17) -> 2.0592542e+09 | CS17: =SUM(B17:CK17) -> 7.1820099e+09
A18: P12 รายได้อื่น | B18: 71158280 | C18: 4607487.6 | D18: 8222000 | E18: 11190699 | F18: 3661676.2 | G18: 13063081 | H18: 14003248 | I18: 20581890 | J18: 8010000 | K18: 3941000 | L18: 45123359 | M18: 12263255 | N18: 41856631 | O18: 9006676.6 | P18: 13216450 | Q18: 17839297 | R18: 7774527.8 | S18: 14898629 | T18: 9160161.4 | U18: 5615500 | V18: 102013000 | W18: 29559190 | X18: 32701110 | Y18: 8035919.6 | Z18: 11217490 | AA18: 12927749 | AB18: 5000000 | AC18: 20000000 | AD18: 7000000 | AE18: 25270596 | AF18: 6864464 | AG18: 37850900 | AH18: 6392000 | AI18: 16900000 | AJ18: 1.6723808e+08 | AK18: 17459234 | AL18: 11546869 | AM18: 20956909 | AN18: 13061481 | AO18: 5220203.6 | AP18: 3019154.2 | AQ18: 28987478 | AR18: 15169804 | AS18: 25811600 | AT18: 15500000 | AU18: 13702717 | AV18: 20463594 | AW18: 6430349.7 | AX18: 20523018 | AY18: 6600000 | AZ18: 72813938 | BA18: 17975490 | BB18: 283700000 | BC18: 35074000 | BD18: 5088447.2 | BE18: 15351760 | BF18: 56000000 | BG18: 5981046.8 | BH18: 9442640 | BI18: 4569277.8 | BJ18: 6412927.1 | BK18: 60000000 | BL18: 11866007 | BM18: 17671400 | BN18: 14041809 | BO18: 31049074 | BP18: 9591013 | BQ18: 250908000 | BR18: 13261153 | BS18: 13869769 | BT18: 41926404 | BU18: 7235040 | BV18: 10319583 | BW18: 25969500 | BX18: 6203427.3 | BY18: 8056700.1 | BZ18: 8151002.8 | CA18: 8384262.7 | CB18: 25280694 | CC18: 9417786.4 | CD18: 19959939 | CE18: 6151791.3 | CF18: 8972132.9 | CG18: 6668813.8 | CH18: 5675855.4 | CI18: 51143677 | CJ18: 5624407.3 | CK18: 3582178.3 | CL18: =SUM(B18:M18) -> 2.1582598e+08 | CM18: =SUM(N18:U18) -> 1.1936787e+08 | CN18: =SUM(V18:AI18) -> 3.2173242e+08 | CO18: =SUM(AJ18:BA18) -> 4.8247992e+08 | CP18: =SUM(BB18:BJ18) -> 4.216201e+08 | CQ18: =SUM(BK18:BP18) -> 1.442193e+08 | CR18: =SUM(BQ18:CK18) -> 5.3676212e+08 | CS18: =SUM(B18:CK18) -> 2.2420077e+09
A19: P121 รายได้อื่น (ระบบบัญชีบันทึกอัตโนมัติ) | B19: 560030000 | C19: 0 | D19: 0 | E19: 0 | F19: 0 | G19: 0 | H19: 0 | I19: 0 | J19: 0 | K19: 0 | L19: 0 | M19: 0 | N19: 0 | O19: 0 | P19: 0 | Q19: 0 | R19: 0 | S19: 0 | T19: 0 | U19: 0 | V19: 0 | W19: 0 | X19: 0 | Y19: 0 | Z19: 0 | AA19: 0 | AB19: 0 | AC19: 0 | AD19: 0 | AE19: 0 | AF19: 0 | AG19: 0 | AH19: 0 | AI19: 0 | AJ19: 0 | AK19: 0 | AL19: 0 | AM19: 0 | AN19: 0 | AO19: 0 | AP19: 0 | AQ19: 3445750.8 | AR19: 0 | AS19: 0 | AT19: 0 | AU19: 0 | AV19: 0 | AW19: 0 | AX19: 0 | AY19: 0 | AZ19: 0 | BA19: 0 | BB19: 0 | BC19: 0 | BD19: 0 | BE19: 0 | BF19: 0 | BG19: 0 | BH19: 0 | BI19: 0 | BJ19: 0 | BK19: 641000000 | BL19: 0 | BM19: 0 | BN19: 0 | BO19: 0 | BP19: 0 | BQ19: 6000000 | BR19: 0 | BS19: 0 | BT19: 0 | BU19: 0 | BV19: 0 | BW19: 0 | BX19: 0 | BY19: 0 | BZ19: 0 | CA19: 0 | CB19: 0 | CC19: 0 | CD19: 0 | CE19: 0 | CF19: 0 | CG19: 0 | CH19: 0 | CI19: 0 | CJ19: 0 | CK19: 0 | CL19: =SUM(B19:M19) -> 560030000 | CM19: =SUM(N19:U19) -> 0 | CN19: =SUM(V19:AI19) -> 0 | CO19: =SUM(AJ19:BA19) -> 3445750.8 | CP19: =SUM(BB19:BJ19) -> 0 | CQ19: =SUM(BK19:BP19) -> 641000000 | CR19: =SUM(BQ19:CK19) -> 6000000 | CS19: =SUM(B19:CK19) -> 1.2104758e+09
A20: P13 รายได้งบลงทุน | B20: 13304535 | C20: 2150745.5 | D20: 1109100.6 | E20: 1082877.4 | F20: 2197321.9 | G20: 3446188.6 | H20: 5486315.3 | I20: 6141229.5 | J20: 2873960.8 | K20: 3562835.3 | L20: 7281991.3 | M20: 1251000 | N20: 1.8449532e+08 | O20: 3318156.6 | P20: 4934637.5 | Q20: 7250215.2 | R20: 1919621.8 | S20: 6589422.2 | T20: 2862480.2 | U20: 3633778.3 | V20: 26292784 | W20: 3212578.3 | X20: 5868685.1 | Y20: 4400879.4 | Z20: 2111682 | AA20: 2606345.4 | AB20: 2627497.1 | AC20: 7413931.5 | AD20: 2740393.5 | AE20: 2906486.2 | AF20: 5195990 | AG20: 3234205.3 | AH20: 2267120 | AI20: 3296155.3 | AJ20: 3.015847e+08 | AK20: 8182338 | AL20: 3320948.9 | AM20: 4304418.7 | AN20: 5835941.2 | AO20: 5405878.7 | AP20: 4425694 | AQ20: 20750437 | AR20: 2868354.2 | AS20: 5499597.3 | AT20: 5005018.2 | AU20: 6468199.4 | AV20: 3791818.7 | AW20: 2802491.6 | AX20: 3786512.1 | AY20: 1099088.8 | AZ20: 19216550 | BA20: 4524503.2 | BB20: 64908500 | BC20: 48812500 | BD20: 7013240.8 | BE20: 13694846 | BF20: 132650000 | BG20: 1321791.1 | BH20: 1886191.5 | BI20: 7048329.5 | BJ20: 20638057 | BK20: 48478085 | BL20: 4508345.7 | BM20: 3304817.1 | BN20: 6430000 | BO20: 3168984.5 | BP20: 1482627.6 | BQ20: 115019590 | BR20: 12664415 | BS20: 2673693.7 | BT20: 10922127 | BU20: 74457.8 | BV20: 3530877 | BW20: 188225000 | BX20: 7151976 | BY20: 2063639.6 | BZ20: 11624500 | CA20: 16698649 | CB20: 5196466 | CC20: 2614655 | CD20: 7683785.8 | CE20: 2426933.6 | CF20: 1742939.9 | CG20: 1444000 | CH20: 13603533 | CI20: 11981345 | CJ20: 1584246.2 | CK20: 1590057.1 | CL20: =SUM(B20:M20) -> 49888101 | CM20: =SUM(N20:U20) -> 2.1500363e+08 | CN20: =SUM(V20:AI20) -> 74174733 | CO20: =SUM(AJ20:BA20) -> 4.0887249e+08 | CP20: =SUM(BB20:BJ20) -> 2.9797346e+08 | CQ20: =SUM(BK20:BP20) -> 67372860 | CR20: =SUM(BQ20:CK20) -> 4.2051689e+08 | CS20: =SUM(B20:CK20) -> 1.5338022e+09
A21: P13S รวมรายได้ | B21: =SUM(B9:B20) -> 1.702909e+09 | C21: =SUM(C9:C20) -> 1.248284e+08 | D21: =SUM(D9:D20) -> 1.2736674e+08 | E21: =SUM(E9:E20) -> 1.2084469e+08 | F21: =SUM(F9:F20) -> 87458650 | G21: =SUM(G9:G20) -> 1.673232e+08 | H21: =SUM(H9:H20) -> 1.8268097e+08 | I21: =SUM(I9:I20) -> 2.6298486e+08 | ... CS21: =SUM(CS9:CS20) -> 3.315086e+10
A22: P14 ต้นทุนยา | B22: 165000000 | C22: 13505482 | D22: 9900000 | E22: 10368918 | F22: 6400000 | G22: 14000000 | H22: 14557774 | I22: 29000000 | J22: 14000000 | K22: 14430000 | L22: 43110516 | M22: 4510000 | N22: 1.0007535e+08 | O22: 14189699 | P22: 15543928 | Q22: 35307230 | R22: 10457945 | S22: 14006611 | T22: 10000020 | U22: 3600000 | V22: 195000000 | W22: 7400000 | X22: 21000000 | Y22: 10923165 | Z22: 4000000 | AA22: 7110067.8 | AB22: 9500000 | AC22: 38000000 | AD22: 7000000 | AE22: 7790833 | AF22: 9500000 | AG22: 26000000 | AH22: 10500000 | AI22: 8000000 | AJ22: 6.5012193e+08 | AK22: 11324696 | AL22: 6000000 | AM22: 42097553 | AN22: 29194722 | AO22: 12950000 | AP22: 3872658.9 | AQ22: 89884858 | AR22: 12433280 | AS22: 25000000 | AT22: 23000000 | AU22: 10991515 | AV22: 5683442.8 | AW22: 13500000 | AX22: 12301759 | AY22: 8200000 | AZ22: 136000000 | BA22: 8300000 | BB22: 321000000 | BC22: 45228000 | BD22: 7562938.5 | BE22: 10500000 | BF22: 88000000 | BG22: 6380000 | BH22: 4547041.8 | BI22: 10257601 | BJ22: 10970134 | BK22: 136000000 | BL22: 23000000 | BM22: 18662431 | BN22: 29850264 | BO22: 16600000 | BP22: 10029831 | BQ22: 1105218500 | BR22: 18237894 | BS22: 14500000 | BT22: 90834344 | BU22: 3690000 | BV22: 13056201 | BW22: 54000000 | BX22: 8112230 | BY22: 6661740.1 | BZ22: 11500000 | CA22: 17821996 | CB22: 46526289 | CC22: 16006961 | CD22: 38787793 | CE22: 6700000 | CF22: 5805084.3 | CG22: 5624045.2 | CH22: 6828684.5 | CI22: 54422963 | CJ22: 6511918.2 | CK22: 4520092.9 | CL22: =SUM(B22:M22) -> 3.3878269e+08 | CM22: =SUM(N22:U22) -> 2.0318078e+08 | CN22: =SUM(V22:AI22) -> 3.6172407e+08 | CO22: =SUM(AJ22:BA22) -> 1.1008564e+09 | CP22: =SUM(BB22:BJ22) -> 5.0444571e+08 | CQ22: =SUM(BK22:BP22) -> 2.3414253e+08 | CR22: =SUM(BQ22:CK22) -> 1.5353667e+09 | CS22: =SUM(B22:CK22) -> 4.2784989e+09
A23: P15 ต้นทุนเวชภัณฑ์มิใช่ยาและวัสดุการแพทย์ | B23: 99792613 | C23: 6315066.8 | D23: 3430000 | E23: 1842987.4 | F23: 2100000 | G23: 9500000 | H23: 5686159.2 | I23: 9700000 | J23: 2665000 | K23: 2113700 | L23: 25235797 | M23: 1547593.9 | N23: 81433773 | O23: 6130913.7 | P23: 7437491.2 | Q23: 17275630 | R23: 2568627.4 | S23: 4205147.9 | T23: 3954132.3 | U23: 1040000 | V23: 155000000 | W23: 4729340 | X23: 7485000 | Y23: 5758258.4 | Z23: 1090000 | AA23: 2197615.7 | AB23: 3500000 | AC23: 17000000 | AD23: 4060000 | AE23: 3131369 | AF23: 5255000 | AG23: 8450000 | AH23: 4800001 | AI23: 2950000 | AJ23: 4.2445407e+08 | AK23: 8983028.5 | AL23: 3700000 | AM23: 11832868 | AN23: 9878788.4 | AO23: 3480714 | AP23: 1365234.9 | AQ23: 47460955 | AR23: 5158460.9 | AS23: 11560500 | AT23: 10000000 | AU23: 3834040.7 | AV23: 2397167.4 | AW23: 6200000 | AX23: 5169127.8 | AY23: 3200000 | AZ23: 49039355 | BA23: 3286000 | BB23: 174500000 | BC23: 9578000 | BD23: 2704618.1 | BE23: 4250000 | BF23: 69780000 | BG23: 2319420 | BH23: 2529008.8 | BI23: 4860865 | BJ23: 6370100.5 | BK23: 97000000 | BL23: 8480000 | BM23: 6712374.3 | BN23: 10841284 | BO23: 5927458 | BP23: 4196640.4 | BQ23: 608592300 | BR23: 4501464.4 | BS23: 4532821.5 | BT23: 53115968 | BU23: 1137901.1 | BV23: 4315609.2 | BW23: 30092424 | BX23: 2306195 | BY23: 3118617.6 | BZ23: 4865000 | CA23: 5995306.4 | CB23: 25432396 | CC23: 4525937.5 | CD23: 11850809 | CE23: 4480000 | CF23: 2049996.5 | CG23: 1807001.1 | CH23: 3284199 | CI23: 33282217 | CJ23: 2535369.3 | CK23: 2566514.1 | CL23: =SUM(B23:M23) -> 1.6992892e+08 | CM23: =SUM(N23:U23) -> 1.2404572e+08 | CN23: =SUM(V23:AI23) -> 2.2540658e+08 | CO23: =SUM(AJ23:BA23) -> 6.1100031e+08 | CP23: =SUM(BB23:BJ23) -> 2.7689201e+08 | CQ23: =SUM(BK23:BP23) -> 1.3315776e+08 | CR23: =SUM(BQ23:CK23) -> 8.1438805e+08 | CS23: =SUM(B23:CK23) -> 2.3548193e+09
A24: P151 ต้นทุนวัสดุทันตกรรม | B24: 3854657.7 | C24: 627180 | D24: 520000 | E24: 309388.61 | F24: 380000 | G24: 900000 | H24: 773414.4 | I24: 641063.1 | J24: 700000 | K24: 443000 | L24: 2297116.4 | M24: 397226 | N24: 2008600.8 | O24: 1000601.2 | P24: 660339.52 | Q24: 657010.4 | R24: 736843.64 | S24: 829204 | T24: 527430.32 | U24: 80000 | V24: 1400000 | W24: 420000 | X24: 1000000 | Y24: 337582 | Z24: 400000 | AA24: 320000 | AB24: 125000 | AC24: 1000000 | AD24: 400000 | AE24: 140284 | AF24: 400000 | AG24: 630000 | AH24: 800000 | AI24: 500000 | AJ24: 3407038.4 | AK24: 350000 | AL24: 200000 | AM24: 900000 | AN24: 412644 | AO24: 231901.85 | AP24: 324327 | AQ24: 521395.5 | AR24: 413746.84 | AS24: 900000 | AT24: 1000000 | AU24: 700000 | AV24: 561654.29 | AW24: 150000 | AX24: 458630.19 | AY24: 320000 | AZ24: 2003373 | BA24: 567750 | BB24: 2000000 | BC24: 1100000 | BD24: 265816 | BE24: 170000 | BF24: 1800000 | BG24: 324105 | BH24: 300000 | BI24: 250229.58 | BJ24: 817212.75 | BK24: 1300000 | BL24: 900000 | BM24: 666922.28 | BN24: 1243488 | BO24: 540000 | BP24: 522292.6 | BQ24: 5849680 | BR24: 300720.35 | BS24: 655000 | BT24: 1277100.7 | BU24: 36092.8 | BV24: 358545.35 | BW24: 1451527 | BX24: 280761.86 | BY24: 384617.4 | BZ24: 440000 | CA24: 702867.2 | CB24: 1215822.5 | CC24: 597496.1 | CD24: 1318559.6 | CE24: 260000 | CF24: 461984.58 | CG24: 199972.8 | CH24: 342450 | CI24: 999930.81 | CJ24: 141018 | CK24: 157713.23 | CL24: =SUM(B24:M24) -> 11843046 | CM24: =SUM(N24:U24) -> 6500029.8 | CN24: =SUM(V24:AI24) -> 7872866 | CO24: =SUM(AJ24:BA24) -> 13422461 | CP24: =SUM(BB24:BJ24) -> 7027363.3 | CQ24: =SUM(BK24:BP24) -> 5172702.9 | CR24: =SUM(BQ24:CK24) -> 17431860 | CS24: =SUM(B24:CK24) -> 69270330
A25: P16 ต้นทุนวัสดุวิทยาศาสตร์การแพทย์ | B25: 17581539 | C25: 2508705 | D25: 6600000 | E25: 7865806 | F25: 3800000 | G25: 5200000 | H25: 5516825 | I25: 10080101 | J25: 6700000 | K25: 10895500 | L25: 19800000 | M25: 2503706 | N25: 16932401 | O25: 5266647 | P25: 6000000 | Q25: 1573380 | R25: 6051197.2 | S25: 4016708 | T25: 5000146.9 | U25: 2000000 | V25: 13000000 | W25: 4500000 | X25: 9800000 | Y25: 5816901.4 | Z25: 3000000 | AA25: 2794969.7 | AB25: 4500000 | AC25: 10000000 | AD25: 3200000 | AE25: 3906909 | AF25: 8700000 | AG25: 3600000 | AH25: 4500000 | AI25: 6000000 | AJ25: 20298654 | AK25: 4500000 | AL25: 3700000 | AM25: 5800000 | AN25: 13897362 | AO25: 4621988.1 | AP25: 1896059 | AQ25: 14837644 | AR25: 6158087.6 | AS25: 9500000 | AT25: 9500000 | AU25: 5750000 | AV25: 2736722.1 | AW25: 6641000 | AX25: 5363788 | AY25: 3500000 | AZ25: 17752979 | BA25: 4440000 | BB25: 9600000 | BC25: 15000000 | BD25: 4444652 | BE25: 6000000 | BF25: 8450000 | BG25: 3000000 | BH25: 2858222 | BI25: 4470470.4 | BJ25: 4515504.5 | BK25: 14200000 | BL25: 6000000 | BM25: 6118936 | BN25: 11353480 | BO25: 2700000 | BP25: 7613437 | BQ25: 34728000 | BR25: 6280788 | BS25: 5670150 | BT25: 4323727.7 | BU25: 88546 | BV25: 5189788 | BW25: 13588792 | BX25: 3250000 | BY25: 5039219.4 | BZ25: 5700000 | CA25: 9684970 | CB25: 12747970 | CC25: 6412733.3 | CD25: 7675815 | CE25: 1400000 | CF25: 3185340 | CG25: 4087406 | CH25: 3190093.8 | CI25: 16266877 | CJ25: 3001265.5 | CK25: 2665881.6 | CL25: =SUM(B25:M25) -> 99052182 | CM25: =SUM(N25:U25) -> 46840480 | CN25: =SUM(V25:AI25) -> 83318780 | CO25: =SUM(AJ25:BA25) -> 1.4089428e+08 | CP25: =SUM(BB25:BJ25) -> 58338849 | CQ25: =SUM(BK25:BP25) -> 47985853 | CR25: =SUM(BQ25:CK25) -> 1.5417736e+08 | CS25: =SUM(B25:CK25) -> 6.3060779e+08
A26: P17 เงินเดือนและค่าจ้างประจำ | B26: 321350000 | C26: 37199779 | D26: 41105640 | E26: 43919747 | F26: 32671000 | G26: 49000000 | H26: 66412741 | I26: 67282910 | J26: 45103500 | K26: 45077000 | L26: 89419271 | M26: 17156880 | N26: 1.6085729e+08 | O26: 39962264 | P26: 44155428 | Q26: 68026741 | R26: 43026367 | S26: 38988620 | T26: 40577684 | U26: 26888840 | V26: 375000000 | W26: 30014500 | X26: 44094875 | Y26: 39850893 | Z26: 27146970 | AA26: 32505394 | AB26: 36600000 | AC26: 104153200 | AD26: 38695900 | AE26: 34206144 | AF26: 41793707 | AG26: 65796700 | AH26: 34897700 | AI26: 26345227 | AJ26: 6.1548548e+08 | AK26: 40756442 | AL26: 35266105 | AM26: 70320169 | AN26: 66705310 | AO26: 41139092 | AP26: 22549120 | AQ26: 1.2099063e+08 | AR26: 39915887 | AS26: 56717100 | AT26: 77948072 | AU26: 41275987 | AV26: 29094754 | AW26: 48000000 | AX26: 40193876 | AY26: 31000000 | AZ26: 1.7652428e+08 | BA26: 33676129 | BB26: 325000000 | BC26: 93594000 | BD26: 36920728 | BE26: 38075840 | BF26: 187033280 | BG26: 27923647 | BH26: 18864438 | BI26: 23163883 | BJ26: 25861188 | BK26: 253000000 | BL26: 65017674 | BM26: 49549379 | BN26: 67942771 | BO26: 51656351 | BP26: 34294160 | BQ26: 1000581000 | BR26: 50738178 | BS26: 50940294 | BT26: 1.6834086e+08 | BU26: 14184600 | BV26: 45963294 | BW26: 100458000 | BX26: 31582308 | BY26: 32961829 | BZ26: 44313342 | CA26: 52401793 | CB26: 91972611 | CC26: 54017590 | CD26: 76601175 | CE26: 26764083 | CF26: 31270709 | CG26: 25659520 | CH26: 32075784 | CI26: 87295591 | CJ26: 22417944 | CK26: 18607005 | CL26: =SUM(B26:M26) -> 8.5569847e+08 | CM26: =SUM(N26:U26) -> 4.6248323e+08 | CN26: =SUM(V26:AI26) -> 9.3110121e+08 | CO26: =SUM(AJ26:BA26) -> 1.5875584e+09 | CP26: =SUM(BB26:BJ26) -> 7.76437e+08 | CQ26: =SUM(BK26:BP26) -> 5.2146033e+08 | CR26: =SUM(BQ26:CK26) -> 2.0591475e+09 | CS26: =SUM(B26:CK26) -> 7.1938862e+09
A27: P18 ค่าจ้างชั่วคราว/พกส./ค่าจ้างเหมาบุคลากรอื่น | B27: 76862280 | C27: 18673205 | D27: 11935300 | E27: 13581795 | F27: 9936000 | G27: 13850000 | H27: 11333477 | I27: 22813573 | J27: 15090000 | K27: 17229000 | L27: 42392620 | M27: 5245196 | N27: 87941119 | O27: 13320472 | P27: 16881000 | Q27: 24004638 | R27: 14029560 | S27: 11961515 | T27: 13162680 | U27: 8633240 | V27: 91160000 | W27: 12364640 | X27: 21528900 | Y27: 16405190 | Z27: 8128410 | AA27: 9153121.4 | AB27: 11000000 | AC27: 32000000 | AD27: 7200000 | AE27: 14024669 | AF27: 11579090 | AG27: 21631700 | AH27: 12328000 | AI27: 10900000 | AJ27: 2.1383472e+08 | AK27: 13575605 | AL27: 12269786 | AM27: 24716065 | AN27: 30056112 | AO27: 16478786 | AP27: 8026800 | AQ27: 67217579 | AR27: 14843712 | AS27: 28234200 | AT27: 23495613 | AU27: 15620000 | AV27: 10307043 | AW27: 13300000 | AX27: 15335332 | AY27: 16294398 | AZ27: 55813994 | BA27: 14741950 | BB27: 121600000 | BC27: 32524000 | BD27: 10666272 | BE27: 15500000 | BF27: 67560000 | BG27: 13341890 | BH27: 7609098 | BI27: 12846069 | BJ27: 12444109 | BK27: 75000000 | BL27: 18000000 | BM27: 13039769 | BN27: 19809659 | BO27: 16440800 | BP27: 14657778 | BQ27: 293196000 | BR27: 18874602 | BS27: 18590994 | BT27: 67569028 | BU27: 7352892 | BV27: 13966709 | BW27: 37275000 | BX27: 11359560 | BY27: 13961278 | BZ27: 13677903 | CA27: 17019602 | CB27: 32939537 | CC27: 16540036 | CD27: 33785775 | CE27: 13690036 | CF27: 10224220 | CG27: 12312456 | CH27: 9431618 | CI27: 42609874 | CJ27: 9580070.2 | CK27: 9875464.2 | CL27: =SUM(B27:M27) -> 2.5894245e+08 | CM27: =SUM(N27:U27) -> 1.8993422e+08 | CN27: =SUM(V27:AI27) -> 2.7940372e+08 | CO27: =SUM(AJ27:BA27) -> 5.941617e+08 | CP27: =SUM(BB27:BJ27) -> 2.9409144e+08 | CQ27: =SUM(BK27:BP27) -> 1.5694801e+08 | CR27: =SUM(BQ27:CK27) -> 7.0383265e+08 | CS27: =SUM(B27:CK27) -> 2.4773142e+09
A28: P19 ค่าตอบแทน | B28: 160330000 | C28: 18127576 | D28: 21746500 | E28: 20431255 | F28: 14887790 | G28: 23785800 | H28: 32724501 | I28: 42161396 | J28: 21469100 | K28: 25967000 | L28: 61883090 | M28: 11396385 | N28: 1.3639716e+08 | O28: 24831226 | P28: 37024327 | Q28: 48074493 | R28: 20798211 | S28: 27022700 | T28: 19322112 | U28: 13567500 | V28: 212608000 | W28: 19400370 | X28: 36338000 | Y28: 27044959 | Z28: 14780050 | AA28: 15929556 | AB28: 18600000 | AC28: 58000000 | AD28: 19000000 | AE28: 19776571 | AF28: 31164700 | AG28: 34029200 | AH28: 18205000 | AI28: 18173000 | AJ28: 4.0835716e+08 | AK28: 24666576 | AL28: 17373174 | AM28: 40369273 | AN28: 49346166 | AO28: 22456549 | AP28: 12658617 | AQ28: 1.0216069e+08 | AR28: 20716949 | AS28: 38197949 | AT28: 32474658 | AU28: 20097936 | AV28: 14402753 | AW28: 21000000 | AX28: 21216952 | AY28: 17055000 | AZ28: 1.0396114e+08 | BA28: 19238040 | BB28: 230800000 | BC28: 60958000 | BD28: 17497755 | BE28: 25901000 | BF28: 152680800 | BG28: 15758316 | BH28: 12972000 | BI28: 16622800 | BJ28: 15840843 | BK28: 155000000 | BL28: 37000000 | BM28: 25140000 | BN28: 45605903 | BO28: 29242413 | BP28: 20819856 | BQ28: 706520000 | BR28: 26706325 | BS28: 23640964 | BT28: 1.305174e+08 | BU28: 7253458 | BV28: 22401205 | BW28: 74270000 | BX28: 15797645 | BY28: 17453716 | BZ28: 17923211 | CA28: 26295508 | CB28: 58290529 | CC28: 32541360 | CD28: 49261294 | CE28: 19073090 | CF28: 18429431 | CG28: 20355165 | CH28: 15272332 | CI28: 76089293 | CJ28: 19944546 | CK28: 12666457 | CL28: =SUM(B28:M28) -> 4.5491039e+08 | CM28: =SUM(N28:U28) -> 3.2703773e+08 | CN28: =SUM(V28:AI28) -> 5.4304941e+08 | CO28: =SUM(AJ28:BA28) -> 9.8574958e+08 | CP28: =SUM(BB28:BJ28) -> 5.4903151e+08 | CQ28: =SUM(BK28:BP28) -> 3.1280817e+08 | CR28: =SUM(BQ28:CK28) -> 1.3907029e+09 | CS28: =SUM(B28:CK28) -> 4.5632897e+09
A29: P20 ค่าใช้จ่ายบุคลากรอื่น | B29: 20320643 | C29: 2690743.6 | D29: 3078255.2 | E29: 2314552.3 | F29: 1937950 | G29: 3077000 | H29: 5082528 | I29: 4038068.9 | J29: 3234300 | K29: 3096000 | L29: 6689185.6 | M29: 1190257.8 | N29: 13939885 | O29: 3149105 | P29: 3029956.5 | Q29: 4294735.1 | R29: 2703147.5 | S29: 2685951.7 | T29: 2655930.6 | U29: 1611750 | V29: 27355500 | W29: 2618570 | X29: 3312800 | Y29: 2899171.5 | Z29: 1573260 | AA29: 2238934.5 | AB29: 2250000 | AC29: 6000000 | AD29: 2000000 | AE29: 2175131 | AF29: 2612289 | AG29: 4620900 | AH29: 2323000 | AI29: 2700000 | AJ29: 48727040 | AK29: 3092059.2 | AL29: 2621346.5 | AM29: 5179177.7 | AN29: 5787715.3 | AO29: 2861008.1 | AP29: 1719945.8 | AQ29: 9863219.7 | AR29: 2902982.7 | AS29: 4819580 | AT29: 5355581.2 | AU29: 2370318.5 | AV29: 1885377 | AW29: 3500000 | AX29: 2560751 | AY29: 2542000 | AZ29: 13955539 | BA29: 2651479 | BB29: 26800000 | BC29: 6894000 | BD29: 2259663 | BE29: 3125856.8 | BF29: 13700000 | BG29: 1749122 | BH29: 1290888.4 | BI29: 1794657.3 | BJ29: 2439445.9 | BK29: 18000000 | BL29: 4600000 | BM29: 3527565 | BN29: 5039125.2 | BO29: 3400377.6 | BP29: 3144853.2 | BQ29: 76573645 | BR29: 3596831.9 | BS29: 3099283.2 | BT29: 15881709 | BU29: 1226906 | BV29: 2962608.4 | BW29: 8450000 | BX29: 2349323.7 | BY29: 2521298.2 | BZ29: 2962232.8 | CA29: 3021137 | CB29: 5424720.5 | CC29: 4491543.7 | CD29: 7598658.2 | CE29: 2188063.3 | CF29: 2019880.8 | CG29: 1933651.2 | CH29: 1985454.2 | CI29: 7257937.8 | CJ29: 1830441 | CK29: 1615315.3 | CL29: =SUM(B29:M29) -> 56749484 | CM29: =SUM(N29:U29) -> 34070462 | CN29: =SUM(V29:AI29) -> 64679556 | CO29: =SUM(AJ29:BA29) -> 1.2239512e+08 | CP29: =SUM(BB29:BJ29) -> 60053633 | CQ29: =SUM(BK29:BP29) -> 37711921 | CR29: =SUM(BQ29:CK29) -> 1.5899064e+08 | CS29: =SUM(B29:CK29) -> 5.3465082e+08
A30: P21 ค่าใช้สอย | B30: 1.0418869e+08 | C30: 5663539 | D30: 9081930 | E30: 4672000 | F30: 2616659.9 | G30: 5850600 | H30: 6152836 | I30: 41772335 | J30: 8014200 | K30: 14414900 | L30: 24028294 | M30: 2704580.6 | N30: 1.0677214e+08 | O30: 7941365.1 | P30: 22206334 | Q30: 27224492 | R30: 11059563 | S30: 7736514.3 | T30: 5552345.8 | U30: 2033100 | V30: 160000000 | W30: 7073770 | X30: 10600100 | Y30: 12449246 | Z30: 1784807 | AA30: 4653294 | AB30: 3100000 | AC30: 30000000 | AD30: 4000000 | AE30: 7705026 | AF30: 5942100 | AG30: 34132400 | AH30: 7778000 | AI30: 18000000 | AJ30: 3.305439e+08 | AK30: 9050194.8 | AL30: 6479269.8 | AM30: 41867699 | AN30: 20500310 | AO30: 3925727.6 | AP30: 2051420.4 | AQ30: 1.1883779e+08 | AR30: 7700944.9 | AS30: 23142250 | AT30: 27615071 | AU30: 5751627.6 | AV30: 1050873.5 | AW30: 28450000 | AX30: 5690306.6 | AY30: 2900693 | AZ30: 1.2182668e+08 | BA30: 3942567 | BB30: 142400000 | BC30: 21044000 | BD30: 5207080 | BE30: 3890120 | BF30: 77901000 | BG30: 3212877.5 | BH30: 4321622.2 | BI30: 6708551.6 | BJ30: 8618025 | BK30: 98000000 | BL30: 14000000 | BM30: 14084321 | BN30: 18169026 | BO30: 11067997 | BP30: 7446970.4 | BQ30: 419920900 | BR30: 19733407 | BS30: 4038959.4 | BT30: 73297753 | BU30: 4115308 | BV30: 8071700 | BW30: 39023500 | BX30: 3265983.5 | BY30: 7546901.7 | BZ30: 5723577 | CA30: 24860672 | CB30: 35604475 | CC30: 10360050 | CD30: 32764283 | CE30: 5608510 | CF30: 2524888 | CG30: 1702945.5 | CH30: 2615749.9 | CI30: 57421433 | CJ30: 3869384.1 | CK30: 3292081.3 | CL30: =SUM(B30:M30) -> 2.2916056e+08 | CM30: =SUM(N30:U30) -> 1.9052586e+08 | CN30: =SUM(V30:AI30) -> 3.0721874e+08 | CO30: =SUM(AJ30:BA30) -> 7.6132733e+08 | CP30: =SUM(BB30:BJ30) -> 2.7330328e+08 | CQ30: =SUM(BK30:BP30) -> 1.6276831e+08 | CR30: =SUM(BQ30:CK30) -> 7.6536246e+08 | CS30: =SUM(B30:CK30) -> 2.6896665e+09
A31: P22 ค่าสาธารณูปโภค | B31: 26960000 | C31: 3295070 | D31: 2807450 | E31: 2570000 | F31: 1541500 | G31: 2500000 | H31: 2381143 | I31: 6025489.2 | J31: 2000000 | K31: 3068900 | L31: 5652034.9 | M31: 1040000 | N31: 17099940 | O31: 2728782.2 | P31: 4683000 | Q31: 5509173.6 | R31: 3051882.5 | S31: 1624542.2 | T31: 1917452.6 | U31: 1295000 | V31: 27600000 | W31: 2116500 | X31: 3252000 | Y31: 3579088.7 | Z31: 1600000 | AA31: 1630248.4 | AB31: 3000000 | AC31: 7000000 | AD31: 2500000 | AE31: 2212950 | AF31: 3207000 | AG31: 3151500 | AH31: 2876000 | AI31: 2000000 | AJ31: 70062209 | AK31: 2692462.1 | AL31: 1812685.4 | AM31: 4788265 | AN31: 4553829.3 | AO31: 2344724.3 | AP31: 832831.32 | AQ31: 10863253 | AR31: 2170521.6 | AS31: 4398778 | AT31: 4250000 | AU31: 1868764.8 | AV31: 1218665.7 | AW31: 2500000 | AX31: 1892638.2 | AY31: 1401900 | AZ31: 14842394 | BA31: 1942847.2 | BB31: 26020000 | BC31: 10282825 | BD31: 1638590.8 | BE31: 3358260 | BF31: 18410000 | BG31: 1032000 | BH31: 1040000 | BI31: 1744556 | BJ31: 1590154.6 | BK31: 22000000 | BL31: 5300000 | BM31: 4280897 | BN31: 4258908.3 | BO31: 2847770.6 | BP31: 2504670.9 | BQ31: 69160000 | BR31: 3604679.8 | BS31: 2813066.3 | BT31: 18112896 | BU31: 2248175 | BV31: 3165149.5 | BW31: 9780000 | BX31: 2239079.8 | BY31: 1750213.4 | BZ31: 2401000 | CA31: 4272174.6 | CB31: 6878000 | CC31: 4640388.1 | CD31: 7782580.1 | CE31: 2694763.6 | CF31: 2024251.1 | CG31: 2091569.2 | CH31: 1944274.8 | CI31: 9788809.9 | CJ31: 909108.77 | CK31: 1700000 | CL31: =SUM(B31:M31) -> 59841587 | CM31: =SUM(N31:U31) -> 37909773 | CN31: =SUM(V31:AI31) -> 65725287 | CO31: =SUM(AJ31:BA31) -> 1.3443677e+08 | CP31: =SUM(BB31:BJ31) -> 65116386 | CQ31: =SUM(BK31:BP31) -> 41192247 | CR31: =SUM(BQ31:CK31) -> 1.6000018e+08 | CS31: =SUM(B31:CK31) -> 5.6422223e+08
A32: P23 วัสดุใช้ไป | B32: 29928934 | C32: 3123882 | D32: 4775700 | E32: 4916477 | F32: 3843266 | G32: 3055000 | H32: 4948611.4 | I32: 7969520.9 | J32: 6114900 | K32: 4276000 | L32: 15631908 | M32: 1984577.6 | N32: 17042348 | O32: 5062223.2 | P32: 5925160 | Q32: 9273905 | R32: 5480248.8 | S32: 3426430.4 | T32: 5372357.7 | U32: 1960000 | V32: 43120000 | W32: 4630000 | X32: 6850000 | Y32: 6521500.9 | Z32: 2125000 | AA32: 4280000 | AB32: 4000000 | AC32: 18000000 | AD32: 5300000 | AE32: 3693350 | AF32: 7156900 | AG32: 6746500 | AH32: 4306000 | AI32: 5025000 | AJ32: 66879607 | AK32: 6807170.3 | AL32: 4271240 | AM32: 8218768.1 | AN32: 9352908.4 | AO32: 9149884.1 | AP32: 2043875.6 | AQ32: 20984441 | AR32: 5156985.4 | AS32: 10453040 | AT32: 9413120 | AU32: 5278507.2 | AV32: 3226163.7 | AW32: 5900000 | AX32: 5522435.9 | AY32: 3461500 | AZ32: 21996972 | BA32: 4514000 | BB32: 28480000 | BC32: 9220000 | BD32: 2000387.4 | BE32: 4430000 | BF32: 18420000 | BG32: 2798694.4 | BH32: 2414157.5 | BI32: 2937902 | BJ32: 3956069 | BK32: 37000000 | BL32: 7000000 | BM32: 6546744.5 | BN32: 7450635.1 | BO32: 8903375.1 | BP32: 6903282.5 | BQ32: 108479370 | BR32: 6268546.3 | BS32: 4589030.1 | BT32: 16583209 | BU32: 7143088 | BV32: 4253704.1 | BW32: 14280000 | BX32: 3992171.9 | BY32: 2624892.9 | BZ32: 4492210 | CA32: 14059644 | CB32: 12289629 | CC32: 7902680.5 | CD32: 9031978.7 | CE32: 3277438 | CF32: 3269497.5 | CG32: 4100670.8 | CH32: 4037335.5 | CI32: 16163749 | CJ32: 1794678.6 | CK32: 1886437.5 | CL32: =SUM(B32:M32) -> 90568777 | CM32: =SUM(N32:U32) -> 53542673 | CN32: =SUM(V32:AI32) -> 1.2175425e+08 | CO32: =SUM(AJ32:BA32) -> 2.0263062e+08 | CP32: =SUM(BB32:BJ32) -> 74657210 | CQ32: =SUM(BK32:BP32) -> 73804037 | CR32: =SUM(BQ32:CK32) -> 2.5051996e+08 | CS32: =SUM(B32:CK32) -> 8.6747753e+08
A33: P24 ค่าเสื่อมราคาและค่าตัดจำหน่าย | B33: 77221000 | C33: 8176545.3 | D33: 4565200 | E33: 7976448.1 | F33: 6211500 | G33: 6000000 | H33: 6200963.2 | I33: 11376159 | J33: 7593390 | K33: 12956000 | L33: 42065748 | M33: 7781578.4 | N33: 96574193 | O33: 7981809.8 | P33: 12801592 | Q33: 10559507 | R33: 9072450.5 | S33: 11219317 | T33: 5229827.7 | U33: 4850000 | V33: 143200000 | W33: 12298570 | X33: 16099814 | Y33: 12706978 | Z33: 5251190 | AA33: 5204056.2 | AB33: 7200000 | AC33: 25000000 | AD33: 5577468.5 | AE33: 8368396 | AF33: 7544181 | AG33: 15808800 | AH33: 8822000 | AI33: 9386217.6 | AJ33: 190132239 | AK33: 9489727.4 | AL33: 6102337.3 | AM33: 20274584 | AN33: 15462957 | AO33: 7219212.8 | AP33: 5158365.3 | AQ33: 59520658 | AR33: 9295368.2 | AS33: 15325400 | AT33: 14900000 | AU33: 8060807.2 | AV33: 5187806.3 | AW33: 7500000 | AX33: 9748379.8 | AY33: 11435734 | AZ33: 84398910 | BA33: 11767901 | BB33: 145700000 | BC33: 29972000 | BD33: 5221543.6 | BE33: 18279196 | BF33: 92855000 | BG33: 6530092.8 | BH33: 9187485 | BI33: 6877666.7 | BJ33: 10121049 | BK33: 52000000 | BL33: 15912171 | BM33: 12791937 | BN33: 18692548 | BO33: 14322189 | BP33: 9392277.1 | BQ33: 263599320 | BR33: 12937472 | BS33: 6427197.4 | BT33: 69758859 | BU33: 9991028.5 | BV33: 12186288 | BW33: 40664000 | BX33: 6402184.7 | BY33: 6733810.3 | BZ33: 11219207 | CA33: 11529409 | CB33: 32528014 | CC33: 9805558.9 | CD33: 27224662 | CE33: 7056133 | CF33: 4704270.3 | CG33: 6804301 | CH33: 3743035.6 | CI33: 38511362 | CJ33: 6965163 | CK33: 6702397.7 | CL33: =SUM(B33:M33) -> 1.9812453e+08 | CM33: =SUM(N33:U33) -> 1.582887e+08 | CN33: =SUM(V33:AI33) -> 2.8246767e+08 | CO33: =SUM(AJ33:BA33) -> 4.9098039e+08 | CP33: =SUM(BB33:BJ33) -> 3.2474403e+08 | CQ33: =SUM(BK33:BP33) -> 1.2311112e+08 | CR33: =SUM(BQ33:CK33) -> 5.9549367e+08 | CS33: =SUM(B33:CK33) -> 2.1732101e+09
... A35: P25 ค่าใช้จ่ายอื่น | B35: 21595427 | C35: 10827105 | D35: 9145805 | E35: 6705550 | F35: 4112060.2 | G35: 7990000 | H35: 14568031 | I35: 9802273.4 | J35: 6222700 | K35: 7183000 | L35: 11330420 | M35: 5078678.4 | N35: 21776509 | O35: 13624017 | P35: 25229022 | Q35: 11820235 | R35: 9777273.1 | S35: 6605864.4 | T35: 9083004.4 | U35: 4315000 | V35: 59426425 | W35: 8906500 | X35: 5836989 | Y35: 8250359.9 | Z35: 2078000 | AA35: 8647458 | AB35: 1500000 | AC35: 13000000 | AD35: 3009555 | AE35: 2165208 | AF35: 2995045 | AG35: 8534622 | AH35: 3978000 | AI35: 2880000 | AJ35: 42819993 | AK35: 20244428 | AL35: 5172830 | AM35: 6710900.5 | AN35: 4642650.5 | AO35: 7012962.7 | AP35: 2445468.2 | AQ35: 12827599 | AR35: 7188369.8 | AS35: 10403900 | AT35: 6192283 | AU35: 4548903.1 | AV35: 2014046.8 | AW35: 3971063.9 | AX35: 2558543.4 | AY35: 5804827 | AZ35: 25584969 | BA35: 6454485.5 | BB35: 17800000 | BC35: 2548273.8 | BD35: 6743815.6 | BE35: 8250000 | BF35: 9100000 | BG35: 2801000 | BH35: 730000 | BI35: 1710679 | BJ35: 1649832.5 | BK35: 11000000 | BL35: 9000000 | BM35: 8118000 | BN35: 5741828 | BO35: 4736102.6 | BP35: 6711323.5 | BQ35: 113150039 | BR35: 11941300 | BS35: 4221670 | BT35: 18933736 | BU35: 930000 | BV35: 6689286 | BW35: 11570000 | BX35: 13670295 | BY35: 3865506.9 | BZ35: 13269195 | CA35: 9424400.7 | CB35: 20815625 | CC35: 7939624.2 | CD35: 22266937 | CE35: 3897905.5 | CF35: 4685022.1 | CG35: 1659755.7 | CH35: 7307833.8 | CI35: 13849376 | CJ35: 3016680.4 | CK35: 6600928 | CL35: =SUM(B35:M35) -> 1.1456105e+08 | CM35: =SUM(N35:U35) -> 1.0223093e+08 | CN35: =SUM(V35:AI35) -> 1.3120816e+08 | CO35: =SUM(AJ35:BA35) -> 1.7659822e+08 | CP35: =SUM(BB35:BJ35) -> 51333601 | CQ35: =SUM(BK35:BP35) -> 45307254 | CR35: =SUM(BQ35:CK35) -> 2.9970512e+08 | CS35: =SUM(B35:CK35) -> 9.2094433e+08
A36: P251 ค่าใช้จ่ายอื่น (ระบบบัญชีบันทึกอัตโนมัติ) | B36: 555500000 | C36: 0 | D36: 0 | E36: 0 | F36: 0 | G36: 0 | H36: 0 | I36: 0 | J36: 0 | K36: 80.25 | L36: 0 | M36: 0 | N36: 212333.16 | O36: 0 | P36: 0 | R36: 0 | S36: 0 | T36: 0 | U36: 0 | V36: 1700000 | W36: 0 | X36: 0 | Y36: 0 | Z36: 0 | AA36: 0 | AB36: 0 | AC36: 0 | AD36: 0 | AE36: 0 | AF36: 0 | AG36: 0 | AH36: 0 | AI36: 0 | AJ36: 145540 | AK36: 0 | AL36: 0 | AM36: 0 | AN36: 0 | AO36: 0 | AP36: 0 | AQ36: 3509519.3 | AR36: 0 | AS36: 0 | AT36: 0 | AU36: 0 | AV36: 0 | AW36: 0 | AX36: 0 | AY36: 0 | AZ36: 0 | BA36: 0 | BB36: 500000 | BC36: 0 | BD36: 0 | BE36: 0 | BF36: 5000 | BG36: 0 | BH36: 0 | BI36: 0 | BJ36: 0 | BK36: 590000000 | BL36: 0 | BM36: 0 | BN36: 0 | BO36: 0 | BP36: 0 | BQ36: 37080000 | BR36: 0 | BS36: 0 | BT36: 518726.9 | BU36: 0 | BV36: 0 | BW36: 0 | BX36: 0 | BY36: 0 | BZ36: 0 | CA36: 0 | CB36: 0 | CC36: 0 | CD36: 0 | CE36: 0 | CF36: 0 | CG36: 0 | CH36: 0 | CI36: 0 | CJ36: 0 | CK36: 0 | CL36: =SUM(B36:M36) -> 5.5550008e+08 | CM36: =SUM(N36:U36) -> 212333.16 | CN36: =SUM(V36:AI36) -> 1700000 | CO36: =SUM(AJ36:BA36) -> 3655059.3 | CP36: =SUM(BB36:BJ36) -> 505000 | CQ36: =SUM(BK36:BP36) -> 590000000 | CR36: =SUM(BQ36:CK36) -> 37598727 | CS36: =SUM(B36:CK36) -> 1.1891712e+09
A37: P26S รวมค่าใช้จ่าย | B37: =SUM(B22:B36) -> 1.6850958e+09 | C37: =SUM(C22:C36) -> 1.3081138e+08 | D37: =SUM(D22:D36) -> 1.2873728e+08 | E37: =SUM(E22:E36) -> 1.2757692e+08 | F37: =SUM(F22:F36) -> 90473927 | G37: =SUM(G22:G36) -> 144800400 | H37: =SUM(H22:H36) -> 1.7637186e+08 | I37: =SUM(I22:I36) -> 2.6289332e+08 | ... CS37: =SUM(CS22:CS36) -> 3.0555287e+10
A39: ส่วนต่างรายได้หักค่าใช้จ่าย (NI) | B39: =(SUM(B9:B20))-B37 -> 17813219 | C39: =(SUM(C9:C20))-C37 -> -5982982 | D39: =(SUM(D9:D20))-D37 -> -1370539.6 | E39: =(SUM(E9:E20))-E37 -> -6732235.6 | F39: =(SUM(F9:F20))-F37 -> -3015276.7 | G39: =(SUM(G9:G20))-G37 -> 22522795 | H39: =(SUM(H9:H20))-H37 -> 6309111.8 | I39: =(SUM(I9:I20))-I37 -> 91543.42 | ... CS39: =(SUM(CS9:CS20))-CS37 -> 2.5955727e+09
A40: EBITDA (รวมรายได้ (ไม่รวมรายได้งบลงทุน) - รวมค่าใช้จ่าย (ไม่รวมค่าเสื่อมราคาและค่าตัดจำหน่าย) | B40: =((SUM(B9:B18)-((SUM(B22:B32)+B34+B35)))) -> 77199684 | C40: =((SUM(C9:C18)-((SUM(C22:C32)+C34+C35)))) -> 42817.83 | D40: =((SUM(D9:D18)-((SUM(D22:D32)+D34+D35)))) -> 2085559.8 | E40: =((SUM(E9:E18)-((SUM(E22:E32)+E34+E35)))) -> 161335.05 | F40: =((SUM(F9:F18)-((SUM(F22:F32)+F34+F35)))) -> 998901.43 | G40: =((SUM(G9:G18)-((SUM(G22:G32)+G34+G35)))) -> 25076607 | H40: =((SUM(H9:H18)-((SUM(H22:H32)+H34+H35)))) -> 7023759.6 | I40: =((SUM(I9:I18)-((SUM(I22:I32)+I34+I35)))) -> 5326473 | ... CS40: =((SUM(CS9:CS18)-((SUM(CS22:CS32)+CS34+CS35)))) -> 3.2136761e+09
A41: P28 สรุปแผนประมาณการ | B41: =IF(B40>0,"เกินดุล",IF(B40=0,"สมดุล","ขาดดุล")) -> เกินดุล | C41: =IF(C40>0,"เกินดุล",IF(C40=0,"สมดุล","ขาดดุล")) -> เกินดุล | D41: =IF(D40>0,"เกินดุล",IF(D40=0,"สมดุล","ขาดดุล")) -> เกินดุล | E41: =IF(E40>0,"เกินดุล",IF(E40=0,"สมดุล","ขาดดุล")) -> เกินดุล | F41: =IF(F40>0,"เกินดุล",IF(F40=0,"สมดุล","ขาดดุล")) -> เกินดุล | G41: =IF(G40>0,"เกินดุล",IF(G40=0,"สมดุล","ขาดดุล")) -> เกินดุล | H41: =IF(H40>0,"เกินดุล",IF(H40=0,"สมดุล","ขาดดุล")) -> เกินดุล | I41: =IF(I40>0,"เกินดุล",IF(I40=0,"สมดุล","ขาดดุล")) -> เกินดุล | ... CS41: =IF(CS40>0,"เกินดุล",IF(CS40=0,"สมดุล","ขาดดุล")) -> เกินดุล
A42: P281 วงเงินที่ลงทุนได้ (ร้อยละ 20%ของ EBITDA) | B42: =IF(B40<=0,0,ROUNDUP((B40*20%),2)) -> 15439937 | C42: =IF(C40<=0,0,ROUNDUP((C40*20%),2)) -> 8563.57 | D42: =IF(D40<=0,0,ROUNDUP((D40*20%),2)) -> 417111.96 | E42: =IF(E40<=0,0,ROUNDUP((E40*20%),2)) -> 32267.01 | F42: =IF(F40<=0,0,ROUNDUP((F40*20%),2)) -> 199780.29 | G42: =IF(G40<=0,0,ROUNDUP((G40*20%),2)) -> 5015321.3 | H42: =IF(H40<=0,0,ROUNDUP((H40*20%),2)) -> 1404751.9 | I42: =IF(I40<=0,0,ROUNDUP((I40*20%),2)) -> 1065294.6 | ... CS42: =IF(CS40<=0,0,ROUNDUP((CS40*20%),2)) -> 6.4273521e+08
A44: P40 ทุนสำรองสุทธิ (Networking Capital) กันยายน 2568 | B44: 1.7690574e+08 | C44: 11382627 | D44: 7650349.6 | E44: 2827814.7 | F44: 3572898.7 | G44: -3918323.6 | H44: 998735.15 | I44: -2268769 | J44: -6041788.7 | K44: -13262385 | L44: -23282208 | M44: -5398671.6 | N44: 18151518 | O44: 12677798 | P44: -8898601.2 | Q44: 8764891.5 | R44: 12742303 | S44: 13063445 | T44: 3428084.1 | U44: -6082056 | V44: 1.8545352e+08 | W44: 24537207 | X44: 13571989 | Y44: 5333876.4 | Z44: -5894782.1 | AA44: 2165574.8 | AB44: -131623.58 | AC44: -16409824 | AD44: -61817.74 | AE44: -2354661.8 | AF44: -4284565.4 | AG44: -2623477.8 | AH44: 6235795.6 | AI44: -4569766.6 | AJ44: 6.7376965e+08 | AK44: 35042167 | AL44: 12886213 | AM44: 33850006 | AN44: -2988379.6 | AO44: 3487521.1 | AP44: 2205779.6 | AQ44: 51939126 | AR44: 7542607.9 | AS44: 6922741.8 | AT44: -4957322 | AU44: 12666985 | AV44: 4435991.2 | AW44: 19230102 | AX44: 10627533 | AY44: 1475716.1 | AZ44: 2.0909227e+08 | BA44: 22379442 | BB44: 4.9261276e+08 | BC44: -44777145 | BD44: -6762900.8 | BE44: 3742204.5 | BF44: 39797275 | BG44: 29384128 | BH44: -7866565.2 | BI44: 6107520.9 | BJ44: 119988.91 | BK44: 2.5752869e+08 | BL44: -3366852.8 | BM44: -1298721.5 | BN44: -14839384 | BO44: -8205351.6 | BP44: -347788.55 | BQ44: 1.2125809e+09 | BR44: -5412958.6 | BS44: -10042835 | BT44: 54093608 | BU44: 19322868 | BV44: 2367624.6 | BW44: -21903214 | BX44: -1783719.3 | BY44: -2575602 | BZ44: 2591101.7 | CA44: 13326396 | CB44: 1261299.2 | CC44: 15734422 | CD44: 5157123.9 | CE44: -2428235 | CF44: 2087614.8 | CG44: -2591887.9 | CH44: -449584.97 | CI44: -20812317 | CJ44: -3289466.5 | CK44: 5413487.1 | CL44: =SUM(B44:M44) -> 1.4916602e+08 | CM44: =SUM(N44:U44) -> 53847383 | CN44: =SUM(V44:AI44) -> 2.0096745e+08 | CO44: =SUM(AJ44:BA44) -> 1.0996082e+09 | CP44: =SUM(BB44:BJ44) -> 5.1235726e+08 | CQ44: =SUM(BK44:BP44) -> 2.2947059e+08 | CR44: =SUM(BQ44:CK44) -> 1.2626466e+09 | CS44: =SUM(B44:CK44) -> 3.5080635e+09
A45: P50 เงินบำรุงคงเหลือ กันยายน 2568 | B45: 1.113695e+08 | C45: 9629711.8 | D45: 8679009.7 | E45: 4213576.5 | F45: 5717631.2 | G45: 3475976.9 | H45: 12318590 | I45: 11430339 | J45: 4148960.6 | K45: 4884217.8 | L45: 21566920 | M45: 4939081 | N45: 75404576 | O45: 13739108 | P45: 15134704 | Q45: 16654752 | R45: 6754606.8 | S45: 10870645 | T45: 10546955 | U45: 4001489.7 | V45: 1.3992878e+08 | W45: 21734716 | X45: 74297061 | Y45: 6036586.7 | Z45: 4248457.5 | AA45: 4242463.3 | AB45: 4105091.4 | AC45: 30169217 | AD45: 12027097 | AE45: 5794971.6 | AF45: 17640311 | AG45: 17657865 | AH45: 6746300.3 | AI45: 5171452.2 | AJ45: 1.9464555e+08 | AK45: 31414468 | AL45: 12503512 | AM45: 25877859 | AN45: 10169350 | AO45: 4672730 | AP45: 3536188.7 | AQ45: 20502195 | AR45: 8600493.8 | AS45: 21441354 | AT45: 10770942 | AU45: 6854782.5 | AV45: 3837418.8 | AW45: 16513619 | AX45: 15675417 | AY45: 2717589.1 | AZ45: 1.9955893e+08 | BA45: 21976976 | BB45: 3.7138629e+08 | BC45: 29817360 | BD45: 8543324.3 | BE45: 6574287.2 | BF45: 1.1576909e+08 | BG45: 23623796 | BH45: 5655202.6 | BI45: 7539894.5 | BJ45: 972601.4 | BK45: 1.5486356e+08 | BL45: 24444036 | BM45: 6614149.2 | BN45: 16636303 | BO45: 10652031 | BP45: 6434143 | BQ45: 7.69974e+08 | BR45: 9302735.4 | BS45: 8785183.7 | BT45: 1.0756233e+08 | BU45: 14787409 | BV45: 19436008 | BW45: 28781083 | BX45: 9647247.7 | BY45: 3572239.6 | BZ45: 10922089 | CA45: 11970494 | CB45: 60686331 | CC45: 18033925 | CD45: 26649727 | CE45: 7961940.8 | CF45: 5431356.6 | CG45: 8941100.2 | CH45: 7600043.3 | CI45: 38248332 | CJ45: 6276099.8 | CK45: 11309388 | CL45: =SUM(B45:M45) -> 2.0237351e+08 | CM45: =SUM(N45:U45) -> 1.5310684e+08 | CN45: =SUM(V45:AI45) -> 3.4980037e+08 | CO45: =SUM(AJ45:BA45) -> 6.1126937e+08 | CP45: =SUM(BB45:BJ45) -> 5.6988184e+08 | CQ45: =SUM(BK45:BP45) -> 2.1964422e+08 | CR45: =SUM(BQ45:CK45) -> 1.1858791e+09 | CS45: =SUM(B45:CK45) -> 3.2919552e+09
