Workbook
Name data: '[1]งบทดลอง รพ.'!$A$2:$CL$438
Name data1: #REF!
Name NEW: #REF!
Name test1: #REF!

Sheet 1.รายชื่อ รพ.
B1: จ.หนองคาย | D1: จ.นครพนม | F1: จ.เลย | H1: จ.หนองบัวลำภู | J1: จ.บึงกาฬ | L1: จ.อุดรธานี | N1: จ.สกลนคร
A2: 1 | B2: หนองคาย | C2: 1 | D2: นครพนม | E2: 1 | F2: เลย | G2: 1 | H2: หนองบัวลำภู | I2: 1 | J2: บึงกาฬ | K2: 1 | L2: อุดรธานี | M2: 1 | N2: สกลนคร
A3: 2 | B3: โพนพิสัย | C3: 2 | D3: ปลาปาก | E3: 2 | F3: นาด้วง | G3: 2 | H3: นากลาง | I3: 2 | J3: พรเจริญ | K3: 2 | L3: กุดจับ | M3: 2 | N3: กุสุมาลย์
A4: 3 | B4: ศรีเชียงใหม่ | C4: 3 | D4: ท่าอุเทน | E4: 3 | F4: เชียงคาน | G4: 3 | H4: โนนสัง | I4: 3 | J4: โซ่พิสัย | K4: 3 | L4: หนองวัวซอ | M4: 3 | N4: กุดบาก
A5: 4 | B5: สังคม | C5: 4 | D5: บ้านแพง | E5: 4 | F5: ปากชม | G5: 4 | H5: ศรีบุญเรือง | I5: 4 | J5: เซกา | K5: 4 | L5: กุมภวาปี | M5: 4 | N5: พระอาจารย์ฝั้น
A6: 5 | B6: ท่าบ่อ | C6: 5 | D6: นาทม | E6: 5 | F6: นาแห้ว | G6: 5 | H6: สุวรรณคูหา | I6: 5 | J6: ปากคาด | K6: 5 | L6: ห้วยเกิ้ง | M6: 5 | N6: พังโคน
A7: 6 | B7: สระใคร | C7: 6 | D7: เรณูนคร | E7: 6 | F7: ภูเรือ | G7: 6 | H7: นาวัง | I7: 6 | J7: บึงโขงหลง | K7: 6 | L7: โนนสะอาด | M7: 6 | N7: วาริชภูมิ
A8: 7 | B8: โพธิ์ตาก | C8: 7 | D8: นาแก | E8: 7 | F8: ท่าลี่ | I8: 7 | J8: ศรีวิไล | K8: 7 | L8: หนองหาน | M8: 7 | N8: นิคมน้ำอูน
A9: 8 | B9: เฝ้าไร่ | C9: 8 | D9: ศรีสงคราม | E9: 8 | F9: วังสะพุง | I9: 8 | J9: บุ่งคล้า | K9: 8 | L9: ทุ่งฝน | M9: 8 | N9: วานรนิวาส
A10: 9 | B10: รัตนวาปี | C10: 9 | D10: นาหว้า | E10: 9 | F10: ภูกระดึง | K10: 9 | L10: ไชยวาน | M10: 9 | N10: คำตากล้า
C11: 10 | D11: โพนสวรรค์ | E11: 10 | F11: ภูหลวง | K11: 10 | L11: ศรีธาตุ | M11: 10 | N11: บ้านม่วง
C12: 11 | D12: ธาตุพนม | E12: 11 | F12: ผาขาว | K12: 11 | L12: วังสามหมอ | M12: 11 | N12: อากาศอำนวย
C13: 12 | D13: วังยาง | E13: 12 | F13: ด่านซาย | K13: 12 | L13: บ้านผือ | M13: 12 | N13: ส่องดาว
E14: 13 | F14: เอราวัณ | K14: 13 | L14: น้ำโสม | M14: 13 | N14: เต่างอย
E15: 14 | F15: หนองหิน | K15: 14 | L15: เพ็ญ | M15: 14 | N15: โคกศรีสุพรรณ
B16: งบทดลองเบื้องต้น | K16: 15 | L16: สร้างคอม | M16: 15 | N16: เจริญศิลป์
K17: 16 | L17: หนองแสง | M17: 16 | N17: โพนนาแก้ว
K18: 17 | L18: นายูง | M18: 17 | N18: สว่างแดนดิน
K19: 18 | L19: พิบูลย์รักษ์ | M19: 18 | N19: พระอาจารย์แบน
K20: 19 | L20: บ้านดุง
K21: 20 | L21: กู่แก้ว
K22: 21 | L22: ประจักษ์ศิลปาคม | N22: =9+12+14+6+8+21+18 -> 88

Sheet 2.Hosp. Group
B1: การจัดกลุ่ม Benchmarking รายได้ ค่าใช้จ่าย ปี 2567
A2: ลำดับเรียงตามจัดกลุ่ม | B2: กลุ่ม | C2: Province | D2: OrgID | E2: Org | F2: ประเภท | G2: ServBed | H2: CapacityGroup | I2: pop | J2: จำนวนเตียงจริง | K2: Factor | L2: New Factor
A4: 1 | B4: 1 | C4: อุดรธานี | D4: 11016 | E4: ห้วยเกิ้ง,รพช. | F4: รพช. | G4: 8 | H4: รพช.F3 P<=15,000 | I4: 4063 | J4: 8 | K4: 21 | L4: 21
A5: 2 | B5: 1 | C5: เลย | D5: 11033 | E5: นาแห้ว,รพช. | F5: รพช. | G5: 30 | H5: รพช.F3 P<=15,000 | I5: 8768 | J5: 30 | K5: 21 | L5: 21
A6: 3 | B6: 1 | C6: บึงกาฬ | D6: 11050 | E6: บุ่งคล้า,รพช. | F6: รพช. | G6: 32 | H6: รพช.F3 P<=15,000 | I6: 11241 | J6: 32 | K6: 21 | L6: 21
A7: 4 | B7: 1 | C7: สกลนคร | D7: 11094 | E7: นิคมน้ำอูน,รพช. | F7: รพช. | G7: 15 | H7: รพช.F3 P<=15,000 | I7: 10820 | J7: 15 | K7: 21 | L7: 21
A8: 5 | B8: 1 | C8: อุดรธานี | D8: 25059 | E8: ประจักษ์ศิลปาคม,รพช. | F8: รพช. | G8: 30 | H8: รพช.F3 P15,000-25,000 | I8: 19069 | J8: 30 | K8: 21 | L8: 21
A9: 6 | B9: 1 | C9: หนองคาย | D9: 28778 | E9: โพธิ์ตาก,รพช. | F9: รพช. | G9: 15 | H9: รพช.F3 P<=15,000 | I9: 12022 | J9: 15 | K9: 21 | L9: 21
A10: 7 | B10: 1 | C10: นครพนม | D10: 40840 | E10: วังยาง,รพช. | F10: รพช. | G10: 20 | H10: รพช.F3 P<=15,000 | I10: 11638 | J10: 20 | K10: 21 | L10: 21
A11: 8 | B11: 2 | C11: อุดรธานี | D11: 11027 | E11: หนองแสง,รพช. | F11: รพช. | G11: 30 | H11: รพช.F2 P<=30,000 | I11: 21043 | J11: 30 | K11: 21 | L11: 21
A12: 9 | B12: 2 | C12: อุดรธานี | D12: 11028 | E12: นายูง,รพช. | F12: รพช. | G12: 30 | H12: รพช.F2 P<=30,000 | I12: 23638 | J12: 30 | K12: 21 | L12: 21
A13: 10 | B13: 2 | C13: หนองคาย | D13: 11044 | E13: ศรีเชียงใหม่,รพช. | F13: รพช. | G13: 30 | H13: รพช.F2 P<=30,000 | I13: 23304 | J13: 30 | K13: 21 | L13: 21
A14: 11 | B14: 2 | C14: สกลนคร | D14: 11100 | E14: เต่างอย,รพช. | F14: รพช. | G14: 40 | H14: รพช.F2 P<=30,000 | I14: 17778 | J14: 40 | K14: 21 | L14: 21
A15: 12 | B15: 2 | C15: นครพนม | D15: 11107 | E15: นาทม,รพช. | F15: รพช. | G15: 36 | H15: รพช.F2 P<=30,000 | I15: 17669 | J15: 36 | K15: 21 | L15: 21
... A91: 88 | B91: 13 | C91: สกลนคร | D91: 10710 | E91: สกลนคร,รพศ. | F91: รพศ. | G91: 909 | H91: รพศ.A B>700to1000 | I91: 142594 | J91: 909 | K91: 14 | L91: 14

Sheet 3.สูตรการคำนวณ
A1: สูตรคำนวนข้อมูลหมวดรายได้
A2: ลำดับ | B2: หมวดรายได้ | C2: รายได้(บาท)/ปชก. | D2: %diff ค่าเฉลี่ย/ปชก.
A3: 1 | B3: เหมาจ่ายรายหัว UC | C3: = รายได้ในหมวดเหมาจ่ายรายหัว UC หารด้วยประชากร UC ในพื้นที่รับผิดชอบ | D3: = (รายได้(บาท)/ปชก.ในหมวดเหมาจ่ายรายหัว UC ของร.พ. - ค่าเฉลี่ยรายได้(บาท)/ปชก.ในหมวดเหมาจ่ายรายหัว UC ของกลุ่มร.พ.นั้น) คูณ 100 หารด้วยค่าเฉลี่ยรายได้(บาท)/ปชก.ในหมวดเหมาจ่ายรายหัว UC ของกลุ่มร.พ.นั้น
A4: 2 | B4: เรียกเก็บUC/กองทุนUC/EMS | C4: = รายได้ในหมวดเรียกเก็บUC/กองทุนUC/EMS หารด้วยประชากร UC ในพื้นที่รับผิดชอบ | D4: = (รายได้(บาท)/ปชก.ในหมวดเรียกเก็บUC/กองทุนUC/EMS ของร.พ. - ค่าเฉลี่ยรายได้(บาท)/ปชก.ในหมวดเรียกเก็บUC/กองทุนUC/EMS ของกลุ่มร.พ.นั้น) คูณ 100 หารด้วยค่าเฉลี่ยรายได้(บาท)/ปชก.ในหมวดเรียกเก็บUC/กองทุนUC/EMS ของกลุ่มร.พ.นั้น
A5: 3 | B5: ประกันสังคม | C5: = รายได้ในหมวดประกันสังคม หารด้วยประชากรประกันสังคมในพื้นที่รับผิดชอบ | D5: = (รายได้(บาท)/ปชก.ในหมวดประกันสังคมของร.พ. - ค่าเฉลี่ยรายได้(บาท)/ปชก.ในหมวดประกันสังคมของกลุ่มร.พ.นั้น) คูณ 100 หารด้วยค่าเฉลี่ยรายได้(บาท)/ปชก.ในหมวดประกันสังคมของกลุ่มร.พ.นั้น
A6: 4 | B6: ข้าราชการ | C6: = รายได้ในหมวดข้าราชการ หารด้วยประชากรข้าราชการในพื้นที่รับผิดชอบ | D6: = (รายได้(บาท)/ปชก.ในหมวดข้าราชการของร.พ. - ค่าเฉลี่ยรายได้(บาท)/ปชก.ในหมวดข้าราชการของกลุ่มร.พ.นั้น) คูณ 100 หารด้วยค่าเฉลี่ยรายได้(บาท)/ปชก.ในหมวดข้าราชการของกลุ่มร.พ.นั้น
A7: 5 | B7: พรบ. | C7: = รายได้ในหมวดพรบ. หารด้วยประชากรทุกสิทธิ์ในพื้นที่รับผิดชอบ | D7: = (รายได้(บาท)/ปชก.ในหมวดพรบ.ของร.พ. - ค่าเฉลี่ยรายได้(บาท)/ปชก.ในหมวดพรบ.ของกลุ่มร.พ.นั้น) คูณ 100 หารด้วยค่าเฉลี่ยรายได้(บาท)/ปชก.ในหมวดพรบ.ของกลุ่มร.พ.นั้น
A8: 6 | B8: ชำระเงินเอง | C8: = รายได้ในหมวดชำระเงินเอง หารด้วยประชากรทุกสิทธิ์ในพื้นที่รับผิดชอบ | D8: = (รายได้(บาท)/ปชก.ในหมวดชำระเงินเองของร.พ. - ค่าเฉลี่ยรายได้(บาท)/ปชก.ในหมวดชำระเงินเองของกลุ่มร.พ.นั้น) คูณ 100 หารด้วยค่าเฉลี่ยรายได้(บาท)/ปชก.ในหมวดชำระเงินเองของกลุ่มร.พ.นั้น
A9: 7 | B9: งบบุคลากร | C9: = รายได้ในหมวดงบบุคลากร หารด้วยประชากร UC ในพื้นที่รับผิดชอบ | D9: = (รายได้(บาท)/ปชก.ในหมวดงบบุคลากรของร.พ. - ค่าเฉลี่ยรายได้(บาท)/ปชก.ในหมวดงบบุคลากรของกลุ่มร.พ.นั้น) คูณ 100 หารด้วยค่าเฉลี่ยรายได้(บาท)/ปชก.ในหมวดงบบุคลากรของกลุ่มร.พ.นั้น
A11: สูตรคำนวนข้อมูลหมวดค่าใช้จ่าย
A12: ลำดับ | B12: หมวดค่าใช้จ่าย | C12: ค่าใช้จ่าย(บาท)/RW | D12: %diff ค่าเฉลี่ย/ปชก.
A13: 1 | B13: บุคลากรรวม | C13: = ค่าใช้จ่ายในหมวดบุคลากรรวม หารด้วย Adj.RW รวม(Quick Method) | D13: = (ค่าใช้จ่าย(บาท)/RWในหมวดบุคลากรรวมของร.พ. - ค่าเฉลี่ยค่าใช้จ่าย(บาท)/RWในหมวดบุคลากรรวมของกลุ่มร.พ.นั้น) คูณ 100 หารด้วยค่าเฉลี่ยค่าใช้จ่าย(บาท)/RWในหมวดบุคลากรรวมของกลุ่มร.พ.นั้น
A14: 2 | B14: ค่าฝึกอบรม | C14: = ค่าใช้จ่ายในหมวดค่าฝึกอบรม หารด้วย Adj.RW รวม(Quick Method) | D14: = (ค่าใช้จ่าย(บาท)/RWในหมวดค่าฝึกอบรมของร.พ. - ค่าเฉลี่ยค่าใช้จ่าย(บาท)/RWในหมวดค่าฝึกอบรมของกลุ่มร.พ.นั้น) คูณ 100 หารด้วยค่าเฉลี่ยค่าใช้จ่าย(บาท)/RWในหมวดค่าฝึกอบรมของกลุ่มร.พ.นั้น
A15: 3 | B15: ยาใช้ไป | C15: = ค่าใช้จ่ายในหมวดยาใช้ไป หารด้วย Adj.RW รวม(Quick Method) | D15: = (ค่าใช้จ่าย(บาท)/RWในหมวดยาใช้ไปของร.พ. - ค่าเฉลี่ยค่าใช้จ่าย(บาท)/RWในหมวดยาใช้ไปของกลุ่มร.พ.นั้น) คูณ 100 หารด้วยค่าเฉลี่ยค่าใช้จ่าย(บาท)/RWในหมวดยาใช้ไปของกลุ่มร.พ.นั้น
A16: 4 | B16: เวชภัณฑ์ที่ไม่ใช่ยา | C16: = ค่าใช้จ่ายในหมวดเวชภัณฑ์ที่ไม่ใช่ยา หารด้วย Adj.RW รวม(Quick Method) | D16: = (ค่าใช้จ่าย(บาท)/RWในหมวดเวชภัณฑ์ที่ไม่ใช่ยาของร.พ. - ค่าเฉลี่ยค่าใช้จ่าย(บาท)/RWในหมวดเวชภัณฑ์ที่ไม่ใช่ยาของกลุ่มร.พ.นั้น) คูณ 100 หารด้วยค่าเฉลี่ยค่าใช้จ่าย(บาท)/RWในหมวดเวชภัณฑ์ที่ไม่ใช่ยาของกลุ่มร.พ.นั้น
A17: 5 | B17: วัสดุการแพทย์ | C17: = ค่าใช้จ่ายในหมวดวัสดุการแพทย์ หารด้วย Adj.RW รวม(Quick Method) | D17: = (ค่าใช้จ่าย(บาท)/RWในหมวดวัสดุการแพทย์ของร.พ. - ค่าเฉลี่ยค่าใช้จ่าย(บาท)/RWในหมวดวัสดุการแพทย์ของกลุ่มร.พ.นั้น) คูณ 100 หารด้วยค่าเฉลี่ยค่าใช้จ่าย(บาท)/RWในหมวดวัสดุการแพทย์ของกลุ่มร.พ.นั้น
A18: 6 | B18: วัสดุวิทยาศาสตร์ | C18: = ค่าใช้จ่ายในหมวดวัสดุวิทยาศาสตร์ หารด้วย Adj.RW รวม(Quick Method) | D18: = (ค่าใช้จ่าย(บาท)/RWในหมวดวัสดุวิทยาศาสตร์ของร.พ. - ค่าเฉลี่ยค่าใช้จ่าย(บาท)/RWในหมวดวัสดุวิทยาศาสตร์ของกลุ่มร.พ.นั้น) คูณ 100 หารด้วยค่าเฉลี่ยค่าใช้จ่าย(บาท)/RWในหมวดวัสดุวิทยาศาสตร์ของกลุ่มร.พ.นั้น
A19: 7 | B19: วัสดุอื่น | C19: = ค่าใช้จ่ายในหมวดวัสดุอื่น หารด้วย Adj.RW รวม(Quick Method) | D19: = (ค่าใช้จ่าย(บาท)/RWในหมวดวัสดุอื่นของร.พ. - ค่าเฉลี่ยค่าใช้จ่าย(บาท)/RWในหมวดวัสดุอื่นของกลุ่มร.พ.นั้น) คูณ 100 หารด้วยค่าเฉลี่ยค่าใช้จ่าย(บาท)/RWในหมวดวัสดุอื่นของกลุ่มร.พ.นั้น
A20: 8 | B20: ซ่อมแซม/จ้างเหมา | C20: = ค่าใช้จ่ายในหมวดซ่อมแซม/จ้างเหมา หารด้วย Adj.RW รวม(Quick Method) | D20: = (ค่าใช้จ่าย(บาท)/RWในหมวดซ่อมแซม/จ้างเหมาของร.พ. - ค่าเฉลี่ยค่าใช้จ่าย(บาท)/RWในหมวดซ่อมแซม/จ้างเหมาของกลุ่มร.พ.นั้น) คูณ 100 หารด้วยค่าเฉลี่ยค่าใช้จ่าย(บาท)/RWในหมวดซ่อมแซม/จ้างเหมาของกลุ่มร.พ.นั้น
A21: 9 | B21: จ้างตรวจLAB | C21: = ค่าใช้จ่ายในหมวดจ้างตรวจLAB หารด้วย Adj.RW รวม(Quick Method) | D21: = (ค่าใช้จ่าย(บาท)/RWในหมวดจ้างตรวจLABของร.พ. - ค่าเฉลี่ยค่าใช้จ่าย(บาท)/RWในหมวดจ้างตรวจLABของกลุ่มร.พ.นั้น) คูณ 100 หารด้วยค่าเฉลี่ยค่าใช้จ่าย(บาท)/RWในหมวดจ้างตรวจLABของกลุ่มร.พ.นั้น
A22: 10 | B22: ค่าสาธารณูปโภค | C22: = ค่าใช้จ่ายในหมวดค่าสาธารณูปโภค หารด้วย Adj.RW รวม(Quick Method) | D22: = (ค่าใช้จ่าย(บาท)/RWในหมวดค่าสาธารณูปโภคของร.พ. - ค่าเฉลี่ยค่าใช้จ่าย(บาท)/RWในหมวดค่าสาธารณูปโภคของกลุ่มร.พ.นั้น) คูณ 100 หารด้วยค่าเฉลี่ยค่าใช้จ่าย(บาท)/RWในหมวดค่าสาธารณูปโภคของกลุ่มร.พ.นั้น
A23: 11 | B23: ค่าใช้สอยอื่นๆ | C23: = ค่าใช้จ่ายในหมวดค่าใช้สอยอื่นๆ หารด้วย Adj.RW รวม(Quick Method) | D23: = (ค่าใช้จ่าย(บาท)/RWในหมวดค่าใช้สอยอื่นๆของร.พ. - ค่าเฉลี่ยค่าใช้จ่าย(บาท)/RWในหมวดค่าใช้สอยอื่นๆของกลุ่มร.พ.นั้น) คูณ 100 หารด้วยค่าเฉลี่ยค่าใช้จ่าย(บาท)/RWในหมวดค่าใช้สอยอื่นๆของกลุ่มร.พ.นั้น
A24: 12 | B24: ค่าใช้จ่ายอื่นๆ | C24: = ค่าใช้จ่ายในหมวดค่าใช้จ่ายอื่นๆ หารด้วย Adj.RW รวม(Quick Method) | D24: = (ค่าใช้จ่าย(บาท)/RWในหมวดค่าใช้จ่ายอื่นๆของร.พ. - ค่าเฉลี่ยค่าใช้จ่าย(บาท)/RWในหมวดค่าใช้จ่ายอื่นๆของกลุ่มร.พ.นั้น) คูณ 100 หารด้วยค่าเฉลี่ยค่าใช้จ่าย(บาท)/RWในหมวดค่าใช้จ่ายอื่นๆของกลุ่มร.พ.นั้น
A26: หมายเหตุ : Factor Quick Method ในการคำนวนหาค่า Adj.RW รวม คือ รพ.ศูนย์/รพ.ทั่วไป = 14, รพช.ขนาดใหญ่ = 17, รพช.ขนาดกลาง/เล็ก = 21
A27: สูตรหา: | B27: Rw รวมคิดแบบ quick method = (จำนวน visit ผู้ป่วยนอก/ค่า factor) + rw ผู้ป่วยใน

Sheet DATA
A1: แหล่งข้อมูล | G1: HDC | H1: TPS from HFO | I1: HDC | J1: HDC | K1: ปชก ทั้งหมด - (สิทธิ UC+SSO+SSS) | L1: HDC | M1: CMI@MOPH
A2: ลำดับเรียงตามงบทดลอง | B2: ลำดับเรียงตามจัดกลุ่ม | C2: กลุ่ม | D2: จังหวัด | E2: รหัส | F2: โรงพยาบาล | G2: จำนวนประชากรแยกตามสิทธิ (คน) | L2: OPD (จำนวนครั้ง) | M2: IPD
G3: ประชากรทั้งหมด | H3: สิทธิ UC | I3: สิทธิประกันสังคม | J3: สิทธิข้าราชการ | K3: สิทธิอื่นๆ | L3: OP Visit รวม | M3: AdjRW
M4: รวม
A5: 72 | B5: 1 | C5: 1 | D5: อุดรธานี | E5: 11016 | F5: ห้วยเกิ้ง | G5: 5185 | H5: 4063 | I5: 104 | J5: 113 | K5: =+G5-H5-I5-J5 -> 905 | L5: 20582 | M5: 358.151
A6: 25 | B6: 2 | C6: 1 | D6: เลย | E6: 11033 | F6: นาแห้ว | G6: 11706 | H6: 8768 | I6: 267 | J6: 658 | K6: =+G6-H6-I6-J6 -> 2013 | L6: 29861 | M6: 888.942
A7: 20 | B7: 3 | C7: 1 | D7: บึงกาฬ | E7: 11050 | F7: บุ่งคล้า | G7: 14045 | H7: 11241 | I7: 405 | J7: 792 | K7: =+G7-H7-I7-J7 -> 1607 | L7: 34328 | M7: 698.88
A8: 41 | B8: 4 | C8: 1 | D8: สกลนคร | E8: 11094 | F8: นิคมน้ำอูน | G8: 14869 | H8: 10820 | I8: 567 | J8: 622 | K8: =+G8-H8-I8-J8 -> 2860 | L8: 28137 | M8: 549.912
A9: 88 | B9: 5 | C9: 1 | D9: อุดรธานี | E9: 25059 | F9: ประจักษ์ | G9: 25442 | H9: 19069 | I9: 1666 | J9: 714 | K9: =+G9-H9-I9-J9 -> 3993 | L9: 40865 | M9: 1004.17
A10: 59 | B10: 6 | C10: 1 | D10: หนองคาย | E10: 28778 | F10: โพธิ์ตาก | G10: 15230 | H10: 12022 | I10: 216 | J10: 805 | K10: =+G10-H10-I10-J10 -> 2187 | L10: 29446 | M10: 665.093
A11: 12 | B11: 7 | C11: 1 | D11: นครพนม | E11: 40840 | F11: วังยาง | G11: 15621 | H11: 11638 | I11: 184 | J11: 104 | K11: =+G11-H11-I11-J11 -> 3695 | L11: 34271 | M11: 686.531
A12: 83 | B12: 8 | C12: 2 | D12: อุดรธานี | E12: 11027 | F12: หนองแสง | G12: 27187 | H12: 21043 | I12: 605 | J12: 840 | K12: =+G12-H12-I12-J12 -> 4699 | L12: 57415 | M12: 1192.77
A13: 84 | B13: 9 | C13: 2 | D13: อุดรธานี | E13: 11028 | F13: นายูง | G13: 28676 | H13: 23638 | I13: 731 | J13: 749 | K13: =+G13-H13-I13-J13 -> 3558 | L13: 46838 | M13: 1654.72
A14: 55 | B14: 10 | C14: 2 | D14: หนองคาย | E14: 11044 | F14: ศรีเชียงใหม่ | G14: 29755 | H14: 23304 | I14: 1343 | J14: 1372 | K14: =+G14-H14-I14-J14 -> 3736 | L14: 55487 | M14: 1984.83
A15: 47 | B15: 11 | C15: 2 | D15: สกลนคร | E15: 11100 | F15: เต่างอย | G15: 24290 | H15: 17778 | I15: 1544 | J15: 936 | K15: =+G15-H15-I15-J15 -> 4032 | L15: 44666 | M15: 1158.75
A16: 5 | B16: 12 | C16: 2 | D16: นครพนม | E16: 11107 | F16: นาทม | G16: 23716 | H16: 17669 | I16: 1155 | J16: 865 | K16: =+G16-H16-I16-J16 -> 4027 | L16: 46986 | M16: 1019.95
... A21: 34 | B21: 17 | C21: 2 | D21: เลย | E21: 28861 | F21: หนองหิน | G21: 25000 | H21: 19761 | I21: 1057 | J21: 951 | K21: =+G21-H21-I21-J21 -> 3231 | L21: 53641 | M21: 1134.48
A22: 75 | B22: 18 | C22: 3 | D22: อุดรธานี | E22: 11019 | F22: ทุ่งฝน | G22: 32172 | H22: 24948 | I22: 573 | J22: 1156 | K22: =+G22-H22-I22-J22 -> 5495 | L22: 56477 | M22: 1356.87
A23: 76 | B23: 19 | C23: 3 | D23: อุดรธานี | E23: 11020 | F23: ไชยวาน | G23: 39520 | H23: 29634 | I23: 2936 | J23: 1438 | K23: =+G23-H23-I23-J23 -> 5512 | L23: 66572 | M23: 1023.41
A24: 82 | B24: 20 | C24: 3 | D24: อุดรธานี | E24: 11026 | F24: สร้างคอม | G24: 29222 | H24: 22343 | I24: 420 | J24: 771 | K24: =+G24-H24-I24-J24 -> 5688 | L24: 77363 | M24: 1091.82
A25: 85 | B25: 21 | C25: 3 | D25: อุดรธานี | E25: 11029 | F25: พิบูลย์รักษ์ | G25: 24684 | H25: 19451 | I25: 476 | J25: 1276 | K25: =+G25-H25-I25-J25 -> 3481 | L25: 57657 | M25: 1232.87
A26: 22 | B26: 22 | C26: 3 | D26: เลย | E26: 11030 | F26: นาด้วง | G26: 26261 | H26: 21566 | I26: 1447 | J26: 857 | K26: =+G26-H26-I26-J26 -> 2391 | L26: 59102 | M26: 2102.11
A27: 26 | B27: 23 | C27: 3 | D27: เลย | E27: 11034 | F27: ภูเรือ | G27: 22553 | H27: 18002 | I27: 792 | J27: 971 | K27: =+G27-H27-I27-J27 -> 2788 | L27: 56438 | M27: 1416.17
A28: 37 | B28: 24 | C28: 3 | D28: สกลนคร | E28: 11090 | F28: กุดบาก | G28: 32760 | H28: 23937 | I28: 2194 | J28: 1649 | K28: =+G28-H28-I28-J28 -> 4980 | L28: 55782 | M28: 1845.93
A29: 46 | B29: 25 | C29: 3 | D29: สกลนคร | E29: 11099 | F29: ส่องดาว | G29: 34562 | H29: 26439 | I29: 1271 | J29: 658 | K29: =+G29-H29-I29-J29 -> 6194 | L29: 69823 | M29: 2011.9
A30: 49 | B30: 26 | C30: 3 | D30: สกลนคร | E30: 11102 | F30: เจริญศิลป์ | G30: 45186 | H30: 32820 | I30: 2766 | J30: 1425 | K30: =+G30-H30-I30-J30 -> 8175 | L30: 76461 | M30: 1801.09
A31: 50 | B31: 27 | C31: 3 | D31: สกลนคร | E31: 11103 | F31: โพนนาแก้ว | G31: 37009 | H31: 28073 | I31: 1375 | J31: 1378 | K31: =+G31-H31-I31-J31 -> 6183 | L31: 66111 | M31: 1715.19
A32: 2 | B32: 28 | C32: 3 | D32: นครพนม | E32: 11104 | F32: ปลาปาก | G32: 54482 | H32: 39229 | I32: 3864 | J32: 1868 | K32: =+G32-H32-I32-J32 -> 9521 | L32: 75475 | M32: 1006.65
A33: 3 | B33: 29 | C33: 3 | D33: นครพนม | E33: 11105 | F33: ท่าอุเทน | G33: 59559 | H33: 44414 | I33: 2202 | J33: 2023 | K33: =+G33-H33-I33-J33 -> 10920 | L33: 70059 | M33: 1219.27
A34: 52 | B34: 30 | C34: 3 | D34: สกลนคร | E34: 21323 | F34: พระอาจารย์แบนฯ | G34: 35858 | H34: 28539 | I34: 2691 | J34: 1207 | K34: =+G34-H34-I34-J34 -> 3421 | L34: 49914 | M34: 2281.89
... A90: 1 | B90: 86 | C90: 12 | D90: นครพนม | E90: 10711 | F90: นครพนม | G90: 143840 | H90: 106378 | I90: 10501 | J90: 7059 | K90: =+G90-H90-I90-J90 -> 19902 | L90: 315805 | M90: 33219.7
A91: 68 | B91: 87 | C91: 13 | D91: อุดรธานี | E91: 10671 | F91: อุดรธานี | G91: 399642 | H91: 258303 | I91: 19956 | J91: 19745 | K91: =+G91-H91-I91-J91 -> 101638 | L91: 468541 | M91: 150148
A92: 35 | B92: 88 | C92: 13 | D92: สกลนคร | E92: 10710 | F92: สกลนคร | G92: 193882 | H92: 142594 | I92: 18624 | J92: 14222 | K92: =+G92-H92-I92-J92 -> 18442 | L92: 543164 | M92: 91987.5
A93: รวมเขต 8 | G93: =SUM(H93:K93) -> 5518351 | H93: =SUM(H5:H92) -> 4104971 | I93: =SUM(I5:I92) -> 269533 | J93: =SUM(J5:J92) -> 224268 | K93: =SUM(K5:K92) -> 919579 | L93: =SUM(L5:L92) -> 9714054 | M93: =SUM(M5:M92) -> 712302.45
B95: ไตรมาส 3/2567 (ณ วันที่ 25 กรกฎาคม 2567)

Sheet 4.งบมิ.ย.67
D1: นครพนม | E1: นครพนม | F1: นครพนม | G1: นครพนม | H1: นครพนม | I1: นครพนม | J1: นครพนม | K1: นครพนม | L1: นครพนม | M1: นครพนม | N1: นครพนม | O1: นครพนม | P1: บึงกาฬ | Q1: บึงกาฬ | R1: บึงกาฬ | S1: บึงกาฬ | T1: บึงกาฬ | U1: บึงกาฬ | V1: บึงกาฬ | W1: บึงกาฬ | X1: เลย | Y1: เลย | Z1: เลย | AA1: เลย | AB1: เลย | AC1: เลย | AD1: เลย | AE1: เลย | AF1: เลย | AG1: เลย | AH1: เลย | AI1: เลย | AJ1: เลย | AK1: เลย | AL1: สกลนคร | AM1: สกลนคร | AN1: สกลนคร | AO1: สกลนคร | AP1: สกลนคร | AQ1: สกลนคร | AR1: สกลนคร | AS1: สกลนคร | AT1: สกลนคร | AU1: สกลนคร | AV1: สกลนคร | AW1: สกลนคร | AX1: สกลนคร | AY1: สกลนคร | AZ1: สกลนคร | BA1: สกลนคร | BB1: สกลนคร | BC1: สกลนคร | BD1: หนองคาย | BE1: หนองคาย | BF1: หนองคาย | BG1: หนองคาย | BH1: หนองคาย | BI1: หนองคาย | BJ1: หนองคาย | BK1: หนองคาย | BL1: หนองคาย | BM1: หนองบัวลำภู | BN1: หนองบัวลำภู | BO1: หนองบัวลำภู | BP1: หนองบัวลำภู | BQ1: หนองบัวลำภู | BR1: หนองบัวลำภู | BS1: อุดรธานี | BT1: อุดรธานี | BU1: อุดรธานี | BV1: อุดรธานี | BW1: อุดรธานี | BX1: อุดรธานี | BY1: อุดรธานี | BZ1: อุดรธานี | CA1: อุดรธานี | CB1: อุดรธานี | CC1: อุดรธานี | CD1: อุดรธานี | CE1: อุดรธานี | CF1: อุดรธานี | CG1: อุดรธานี | CH1: อุดรธานี | CI1: อุดรธานี | CJ1: อุดรธานี | CK1: อุดรธานี | CL1: อุดรธานี | CM1: อุดรธานี
D2: 10711 | E2: 11104 | F2: 11105 | G2: 11106 | H2: 11107 | I2: 11108 | J2: 11109 | K2: 11110 | L2: 11111 | M2: 11112 | N2: 11451 | O2: 40840 | P2: 11040 | Q2: 11041 | R2: 11043 | S2: 11046 | T2: 11047 | U2: 11048 | V2: 11049 | W2: 11050 | X2: 10705 | Y2: 11030 | Z2: 11031 | AA2: 11032 | AB2: 11033 | AC2: 11034 | AD2: 11035 | AE2: 11036 | AF2: 11037 | AG2: 11038 | AH2: 11039 | AI2: 11447 | AJ2: 14133 | AK2: 28861 | AL2: 10710 | AM2: 11089 | AN2: 11090 | AO2: 11091 | AP2: 11092 | AQ2: 11093 | AR2: 11094 | AS2: 11095 | AT2: 11096 | AU2: 11097 | AV2: 11098 | AW2: 11099 | AX2: 11100 | AY2: 11101 | AZ2: 11102 | BA2: 11103 | BB2: 11450 | BC2: 21323 | BD2: 10706 | BE2: 11042 | BF2: 11044 | BG2: 11045 | BH2: 11448 | BI2: 21356 | BJ2: 28778 | BK2: 28811 | BL2: 28815 | BM2: 10704 | BN2: 10991 | BO2: 10992 | BP2: 10993 | BQ2: 10994 | BR2: 23367 | BS2: 10671 | BT2: 11013 | BU2: 11014 | BV2: 11015 | BW2: 11016 | BX2: 11017 | BY2: 11018 | BZ2: 11019 | CA2: 11020 | CB2: 11021 | CC2: 11022 | CD2: 11023 | CE2: 11024 | CF2: 11025 | CG2: 11026 | CH2: 11027 | CI2: 11028 | CJ2: 11029 | CK2: 11446 | CL2: 25058 | CM2: 25059
B3: CodeL1 | C3: Account1 | D3: นครพนม,รพท. | E3: ปลาปาก,รพช. | F3: ท่าอุเทน,รพช. | G3: บ้านแพง,รพช. | H3: นาทม,รพช. | I3: เรณูนคร,รพช. | J3: นาแก,รพช. | K3: ศรีสงคราม,รพช. | L3: นาหว้า,รพช. | M3: โพนสวรรค์,รพช. | N3: สมเด็จพระยุพราชธาตุพนม,รพช. | O3: วังยาง,รพช. | P3: บึงกาฬ,รพท. | Q3: พรเจริญ,รพช. | R3: โซ่พิสัย,รพช. | S3: เซกา,รพช. | T3: ปากคาด,รพช. | U3: บึงโขงหลง,รพช. | V3: ศรีวิไล,รพช. | W3: บุ่งคล้า,รพช. | X3: เลย,รพท. | Y3: นาด้วง,รพช. | Z3: เชียงคาน,รพช. | AA3: ปากชม,รพช. | AB3: นาแห้ว,รพช. | AC3: ภูเรือ,รพช. | AD3: ท่าลี่,รพช. | AE3: วังสะพุง,รพช. | AF3: ภูกระดึง,รพช. | AG3: ภูหลวง,รพช. | AH3: ผาขาว,รพช. | AI3: สมเด็จพระยุพราชด่านซ้าย,รพช. | AJ3: เอราวัณ,รพช. | AK3: หนองหิน,รพช. | AL3: สกลนคร,รพศ. | AM3: กุสุมาลย์,รพช. | AN3: กุดบาก,รพช. | AO3: พระอาจารย์ฝั้นอาจาโร,รพช. | AP3: พังโคน,รพช. | AQ3: วาริชภูมิ,รพช. | AR3: นิคมน้ำอูน,รพช. | AS3: วานรนิวาส,รพท. | AT3: คำตากล้า,รพช. | AU3: บ้านม่วง,รพช. | AV3: อากาศอำนวย,รพช. | AW3: ส่องดาว,รพช. | AX3: เต่างอย,รพช. | AY3: โคกศรีสุพรรณ,รพช. | AZ3: เจริญศิลป์,รพช. | BA3: โพนนาแก้ว,รพช. | BB3: สมเด็จพระยุพราชสว่างแดนดิน,รพท. | BC3: พระอาจารย์แบน ธนากโร,รพช. | BD3: หนองคาย,รพท. | BE3: โพนพิสัย,รพช. | BF3: ศรีเชียงใหม่,รพช. | BG3: สังคม,รพช. | BH3: สมเด็จพระยุพราชท่าบ่อ,รพท. | BI3: สระใคร,รพช. | BJ3: โพธิ์ตาก,รพช. | BK3: เฝ้าไร่,รพช. | BL3: รัตนวาปี,รพช. | BM3: หนองบัวลำภู,รพท. | BN3: นากลาง,รพช. | BO3: โนนสัง,รพช. | BP3: ศรีบุญเรือง,รพช. | BQ3: สุวรรณคูหา,รพช. | BR3: นาวัง เฉลิมพระเกียรติ 80 พรรษา,รพช. | BS3: อุดรธานี,รพศ. | BT3: กุดจับ,รพช. | BU3: หนองวัวซอ,รพช. | BV3: กุมภวาปี,รพท. | BW3: ห้วยเกิ้ง,รพช. | BX3: โนนสะอาด,รพช. | BY3: หนองหาน,รพช. | BZ3: ทุ่งฝน,รพช. | CA3: ไชยวาน,รพช. | CB3: ศรีธาตุ,รพช. | CC3: วังสามหมอ,รพช. | CD3: บ้านผือ,รพช. | CE3: น้ำโสม,รพช. | CF3: เพ็ญ,รพช. | CG3: สร้างคอม,รพช. | CH3: หนองแสง,รพช. | CI3: นายูง,รพช. | CJ3: พิบูลย์รักษ์,รพช. | CK3: สมเด็จพระยุพราชบ้านดุง,รพช. | CL3: กู่แก้ว,รพช. | CM3: ประจักษ์ศิลปาคม,รพช.
B4: 4201020106.101 | C4: รายได้แผ่นดิน - เงินชดใช้จากการผิดสัญญาการศึกษาและดูงาน | D4: 150000 | E4: 0 | F4: 0 | G4: 0 | H4: 0 | I4: 0 | J4: 0 | K4: 0 | L4: 0 | M4: 0 | N4: 0 | O4: 0 | P4: 0 | Q4: 0 | R4: 0 | S4: 0 | T4: 0 | U4: 0 | V4: 0 | W4: 0 | X4: 803800 | Y4: 0 | Z4: 0 | AA4: 0 | AB4: 0 | AC4: 0 | AD4: 0 | AE4: 0 | AF4: 0 | AG4: 0 | AH4: 0 | AI4: 0 | AJ4: 0 | AK4: 0 | AL4: 0 | AM4: 0 | AN4: 0 | AO4: 0 | AP4: 0 | AQ4: 0 | AR4: 0 | AS4: 0 | AT4: 0 | AU4: 0 | AV4: 0 | AW4: 0 | AX4: 0 | AY4: 0 | AZ4: 0 | BA4: 0 | BB4: 0 | BC4: 0 | BD4: 0 | BE4: 93053 | BF4: 0 | BG4: 0 | BH4: 0 | BI4: 0 | BJ4: 0 | BK4: 0 | BL4: 0 | BM4: 0 | BN4: 0 | BO4: 0 | BP4: 0 | BQ4: 0 | BR4: 0 | BS4: 0 | BT4: 0 | BU4: 0 | BV4: 0 | BW4: 0 | BX4: 0 | BY4: 0 | BZ4: 0 | CA4: 0 | CB4: 0 | CC4: 0 | CD4: 0 | CE4: 0 | CF4: 0 | CG4: 0 | CH4: 0 | CI4: 0 | CJ4: 0 | CK4: 0 | CL4: 0 | CM4: 0
B5: 4201020199.101 | C5: รายได้แผ่นดิน - ค่าปรับอื่น | D5: 16248.23 | E5: 0 | F5: 0 | G5: 0 | H5: 0 | I5: 0 | J5: 0 | K5: 0 | L5: 0 | M5: 0 | N5: 0 | O5: 0 | P5: 0 | Q5: 0 | R5: 0 | S5: 0 | T5: 0 | U5: 0 | V5: 0 | W5: 0 | X5: 0 | Y5: 0 | Z5: 0 | AA5: 0 | AB5: 0 | AC5: 0 | AD5: 0 | AE5: 0 | AF5: 0 | AG5: 0 | AH5: 0 | AI5: 0 | AJ5: 0 | AK5: 0 | AL5: 0 | AM5: 0 | AN5: 0 | AO5: 0 | AP5: 0 | AQ5: 0 | AR5: 0 | AS5: 0 | AT5: 0 | AU5: 0 | AV5: 0 | AW5: 0 | AX5: 0 | AY5: 0 | AZ5: 0 | BA5: 0 | BB5: 0 | BC5: 0 | BD5: 4459683.9 | BE5: 0 | BF5: 0 | BG5: 0 | BH5: 0 | BI5: 0 | BJ5: 0 | BK5: 0 | BL5: 0 | BM5: 0 | BN5: 0 | BO5: 0 | BP5: 0 | BQ5: 0 | BR5: 0 | BS5: 0 | BT5: 0 | BU5: 0 | BV5: 0 | BW5: 0 | BX5: 0 | BY5: 0 | BZ5: 0 | CA5: 0 | CB5: 0 | CC5: 0 | CD5: 0 | CE5: 0 | CF5: 0 | CG5: 0 | CH5: 0 | CI5: 0 | CJ5: 0 | CK5: 0 | CL5: 0 | CM5: 0
B6: 4202010199.101 | C6: รายได้ค่าธรรมเนียมการบริการอื่น | D6: 9400 | E6: 0 | F6: 0 | G6: 0 | H6: 0 | I6: 0 | J6: 0 | K6: 0 | L6: 0 | M6: 0 | N6: 0 | O6: 0 | P6: 2400 | Q6: 0 | R6: 0 | S6: 0 | T6: 0 | U6: 0 | V6: 0 | W6: 0 | X6: 10100 | Y6: 0 | Z6: 0 | AA6: 0 | AB6: 0 | AC6: 0 | AD6: 0 | AE6: 0 | AF6: 0 | AG6: 0 | AH6: 0 | AI6: 0 | AJ6: 0 | AK6: 0 | AL6: 15000 | AM6: 0 | AN6: 0 | AO6: 0 | AP6: 0 | AQ6: 0 | AR6: 0 | AS6: 50 | AT6: 0 | AU6: 0 | AV6: 0 | AW6: 0 | AX6: 0 | AY6: 0 | AZ6: 0 | BA6: 0 | BB6: 0 | BC6: 0 | BD6: 13900 | BE6: 0 | BF6: 0 | BG6: 0 | BH6: 9050 | BI6: 0 | BJ6: 0 | BK6: 0 | BL6: 0 | BM6: 3000 | BN6: 0 | BO6: 0 | BP6: 0 | BQ6: 0 | BR6: 0 | BS6: 33600 | BT6: 0 | BU6: 0 | BV6: 0 | BW6: 0 | BX6: 0 | BY6: 0 | BZ6: 0 | CA6: 0 | CB6: 0 | CC6: 0 | CD6: 0 | CE6: 0 | CF6: 0 | CG6: 0 | CH6: 4319 | CI6: 0 | CJ6: 0 | CK6: 0 | CL6: 0 | CM6: 0
B7: 4202020102.101 | C7: รายได้ค่าเช่าอสังหาริมทรัพย์จากบุคคลภายนอก | D7: 0 | E7: 0 | F7: 0 | G7: 0 | H7: 0 | I7: 0 | J7: 0 | K7: 0 | L7: 0 | M7: 0 | N7: 0 | O7: 0 | P7: 0 | Q7: 0 | R7: 0 | S7: 0 | T7: 0 | U7: 0 | V7: 0 | W7: 0 | X7: 43000 | Y7: 0 | Z7: 0 | AA7: 0 | AB7: 0 | AC7: 0 | AD7: 0 | AE7: 0 | AF7: 0 | AG7: 0 | AH7: 0 | AI7: 0 | AJ7: 0 | AK7: 0 | AL7: 13500 | AM7: 0 | AN7: 0 | AO7: 0 | AP7: 0 | AQ7: 0 | AR7: 0 | AS7: 0 | AT7: 0 | AU7: 0 | AV7: 0 | AW7: 0 | AX7: 0 | AY7: 0 | AZ7: 0 | BA7: 0 | BB7: 0 | BC7: 0 | BD7: 0 | BE7: 0 | BF7: 0 | BG7: 0 | BH7: 0 | BI7: 0 | BJ7: 0 | BK7: 0 | BL7: 0 | BM7: 0 | BN7: 0 | BO7: 0 | BP7: 0 | BQ7: 0 | BR7: 0 | BS7: 0 | BT7: 0 | BU7: 0 | BV7: 0 | BW7: 0 | BX7: 0 | BY7: 0 | BZ7: 0 | CA7: 0 | CB7: 0 | CC7: 0 | CD7: 0 | CE7: 0 | CF7: 0 | CG7: 0 | CH7: 0 | CI7: 0 | CJ7: 0 | CK7: 0 | CL7: 0 | CM7: 0
B8: 4202030105.101 | C8: รายได้แผ่นดิน-ค่าขายของเบ็ดเตล็ด | D8: 77280 | E8: 0 | F8: 0 | G8: 0 | H8: 0 | I8: 0 | J8: 0 | K8: 0 | L8: 0 | M8: 0 | N8: 0 | O8: 0 | P8: 0 | Q8: 0 | R8: 0 | S8: 0 | T8: 0 | U8: 0 | V8: 0 | W8: 0 | X8: 1000 | Y8: 0 | Z8: 0 | AA8: 0 | AB8: 0 | AC8: 0 | AD8: 0 | AE8: 0 | AF8: 0 | AG8: 0 | AH8: 0 | AI8: 0 | AJ8: 0 | AK8: 0 | AL8: 0 | AM8: 0 | AN8: 0 | AO8: 0 | AP8: 0 | AQ8: 0 | AR8: 0 | AS8: 0 | AT8: 0 | AU8: 0 | AV8: 0 | AW8: 0 | AX8: 0 | AY8: 0 | AZ8: 0 | BA8: 0 | BB8: 0 | BC8: 0 | BD8: 230000 | BE8: 0 | BF8: 0 | BG8: 0 | BH8: 0 | BI8: 0 | BJ8: 0 | BK8: 0 | BL8: 0 | BM8: 0 | BN8: 0 | BO8: 0 | BP8: 0 | BQ8: 0 | BR8: 0 | BS8: 3389.4 | BT8: 0 | BU8: 0 | BV8: 0 | BW8: 0 | BX8: 0 | BY8: 0 | BZ8: 0 | CA8: 0 | CB8: 0 | CC8: 0 | CD8: 0 | CE8: 0 | CF8: 0 | CG8: 0 | CH8: 0 | CI8: 0 | CJ8: 0 | CK8: 0 | CL8: 0 | CM8: 0
B9: 4203010101.101 | C9: รายได้ดอกเบี้ยเงินฝากที่สถาบันการเงิน | D9: 0 | E9: 0 | F9: 0 | G9: 0 | H9: 0 | I9: 0 | J9: 0 | K9: 0 | L9: 0 | M9: 0 | N9: 67708.59 | O9: 0 | P9: 734.87 | Q9: 0 | R9: 0 | S9: 0 | T9: 1072.12 | U9: 0 | V9: 0 | W9: 0 | X9: 13623.04 | Y9: 0 | Z9: 0 | AA9: 0 | AB9: 0 | AC9: 0 | AD9: 0 | AE9: 0 | AF9: 0 | AG9: 0 | AH9: 0 | AI9: 0 | AJ9: 0 | AK9: 0 | AL9: 3833.6 | AM9: 0 | AN9: 0 | AO9: 0 | AP9: 0 | AQ9: 0 | AR9: 0 | AS9: 3665.03 | AT9: 609.44 | AU9: 0 | AV9: 0 | AW9: 0 | AX9: 0 | AY9: 0 | AZ9: 0 | BA9: 0 | BB9: 289.42 | BC9: 0 | BD9: 7539.13 | BE9: 21563.62 | BF9: 0 | BG9: 0 | BH9: 4422.84 | BI9: 0 | BJ9: 0 | BK9: 0 | BL9: 0 | BM9: 6042.33 | BN9: 0 | BO9: 0 | BP9: 0 | BQ9: 0 | BR9: 0 | BS9: 60546.95 | BT9: 0 | BU9: 0 | BV9: 0 | BW9: 0 | BX9: 0 | BY9: 0 | BZ9: 0 | CA9: 0 | CB9: 0 | CC9: 0 | CD9: 0 | CE9: 0 | CF9: 0 | CG9: 0 | CH9: 0 | CI9: 0 | CJ9: 0 | CK9: 0 | CL9: 0 | CM9: 0
B10: 4205010104.101 | C10: รายรับจากการขายอาคารและสิ่งปลูกสร้าง | D10: 0 | E10: 0 | F10: 0 | G10: 0 | H10: 0 | I10: 0 | J10: 0 | K10: 0 | L10: 0 | M10: 0 | N10: 0 | O10: 0 | P10: 0 | Q10: 0 | R10: 0 | S10: 0 | T10: 0 | U10: 0 | V10: 0 | W10: 0 | X10: 0 | Y10: 0 | Z10: 0 | AA10: 0 | AB10: 0 | AC10: 0 | AD10: 0 | AE10: 0 | AF10: 0 | AG10: 0 | AH10: 0 | AI10: 0 | AJ10: 0 | AK10: 0 | AL10: 0 | AM10: 0 | AN10: 0 | AO10: 0 | AP10: 0 | AQ10: 0 | AR10: 0 | AS10: 0 | AT10: 0 | AU10: 0 | AV10: 0 | AW10: 0 | AX10: 0 | AY10: 0 | AZ10: 0 | BA10: 0 | BB10: 0 | BC10: 0 | BD10: 0 | BE10: 0 | BF10: 0 | BG10: 0 | BH10: 0 | BI10: 0 | BJ10: 0 | BK10: 0 | BL10: 0 | BM10: 0 | BN10: 0 | BO10: 0 | BP10: 0 | BQ10: 0 | BR10: 0 | BS10: 0 | BT10: 0 | BU10: 0 | BV10: 0 | BW10: 0 | BX10: 0 | BY10: 0 | BZ10: 0 | CA10: 0 | CB10: 0 | CC10: 0 | CD10: 0 | CE10: 0 | CF10: 0 | CG10: 0 | CH10: 0 | CI10: 0 | CJ10: 0 | CK10: 0 | CL10: 0 | CM10: 0
B11: 4205010110.101 | C11: รายรับจากการขายครุภัณฑ์ | D11: 0 | E11: 0 | F11: 0 | G11: 0 | H11: 0 | I11: 0 | J11: 0 | K11: 0 | L11: 0 | M11: 0 | N11: 0 | O11: 0 | P11: 0 | Q11: 0 | R11: 0 | S11: 0 | T11: 0 | U11: 0 | V11: 0 | W11: 0 | X11: 0 | Y11: 0 | Z11: 0 | AA11: 0 | AB11: 0 | AC11: 0 | AD11: 0 | AE11: 0 | AF11: 0 | AG11: 0 | AH11: 0 | AI11: 0 | AJ11: 0 | AK11: 0 | AL11: 0 | AM11: 0 | AN11: 0 | AO11: 0 | AP11: 0 | AQ11: 0 | AR11: 0 | AS11: 0 | AT11: 0 | AU11: 0 | AV11: 0 | AW11: 0 | AX11: 0 | AY11: 0 | AZ11: 0 | BA11: 0 | BB11: 0 | BC11: 0 | BD11: 0 | BE11: 0 | BF11: 0 | BG11: 0 | BH11: 0 | BI11: 0 | BJ11: 0 | BK11: 0 | BL11: 0 | BM11: 0 | BN11: 0 | BO11: 0 | BP11: 0 | BQ11: 0 | BR11: 0 | BS11: 0 | BT11: 0 | BU11: 0 | BV11: 0 | BW11: 0 | BX11: 0 | BY11: 0 | BZ11: 0 | CA11: 0 | CB11: 0 | CC11: 0 | CD11: 0 | CE11: 0 | CF11: 0 | CG11: 0 | CH11: 0 | CI11: 0 | CJ11: 0 | CK11: 0 | CL11: 0 | CM11: 0
B12: 4206010102.101 | C12: รายได้เงินเหลือจ่ายปีเก่า/รายที่ไม่ใช่ภาษีอื่น | D12: 64522.23 | E12: 0 | F12: 0 | G12: 0 | H12: 0 | I12: 0 | J12: 0 | K12: 0 | L12: 0 | M12: 0 | N12: 0 | O12: 0 | P12: 0 | Q12: 0 | R12: 0 | S12: 0 | T12: 0 | U12: 0 | V12: 0 | W12: 0 | X12: 76519.54 | Y12: 0 | Z12: 0 | AA12: 0 | AB12: 0 | AC12: 0 | AD12: 0 | AE12: 0 | AF12: 0 | AG12: 0 | AH12: 0 | AI12: 0 | AJ12: 0 | AK12: 0 | AL12: 14000 | AM12: 0 | AN12: 0 | AO12: 0 | AP12: 0 | AQ12: 0 | AR12: 0 | AS12: 0 | AT12: 0 | AU12: 0 | AV12: 0 | AW12: 0 | AX12: 0 | AY12: 0 | AZ12: 0 | BA12: 0 | BB12: 0 | BC12: 0 | BD12: 0 | BE12: 0 | BF12: 0 | BG12: 0 | BH12: 0 | BI12: 0 | BJ12: 0 | BK12: 0 | BL12: 0 | BM12: 37814.01 | BN12: 0 | BO12: 0 | BP12: 0 | BQ12: 0 | BR12: 0 | BS12: 11447631 | BT12: 0 | BU12: 0 | BV12: 0 | BW12: 0 | BX12: 0 | BY12: 0 | BZ12: 0 | CA12: 0 | CB12: 0 | CC12: 0 | CD12: 0 | CE12: 0 | CF12: 0 | CG12: 0 | CH12: 0 | CI12: 0 | CJ12: 0 | CK12: 0 | CL12: 0 | CM12: 0
B13: 4206010199.101 | C13: บัญชีรายได้ที่ไม่ใช่ภาษีอื่น | D13: 0 | E13: 0 | F13: 0 | G13: 0 | H13: 0 | I13: 0 | J13: 0 | K13: 0 | L13: 0 | M13: 0 | N13: 0 | O13: 0 | P13: 0 | Q13: 0 | R13: 0 | S13: 0 | T13: 0 | U13: 0 | V13: 0 | W13: 0 | X13: 0 | Y13: 0 | Z13: 0 | AA13: 0 | AB13: 0 | AC13: 0 | AD13: 0 | AE13: 0 | AF13: 0 | AG13: 0 | AH13: 0 | AI13: 0 | AJ13: 0 | AK13: 0 | AL13: 0 | AM13: 0 | AN13: 0 | AO13: 0 | AP13: 0 | AQ13: 0 | AR13: 0 | AS13: 0 | AT13: 0 | AU13: 0 | AV13: 0 | AW13: 0 | AX13: 0 | AY13: 0 | AZ13: 0 | BA13: 0 | BB13: 0 | BC13: 0 | BD13: 0 | BE13: 0 | BF13: 0 | BG13: 0 | BH13: 0 | BI13: 0 | BJ13: 0 | BK13: 0 | BL13: 0 | BM13: 0 | BN13: 0 | BO13: 0 | BP13: 0 | BQ13: 0 | BR13: 0 | BS13: 0 | BT13: 0 | BU13: 0 | BV13: 0 | BW13: 0 | BX13: 0 | BY13: 0 | BZ13: 0 | CA13: 0 | CB13: 0 | CC13: 0 | CD13: 0 | CE13: 0 | CF13: 0 | CG13: 0 | CH13: 0 | CI13: 0 | CJ13: 0 | CK13: 0 | CL13: 0 | CM13: 0
B14: 4207010102.102 | C14: รายได้แผ่นดิน-ค่าปรับอื่นจ่ายคืน | D14: 0 | E14: 0 | F14: 0 | G14: 0 | H14: 0 | I14: 0 | J14: 0 | K14: 0 | L14: 0 | M14: 0 | N14: 0 | O14: 0 | P14: 0 | Q14: 0 | R14: 0 | S14: 0 | T14: 0 | U14: 0 | V14: 0 | W14: 0 | X14: 0 | Y14: 0 | Z14: 0 | AA14: 0 | AB14: 0 | AC14: 0 | AD14: 0 | AE14: 0 | AF14: 0 | AG14: 0 | AH14: 0 | AI14: 0 | AJ14: 0 | AK14: 0 | AL14: 0 | AM14: 0 | AN14: 0 | AO14: 0 | AP14: 0 | AQ14: 0 | AR14: 0 | AS14: 0 | AT14: 0 | AU14: 0 | AV14: 0 | AW14: 0 | AX14: 0 | AY14: 0 | AZ14: 0 | BA14: 0 | BB14: 0 | BC14: 0 | BD14: 0 | BE14: 0 | BF14: 0 | BG14: 0 | BH14: 0 | BI14: 0 | BJ14: 0 | BK14: 0 | BL14: 0 | BM14: 0 | BN14: 0 | BO14: 0 | BP14: 0 | BQ14: 0 | BR14: 0 | BS14: 0 | BT14: 0 | BU14: 0 | BV14: 0 | BW14: 0 | BX14: 0 | BY14: 0 | BZ14: 0 | CA14: 0 | CB14: 0 | CC14: 0 | CD14: 0 | CE14: 0 | CF14: 0 | CG14: 0 | CH14: 0 | CI14: 0 | CJ14: 0 | CK14: 0 | CL14: 0 | CM14: 0
A15: 15 | B15: 4301010102.101 | C15: รายได้จากการจำหน่ายยาสมุนไพร - บุคคลภายนอก | D15: 0 | E15: 0 | F15: 0 | G15: 0 | H15: 0 | I15: 29443 | J15: 0 | K15: 0 | L15: 0 | M15: 0 | N15: 0 | O15: 0 | P15: 0 | Q15: 0 | R15: 0 | S15: 0 | T15: 0 | U15: 0 | V15: 0 | W15: 0 | X15: 0 | Y15: 0 | Z15: 0 | AA15: 0 | AB15: 0 | AC15: 0 | AD15: 0 | AE15: 0 | AF15: 0 | AG15: 0 | AH15: 0 | AI15: 0 | AJ15: 0 | AK15: 0 | AL15: 0 | AM15: 0 | AN15: 0 | AO15: 459771 | AP15: 0 | AQ15: 0 | AR15: 0 | AS15: 0 | AT15: 0 | AU15: 0 | AV15: 0 | AW15: 0 | AX15: 0 | AY15: 0 | AZ15: 0 | BA15: 0 | BB15: 0 | BC15: 0 | BD15: 0 | BE15: 73225 | BF15: 0 | BG15: 0 | BH15: 0 | BI15: 0 | BJ15: 0 | BK15: 0 | BL15: 0 | BM15: 0 | BN15: 0 | BO15: 0 | BP15: 0 | BQ15: 0 | BR15: 0 | BS15: 0 | BT15: 0 | BU15: 0 | BV15: 0 | BW15: 0 | BX15: 0 | BY15: 0 | BZ15: 0 | CA15: 0 | CB15: 0 | CC15: 0 | CD15: 0 | CE15: 0 | CF15: 0 | CG15: 0 | CH15: 0 | CI15: 0 | CJ15: 0 | CK15: 0 | CL15: 0 | CM15: 0
A16: 15 | B16: 4301010102.102 | C16: รายได้จากการจำหน่ายสินค้าอื่น ๆ - บุคคลภายนอก | D16: 0 | E16: 0 | F16: 0 | G16: 0 | H16: 0 | I16: 390 | J16: 0 | K16: 0 | L16: 0 | M16: 0 | N16: 0 | O16: 0 | P16: 0 | Q16: 0 | R16: 0 | S16: 0 | T16: 0 | U16: 0 | V16: 0 | W16: 0 | X16: 0 | Y16: 0 | Z16: 0 | AA16: 0 | AB16: 0 | AC16: 0 | AD16: 0 | AE16: 0 | AF16: 0 | AG16: 0 | AH16: 0 | AI16: 0 | AJ16: 0 | AK16: 0 | AL16: 0 | AM16: 0 | AN16: 0 | AO16: 0 | AP16: 0 | AQ16: 0 | AR16: 0 | AS16: 0 | AT16: 0 | AU16: 0 | AV16: 0 | AW16: 0 | AX16: 0 | AY16: 0 | AZ16: 0 | BA16: 0 | BB16: 0 | BC16: 0 | BD16: 0 | BE16: 0 | BF16: 0 | BG16: 0 | BH16: 0 | BI16: 0 | BJ16: 0 | BK16: 0 | BL16: 0 | BM16: 0 | BN16: 0 | BO16: 0 | BP16: 0 | BQ16: 0 | BR16: 0 | BS16: 0 | BT16: 0 | BU16: 0 | BV16: 0 | BW16: 0 | BX16: 0 | BY16: 0 | BZ16: 0 | CA16: 0 | CB16: 0 | CC16: 0 | CD16: 0 | CE16: 0 | CF16: 0 | CG16: 0 | CH16: 0 | CI16: 0 | CJ16: 0 | CK16: 0 | CL16: 0 | CM16: 0
A17: 15 | B17: 4301010102.103 | C17: รายได้จากการจำหน่ายยาสมุนไพร - หน่วยงานภาครัฐ | D17: 0 | E17: 0 | F17: 0 | G17: 0 | H17: 0 | I17: 40930 | J17: 0 | K17: 0 | L17: 0 | M17: 0 | N17: 0 | O17: 0 | P17: 0 | Q17: 0 | R17: 0 | S17: 0 | T17: 0 | U17: 0 | V17: 0 | W17: 0 | X17: 0 | Y17: 0 | Z17: 0 | AA17: 0 | AB17: 0 | AC17: 0 | AD17: 0 | AE17: 0 | AF17: 0 | AG17: 0 | AH17: 0 | AI17: 0 | AJ17: 0 | AK17: 0 | AL17: 0 | AM17: 0 | AN17: 0 | AO17: 10669285 | AP17: 0 | AQ17: 0 | AR17: 0 | AS17: 0 | AT17: 0 | AU17: 0 | AV17: 0 | AW17: 0 | AX17: 0 | AY17: 0 | AZ17: 0 | BA17: 0 | BB17: 0 | BC17: 0 | BD17: 0 | BE17: 0 | BF17: 0 | BG17: 0 | BH17: 0 | BI17: 0 | BJ17: 0 | BK17: 0 | BL17: 0 | BM17: 0 | BN17: 0 | BO17: 0 | BP17: 0 | BQ17: 0 | BR17: 0 | BS17: 0 | BT17: 0 | BU17: 0 | BV17: 0 | BW17: 1401600 | BX17: 0 | BY17: 0 | BZ17: 0 | CA17: 0 | CB17: 0 | CC17: 0 | CD17: 0 | CE17: 0 | CF17: 0 | CG17: 0 | CH17: 0 | CI17: 0 | CJ17: 0 | CK17: 0 | CL17: 0 | CM17: 0
A18: 15 | B18: 4301010102.104 | C18: รายได้จากการจำหน่ายสินค้าอื่น ๆ - หน่วยงานภาครัฐ | D18: 0 | E18: 0 | F18: 0 | G18: 0 | H18: 0 | I18: 0 | J18: 0 | K18: 0 | L18: 0 | M18: 0 | N18: 0 | O18: 0 | P18: 0 | Q18: 0 | R18: 0 | S18: 0 | T18: 0 | U18: 0 | V18: 0 | W18: 0 | X18: 0 | Y18: 0 | Z18: 0 | AA18: 0 | AB18: 0 | AC18: 0 | AD18: 0 | AE18: 0 | AF18: 0 | AG18: 0 | AH18: 0 | AI18: 0 | AJ18: 0 | AK18: 0 | AL18: 0 | AM18: 0 | AN18: 0 | AO18: 0 | AP18: 0 | AQ18: 0 | AR18: 0 | AS18: 0 | AT18: 0 | AU18: 0 | AV18: 0 | AW18: 0 | AX18: 0 | AY18: 0 | AZ18: 0 | BA18: 0 | BB18: 0 | BC18: 0 | BD18: 0 | BE18: 0 | BF18: 0 | BG18: 0 | BH18: 0 | BI18: 0 | BJ18: 0 | BK18: 0 | BL18: 0 | BM18: 773778.93 | BN18: 0 | BO18: 0 | BP18: 0 | BQ18: 0 | BR18: 0 | BS18: 0 | BT18: 0 | BU18: 0 | BV18: 0 | BW18: 0 | BX18: 0 | BY18: 0 | BZ18: 0 | CA18: 0 | CB18: 0 | CC18: 0 | CD18: 0 | CE18: 0 | CF18: 0 | CG18: 0 | CH18: 0 | CI18: 0 | CJ18: 0 | CK18: 0 | CL18: 0 | CM18: 0
A19: 15 | B19: 4301020102.101 | C19: รายได้ค่าสิ่งส่งตรวจ - บุคคลภายนอก | D19: 0 | E19: 0 | F19: 0 | G19: 0 | H19: 0 | I19: 0 | J19: 0 | K19: 0 | L19: 0 | M19: 0 | N19: 0 | O19: 0 | P19: 0 | Q19: 0 | R19: 0 | S19: 0 | T19: 0 | U19: 0 | V19: 0 | W19: 0 | X19: 115410 | Y19: 0 | Z19: 0 | AA19: 0 | AB19: 0 | AC19: 0 | AD19: 0 | AE19: 0 | AF19: 0 | AG19: 0 | AH19: 0 | AI19: 0 | AJ19: 0 | AK19: 0 | AL19: 0 | AM19: 0 | AN19: 0 | AO19: 0 | AP19: 0 | AQ19: 0 | AR19: 0 | AS19: 0 | AT19: 0 | AU19: 0 | AV19: 0 | AW19: 0 | AX19: 0 | AY19: 0 | AZ19: 0 | BA19: 0 | BB19: 82140 | BC19: 0 | BD19: 1365768 | BE19: 0 | BF19: 15510 | BG19: 0 | BH19: 12800 | BI19: 0 | BJ19: 0 | BK19: 0 | BL19: 0 | BM19: 0 | BN19: 0 | BO19: 0 | BP19: 0 | BQ19: 0 | BR19: 0 | BS19: 321290 | BT19: 0 | BU19: 0 | BV19: 88655 | BW19: 0 | BX19: 0 | BY19: 0 | BZ19: 0 | CA19: 0 | CB19: 0 | CC19: 0 | CD19: 0 | CE19: 224856 | CF19: 0 | CG19: 0 | CH19: 0 | CI19: 0 | CJ19: 0 | CK19: 0 | CL19: 0 | CM19: 0
A20: 15 | B20: 4301020102.102 | C20: รายได้ค่าตรวจสุขภาพ - บุคคลภายนอก | D20: 367960 | E20: 0 | F20: 0 | G20: 0 | H20: 42140 | I20: 19610 | J20: 0 | K20: 7160 | L20: 0 | M20: 0 | N20: 20850 | O20: 0 | P20: 825900 | Q20: 0 | R20: 0 | S20: 6860 | T20: 0 | U20: 610 | V20: 0 | W20: 0 | X20: 1016760 | Y20: 0 | Z20: 0 | AA20: 0 | AB20: 0 | AC20: 0 | AD20: 0 | AE20: 0 | AF20: 0 | AG20: 0 | AH20: 0 | AI20: 0 | AJ20: 4770 | AK20: 0 | AL20: 8100236.2 | AM20: 52970 | AN20: 0 | AO20: 0 | AP20: 16120 | AQ20: 0 | AR20: 0 | AS20: 0 | AT20: 0 | AU20: 0 | AV20: 0 | AW20: 0 | AX20: 0 | AY20: 0 | AZ20: 0 | BA20: 0 | BB20: 0 | BC20: 0 | BD20: 1218904 | BE20: 39917 | BF20: 54550 | BG20: 27444 | BH20: 195785 | BI20: 0 | BJ20: 36880 | BK20: 0 | BL20: 0 | BM20: 88870 | BN20: 0 | BO20: 0 | BP20: 30800 | BQ20: 0 | BR20: 0 | BS20: 111310 | BT20: 0 | BU20: 0 | BV20: 40102 | BW20: 34930 | BX20: 0 | BY20: 180000 | BZ20: 0 | CA20: 0 | CB20: 113350 | CC20: 0 | CD20: 24000 | CE20: 0 | CF20: 0 | CG20: 0 | CH20: 545 | CI20: 0 | CJ20: 0 | CK20: 110859 | CL20: 0 | CM20: 0
A21: 15 | B21: 4301020102.103 | C21: รายได้ค่าสิ่งส่งตรวจ - หน่วยงานภาครัฐ | D21: 4907741 | E21: 0 | F21: 0 | G21: 0 | H21: 0 | I21: 0 | J21: 0 | K21: 0 | L21: 0 | M21: 0 | N21: 15000 | O21: 0 | P21: 20780 | Q21: 0 | R21: 0 | S21: 6230 | T21: 0 | U21: 0 | V21: 0 | W21: 0 | X21: 6979795 | Y21: 0 | Z21: 0 | AA21: 0 | AB21: 0 | AC21: 0 | AD21: 0 | AE21: 0 | AF21: 0 | AG21: 0 | AH21: 0 | AI21: 102090 | AJ21: 0 | AK21: 0 | AL21: 1463340 | AM21: 0 | AN21: 0 | AO21: 0 | AP21: 0 | AQ21: 0 | AR21: 0 | AS21: 0 | AT21: 0 | AU21: 2475 | AV21: 0 | AW21: 0 | AX21: 0 | AY21: 0 | AZ21: 0 | BA21: 0 | BB21: 307210 | BC21: 0 | BD21: 843875 | BE21: 120921 | BF21: 14725 | BG21: 23100 | BH21: 98830 | BI21: 0 | BJ21: 1000 | BK21: 0 | BL21: 0 | BM21: 162305 | BN21: 0 | BO21: 0 | BP21: 0 | BQ21: 0 | BR21: 0 | BS21: 3861034.7 | BT21: 0 | BU21: 0 | BV21: 424595 | BW21: 0 | BX21: 0 | BY21: 110280 | BZ21: 0 | CA21: 0 | CB21: 0 | CC21: 0 | CD21: 0 | CE21: 0 | CF21: 550 | CG21: 0 | CH21: 0 | CI21: 0 | CJ21: 0 | CK21: 0 | CL21: 0 | CM21: 0
A22: 15 | B22: 4301020102.104 | C22: รายได้ค่าตรวจสุขภาพ-หน่วยงานภาครัฐ | D22: 1079557 | E22: 0 | F22: 3760 | G22: 0 | H22: 2290 | I22: 48000 | J22: 0 | K22: 110739 | L22: 0 | M22: 258378 | N22: 90830 | O22: 0 | P22: 467999.75 | Q22: 48910 | R22: 49420 | S22: 0 | T22: 45400 | U22: 20082.5 | V22: 75110 | W22: 0 | X22: 1331816 | Y22: 131370 | Z22: 10610 | AA22: 102560 | AB22: 0 | AC22: 0 | AD22: 59464 | AE22: 319710 | AF22: 0 | AG22: 49390 | AH22: 57937.74 | AI22: 26250 | AJ22: 0 | AK22: 66540 | AL22: 3940068 | AM22: 48380 | AN22: 33759 | AO22: 85600 | AP22: 3640 | AQ22: 150110 | AR22: 0 | AS22: 288877 | AT22: 0 | AU22: 0 | AV22: 0 | AW22: 42452 | AX22: 46640 | AY22: 0 | AZ22: 0 | BA22: 0 | BB22: 500876.5 | BC22: 46980 | BD22: 1560913.5 | BE22: 206685 | BF22: 49330 | BG22: 69420 | BH22: 1328020 | BI22: 88910 | BJ22: 36871 | BK22: 120528 | BL22: 51420 | BM22: 190936 | BN22: 162580 | BO22: 78655 | BP22: 129181 | BQ22: 1670 | BR22: 0 | BS22: 719205 | BT22: 63430 | BU22: 0 | BV22: 0 | BW22: 0 | BX22: 20635 | BY22: 266775 | BZ22: 21102 | CA22: 0 | CB22: 0 | CC22: 0 | CD22: 25910 | CE22: 0 | CF22: 55140 | CG22: 0 | CH22: 25140 | CI22: 0 | CJ22: 12350 | CK22: 310368.5 | CL22: 0 | CM22: 0
A23: 4 | B23: 4301020102.105 | C23: รายได้จากระบบปฏิบัติการฉุกเฉิน (EMS) | D23: 2456828 | E23: 115300 | F23: 218450 | G23: 84550 | H23: 63800 | I23: 154900 | J23: 97300 | K23: 239250 | L23: 145550 | M23: 101800 | N23: 465150 | O23: 65950 | P23: 634050 | Q23: 267900 | R23: 206700 | S23: 30050 | T23: 90400 | U23: 82300 | V23: 175400 | W23: 132300 | X23: 1390550 | Y23: 186300 | Z23: 672600 | AA23: 385400 | AB23: 122750 | AC23: 101700 | AD23: 0 | AE23: 736250 | AF23: 377250 | AG23: 155950 | AH23: 288750 | AI23: 331800 | AJ23: 185600 | AK23: 548000 | AL23: 1525050 | AM23: 57200 | AN23: 103900 | AO23: 246750 | AP23: 409350 | AQ23: 258650 | AR23: 154950 | AS23: 694500 | AT23: 304200 | AU23: 407700 | AV23: 287350 | AW23: 477150 | AX23: 61950 | AY23: 79250 | AZ23: 112600 | BA23: 49750 | BB23: 722850 | BC23: 205900 | BD23: 824500 | BE23: 284450 | BF23: 71050 | BG23: 37650 | BH23: 211000 | BI23: 174100 | BJ23: 17400 | BK23: 101200 | BL23: 23200 | BM23: 1504400 | BN23: 285900 | BO23: 188800 | BP23: 116800 | BQ23: 217950 | BR23: 84300 | BS23: 1271500 | BT23: 175000 | BU23: 104150 | BV23: 645650 | BW23: 0 | BX23: 96650 | BY23: 778050 | BZ23: 290700 | CA23: 156200 | CB23: 98350 | CC23: 116950 | CD23: 173300 | CE23: 60800 | CF23: 174650 | CG23: 228250 | CH23: 48550 | CI23: 90600 | CJ23: 74050 | CK23: 360050 | CL23: 39150 | CM23: 21800
A24: 19 | B24: 4301020102.106 | C24: รายได้สนับสนุนยาและอื่น ๆ | D24: 5296266.9 | E24: 2568748.3 | F24: 379777.63 | G24: 294047.64 | H24: 771742.21 | I24: 1585011.6 | J24: 385749.99 | K24: 3281294.9 | L24: 2638063.4 | M24: 1651926.2 | N24: 3876003.3 | O24: 808771.28 | P24: 87442.25 | Q24: 192081.94 | R24: 121237.19 | S24: 4275906.2 | T24: 107710.82 | U24: 23977.2 | V24: 946208.88 | W24: 151138.61 | X24: 0 | Y24: 620404.49 | Z24: 1993197.9 | AA24: 243152.8 | AB24: 164157.83 | AC24: 248299.02 | AD24: 244620.86 | AE24: 1911451.7 | AF24: 99000 | AG24: 602077.8 | AH24: 345475.53 | AI24: 557723.76 | AJ24: 500425.68 | AK24: 277220.14 | AL24: 1101420 | AM24: 773724.15 | AN24: 24356.61 | AO24: 6858399.7 | AP24: 1546712 | AQ24: 3120120.6 | AR24: 722485.45 | AS24: 10143981 | AT24: 52590 | AU24: 1131228.7 | AV24: 84614.81 | AW24: 333200 | AX24: 33742.46 | AY24: 1592532.6 | AZ24: 1954117.7 | BA24: 1506705.9 | BB24: 17270121 | BC24: 885660.65 | BD24: 12791066 | BE24: 0 | BF24: 0 | BG24: 0 | BH24: 0 | BI24: 969379.37 | BJ24: 0 | BK24: 0 | BL24: 0 | BM24: 9117856 | BN24: 1630 | BO24: 1269229.8 | BP24: 219818.68 | BQ24: 0 | BR24: 0 | BS24: 75155983 | BT24: 5000 | BU24: 0 | BV24: 365891.9 | BW24: 417142 | BX24: 1873075 | BY24: 0 | BZ24: 77813.4 | CA24: 0 | CB24: 796565.34 | CC24: 857795.67 | CD24: 572396.77 | CE24: 5000 | CF24: 38605.2 | CG24: 1391201.1 | CH24: 466514.65 | CI24: 0 | CJ24: 0 | CK24: 531544.08 | CL24: 475883.96 | CM24: 0
A25: 8 | B25: 4301020104.104 | C25: รายได้ค่ารักษาเบิกต้นสังกัด OP | D25: 5722.5 | E25: 0 | F25: 0 | G25: 0 | H25: 0 | I25: 0 | J25: 0 | K25: 56853 | L25: 0 | M25: 0 | N25: 1448 | O25: 0 | P25: 3310 | Q25: 298.75 | R25: 0 | S25: 0 | T25: 7181 | U25: 0 | V25: 117.5 | W25: 670 | X25: 9644.5 | Y25: 8515 | Z25: 0 | AA25: 324523.21 | AB25: 0 | AC25: 1387 | AD25: 10062 | AE25: 0 | AF25: 22913.25 | AG25: 0 | AH25: 1324 | AI25: 6530 | AJ25: 0 | AK25: 0 | AL25: 526001.7 | AM25: 0 | AN25: 0 | AO25: 0 | AP25: 0 | AQ25: 0 | AR25: 0 | AS25: 0 | AT25: 53893 | AU25: 0 | AV25: 0 | AW25: 0 | AX25: 868.5 | AY25: 0 | AZ25: 0 | BA25: 0 | BB25: 3677 | BC25: 660 | BD25: 1095101.8 | BE25: 0 | BF25: 0 | BG25: 0 | BH25: 58041 | BI25: 0 | BJ25: 0 | BK25: 0 | BL25: 39190 | BM25: 4686 | BN25: 0 | BO25: 0 | BP25: 0 | BQ25: 0 | BR25: 0 | BS25: 511845 | BT25: 0 | BU25: 0 | BV25: 0 | BW25: 0 | BX25: 15856 | BY25: 0 | BZ25: 3716 | CA25: 0 | CB25: 0 | CC25: 0 | CD25: 0 | CE25: 14364 | CF25: 0 | CG25: 0 | CH25: 0 | CI25: 0 | CJ25: 0 | CK25: 0 | CL25: 0 | CM25: 0
A26: 8 | B26: 4301020104.105 | C26: รายได้ค่ารักษาเบิกต้นสังกัด IP | D26: 2300207.8 | E26: 0 | F26: 0 | G26: 50220 | H26: 0 | I26: 84858.5 | J26: 23205.75 | K26: 25424 | L26: 0 | M26: 0 | N26: 667363.5 | O26: 2451 | P26: 1100944.2 | Q26: 5589.45 | R26: 7811 | S26: 177914 | T26: 44019 | U26: 51526.5 | V26: 2770 | W26: 1325 | X26: 1512742.2 | Y26: 0 | Z26: 26238 | AA26: 106800.95 | AB26: 20278 | AC26: 56461.5 | AD26: 18920 | AE26: 117931 | AF26: 160777.5 | AG26: 51830 | AH26: 22285.69 | AI26: 57390 | AJ26: 26645 | AK26: 0 | AL26: 12050594 | AM26: 0 | AN26: 12847 | AO26: 70957.25 | AP26: 342056 | AQ26: 46166 | AR26: 0 | AS26: 188693 | AT26: 13902.5 | AU26: 33524 | AV26: 24868.16 | AW26: 8690 | AX26: 1846 | AY26: 24494.25 | AZ26: 8224 | BA26: 20063 | BB26: 893206.5 | BC26: 10335.73 | BD26: 8758009.3 | BE26: 309736.1 | BF26: 9230 | BG26: 29567.25 | BH26: 3244181.2 | BI26: 13500 | BJ26: 0 | BK26: 0 | BL26: 39396.5 | BM26: 1365838.2 | BN26: 0 | BO26: 6825 | BP26: 72884.5 | BQ26: 5922 | BR26: 0 | BS26: 7634645.2 | BT26: 17643 | BU26: 25902.86 | BV26: 761268 | BW26: 1000 | BX26: 12970 | BY26: 136386.25 | BZ26: 6397 | CA26: 10965 | CB26: 0 | CC26: 112583 | CD26: 236077 | CE26: 11102 | CF26: 119941 | CG26: 7197 | CH26: 0 | CI26: 0 | CJ26: 0 | CK26: 307000 | CL26: 0 | CM26: 0
... A78: 1 | B78: 4301020105.266 | C78: ส่วนปรับลดค่าแรง PP | D78: 0 | E78: 0 | F78: 0 | G78: 0 | H78: 0 | I78: 0 | J78: 0 | K78: 0 | L78: 0 | M78: 0 | N78: 0 | O78: 0 | P78: 0 | Q78: 0 | R78: 0 | S78: 0 | T78: 0 | U78: 0 | V78: 0 | W78: 0 | X78: 0 | Y78: 0 | Z78: 0 | AA78: 0 | AB78: 0 | AC78: 0 | AD78: 0 | AE78: 0 | AF78: 0 | AG78: 0 | AH78: 0 | AI78: 0 | AJ78: 0 | AK78: 0 | AL78: 0 | AM78: 0 | AN78: 0 | AO78: 0 | AP78: 0 | AQ78: 0 | AR78: 0 | AS78: 0 | AT78: 0 | AU78: 0 | AV78: 0 | AW78: 0 | AX78: 0 | AY78: 0 | AZ78: 0 | BA78: 0 | BB78: 0 | BC78: 0 | BD78: 0 | BE78: 0 | BF78: 0 | BG78: 0 | BH78: 0 | BI78: 0 | BJ78: 0 | BK78: 0 | BL78: 0 | BM78: 0 | BN78: 0 | BO78: 0 | BP78: 0 | BQ78: 0 | BR78: 0 | BS78: 0 | BT78: 0 | BU78: 0 | BV78: 0 | BW78: 0 | BX78: 0 | BY78: 0 | BZ78: 0 | CA78: 0 | CB78: 0 | CC78: 0 | CD78: 0 | CE78: 0 | CF78: 0 | CG78: 0 | CH78: 0 | CI78: 0 | CJ78: 0 | CK78: 0 | CL78: 0 | CM78: 0
B79: 4301020105.271 | C79: ส่วนต่างค่ารักษาที่ต่ำกว่าข้อตกลงในการตามจ่าย UC OP (หน่วยบริการที่ตามจ่าย) | D79: 0 | E79: 0 | F79: 0 | G79: 0 | H79: 0 | I79: 0 | J79: 0 | K79: 0 | L79: 0 | M79: 0 | N79: 0 | O79: 0 | P79: 0 | Q79: 2271617.8 | R79: 2725844.1 | S79: 0 | T79: 0 | U79: 717634.5 | V79: 0 | W79: 0 | X79: 0 | Y79: 0 | Z79: 0 | AA79: 0 | AB79: 0 | AC79: 0 | AD79: 0 | AE79: 0 | AF79: 0 | AG79: 0 | AH79: 0 | AI79: 0 | AJ79: 0 | AK79: 0 | AL79: 0 | AM79: 0 | AN79: 0 | AO79: 0 | AP79: 0 | AQ79: 0 | AR79: 0 | AS79: 0 | AT79: 0 | AU79: 0 | AV79: 0 | AW79: 0 | AX79: 0 | AY79: 0 | AZ79: 0 | BA79: 0 | BB79: 0 | BC79: 0 | BD79: 0 | BE79: 406240.75 | BF79: 32814.75 | BG79: 0 | BH79: 0 | BI79: 0 | BJ79: 0 | BK79: 0 | BL79: 0 | BM79: 5907.5 | BN79: 0 | BO79: 0 | BP79: 0 | BQ79: 0 | BR79: 0 | BS79: 516720.25 | BT79: 244257.5 | BU79: 0 | BV79: 0 | BW79: 0 | BX79: 0 | BY79: 0 | BZ79: 2753539 | CA79: 0 | CB79: 0 | CC79: 0 | CD79: 943573 | CE79: 0 | CF79: 9116478.6 | CG79: 0 | CH79: 0 | CI79: 3550 | CJ79: 0 | CK79: 4418113.8 | CL79: 0 | CM79: 0
A80: 5 | B80: 4301020106.303 | C80: รายได้กองทุนประกันสังคม | D80: 35494890 | E80: 0 | F80: 96040.58 | G80: 190214.9 | H80: 49808.71 | I80: 0 | J80: 0 | K80: 82859.57 | L80: 33142.26 | M80: 0 | N80: 0 | O80: 0 | P80: 1356600.6 | Q80: 139840.92 | R80: 329508.28 | S80: 285499.04 | T80: 269625.53 | U80: 48172.36 | V80: 169396.62 | W80: 167045.33 | X80: 29607178 | Y80: 159362.58 | Z80: 0 | AA80: 45981.93 | AB80: 0 | AC80: 0 | AD80: 0 | AE80: 0 | AF80: 0 | AG80: 118926.91 | AH80: 0 | AI80: 0 | AJ80: 0 | AK80: 0 | AL80: 52839869 | AM80: 0 | AN80: 0 | AO80: 0 | AP80: 0 | AQ80: 0 | AR80: 24102.26 | AS80: 0 | AT80: 116181.36 | AU80: 1095600.4 | AV80: 0 | AW80: 104767.4 | AX80: 0 | AY80: 0 | AZ80: 18462.52 | BA80: 219333.66 | BB80: 5809711.8 | BC80: 189725.83 | BD80: 20087323 | BE80: 0 | BF80: 144421.63 | BG80: 0 | BH80: 5839706.8 | BI80: 0 | BJ80: 6424.12 | BK80: 0 | BL80: 0 | BM80: 7021294 | BN80: 0 | BO80: 0 | BP80: 0 | BQ80: 0 | BR80: 48578 | BS80: 13694223 | BT80: 0 | BU80: 302855.41 | BV80: 235333.71 | BW80: 14331 | BX80: 0 | BY80: 0 | BZ80: 0 | CA80: 1647 | CB80: 38053 | CC80: 0 | CD80: 0 | CE80: 0 | CF80: 831386.4 | CG80: 89430 | CH80: 107744 | CI80: 0 | CJ80: 155741 | CK80: 2861954.5 | CL80: 0 | CM80: 119016.5
A81: 5 | B81: 4301020106.305 | C81: รายได้ค่ารักษาประกันสังคม OP - เครือข่าย | D81: 19476642 | E81: 726955.74 | F81: 1099910.5 | G81: 1068975.8 | H81: 425541 | I81: 1131660.2 | J81: 1046155.1 | K81: 2060661 | L81: 700591.1 | M81: 870633.7 | N81: 2614651.7 | O81: 397808.31 | P81: 9667550.7 | Q81: 1489325.8 | R81: 1192515.6 | S81: 2509861.8 | T81: 1949485.1 | U81: 1416317.6 | V81: 1176049.1 | W81: 995170 | X81: 26158498 | Y81: 792873.35 | Z81: 1791897.3 | AA81: 1616598.2 | AB81: 583965.15 | AC81: 1029587.4 | AD81: 688452 | AE81: 3560661 | AF81: 692941.1 | AG81: 908035.74 | AH81: 794428.89 | AI81: 1830085.4 | AJ81: 1137341.6 | AK81: 642400.65 | AL81: 52658940 | AM81: 1163982 | AN81: 742893.4 | AO81: 2312102 | AP81: 3067389 | AQ81: 934955 | AR81: 364150.5 | AS81: 6878081 | AT81: 1117281.4 | AU81: 4021885.1 | AV81: 2053801.5 | AW81: 745679.65 | AX81: 789635.75 | AY81: 1042564.5 | AZ81: 1050203.2 | BA81: 1383658 | BB81: 6944841.6 | BC81: 860886 | BD81: 34458255 | BE81: 2975847.5 | BF81: 1069841.2 | BG81: 879115.7 | BH81: 6260479.8 | BI81: 829108.2 | BJ81: 433556.3 | BK81: 748254.2 | BL81: 963603.3 | BM81: 18014946 | BN81: 2650223.8 | BO81: 1364411.1 | BP81: 1921756.5 | BQ81: 980309 | BR81: 929603 | BS81: 74804998 | BT81: 2371908 | BU81: 1468034.8 | BV81: 5946753 | BW81: 452001 | BX81: 853033.5 | BY81: 4089221.1 | BZ81: 628330.66 | CA81: 942232 | CB81: 1057022 | CC81: 1050927 | CD81: 2597887 | CE81: 1420747.5 | CF81: 2884590.4 | CG81: 631389 | CH81: 824008 | CI81: 663470 | CJ81: 845444 | CK81: 3748341.5 | CL81: 1029426.6 | CM81: 806195.75
A82: 5 | B82: 4301020106.306 | C82: รายได้ค่ารักษาประกันสังคม IP - เครือข่าย | D82: 16043640 | E82: 266094.7 | F82: 165456.5 | G82: 230784.75 | H82: 82241 | I82: 263168.5 | J82: 340236.75 | K82: 668794.16 | L82: 103160.37 | M82: 280853.75 | N82: 1914171.5 | O82: 90352.92 | P82: 7719305.3 | Q82: 329877.02 | R82: 962667.75 | S82: 1163112.8 | T82: 195109.75 | U82: 612449.8 | V82: 248263 | W82: 179129.5 | X82: 22327883 | Y82: 243164.5 | Z82: 499514.15 | AA82: 292702.3 | AB82: 233187.5 | AC82: 239881.5 | AD82: 125674 | AE82: 2687245 | AF82: 363194 | AG82: 351335.94 | AH82: 291314.2 | AI82: 687400.75 | AJ82: 456667.45 | AK82: 165625 | AL82: 43539738 | AM82: 330248 | AN82: 278013 | AO82: 1193097 | AP82: 2200933 | AQ82: 259587 | AR82: 129359 | AS82: 5259880.5 | AT82: 296366.25 | AU82: 596905.44 | AV82: 750048.54 | AW82: 213476 | AX82: 328295.5 | AY82: 418118.01 | AZ82: 309863.25 | BA82: 213216 | BB82: 5866930.5 | BC82: 402104 | BD82: 23004521 | BE82: 3097365.7 | BF82: 504720.25 | BG82: 268326.75 | BH82: 8319176.8 | BI82: 570965.5 | BJ82: 85303 | BK82: 186895.69 | BL82: 207092.5 | BM82: 14240410 | BN82: 782150.85 | BO82: 378189.65 | BP82: 1338279.5 | BQ82: 376276 | BR82: 224525 | BS82: 73192314 | BT82: 988898 | BU82: 447605.77 | BV82: 5154244 | BW82: 7745 | BX82: 370941 | BY82: 2449479.8 | BZ82: 212484.65 | CA82: 109041 | CB82: 183974 | CC82: 596563 | CD82: 2376233.5 | CE82: 585401.2 | CF82: 1436295 | CG82: 216352 | CH82: 380640.25 | CI82: 279651.25 | CJ82: 129341 | CK82: 3008478.8 | CL82: 150201.18 | CM82: 129394
A83: 5 | B83: 4301020106.307 | C83: รายได้ค่ารักษาประกันสังคม OP - นอกเครือข่าย | D83: 288070.75 | E83: 0 | F83: 0 | G83: 0 | H83: 0 | I83: 0 | J83: 0 | K83: 8216 | L83: 0 | M83: 0 | N83: 0 | O83: 25912.5 | P83: 0 | Q83: 0 | R83: 0 | S83: 9722 | T83: 0 | U83: 0 | V83: 11250 | W83: 0 | X83: 7364.45 | Y83: 0 | Z83: 0 | AA83: 0 | AB83: 0 | AC83: 0 | AD83: 0 | AE83: 0 | AF83: 0 | AG83: 0 | AH83: 0 | AI83: 8916.5 | AJ83: 0 | AK83: 0 | AL83: 4684296 | AM83: 0 | AN83: 17098.5 | AO83: 0 | AP83: 50072 | AQ83: 77815 | AR83: 14587.5 | AS83: 0 | AT83: 13207.75 | AU83: 89235 | AV83: 0 | AW83: 0 | AX83: 0 | AY83: 27362 | AZ83: 0 | BA83: 0 | BB83: 235064.75 | BC83: 40517.8 | BD83: 318153.75 | BE83: 0 | BF83: 0 | BG83: 53846.9 | BH83: 54376.5 | BI83: 0 | BJ83: 15802.3 | BK83: 0 | BL83: 0 | BM83: 497.5 | BN83: 0 | BO83: 0 | BP83: 0 | BQ83: 0 | BR83: 0 | BS83: 2995612.5 | BT83: 0 | BU83: 8935.56 | BV83: 0 | BW83: 0 | BX83: 0 | BY83: 0 | BZ83: 0 | CA83: 0 | CB83: 1050 | CC83: 0 | CD83: 0 | CE83: 0 | CF83: 0 | CG83: 0 | CH83: 7034 | CI83: 0 | CJ83: 0 | CK83: 0 | CL83: 0 | CM83: 47699.5
A84: 5 | B84: 4301020106.308 | C84: รายได้ค่ารักษาประกันสังคม IP - นอกเครือข่าย | D84: 4150136.8 | E84: 22771.09 | F84: 0 | G84: 0 | H84: 0 | I84: 17875.5 | J84: 0 | K84: 0 | L84: 0 | M84: 0 | N84: 0 | O84: 42047 | P84: 533760 | Q84: 0 | R84: 0 | S84: 150579.75 | T84: 0 | U84: 0 | V84: 0 | W84: 0 | X84: 629929.57 | Y84: 0 | Z84: 0 | AA84: 11985.25 | AB84: 0 | AC84: 30375.5 | AD84: 6427 | AE84: 424711 | AF84: 3457 | AG84: 0 | AH84: 0 | AI84: 9325 | AJ84: 31608 | AK84: 0 | AL84: 15071022 | AM84: 4639 | AN84: 67461.5 | AO84: 81816 | AP84: 48810 | AQ84: 56742 | AR84: 25272 | AS84: 498934.38 | AT84: 35759.12 | AU84: 150738.54 | AV84: 0 | AW84: 91829 | AX84: 0 | AY84: 45594 | AZ84: 0 | BA84: 0 | BB84: 126049.75 | BC84: 76194.29 | BD84: 2487835.6 | BE84: 224322.1 | BF84: 0 | BG84: 0 | BH84: 1144173.5 | BI84: 0 | BJ84: 0 | BK84: 0 | BL84: 0 | BM84: 479703.75 | BN84: 0 | BO84: 599 | BP84: 27658 | BQ84: 34911 | BR84: 0 | BS84: 24979720 | BT84: 130448 | BU84: 4253.68 | BV84: 525056 | BW84: 0 | BX84: 0 | BY84: 221995.37 | BZ84: 13981.15 | CA84: 0 | CB84: 107953 | CC84: 148129 | CD84: 121719.75 | CE84: 44504.8 | CF84: 83204 | CG84: 4860 | CH84: 0 | CI84: 0 | CJ84: 0 | CK84: 359636.5 | CL84: 0 | CM84: 19975
A85: 5 | B85: 4301020106.309 | C85: รายได้ค่ารักษาประกันสังคม OP - นอกเครือข่าย ต่างสังกัด สป.สธ. | D85: 0 | E85: 0 | F85: 0 | G85: 0 | H85: 0 | I85: 0 | J85: 0 | K85: 0 | L85: 0 | M85: 0 | N85: 0 | O85: 0 | P85: 0 | Q85: 7169.2 | R85: 0 | S85: 0 | T85: 0 | U85: 0 | V85: 0 | W85: 0 | X85: 2579.75 | Y85: 0 | Z85: 0 | AA85: 0 | AB85: 0 | AC85: 0 | AD85: 0 | AE85: 0 | AF85: 0 | AG85: 0 | AH85: 0 | AI85: 1730 | AJ85: 0 | AK85: 0 | AL85: 257532.25 | AM85: 0 | AN85: 0 | AO85: 0 | AP85: 0 | AQ85: 50 | AR85: 0 | AS85: 0 | AT85: 0 | AU85: 0 | AV85: 0 | AW85: 0 | AX85: 0 | AY85: 0 | AZ85: 0 | BA85: 0 | BB85: 124981.25 | BC85: 0 | BD85: 0 | BE85: 0 | BF85: 0 | BG85: 0 | BH85: 0 | BI85: 0 | BJ85: 0 | BK85: 0 | BL85: 0 | BM85: 0 | BN85: 0 | BO85: 0 | BP85: 0 | BQ85: 0 | BR85: 0 | BS85: 298946.11 | BT85: 0 | BU85: 3966 | BV85: 0 | BW85: 0 | BX85: 0 | BY85: 0 | BZ85: 0 | CA85: 0 | CB85: 0 | CC85: 0 | CD85: 0 | CE85: 0 | CF85: 0 | CG85: 0 | CH85: 0 | CI85: 0 | CJ85: 0 | CK85: 0 | CL85: 0 | CM85: 0
A86: 5 | B86: 4301020106.310 | C86: รายได้ค่ารักษาประกันสังคม IP - นอกเครือข่าย ต่างสังกัด สป.สธ. | D86: 0 | E86: 0 | F86: 0 | G86: 0 | H86: 0 | I86: 0 | J86: 0 | K86: 0 | L86: 0 | M86: 0 | N86: 0 | O86: 0 | P86: 0 | Q86: 0 | R86: 0 | S86: 0 | T86: 0 | U86: 0 | V86: 0 | W86: 0 | X86: 503874.19 | Y86: 29002 | Z86: 0 | AA86: 0 | AB86: 0 | AC86: 0 | AD86: 0 | AE86: 0 | AF86: 21406.8 | AG86: 0 | AH86: 0 | AI86: 12951.3 | AJ86: 0 | AK86: 0 | AL86: 6320503.5 | AM86: 0 | AN86: 0 | AO86: 0 | AP86: 0 | AQ86: 0 | AR86: 0 | AS86: 0 | AT86: 0 | AU86: 0 | AV86: 21439.24 | AW86: 0 | AX86: 0 | AY86: 0 | AZ86: 0 | BA86: 0 | BB86: 327185.5 | BC86: 0 | BD86: 0 | BE86: 0 | BF86: 0 | BG86: 0 | BH86: 0 | BI86: 0 | BJ86: 0 | BK86: 0 | BL86: 0 | BM86: 0 | BN86: 0 | BO86: 0 | BP86: 0 | BQ86: 0 | BR86: 0 | BS86: 5464458.5 | BT86: 0 | BU86: 0 | BV86: 448924 | BW86: 0 | BX86: 0 | BY86: 0 | BZ86: 13493.1 | CA86: 0 | CB86: 0 | CC86: 0 | CD86: 12836 | CE86: 0 | CF86: 0 | CG86: 0 | CH86: 0 | CI86: 0 | CJ86: 0 | CK86: 0 | CL86: 0 | CM86: 0
A87: 5 | B87: 4301020106.311 | C87: รายได้ค่ารักษาประกันสังคม-กองทุนทดแทน | D87: 1098036.8 | E87: 56291 | F87: 155934.5 | G87: 164634.2 | H87: 66990.5 | I87: 202727.68 | J87: 114843.51 | K87: 249498.15 | L87: 117986.9 | M87: 141627.25 | N87: 211113 | O87: 67367.2 | P87: 1369765 | Q87: 73494.9 | R87: 268328 | S87: 260293.5 | T87: 126437 | U87: 208658.3 | V87: 89285 | W87: 56274 | X87: 1004491.7 | Y87: 144506.2 | Z87: 267036.5 | AA87: 75484 | AB87: 55570.5 | AC87: 120881.8 | AD87: 71771 | AE87: 383333 | AF87: 130752.1 | AG87: 207818.34 | AH87: 93445.55 | AI87: 251304.4 | AJ87: 124553 | AK87: 94429.25 | AL87: 4266312.6 | AM87: 103209 | AN87: 61508.5 | AO87: 388319.31 | AP87: 275489 | AQ87: 322005 | AR87: 49235.5 | AS87: 305004 | AT87: 145537.5 | AU87: 109426 | AV87: 195274.8 | AW87: 138343 | AX87: 164893.5 | AY87: 224014.75 | AZ87: 44028 | BA87: 204033 | BB87: 670374.39 | BC87: 122663 | BD87: 1568233.6 | BE87: 173375.4 | BF87: 377810.9 | BG87: 64496 | BH87: 588466.75 | BI87: 139361.2 | BJ87: 48124 | BK87: 152590.9 | BL87: 91826 | BM87: 1413517.8 | BN87: 414422.07 | BO87: 99724.25 | BP87: 229034.3 | BQ87: 182305.8 | BR87: 133007 | BS87: 7296747.6 | BT87: 258518.2 | BU87: 28951 | BV87: 1348044.8 | BW87: 22925 | BX87: 121087 | BY87: 448384.62 | BZ87: 98878.4 | CA87: 86928 | CB87: 150086 | CC87: 62317.03 | CD87: 652263.75 | CE87: 130183.69 | CF87: 330596.22 | CG87: 57849 | CH87: 141975.95 | CI87: 135566 | CJ87: 71906 | CK87: 363192.8 | CL87: 39741.6 | CM87: 99472.4
A88: 5 | B88: 4301020106.312 | C88: รายได้ค่ารักษาประกันสังคม 72 ชั่วโมงแรก | D88: 811551 | E88: 0 | F88: 6649 | G88: 45067 | H88: 27925.5 | I88: 99507.5 | J88: 230836.5 | K88: 355551.51 | L88: 235969.03 | M88: 27565.5 | N88: 316724 | O88: 0 | P88: 1037212 | Q88: 111644.32 | R88: 298175 | S88: 224462.75 | T88: 68568.5 | U88: 137091.5 | V88: 52217.5 | W88: 30293.5 | X88: 2440363.8 | Y88: 58761 | Z88: 238091.5 | AA88: 20387.5 | AB88: 51109.5 | AC88: 0 | AD88: 5610 | AE88: 63954 | AF88: 97384.48 | AG88: 24163 | AH88: 117116.33 | AI88: 60050.2 | AJ88: 31755 | AK88: 42140.8 | AL88: 7415307.7 | AM88: 130073 | AN88: 0 | AO88: 34716 | AP88: 330136 | AQ88: 0 | AR88: 0 | AS88: 2027206.3 | AT88: 134438 | AU88: 399018 | AV88: 176793.48 | AW88: 0 | AX88: 20338.75 | AY88: 0 | AZ88: 71791 | BA88: 30703 | BB88: 1366436.2 | BC88: 0 | BD88: 3691965.1 | BE88: 276651.3 | BF88: 56123.5 | BG88: 94136.5 | BH88: 1457574.5 | BI88: 155783.5 | BJ88: 45671.48 | BK88: 112346.75 | BL88: 108976.5 | BM88: 2102623 | BN88: 42118.5 | BO88: 187907.25 | BP88: 214361 | BQ88: 176733.09 | BR88: 26187 | BS88: 6450232 | BT88: 40176 | BU88: 92027.41 | BV88: 3128876 | BW88: 0 | BX88: 122325.5 | BY88: 453586.36 | BZ88: 543 | CA88: 31226 | CB88: 0 | CC88: 70094 | CD88: 480235 | CE88: 276634.25 | CF88: 343034 | CG88: 3763 | CH88: 52655.25 | CI88: 0 | CJ88: 0 | CK88: 932173.5 | CL88: 34182 | CM88: 14056.5
A89: 5 | B89: 4301020106.313 | C89: รายได้ค่ารักษาประกันสังคม-ค่าใช้จ่ายสูง/อุบัติเหตุ/ฉุกเฉิน OP | D89: 0 | E89: 702194.5 | F89: 0 | G89: 0 | H89: 0 | I89: 1119485 | J89: 7896.25 | K89: 3042219.5 | L89: 55246.8 | M89: 19681 | N89: 2437670 | O89: 0 | P89: 923831.25 | Q89: 22715.7 | R89: 1567595 | S89: 0 | T89: 144628.6 | U89: 17527.5 | V89: 9719.5 | W89: 0 | X89: 2127636.8 | Y89: 0 | Z89: 0 | AA89: 15042 | AB89: 5860 | AC89: 21493 | AD89: 0 | AE89: 0 | AF89: 0 | AG89: 0 | AH89: 0 | AI89: 1575100 | AJ89: 0 | AK89: 21444.5 | AL89: 13568505 | AM89: 86885 | AN89: 0 | AO89: 0 | AP89: 41503 | AQ89: 0 | AR89: 0 | AS89: 5042775 | AT89: 0 | AU89: 0 | AV89: 33910.05 | AW89: 0 | AX89: 0 | AY89: 0 | AZ89: 0 | BA89: 15476 | BB89: 3729360 | BC89: 0 | BD89: 6000 | BE89: 43756.5 | BF89: 0 | BG89: 823189 | BH89: 3455473 | BI89: 15727 | BJ89: 0 | BK89: 0 | BL89: 47677.25 | BM89: 1847033.8 | BN89: 0 | BO89: 829920.25 | BP89: 71624.5 | BQ89: 0 | BR89: 0 | BS89: 5114725.2 | BT89: 0 | BU89: 0 | BV89: 1914284 | BW89: 1530 | BX89: 88986 | BY89: 42258 | BZ89: 40181.1 | CA89: 13737 | CB89: 0 | CC89: 643468.8 | CD89: 1530587.5 | CE89: 47814.4 | CF89: 2748878.5 | CG89: 0 | CH89: 0 | CI89: 21631.5 | CJ89: 25322 | CK89: 765435 | CL89: 0 | CM89: 0
A90: 5 | B90: 4301020106.314 | C90: รายได้ค่ารักษาประกันสังคม-ค่าใช้จ่ายสูง IP | D90: 0 | E90: 0 | F90: 0 | G90: 0 | H90: 0 | I90: 0 | J90: 0 | K90: 0 | L90: 0 | M90: 0 | N90: 98932.5 | O90: 0 | P90: 74499 | Q90: 0 | R90: 0 | S90: 0 | T90: 0 | U90: 9131.5 | V90: 0 | W90: 0 | X90: 4702948.3 | Y90: 0 | Z90: 0 | AA90: 7733 | AB90: 0 | AC90: 0 | AD90: 0 | AE90: 0 | AF90: 0 | AG90: 0 | AH90: 0 | AI90: 0 | AJ90: 0 | AK90: 4756 | AL90: 15016854 | AM90: 0 | AN90: 0 | AO90: 0 | AP90: 22000 | AQ90: 0 | AR90: 0 | AS90: 1380087 | AT90: 0 | AU90: 0 | AV90: 0 | AW90: 0 | AX90: 33527.8 | AY90: 0 | AZ90: 0 | BA90: 0 | BB90: 9957.5 | BC90: 0 | BD90: 15814103 | BE90: 0 | BF90: 0 | BG90: 0 | BH90: 848356.25 | BI90: 0 | BJ90: 0 | BK90: 0 | BL90: 0 | BM90: 2895663 | BN90: 0 | BO90: 0 | BP90: 0 | BQ90: 0 | BR90: 0 | BS90: 20092547 | BT90: 0 | BU90: 0 | BV90: 430125 | BW90: 0 | BX90: 0 | BY90: 704337.2 | BZ90: 0 | CA90: 0 | CB90: 0 | CC90: 0 | CD90: 16975 | CE90: 0 | CF90: 17000 | CG90: 0 | CH90: 0 | CI90: 41528.25 | CJ90: 53642 | CK90: 10000 | CL90: 0 | CM90: 0
A91: 5 | B91: 4301020106.315 | C91: ส่วนต่างค่ารักษาที่สูงกว่าเหมาจ่ายรายหัว - กองทุนประกันสังคม - OP | D91: -5183072.4 | E91: -510646.22 | F91: -670426.97 | G91: -771168.57 | H91: -249696.89 | I91: -840030.23 | J91: -734283.97 | K91: -1663146.1 | L91: -480645.73 | M91: -592459.01 | N91: -1659237.9 | O91: -79593.34 | P91: -5867540.8 | Q91: -913257.34 | R91: -613223.99 | S91: -919243.42 | T91: -915277.05 | U91: -812985.29 | V91: -559308.37 | W91: -624625.22 | X91: -18067459 | Y91: -181523.64 | Z91: -767370.73 | AA91: -937540.11 | AB91: -168087.15 | AC91: -276420.9 | AD91: -342738.7 | AE91: -1414454 | AF91: -148295.85 | AG91: -279947.16 | AH91: -277562.81 | AI91: -792342.32 | AJ91: -546134.88 | AK91: -235799.73 | AL91: -36330754 | AM91: -572071.14 | AN91: -353466.46 | AO91: -1563862.9 | AP91: -1252337.3 | AQ91: -770187.39 | AR91: -183906.1 | AS91: -2973130.2 | AT91: -670123.51 | AU91: -3455968.9 | AV91: -1163072.8 | AW91: -456086.35 | AX91: -328832.77 | AY91: -436101.23 | AZ91: -878433.87 | BA91: -852860.93 | BB91: -6193921.7 | BC91: -443525.67 | BD91: -25717723 | BE91: -2647593.2 | BF91: -776353.98 | BG91: -568179.24 | BH91: -4746846.4 | BI91: -445510.98 | BJ91: -170502.24 | BK91: -547732.62 | BL91: -700854.69 | BM91: -10686206 | BN91: -1731049.8 | BO91: -882660.52 | BP91: -1425071 | BQ91: -615884 | BR91: -602441 | BS91: -43706198 | BT91: -1066573 | BU91: -685553.65 | BV91: -1478307 | BW91: -230583 | BX91: -298367 | BY91: -2141415.1 | BZ91: -140557.88 | CA91: -455473 | CB91: -545717 | CC91: -955461.99 | CD91: -1286738 | CE91: -564544.52 | CF91: -1177810.4 | CG91: -139977 | CH91: -276173.5 | CI91: -342041 | CJ91: -244268 | CK91: -3189621.3 | CL91: -26478.45 | CM91: -263182.75
... A299: 32 | B299: 5104030217.101 | C299: เงินชดเชยค่างานสิ่งก่อสร้าง | D299: 0 | E299: 0 | F299: 0 | G299: 0 | H299: 0 | I299: 0 | J299: 0 | K299: 0 | L299: 0 | M299: 0 | N299: 0 | O299: 0 | P299: 0 | Q299: 0 | R299: 0 | S299: 0 | T299: 0 | U299: 0 | V299: 0 | W299: 0 | X299: 0 | Y299: 0 | Z299: 0 | AA299: 0 | AB299: 0 | AC299: 0 | AD299: 0 | AE299: 0 | AF299: 0 | AG299: 0 | AH299: 0 | AI299: 0 | AJ299: 0 | AK299: 0 | AL299: 0 | AM299: 0 | AN299: 0 | AO299: 0 | AP299: 0 | AQ299: 0 | AR299: 0 | AS299: 0 | AT299: 0 | AU299: 0 | AV299: 0 | AW299: 0 | AX299: 0 | AY299: 0 | AZ299: 0 | BA299: 0 | BB299: 0 | BC299: 0 | BD299: 0 | BE299: 0 | BF299: 0 | BG299: 0 | BH299: 0 | BI299: 0 | BJ299: 0 | BK299: 0 | BL299: 0 | BM299: 0 | BN299: 0 | BO299: 0 | BP299: 0 | BQ299: 0 | BR299: 0 | BS299: 0 | BT299: 0 | BU299: 0 | BV299: 0 | BW299: 0 | BX299: 0 | BY299: 0 | BZ299: 0 | CA299: 0 | CB299: 0 | CC299: 0 | CD299: 0 | CE299: 0 | CF299: 0 | CG299: 0 | CH299: 0 | CI299: 0 | CJ299: 0 | CK299: 0 | CL299: 0 | CM299: 0
B300: 5104030218.101 | C300: ค่าใช้จ่ายผลักส่งเป็นรายได้แผ่นดิน | D300: 0 | E300: 0 | F300: 0 | G300: 0 | H300: 0 | I300: 0 | J300: 0 | K300: 0 | L300: 0 | M300: 0 | N300: 0 | O300: 0 | P300: 0 | Q300: 0 | R300: 0 | S300: 0 | T300: 0 | U300: 0 | V300: 0 | W300: 0 | X300: 76519.54 | Y300: 0 | Z300: 0 | AA300: 0 | AB300: 0 | AC300: 0 | AD300: 0 | AE300: 0 | AF300: 0 | AG300: 0 | AH300: 0 | AI300: 0 | AJ300: 0 | AK300: 0 | AL300: 42500 | AM300: 0 | AN300: 0 | AO300: 0 | AP300: 0 | AQ300: 0 | AR300: 0 | AS300: 0 | AT300: 0 | AU300: 0 | AV300: 0 | AW300: 0 | AX300: 0 | AY300: 0 | AZ300: 0 | BA300: 0 | BB300: 0 | BC300: 0 | BD300: 0 | BE300: 0 | BF300: 0 | BG300: 0 | BH300: 0 | BI300: 0 | BJ300: 0 | BK300: 0 | BL300: 0 | BM300: 0 | BN300: 0 | BO300: 0 | BP300: 0 | BQ300: 0 | BR300: 0 | BS300: 0 | BT300: 0 | BU300: 0 | BV300: 0 | BW300: 0 | BX300: 0 | BY300: 0 | BZ300: 0 | CA300: 0 | CB300: 0 | CC300: 0 | CD300: 0 | CE300: 0 | CF300: 0 | CG300: 0 | CH300: 0 | CI300: 0 | CJ300: 0 | CK300: 0 | CL300: 0 | CM300: 0
A301: 32 | B301: 5104030219.101 | C301: ค่าประชาสัมพันธ์ | D301: 0 | E301: 0 | F301: 0 | G301: 0 | H301: 0 | I301: 0 | J301: 0 | K301: 0 | L301: 0 | M301: 0 | N301: 0 | O301: 0 | P301: 0 | Q301: 0 | R301: 0 | S301: 0 | T301: 0 | U301: 0 | V301: 0 | W301: 0 | X301: 0 | Y301: 0 | Z301: 0 | AA301: 0 | AB301: 0 | AC301: 0 | AD301: 0 | AE301: 0 | AF301: 0 | AG301: 0 | AH301: 0 | AI301: 0 | AJ301: 0 | AK301: 0 | AL301: 0 | AM301: 0 | AN301: 0 | AO301: 0 | AP301: 0 | AQ301: 0 | AR301: 0 | AS301: 0 | AT301: 0 | AU301: 0 | AV301: 0 | AW301: 0 | AX301: 0 | AY301: 0 | AZ301: 0 | BA301: 0 | BB301: 0 | BC301: 0 | BD301: 0 | BE301: 0 | BF301: 10429 | BG301: 0 | BH301: 0 | BI301: 0 | BJ301: 0 | BK301: 0 | BL301: 0 | BM301: 0 | BN301: 0 | BO301: 0 | BP301: 0 | BQ301: 0 | BR301: 0 | BS301: 0 | BT301: 0 | BU301: 0 | BV301: 0 | BW301: 0 | BX301: 0 | BY301: 0 | BZ301: 0 | CA301: 0 | CB301: 0 | CC301: 0 | CD301: 0 | CE301: 0 | CF301: 0 | CG301: 0 | CH301: 0 | CI301: 0 | CJ301: 0 | CK301: 0 | CL301: 0 | CM301: 0
A302: 32 | B302: 5104030220.101 | C302: ค่าชดใช้ค่าเสียหาย | D302: 0 | E302: 0 | F302: 0 | G302: 0 | H302: 0 | I302: 0 | J302: 0 | K302: 0 | L302: 0 | M302: 0 | N302: 0 | O302: 0 | P302: 0 | Q302: 0 | R302: 0 | S302: 0 | T302: 0 | U302: 0 | V302: 0 | W302: 0 | X302: 30000 | Y302: 0 | Z302: 0 | AA302: 0 | AB302: 0 | AC302: 0 | AD302: 0 | AE302: 0 | AF302: 0 | AG302: 0 | AH302: 0 | AI302: 0 | AJ302: 0 | AK302: 0 | AL302: 0 | AM302: 0 | AN302: 0 | AO302: 0 | AP302: 0 | AQ302: 0 | AR302: 0 | AS302: 0 | AT302: 0 | AU302: 0 | AV302: 0 | AW302: 0 | AX302: 0 | AY302: 0 | AZ302: 0 | BA302: 0 | BB302: 0 | BC302: 0 | BD302: 0 | BE302: 0 | BF302: 0 | BG302: 0 | BH302: 0 | BI302: 0 | BJ302: 0 | BK302: 0 | BL302: 0 | BM302: 0 | BN302: 0 | BO302: 0 | BP302: 0 | BQ302: 0 | BR302: 0 | BS302: 0 | BT302: 0 | BU302: 0 | BV302: 0 | BW302: 0 | BX302: 0 | BY302: 0 | BZ302: 0 | CA302: 0 | CB302: 0 | CC302: 0 | CD302: 0 | CE302: 0 | CF302: 0 | CG302: 0 | CH302: 0 | CI302: 0 | CJ302: 0 | CK302: 0 | CL302: 0 | CM302: 0
A303: 33 | B303: 5104030299.102 | C303: ค่าใช้จ่ายตามโครงการ (UC) (PP) | D303: 0 | E303: 0 | F303: 299670 | G303: 0 | H303: 6600 | I303: 10000 | J303: 0 | K303: 0 | L303: 218920 | M303: 0 | N303: 0 | O303: 128730 | P303: 742210 | Q303: 829685 | R303: 1752487.1 | S303: 230270 | T303: 0 | U303: 116600 | V303: 58960 | W303: 0 | X303: 0 | Y303: 6000 | Z303: 0 | AA303: 0 | AB303: 0 | AC303: 0 | AD303: 159600 | AE303: 0 | AF303: 0 | AG303: 0 | AH303: 0 | AI303: 0 | AJ303: 440780 | AK303: 9000 | AL303: 0 | AM303: 0 | AN303: 0 | AO303: 138200 | AP303: 3050350 | AQ303: 2922500 | AR303: 80208 | AS303: 0 | AT303: 0 | AU303: 418014 | AV303: 0 | AW303: 1086645 | AX303: 0 | AY303: 0 | AZ303: 0 | BA303: 505150 | BB303: 0 | BC303: 1110216.2 | BD303: 899410 | BE303: 195215.94 | BF303: 315005 | BG303: 618419 | BH303: 0 | BI303: 0 | BJ303: 0 | BK303: 377861 | BL303: 0 | BM303: 195600 | BN303: 1102230 | BO303: 0 | BP303: 409400 | BQ303: 239095 | BR303: 173175 | BS303: 958890 | BT303: 0 | BU303: 0 | BV303: 0 | BW303: 0 | BX303: 39523 | BY303: 453495 | BZ303: 1041465 | CA303: 11880 | CB303: 0 | CC303: 0 | CD303: 1044598 | CE303: 3600 | CF303: 0 | CG303: 17160 | CH303: 275010 | CI303: 116830 | CJ303: 0 | CK303: 286465 | CL303: 77800 | CM303: 0
A304: 33 | B304: 5104030299.103 | C304: ค่าใช้จ่ายตามโครงการ (เงินงบประมาณ) | D304: 0 | E304: 0 | F304: 0 | G304: 0 | H304: 0 | I304: 0 | J304: 0 | K304: 0 | L304: 249996 | M304: 155040 | N304: 28960 | O304: 0 | P304: 0 | Q304: 109424 | R304: 56840 | S304: 230632.48 | T304: 0 | U304: 44220 | V304: 45208.25 | W304: 3576 | X304: 80750 | Y304: 0 | Z304: 0 | AA304: 0 | AB304: 0 | AC304: 0 | AD304: 0 | AE304: 0 | AF304: 0 | AG304: 0 | AH304: 36716.4 | AI304: 64450 | AJ304: 0 | AK304: 0 | AL304: 0 | AM304: 0 | AN304: 0 | AO304: 0 | AP304: 0 | AQ304: 6300 | AR304: 0 | AS304: 1000 | AT304: 0 | AU304: 0 | AV304: 813970 | AW304: 1500 | AX304: 0 | AY304: 39400 | AZ304: 0 | BA304: 0 | BB304: 87220 | BC304: 0 | BD304: 0 | BE304: 297000 | BF304: 95235 | BG304: 175281.22 | BH304: 175460 | BI304: 0 | BJ304: 0 | BK304: 0 | BL304: 6837.38 | BM304: 0 | BN304: 0 | BO304: 14300 | BP304: 0 | BQ304: 0 | BR304: 0 | BS304: 0 | BT304: 40000 | BU304: 8390 | BV304: 0 | BW304: 0 | BX304: 0 | BY304: 30000 | BZ304: 20000 | CA304: 0 | CB304: 0 | CC304: 156299.9 | CD304: 289600 | CE304: 0 | CF304: 5000 | CG304: 0 | CH304: 0 | CI304: 0 | CJ304: 5000 | CK304: 148520 | CL304: 0 | CM304: 0
A305: 33 | B305: 5104030299.104 | C305: ค่าใช้สอยอื่นๆ | D305: 4000 | E305: 0 | F305: 0 | G305: 0 | H305: 0 | I305: 139016.6 | J305: 14500 | K305: 7520 | L305: 0 | M305: 0 | N305: 0 | O305: 1680 | P305: 70490 | Q305: 3500 | R305: 0 | S305: 0 | T305: 0 | U305: 26500 | V305: 0 | W305: 0 | X305: 0 | Y305: 0 | Z305: 0 | AA305: 0 | AB305: 0 | AC305: 0 | AD305: 0 | AE305: 20500 | AF305: 14096 | AG305: 0 | AH305: 0 | AI305: 0 | AJ305: 266064 | AK305: 39401 | AL305: 0 | AM305: 38630 | AN305: 0 | AO305: 30150 | AP305: 0 | AQ305: 27393.75 | AR305: 74200 | AS305: 0 | AT305: 27741.32 | AU305: 0 | AV305: 46918.74 | AW305: 0 | AX305: 0 | AY305: 264325 | AZ305: 82331 | BA305: 111340 | BB305: 85700 | BC305: 0 | BD305: 171450 | BE305: 130050 | BF305: 240000 | BG305: 0 | BH305: 328909.72 | BI305: 0 | BJ305: 0 | BK305: 0 | BL305: 35255 | BM305: 48500 | BN305: 270 | BO305: 0 | BP305: 10500 | BQ305: 0 | BR305: 587826.05 | BS305: 0 | BT305: 0.4 | BU305: 0 | BV305: 0 | BW305: 0 | BX305: 0 | BY305: 5000 | BZ305: 0 | CA305: 0 | CB305: 0 | CC305: 0 | CD305: 322042.48 | CE305: 0 | CF305: 0 | CG305: 0 | CH305: 0 | CI305: 0 | CJ305: 0 | CK305: 0 | CL305: 3915 | CM305: 0
A306: 33 | B306: 5104030299.105 | C306: ค่าใช้จ่ายตามโครงการ (เงินนอกงบประมาณ) | D306: 2672885 | E306: 500400 | F306: 569585 | G306: 635885 | H306: 91255 | I306: 1004168.7 | J306: 1840347 | K306: 454538 | L306: 331680 | M306: 1045652 | N306: 1785535.2 | O306: 0 | P306: 1388056.4 | Q306: 575790.15 | R306: 2925943 | S306: 1364557.6 | T306: 1618801.4 | U306: 622869 | V306: 208122 | W306: 537720 | X306: 2483076 | Y306: 709234.1 | Z306: 583470 | AA306: 84678 | AB306: 583676 | AC306: 877887.5 | AD306: 541887 | AE306: 932795 | AF306: 221531 | AG306: 345302 | AH306: 332171 | AI306: 345454.8 | AJ306: 186740 | AK306: 251900 | AL306: 2580208.7 | AM306: 1387563 | AN306: 1179550 | AO306: 614637.8 | AP306: 684224 | AQ306: 1001576 | AR306: 471818 | AS306: 489670 | AT306: 507972 | AU306: 649635 | AV306: 520700 | AW306: 0 | AX306: 476600 | AY306: 871856.5 | AZ306: 532554 | BA306: 867000 | BB306: 1545799.4 | BC306: 191005 | BD306: 2329495 | BE306: 480932 | BF306: 1729615 | BG306: 1608460 | BH306: 3088483.8 | BI306: 704346.06 | BJ306: 166820 | BK306: 1218146 | BL306: 1054455 | BM306: 511450 | BN306: 2682129 | BO306: 1048816 | BP306: 1582895 | BQ306: 1717244.8 | BR306: 253850 | BS306: 6105271.3 | BT306: 1229458 | BU306: 1940534.5 | BV306: 1121540 | BW306: 149308 | BX306: 781743.7 | BY306: 1082363.8 | BZ306: 439923.5 | CA306: 124260 | CB306: 787284.5 | CC306: 1701985 | CD306: 59890 | CE306: 1578390 | CF306: 1851571 | CG306: 192100 | CH306: 37580 | CI306: 1960190.2 | CJ306: 586384.38 | CK306: 707833.8 | CL306: 493113 | CM306: 686210
A307: 33 | B307: 5104030299.202 | C307: ค่ารักษาตามจ่าย UC ในสังกัด สป. สธ. | D307: 0 | E307: 385860.5 | F307: 846478.25 | G307: 166802.6 | H307: 515523.5 | I307: 3939166.6 | J307: 4519815.2 | K307: 1908634.2 | L307: 3820968 | M307: 649765.5 | N307: 4702328.6 | O307: 1164870 | P307: 3996051.8 | Q307: 5062703.8 | R307: 6215083.3 | S307: 1217942.4 | T307: 3256526.8 | U307: 2194798.5 | V307: 3622231.6 | W307: 1432181.2 | X307: 565118.54 | Y307: 1444449 | Z307: 254500 | AA307: 53425.25 | AB307: 96936.5 | AC307: 2582515.5 | AD307: 77880.14 | AE307: 2816298 | AF307: 74182.92 | AG307: 2283500.3 | AH307: 402536 | AI307: 3566881.5 | AJ307: 29871 | AK307: 1017538.5 | AL307: 777622.25 | AM307: 158233.4 | AN307: 18608 | AO307: 329342.75 | AP307: 25065.5 | AQ307: 151797 | AR307: 0 | AS307: 436046.29 | AT307: 279012.58 | AU307: 561321.32 | AV307: 129528.75 | AW307: 48209 | AX307: 269996.85 | AY307: 79653.75 | AZ307: 236046.5 | BA307: 0 | BB307: 395318 | BC307: 146930.25 | BD307: 637505.75 | BE307: 834491.75 | BF307: 194985.75 | BG307: 59135.5 | BH307: 631816 | BI307: 0 | BJ307: 59980 | BK307: 545793.25 | BL307: 25901.5 | BM307: 1137481 | BN307: 278568 | BO307: 309475 | BP307: 562841.75 | BQ307: 383546.5 | BR307: 193859.75 | BS307: 128633.45 | BT307: 1014557.8 | BU307: 203565 | BV307: 4748813.6 | BW307: 809763 | BX307: 1500112.1 | BY307: 6215960.5 | BZ307: 3502743.1 | CA307: 0 | CB307: 3558899.8 | CC307: 2201477.5 | CD307: 1961108.5 | CE307: 2435873.5 | CF307: 12363312 | CG307: 3817907.7 | CH307: 1035308.2 | CI307: 823860 | CJ307: 3918750.6 | CK307: 6991807.4 | CL307: 3646760.3 | CM307: 3350431.6
A308: 33 | B308: 5104030299.203 | C308: ค่ารักษาตามจ่าย UC นอกสังกัด สป. สธ. | D308: 75258 | E308: 239554.75 | F308: 624240.27 | G308: 0 | H308: 210466 | I308: 652530.25 | J308: 596371.28 | K308: 1269492.8 | L308: 463984.75 | M308: 248368.5 | N308: 831204.55 | O308: 105474.25 | P308: 315502.75 | Q308: 316609 | R308: 868963.25 | S308: 0 | T308: 297971 | U308: 254599.25 | V308: 529157.75 | W308: 43590 | X308: 1362303.3 | Y308: 216147 | Z308: 405353.75 | AA308: 78023 | AB308: 0 | AC308: 166137.5 | AD308: 0 | AE308: 2405182.5 | AF308: 22826.75 | AG308: 49642.5 | AH308: 0 | AI308: 466480.25 | AJ308: 128179.5 | AK308: 361364.25 | AL308: 580575.75 | AM308: 3236 | AN308: 0 | AO308: 900 | AP308: 626664.25 | AQ308: 138294.75 | AR308: 78264 | AS308: 334352.35 | AT308: 0 | AU308: 0 | AV308: 461544 | AW308: 124040.75 | AX308: 17615.5 | AY308: 1462 | AZ308: 0 | BA308: 93822.25 | BB308: 1193674.5 | BC308: 15506.75 | BD308: 594212.5 | BE308: 0 | BF308: 208388.5 | BG308: 207411.25 | BH308: 756198.8 | BI308: 0 | BJ308: 165088.5 | BK308: 986681 | BL308: 84882.75 | BM308: 2452656 | BN308: 1165734.5 | BO308: 1287888.8 | BP308: 664717.5 | BQ308: 828980.5 | BR308: 493048 | BS308: 2033996 | BT308: 43735 | BU308: 0 | BV308: 1135957.3 | BW308: 80530.5 | BX308: 25840 | BY308: 19009 | BZ308: 9180 | CA308: 134554 | CB308: 218852.5 | CC308: 19664 | CD308: 401414.75 | CE308: 153084.25 | CF308: 165457.5 | CG308: 3745 | CH308: 64963.75 | CI308: 1440 | CJ308: 123338 | CK308: 140326.51 | CL308: 11442 | CM308: 7830
B309: 5104030299.204 | C309: ค่าจ้าง/ค่าเช่า/ค่าซ่อมบำรุง สิ่งก่อสร้างและครุภัณฑ์ (งบลงทุน UC) | D309: 0 | E309: 0 | F309: 0 | G309: 0 | H309: 0 | I309: 0 | J309: 0 | K309: 0 | L309: 0 | M309: 0 | N309: 0 | O309: 0 | P309: 494000 | Q309: 0 | R309: 0 | S309: 0 | T309: 0 | U309: 0 | V309: 0 | W309: 0 | X309: 0 | Y309: 0 | Z309: 0 | AA309: 0 | AB309: 0 | AC309: 0 | AD309: 0 | AE309: 0 | AF309: 0 | AG309: 0 | AH309: 0 | AI309: 0 | AJ309: 0 | AK309: 0 | AL309: 0 | AM309: 0 | AN309: 0 | AO309: 0 | AP309: 0 | AQ309: 0 | AR309: 0 | AS309: 0 | AT309: 0 | AU309: 0 | AV309: 0 | AW309: 0 | AX309: 0 | AY309: 46000 | AZ309: 0 | BA309: 0 | BB309: 0 | BC309: 0 | BD309: 0 | BE309: 0 | BF309: 0 | BG309: 0 | BH309: 0 | BI309: 0 | BJ309: 0 | BK309: 0 | BL309: 0 | BM309: 0 | BN309: 0 | BO309: 0 | BP309: 0 | BQ309: 0 | BR309: 0 | BS309: 3487697.8 | BT309: 0 | BU309: 0 | BV309: 0 | BW309: 0 | BX309: 848696 | BY309: 0 | BZ309: 0 | CA309: 0 | CB309: 0 | CC309: 0 | CD309: 0 | CE309: 0 | CF309: 0 | CG309: 0 | CH309: 0 | CI309: 0 | CJ309: 0 | CK309: 0 | CL309: 0 | CM309: 0
A310: 33 | B310: 5104030299.501 | C310: ค่ารักษาตามจ่ายคนต่างด้าวและแรงงานต่างด้าว | D310: 22737.5 | E310: 0 | F310: 0 | G310: 39229.2 | H310: 0 | I310: 30744.8 | J310: 0 | K310: 0 | L310: 0 | M310: 0 | N310: 4508 | O310: 0 | P310: 0 | Q310: 52169.75 | R310: 21085.87 | S310: 0 | T310: 23899.41 | U310: 0 | V310: 0 | W310: 32362.28 | X310: 0 | Y310: 0 | Z310: 0 | AA310: 0 | AB310: 0 | AC310: 0 | AD310: 0 | AE310: 0 | AF310: 0 | AG310: 0 | AH310: 0 | AI310: 0 | AJ310: 0 | AK310: 0 | AL310: 0 | AM310: 7081.6 | AN310: 0 | AO310: 29560.6 | AP310: 0 | AQ310: 0 | AR310: 0 | AS310: 0 | AT310: 7022.4 | AU310: 14472.6 | AV310: 0 | AW310: 0 | AX310: 0 | AY310: 37217.6 | AZ310: 9116.4 | BA310: 16714.8 | BB310: 13540.2 | BC310: 2626.2 | BD310: 0 | BE310: 33989.78 | BF310: 143924.03 | BG310: 49828.52 | BH310: 19555.93 | BI310: 0 | BJ310: 0 | BK310: 0 | BL310: 0 | BM310: 18774.95 | BN310: 0 | BO310: 0 | BP310: 0 | BQ310: 0 | BR310: 0 | BS310: 0 | BT310: 16206.3 | BU310: 14306.3 | BV310: 0 | BW310: 0 | BX310: 23029.49 | BY310: 0 | BZ310: 0 | CA310: 0 | CB310: 177 | CC310: 0 | CD310: 0 | CE310: 20052.5 | CF310: 0 | CG310: 0 | CH310: 910 | CI310: 4793 | CJ310: 0 | CK310: 37987.43 | CL310: 0 | CM310: 0
A311: 33 | B311: 5104030299.502 | C311: ค่าใช้จ่ายตามโครงการ (P&P) แรงงานต่างด้าว | D311: 0 | E311: 0 | F311: 0 | G311: 0 | H311: 0 | I311: 0 | J311: 0 | K311: 0 | L311: 0 | M311: 0 | N311: 0 | O311: 0 | P311: 0 | Q311: 0 | R311: 0 | S311: 0 | T311: 0 | U311: 14570.38 | V311: 0 | W311: 0 | X311: 0 | Y311: 0 | Z311: 0 | AA311: 0 | AB311: 0 | AC311: 0 | AD311: 0 | AE311: 0 | AF311: 0 | AG311: 0 | AH311: 0 | AI311: 0 | AJ311: 0 | AK311: 0 | AL311: 0 | AM311: 0 | AN311: 0 | AO311: 0 | AP311: 0 | AQ311: 0 | AR311: 0 | AS311: 0 | AT311: 0 | AU311: 0 | AV311: 0 | AW311: 0 | AX311: 0 | AY311: 0 | AZ311: 0 | BA311: 0 | BB311: 0 | BC311: 0 | BD311: 0 | BE311: 0 | BF311: 0 | BG311: 0 | BH311: 0 | BI311: 0 | BJ311: 0 | BK311: 0 | BL311: 0 | BM311: 0 | BN311: 0 | BO311: 0 | BP311: 0 | BQ311: 0 | BR311: 0 | BS311: 0 | BT311: 0 | BU311: 0 | BV311: 0 | BW311: 0 | BX311: 0 | BY311: 0 | BZ311: 0 | CA311: 0 | CB311: 0 | CC311: 0 | CD311: 0 | CE311: 0 | CF311: 0 | CG311: 0 | CH311: 0 | CI311: 0 | CJ311: 0 | CK311: 0 | CL311: 0 | CM311: 0
A312: 33 | B312: 5104030299.701 | C312: ค่าใช้จ่ายตามโครงการ (P&P) บุคคลที่มีปัญหาสถานะและสิทธิ | D312: 0 | E312: 0 | F312: 0 | G312: 0 | H312: 0 | I312: 0 | J312: 0 | K312: 0 | L312: 0 | M312: 0 | N312: 0 | O312: 0 | P312: 0 | Q312: 0 | R312: 0 | S312: 0 | T312: 0 | U312: 0 | V312: 0 | W312: 0 | X312: 0 | Y312: 0 | Z312: 0 | AA312: 0 | AB312: 0 | AC312: 0 | AD312: 0 | AE312: 0 | AF312: 0 | AG312: 0 | AH312: 0 | AI312: 0 | AJ312: 0 | AK312: 0 | AL312: 0 | AM312: 0 | AN312: 0 | AO312: 0 | AP312: 0 | AQ312: 0 | AR312: 0 | AS312: 0 | AT312: 0 | AU312: 0 | AV312: 0 | AW312: 0 | AX312: 0 | AY312: 0 | AZ312: 0 | BA312: 0 | BB312: 0 | BC312: 0 | BD312: 0 | BE312: 0 | BF312: 0 | BG312: 0 | BH312: 0 | BI312: 0 | BJ312: 0 | BK312: 0 | BL312: 0 | BM312: 0 | BN312: 0 | BO312: 0 | BP312: 0 | BQ312: 0 | BR312: 0 | BS312: 0 | BT312: 0 | BU312: 0 | BV312: 0 | BW312: 0 | BX312: 0 | BY312: 0 | BZ312: 0 | CA312: 0 | CB312: 0 | CC312: 0 | CD312: 0 | CE312: 0 | CF312: 0 | CG312: 0 | CH312: 0 | CI312: 0 | CJ312: 0 | CK312: 0 | CL312: 0 | CM312: 0
A313: 33 | B313: 5104030299.702 | C313: ค่ารักษาตามจ่ายบุคคลที่มีปัญหาสถานะและสิทธิ | D313: 6474 | E313: 0 | F313: 28296.25 | G313: 6378 | H313: 0 | I313: 0 | J313: 0 | K313: 0 | L313: 0 | M313: 0 | N313: 5165 | O313: 0 | P313: 0 | Q313: 0 | R313: 0 | S313: 0 | T313: 3826.5 | U313: 5779.5 | V313: 0 | W313: 9937.5 | X313: 0 | Y313: 0 | Z313: 0 | AA313: 0 | AB313: 0 | AC313: 0 | AD313: 0 | AE313: 0 | AF313: 0 | AG313: 0 | AH313: 0 | AI313: 0 | AJ313: 0 | AK313: 0 | AL313: 0 | AM313: 0 | AN313: 0 | AO313: 0 | AP313: 0 | AQ313: 0 | AR313: 0 | AS313: 0 | AT313: 0 | AU313: 0 | AV313: 0 | AW313: 0 | AX313: 0 | AY313: 0 | AZ313: 0 | BA313: 0 | BB313: 200 | BC313: 0 | BD313: 3440 | BE313: 58400.25 | BF313: 32577 | BG313: 5820 | BH313: 18746.5 | BI313: 270 | BJ313: 0 | BK313: 0 | BL313: 0 | BM313: 0 | BN313: 0 | BO313: 0 | BP313: 0 | BQ313: 0 | BR313: 0 | BS313: 0 | BT313: 0 | BU313: 0 | BV313: 0 | BW313: 0 | BX313: 0 | BY313: 0 | BZ313: 0 | CA313: 0 | CB313: 0 | CC313: 0 | CD313: 0 | CE313: 0 | CF313: 0 | CG313: 0 | CH313: 0 | CI313: 0 | CJ313: 0 | CK313: 0 | CL313: 0 | CM313: 0
A314: 22 | B314: 5104040102.101 | C314: ค่าตอบแทนเงินเพิ่มพิเศษแพทย์ไม่ทำเวชปฏิบัติฯลฯ (บริการ) | D314: 5340000 | E314: 210000 | F314: 165000 | G314: 280000 | H314: 400000 | I314: 360000 | J314: 510000 | K314: 800000 | L314: 210000 | M314: 360000 | N314: 1630000 | O314: 300000 | P314: 2650000 | Q314: 430000 | R314: 460000 | S314: 670000 | T314: 260000 | U314: 440000 | V314: 270000 | W314: 180000 | X314: 3370000 | Y314: 180000 | Z314: 260000 | AA314: 100000 | AB314: 150000 | AC314: 100000 | AD314: 310000 | AE314: 970000 | AF314: 270000 | AG314: 190000 | AH314: 320000 | AI314: 690000 | AJ314: 300000 | AK314: 180000 | AL314: 5550000 | AM314: 280000 | AN314: 260000 | AO314: 590000 | AP314: 650000 | AQ314: 620000 | AR314: 170000 | AS314: 1553000 | AT314: 400000 | AU314: 520000 | AV314: 880000 | AW314: 510000 | AX314: 340000 | AY314: 590000 | AZ314: 373000 | BA314: 270000 | BB314: 1710000 | BC314: 270000 | BD314: 2495000 | BE314: 1029690 | BF314: 190000 | BG314: 520000 | BH314: 2210000 | BI314: 210000 | BJ314: 250000 | BK314: 200000 | BL314: 226000 | BM314: 3505000 | BN314: 750000 | BO314: 210000 | BP314: 570000 | BQ314: 370000 | BR314: 490000 | BS314: 10560000 | BT314: 770000 | BU314: 270000 | BV314: 2020000 | BW314: 180000 | BX314: 460000 | BY314: 1320000 | BZ314: 360000 | CA314: 290000 | CB314: 450000 | CC314: 415000 | CD314: 1070000 | CE314: 240000 | CF314: 510000 | CG314: 360000 | CH314: 210000 | CI314: 180000 | CJ314: 180000 | CK314: 960000 | CL314: 180000 | CM314: 370000
A315: 22 | B315: 5104040102.102 | C315: ค่าตอบแทนเงินเพิ่มพิเศษทันตแพทย์ไม่ทำเวชปฏิบัติฯลฯ(บริการ) | D315: 460000 | E315: 170000 | F315: 180000 | G315: 60000 | H315: 40000 | I315: 220000 | J315: 0 | K315: 730000 | L315: 230000 | M315: 360000 | N315: 0 | O315: 240000 | P315: 180000 | Q315: 250000 | R315: 170000 | S315: 35000 | T315: 10000 | U315: 260000 | V315: 90000 | W315: 50000 | X315: 180000 | Y315: 180000 | Z315: 100000 | AA315: 360000 | AB315: 90000 | AC315: 90000 | AD315: 270000 | AE315: 0 | AF315: 80000 | AG315: 140000 | AH315: 300000 | AI315: 350000 | AJ315: 0 | AK315: 50000 | AL315: 240000 | AM315: 280000 | AN315: 180000 | AO315: 90000 | AP315: 170000 | AQ315: 0 | AR315: 40000 | AS315: 420000 | AT315: 310000 | AU315: 450000 | AV315: 270000 | AW315: 90000 | AX315: 0 | AY315: 30000 | AZ315: 162000 | BA315: 270000 | BB315: 0 | BC315: 80000 | BD315: 440000 | BE315: 370000 | BF315: 0 | BG315: 50000 | BH315: 170000 | BI315: 80000 | BJ315: 190000 | BK315: 260000 | BL315: 20000 | BM315: 175000 | BN315: 330000 | BO315: 240000 | BP315: 260000 | BQ315: 540000 | BR315: 370000 | BS315: 700000 | BT315: 0 | BU315: 260000 | BV315: 170000 | BW315: 0 | BX315: 130000 | BY315: 180000 | BZ315: 90000 | CA315: 120000 | CB315: 90000 | CC315: 180000 | CD315: 130000 | CE315: 180000 | CF315: 0 | CG315: 80000 | CH315: 85000 | CI315: 180000 | CJ315: 90000 | CK315: 265000 | CL315: 90000 | CM315: 0
A316: 22 | B316: 5104040102.103 | C316: ค่าตอบแทนเงินเพิ่มเภสัชกรไม่ทำเวชปฏิบัติฯลฯ (บริการ) | D316: 785000 | E316: 90000 | F316: 0 | G316: 85000 | H316: 45000 | I316: 45000 | J316: 160000 | K316: 145000 | L316: 45000 | M316: 215000 | N316: 300000 | O316: 45000 | P316: 570000 | Q316: 225000 | R316: 235000 | S316: 260000 | T316: 220000 | U316: 135000 | V316: 45000 | W316: 145000 | X316: 840000 | Y316: 45000 | Z316: 120000 | AA316: 225000 | AB316: 135000 | AC316: 135000 | AD316: 90000 | AE316: 280000 | AF316: 90000 | AG316: 180000 | AH316: 140000 | AI316: 360000 | AJ316: 0 | AK316: 45000 | AL316: 1230000 | AM316: 135000 | AN316: 135000 | AO316: 315000 | AP316: 135000 | AQ316: 135000 | AR316: 135000 | AS316: 255000 | AT316: 180000 | AU316: 60000 | AV316: 90000 | AW316: 150000 | AX316: 135000 | AY316: 90000 | AZ316: 81000 | BA316: 50000 | BB316: 675000 | BC316: 45000 | BD316: 690000 | BE316: 400000 | BF316: 90000 | BG316: 185000 | BH316: 580000 | BI316: 135000 | BJ316: 110000 | BK316: 90000 | BL316: 135000 | BM316: 550000 | BN316: 170000 | BO316: 135000 | BP316: 205000 | BQ316: 245000 | BR316: 185000 | BS316: 2260000 | BT316: 265000 | BU316: 155000 | BV316: 580000 | BW316: 135000 | BX316: 230000 | BY316: 505000 | BZ316: 45000 | CA316: 90000 | CB316: 90000 | CC316: 114000 | CD316: 185000 | CE316: 270000 | CF316: 345000 | CG316: 45000 | CH316: 90000 | CI316: 135000 | CJ316: 90000 | CK316: 305000 | CL316: 55000 | CM316: 90000
A317: 22 | B317: 5104040102.104 | C317: ค่าตอบแทนในการปฏิบัติงานของเจ้าหน้าที่ (บริการ) | D317: 56380804 | E317: 6063952 | F317: 4994099.6 | G317: 4433981 | H317: 5069455 | I317: 7703018.4 | J317: 10032016 | K317: 14542045 | L317: 7728014.8 | M317: 8780376.2 | N317: 18888541 | O317: 3761312.5 | P317: 47927083 | Q317: 8709063 | R317: 16996220 | S317: 17845148 | T317: 7966189.4 | U317: 9589946.5 | V317: 8849635.2 | W317: 5433074.8 | X317: 72616173 | Y317: 5971253 | Z317: 10691354 | AA317: 10006024 | AB317: 3483571.2 | AC317: 4967978.8 | AD317: 7972865.5 | AE317: 18458778 | AF317: 8204873.5 | AG317: 6408698.4 | AH317: 8309410 | AI317: 7673468 | AJ317: 0 | AK317: 4898180 | AL317: 1.773605e+08 | AM317: 7904702.5 | AN317: 5919692.5 | AO317: 11525345 | AP317: 14093134 | AQ317: 6617244 | AR317: 3125277.2 | AS317: 35186539 | AT317: 6139434 | AU317: 13145084 | AV317: 10330500 | AW317: 5951612 | AX317: 4108919.4 | AY317: 5275982 | AZ317: 4660985.5 | BA317: 5457950.6 | BB317: 36194819 | BC317: 6293332.5 | BD317: 82591488 | BE317: 19938789 | BF317: 7106271 | BG317: 8513051 | BH317: 52203061 | BI317: 5709610 | BJ317: 5333763.8 | BK317: 7463470 | BL317: 6495886.5 | BM317: 55742527 | BN317: 11270916 | BO317: 9157796 | BP317: 15424375 | BQ317: 9086188.2 | BR317: 8075137.2 | BS317: 1.9936544e+08 | BT317: 8972881 | BU317: 8042746.5 | BV317: 42918886 | BW317: 2040824 | BX317: 7081169.2 | BY317: 20613924 | BZ317: 4855647.2 | CA317: 5389140 | CB317: 6384061.9 | CC317: 9625682.2 | CD317: 19367190 | CE317: 9818217.5 | CF317: 14481964 | CG317: 7368460 | CH317: 4777858.5 | CI317: 6902441.9 | CJ317: 4320020 | CK317: 28006540 | CL317: 5794495 | CM317: 3592209.5
A318: 22 | B318: 5104040102.105 | C318: ค่าตอบแทนในการปฏิบัติงานของเจ้าหน้าที่ (สนับสนุน) | D318: 6104189.3 | E318: 1187860 | F318: 1320920.8 | G318: 680000 | H318: 200650 | I318: 450741.83 | J318: 658945 | K318: 222630 | L318: 637105 | M318: 1527056.2 | N318: 574060 | O318: 25340 | P318: 5143042 | Q318: 595505 | R318: 3008731.2 | S318: 1867817 | T318: 1263028.8 | U318: 580470 | V318: 537593 | W318: 242761.25 | X318: 3956428.8 | Y318: 975999.88 | Z318: 1432055 | AA318: 234080 | AB318: 623742.5 | AC318: 60540 | AD318: 29580 | AE318: 768913 | AF318: 11280 | AG318: 256945 | AH318: 2966828.5 | AI318: 323296 | AJ318: 1365472.5 | AK318: 932911.27 | AL318: 3187752.5 | AM318: 1814707.5 | AN318: 636477.5 | AO318: 1626659.4 | AP318: 0 | AQ318: 0 | AR318: 463104.5 | AS318: 3191604.9 | AT318: 1060918.8 | AU318: 2189861.5 | AV318: 0 | AW318: 162985 | AX318: 508693.75 | AY318: 282810 | AZ318: 392447.5 | BA318: 943663.75 | BB318: 0 | BC318: 358290 | BD318: 10260494 | BE318: 3488696 | BF318: 350000 | BG318: 562970 | BH318: 3449111 | BI318: 224000 | BJ318: 1025395 | BK318: 1115665 | BL318: 377187 | BM318: 5722020 | BN318: 2750711.2 | BO318: 453880 | BP318: 1909294.5 | BQ318: 1278897.5 | BR318: 716865 | BS318: 45639742 | BT318: 752882.5 | BU318: 805090 | BV318: 3482644 | BW318: 218589 | BX318: 693622.25 | BY318: 3692110 | BZ318: 870195 | CA318: 699975 | CB318: 0 | CC318: 1404008.5 | CD318: 1497641 | CE318: 1965422.5 | CF318: 2072500 | CG318: 317310 | CH318: 739685 | CI318: 1226818.5 | CJ318: 986097.5 | CK318: 851425 | CL318: 742077.5 | CM318: 451177.5
A319: 22 | B319: 5104040102.106 | C319: ค่าตอบแทนการปฏิบัติงานในคลินิกพิเศษนอกเวลา | D319: 599562 | E319: 0 | F319: 0 | G319: 0 | H319: 0 | I319: 0 | J319: 0 | K319: 0 | L319: 0 | M319: 0 | N319: 0 | O319: 0 | P319: 0 | Q319: 0 | R319: 0 | S319: 0 | T319: 0 | U319: 0 | V319: 0 | W319: 0 | X319: 0 | Y319: 0 | Z319: 0 | AA319: 0 | AB319: 0 | AC319: 0 | AD319: 0 | AE319: 110840 | AF319: 0 | AG319: 0 | AH319: 0 | AI319: 0 | AJ319: 0 | AK319: 0 | AL319: 0 | AM319: 0 | AN319: 0 | AO319: 1584045 | AP319: 0 | AQ319: 0 | AR319: 0 | AS319: 244970.5 | AT319: 17040 | AU319: 0 | AV319: 0 | AW319: 0 | AX319: 0 | AY319: 0 | AZ319: 0 | BA319: 0 | BB319: 0 | BC319: 0 | BD319: 0 | BE319: 0 | BF319: 0 | BG319: 0 | BH319: 4059161 | BI319: 0 | BJ319: 0 | BK319: 0 | BL319: 0 | BM319: 3000 | BN319: 0 | BO319: 0 | BP319: 0 | BQ319: 0 | BR319: 0 | BS319: 20240605 | BT319: 0 | BU319: 0 | BV319: 0 | BW319: 0 | BX319: 0 | BY319: 0 | BZ319: 54247.5 | CA319: 0 | CB319: 0 | CC319: 0 | CD319: 0 | CE319: 0 | CF319: 0 | CG319: 0 | CH319: 0 | CI319: 0 | CJ319: 0 | CK319: 0 | CL319: 0 | CM319: 0
A320: 22 | B320: 5104040102.107 | C320: ค่าตอบแทนการปฏิบัติงานชันสูตรพลิกศพ (เงินงบประมาณ) | D320: 0 | E320: 0 | F320: 13050 | G320: 17850 | H320: 4800 | I320: 0 | J320: 0 | K320: 0 | L320: 14400 | M320: 4350 | N320: 0 | O320: 0 | P320: 26000 | Q320: 7200 | R320: 7500 | S320: 5100 | T320: 0 | U320: 1950 | V320: 6000 | W320: 1200 | X320: 56000 | Y320: 1500 | Z320: 0 | AA320: 0 | AB320: 0 | AC320: 3150 | AD320: 0 | AE320: 0 | AF320: 0 | AG320: 0 | AH320: 0 | AI320: 11400 | AJ320: 0 | AK320: 0 | AL320: 82000 | AM320: 0 | AN320: 4800 | AO320: 10650 | AP320: 0 | AQ320: 16050 | AR320: 2400 | AS320: 0 | AT320: 12150 | AU320: 29400 | AV320: 27350 | AW320: 0 | AX320: 8700 | AY320: 0 | AZ320: 14700 | BA320: 0 | BB320: 13050 | BC320: 0 | BD320: 46400 | BE320: 0 | BF320: 13950 | BG320: 0 | BH320: 3600 | BI320: 1950 | BJ320: 0 | BK320: 11550 | BL320: 12600 | BM320: 44000 | BN320: 0 | BO320: 20700 | BP320: 10350 | BQ320: 27900 | BR320: 750 | BS320: 217000 | BT320: 0 | BU320: 0 | BV320: 12200 | BW320: 0 | BX320: 0 | BY320: 0 | BZ320: 0 | CA320: 0 | CB320: 0 | CC320: 0 | CD320: 32850 | CE320: 0 | CF320: 8400 | CG320: 0 | CH320: 0 | CI320: 0 | CJ320: 0 | CK320: 71100 | CL320: 0 | CM320: 0
A321: 22 | B321: 5104040102.108 | C321: ค่าตอบแทนการปฏิบัติงานชันสูตรพลิกศพ (เงินนอกงบประมาณ) | D321: 32400 | E321: 21600 | F321: 0 | G321: 0 | H321: 2400 | I321: 0 | J321: 22900 | K321: 39950 | L321: 0 | M321: 0 | N321: 41700 | O321: 4800 | P321: 102650 | Q321: 5100 | R321: 34800 | S321: 41400 | T321: 10650 | U321: 18450 | V321: 4800 | W321: 0 | X321: 118000 | Y321: 7650 | Z321: 35850 | AA321: 29850 | AB321: 0 | AC321: 0 | AD321: 27300 | AE321: 0 | AF321: 0 | AG321: 0 | AH321: 0 | AI321: 0 | AJ321: 11800 | AK321: 10350 | AL321: 239500 | AM321: 0 | AN321: 0 | AO321: 11250 | AP321: 73200 | AQ321: 0 | AR321: 0 | AS321: 23550 | AT321: 4800 | AU321: 0 | AV321: 12100 | AW321: 0 | AX321: 5850 | AY321: 24750 | AZ321: 0 | BA321: 21600 | BB321: 0 | BC321: 0 | BD321: 0 | BE321: 37500 | BF321: 1200 | BG321: 6300 | BH321: 0 | BI321: 0 | BJ321: 2400 | BK321: 0 | BL321: 2400 | BM321: 0 | BN321: 52950 | BO321: 13050 | BP321: 70650 | BQ321: 0 | BR321: 3600 | BS321: 0 | BT321: 34830 | BU321: 52050 | BV321: 84350 | BW321: 0 | BX321: 13950 | BY321: 28000 | BZ321: 0 | CA321: 9750 | CB321: 4350 | CC321: 0 | CD321: 26100 | CE321: 0 | CF321: 0 | CG321: 0 | CH321: 0 | CI321: 1500 | CJ321: 0 | CK321: 38250 | CL321: 0 | CM321: 8400
... A445: 35 | B445: 5401010101.101 | C445: ค่าใช้จ่ายรายการพิเศษนอกเหนือการดำเนินงานปกติ | D445: 0 | E445: 0 | F445: 0 | G445: 0 | H445: 0 | I445: 0 | J445: 0 | K445: 0 | L445: 0 | M445: 0 | N445: 0 | O445: 0 | P445: 0 | Q445: 0 | R445: 0 | S445: 0 | T445: 0 | U445: 0 | V445: 0 | W445: 0 | X445: 0 | Y445: 0 | Z445: 0 | AA445: 0 | AB445: 0 | AC445: 0 | AD445: 0 | AE445: 0 | AF445: 0 | AG445: 0 | AH445: 0 | AI445: 0 | AJ445: 0 | AK445: 0 | AL445: 0 | AM445: 0 | AN445: 0 | AO445: 0 | AP445: 0 | AQ445: 0 | AR445: 0 | AS445: 0 | AT445: 0 | AU445: 0 | AV445: 0 | AW445: 0 | AX445: 0 | AY445: 0 | AZ445: 0 | BA445: 0 | BB445: 0 | BC445: 0 | BD445: 0 | BE445: 0 | BF445: 0 | BG445: 0 | BH445: 0 | BI445: 0 | BJ445: 0 | BK445: 0 | BL445: 0 | BM445: 0 | BN445: 0 | BO445: 0 | BP445: 0 | BQ445: 0 | BR445: 0 | BS445: 0 | BT445: 0 | BU445: 0 | BV445: 0 | BW445: 0 | BX445: 0 | BY445: 0 | BZ445: 0 | CA445: 0 | CB445: 0 | CC445: 0 | CD445: 0 | CE445: 0 | CF445: 0 | CG445: 0 | CH445: 0 | CI445: 0 | CJ445: 0 | CK445: 0 | CL445: 0 | CM445: 0
C447: รายได้ | D447: =SUM(D15:D170) -> 9.7549928e+08 | E447: =SUM(E15:E170) -> 95732681 | F447: =SUM(F15:F170) -> 88439394 | G447: =SUM(G15:G170) -> 90638406 | H447: =SUM(H15:H170) -> 65449444 | I447: =SUM(I15:I170) -> 1.1205786e+08 | J447: =SUM(J15:J170) -> 1.4175347e+08 | K447: =SUM(K15:K170) -> 2.2415691e+08 | ... CM447: =SUM(CM15:CM170) -> 54517574
C448: ค่าใช้จ่าย | D448: =SUM(D171:D445) -> 8.3734259e+08 | E448: =SUM(E171:E445) -> 1.0377327e+08 | F448: =SUM(F171:F445) -> 97316045 | G448: =SUM(G171:G445) -> 99641855 | H448: =SUM(H171:H445) -> 67562073 | I448: =SUM(I171:I445) -> 1.0875342e+08 | J448: =SUM(J171:J445) -> 1.3744475e+08 | K448: =SUM(K171:K445) -> 2.2291741e+08 | ... CM448: =SUM(CM171:CM445) -> 52244748
C451: เหมาจ่ายรายหัว 1 | D451: =+D47+D48+D53+D54+D58+D59+D60+D63+D72+D76+D77+D78 -> 2.4108348e+08 | E451: =+E47+E48+E53+E54+E58+E59+E60+E63+E72+E76+E77+E78 -> 31943335 | F451: =+F47+F48+F53+F54+F58+F59+F60+F63+F72+F76+F77+F78 -> 34072597 | G451: =+G47+G48+G53+G54+G58+G59+G60+G63+G72+G76+G77+G78 -> 34201978 | H451: =+H47+H48+H53+H54+H58+H59+H60+H63+H72+H76+H77+H78 -> 26978762 | I451: =+I47+I48+I53+I54+I58+I59+I60+I63+I72+I76+I77+I78 -> 35167768 | J451: =+J47+J48+J53+J54+J58+J59+J60+J63+J72+J76+J77+J78 -> 56308615 | K451: =+K47+K48+K53+K54+K58+K59+K60+K63+K72+K76+K77+K78 -> 75851632 | ... CM451: =+CM47+CM48+CM53+CM54+CM58+CM59+CM60+CM63+CM72+CM76+CM77+CM78 -> 24020900
C452: เรียกเก็บ UC 2 | D452: =+D49+D50+D51+D61+D62+D66+D67+D68+D69+D71+D73+D74 -> 1.1224683e+08 | E452: =+E49+E50+E51+E61+E62+E66+E67+E68+E69+E71+E73+E74 -> 7001220.9 | F452: =+F49+F50+F51+F61+F62+F66+F67+F68+F69+F71+F73+F74 -> 977180.36 | G452: =+G49+G50+G51+G61+G62+G66+G67+G68+G69+G71+G73+G74 -> 845011.73 | H452: =+H49+H50+H51+H61+H62+H66+H67+H68+H69+H71+H73+H74 -> 1869491.9 | I452: =+I49+I50+I51+I61+I62+I66+I67+I68+I69+I71+I73+I74 -> 9053868.4 | J452: =+J49+J50+J51+J61+J62+J66+J67+J68+J69+J71+J73+J74 -> 4736342.4 | K452: =+K49+K50+K51+K61+K62+K66+K67+K68+K69+K71+K73+K74 -> 35818899 | ... CM452: =+CM49+CM50+CM51+CM61+CM62+CM66+CM67+CM68+CM69+CM71+CM73+CM74 -> 3462391.4
C453: กองทุน UC 3 | D453: =+D55+D56+D57+D64+D70 -> 60501525 | E453: =+E55+E56+E57+E64+E70 -> 2593858.8 | F453: =+F55+F56+F57+F64+F70 -> 5615651.1 | G453: =+G55+G56+G57+G64+G70 -> 4948535.8 | H453: =+H55+H56+H57+H64+H70 -> 6053888.9 | I453: =+I55+I56+I57+I64+I70 -> 6175320.7 | J453: =+J55+J56+J57+J64+J70 -> 11112791 | K453: =+K55+K56+K57+K64+K70 -> 8127683.1 | ... CM453: =+CM55+CM56+CM57+CM64+CM70 -> 3864267.9
C454: EMS 4 | D454: =+D23 -> 2456828 | E454: =+E23 -> 115300 | F454: =+F23 -> 218450 | G454: =+G23 -> 84550 | H454: =+H23 -> 63800 | I454: =+I23 -> 154900 | J454: =+J23 -> 97300 | K454: =+K23 -> 239250 | ... CM454: =+CM23 -> 21800
C455: 5 | D455: =+D80+D81+D82+D83+D84+D85+D86+D87+D88+D89+D90+D91+D92+D93+D94+D95+D96 -> 67622012 | E455: =+E80+E81+E82+E83+E84+E85+E86+E87+E88+E89+E90+E91+E92+E93+E94+E95+E96 -> 1279863.3 | F455: =+F80+F81+F82+F83+F84+F85+F86+F87+F88+F89+F90+F91+F92+F93+F94+F95+F96 -> 795907.07 | G455: =+G80+G81+G82+G83+G84+G85+G86+G87+G88+G89+G90+G91+G92+G93+G94+G95+G96 -> 789734.45 | H455: =+H80+H81+H82+H83+H84+H85+H86+H87+H88+H89+H90+H91+H92+H93+H94+H95+H96 -> 374122.5 | I455: =+I80+I81+I82+I83+I84+I85+I86+I87+I88+I89+I90+I91+I92+I93+I94+I95+I96 -> 1572311.2 | J455: =+J80+J81+J82+J83+J84+J85+J86+J87+J88+J89+J90+J91+J92+J93+J94+J95+J96 -> 793687.34 | K455: =+K80+K81+K82+K83+K84+K85+K86+K87+K88+K89+K90+K91+K92+K93+K94+K95+K96 -> 4284447.4 | ... CM455: =+CM80+CM81+CM82+CM83+CM84+CM85+CM86+CM87+CM88+CM89+CM90+CM91+CM92+CM93+CM94+CM95+CM96 -> 941929.9
C456: 6 | D456: =+D29+D30+D31+D32+D33+D34+D35+D36 -> 1.1483274e+08 | E456: =+E29+E30+E31+E32+E33+E34+E35+E36 -> 7310577.5 | F456: =+F29+F30+F31+F32+F33+F34+F35+F36 -> 5363888.6 | G456: =+G29+G30+G31+G32+G33+G34+G35+G36 -> 5427009.3 | H456: =+H29+H30+H31+H32+H33+H34+H35+H36 -> 2364311.1 | I456: =+I29+I30+I31+I32+I33+I34+I35+I36 -> 13605587 | J456: =+J29+J30+J31+J32+J33+J34+J35+J36 -> 6390117.8 | K456: =+K29+K30+K31+K32+K33+K34+K35+K36 -> 16658633 | ... CM456: =+CM29+CM30+CM31+CM32+CM33+CM34+CM35+CM36 -> 2522524.6
C457: 7 | D457: =+D37+D38 -> 10413618 | E457: =+E37+E38 -> 148932.75 | F457: =+F37+F38 -> 101708 | G457: =+G37+G38 -> 52295 | H457: =+H37+H38 -> 255025.5 | I457: =+I37+I38 -> 322815.5 | J457: =+J37+J38 -> 652878.25 | K457: =+K37+K38 -> 340384 | ... CM457: =+CM37+CM38 -> 365776.9
C458: 8 | D458: =+D25+D26 -> 2305930.2 | E458: =+E25+E26 -> 0 | F458: =+F25+F26 -> 0 | G458: =+G25+G26 -> 50220 | H458: =+H25+H26 -> 0 | I458: =+I25+I26 -> 84858.5 | J458: =+J25+J26 -> 23205.75 | K458: =+K25+K26 -> 82277 | ... CM458: =+CM25+CM26 -> 0
C459: 9 | D459: =+D39+D40+D41+D42+D43+D44+D45+D46 -> 16483070 | E459: =+E39+E40+E41+E42+E43+E44+E45+E46 -> 1522634.4 | F459: =+F39+F40+F41+F42+F43+F44+F45+F46 -> 633576.79 | G459: =+G39+G40+G41+G42+G43+G44+G45+G46 -> 832216.09 | H459: =+H39+H40+H41+H42+H43+H44+H45+H46 -> 437950.57 | I459: =+I39+I40+I41+I42+I43+I44+I45+I46 -> 1513837 | J459: =+J39+J40+J41+J42+J43+J44+J45+J46 -> 1226495.3 | K459: =+K39+K40+K41+K42+K43+K44+K45+K46 -> 4171839.5 | ... CM459: =+CM39+CM40+CM41+CM42+CM43+CM44+CM45+CM46 -> 296298.04
C460: 10 | D460: =+D97+D98+D99+D100+D101+D102+D103+D104+D105+D106+D107+D108+D109+D110+D111+D112 -> 931372.39 | E460: =+E97+E98+E99+E100+E101+E102+E103+E104+E105+E106+E107+E108+E109+E110+E111+E112 -> 26615 | F460: =+F97+F98+F99+F100+F101+F102+F103+F104+F105+F106+F107+F108+F109+F110+F111+F112 -> 241886 | G460: =+G97+G98+G99+G100+G101+G102+G103+G104+G105+G106+G107+G108+G109+G110+G111+G112 -> 55183.2 | H460: =+H97+H98+H99+H100+H101+H102+H103+H104+H105+H106+H107+H108+H109+H110+H111+H112 -> 26467 | I460: =+I97+I98+I99+I100+I101+I102+I103+I104+I105+I106+I107+I108+I109+I110+I111+I112 -> 81867 | J460: =+J97+J98+J99+J100+J101+J102+J103+J104+J105+J106+J107+J108+J109+J110+J111+J112 -> 51517.32 | K460: =+K97+K98+K99+K100+K101+K102+K103+K104+K105+K106+K107+K108+K109+K110+K111+K112 -> 173068.8 | ... CM460: =+CM97+CM98+CM99+CM100+CM101+CM102+CM103+CM104+CM105+CM106+CM107+CM108+CM109+CM110+CM111+CM112 -> 17585.27
C461: 11 | D461: =+D27+D28 -> 57742015 | E461: =+E27+E28 -> 1193307.4 | F461: =+F27+F28 -> 1607656 | G461: =+G27+G28 -> 4202517 | H461: =+H27+H28 -> 740459.5 | I461: =+I27+I28 -> 1424840.5 | J461: =+J27+J28 -> 2099899.7 | K461: =+K27+K28 -> 5679031.3 | ... CM461: =+CM27+CM28 -> 1164104.1
C462: 12 | D462: =+D113+D114+D115+D116+D117+D118+D119+D120+D121 -> 3489983.6 | E462: =+E113+E114+E115+E116+E117+E118+E119+E120+E121 -> 25900.39 | F462: =+F113+F114+F115+F116+F117+F118+F119+F120+F121 -> 384488.9 | G462: =+G113+G114+G115+G116+G117+G118+G119+G120+G121 -> 159953.56 | H462: =+H113+H114+H115+H116+H117+H118+H119+H120+H121 -> 6283.04 | I462: =+I113+I114+I115+I116+I117+I118+I119+I120+I121 -> 50 | J462: =+J113+J114+J115+J116+J117+J118+J119+J120+J121 -> 0 | K462: =+K113+K114+K115+K116+K117+K118+K119+K120+K121 -> 59503.92 | ... CM462: =+CM113+CM114+CM115+CM116+CM117+CM118+CM119+CM120+CM121 -> 0
C463: 13 | D463: =+D52 -> 0 | E463: =+E52 -> 2781697.7 | F463: =+F52 -> 1871835.6 | G463: =+G52 -> 1521034.4 | H463: =+H52 -> 942045.7 | I463: =+I52 -> 3184434.2 | J463: =+J52 -> 5531348.5 | K463: =+K52 -> 5455721.8 | ... CM463: =+CM52 -> 1171432.6
C464: 14 | D464: =+D65 -> 0 | E464: =+E65 -> 0 | F464: =+F65 -> 0 | G464: =+G65 -> 0 | H464: =+H65 -> 0 | I464: =+I65 -> 0 | J464: =+J65 -> 0 | K464: =+K65 -> 0 | ... CM464: =+CM65 -> 0
C465: 15 | D465: =+D15+D16+D17+D18+D19+D20+D21+D22 -> 6355258 | E465: =+E15+E16+E17+E18+E19+E20+E21+E22 -> 0 | F465: =+F15+F16+F17+F18+F19+F20+F21+F22 -> 3760 | G465: =+G15+G16+G17+G18+G19+G20+G21+G22 -> 0 | H465: =+H15+H16+H17+H18+H19+H20+H21+H22 -> 44430 | I465: =+I15+I16+I17+I18+I19+I20+I21+I22 -> 138373 | J465: =+J15+J16+J17+J18+J19+J20+J21+J22 -> 0 | K465: =+K15+K16+K17+K18+K19+K20+K21+K22 -> 117899 | ... CM465: =+CM15+CM16+CM17+CM18+CM19+CM20+CM21+CM22 -> 0
C466: 16 | D466: =+D136 -> 2.2685738e+08 | E466: =+E136 -> 29246386 | F466: =+F136 -> 30912959 | G466: =+G136 -> 31470863 | H466: =+H136 -> 22033046 | I466: =+I136 -> 33176621 | J466: =+J136 -> 44217652 | K466: =+K136 -> 44623676 | ... CM466: =+CM136 -> 11999770
C467: 17 | D467: =+D137+D138+D139+D140+D141+D142 -> 23004951 | E467: =+E137+E138+E139+E140+E141+E142 -> 1126845.9 | F467: =+F137+F138+F139+F140+F141+F142 -> 1339593.7 | G467: =+G137+G138+G139+G140+G141+G142 -> 1462408.9 | H467: =+H137+H138+H139+H140+H141+H142 -> 960293.06 | I467: =+I137+I138+I139+I140+I141+I142 -> 1341604 | J467: =+J137+J138+J139+J140+J141+J142 -> 1935592.3 | K467: =+K137+K138+K139+K140+K141+K142 -> 1950532.1 | ... CM467: =+CM137+CM138+CM139+CM140+CM141+CM142 -> 479352.55
C468: 18 | D468: =+D143+D144+D145+D146+D147+D148+D149+D150 -> 12650419 | E468: =+E143+E144+E145+E146+E147+E148+E149+E150 -> 0 | F468: =+F143+F144+F145+F146+F147+F148+F149+F150 -> 0 | G468: =+G143+G144+G145+G146+G147+G148+G149+G150 -> 0 | H468: =+H143+H144+H145+H146+H147+H148+H149+H150 -> 0 | I468: =+I143+I144+I145+I146+I147+I148+I149+I150 -> 0 | J468: =+J143+J144+J145+J146+J147+J148+J149+J150 -> 0 | K468: =+K143+K144+K145+K146+K147+K148+K149+K150 -> 0 | ... CM468: =+CM143+CM144+CM145+CM146+CM147+CM148+CM149+CM150 -> 0
C469: 19 | D469: =+D24+D122+D123+D124+D125+D126+D127+D128+D129+D130+D131+D132+D133+D134+D135+D151+D152+D153+D154+D155+D156+D157+D158+D159+D160+D161+D162+D163+D164+D165+D166+D167+D168+D169+D170 -> 16521860 | E469: =+E24+E122+E123+E124+E125+E126+E127+E128+E129+E130+E131+E132+E133+E134+E135+E151+E152+E153+E154+E155+E156+E157+E158+E159+E160+E161+E162+E163+E164+E165+E166+E167+E168+E169+E170 -> 9416206.2 | F469: =+F24+F122+F123+F124+F125+F126+F127+F128+F129+F130+F131+F132+F133+F134+F135+F151+F152+F153+F154+F155+F156+F157+F158+F159+F160+F161+F162+F163+F164+F165+F166+F167+F168+F169+F170 -> 4298255.3 | G469: =+G24+G122+G123+G124+G125+G126+G127+G128+G129+G130+G131+G132+G133+G134+G135+G151+G152+G153+G154+G155+G156+G157+G158+G159+G160+G161+G162+G163+G164+G165+G166+G167+G168+G169+G170 -> 4534895.8 | H469: =+H24+H122+H123+H124+H125+H126+H127+H128+H129+H130+H131+H132+H133+H134+H135+H151+H152+H153+H154+H155+H156+H157+H158+H159+H160+H161+H162+H163+H164+H165+H166+H167+H168+H169+H170 -> 2299067.8 | I469: =+I24+I122+I123+I124+I125+I126+I127+I128+I129+I130+I131+I132+I133+I134+I135+I151+I152+I153+I154+I155+I156+I157+I158+I159+I160+I161+I162+I163+I164+I165+I166+I167+I168+I169+I170 -> 5058798.5 | J469: =+J24+J122+J123+J124+J125+J126+J127+J128+J129+J130+J131+J132+J133+J134+J135+J151+J152+J153+J154+J155+J156+J157+J158+J159+J160+J161+J162+J163+J164+J165+J166+J167+J168+J169+J170 -> 6576030.2 | K469: =+K24+K122+K123+K124+K125+K126+K127+K128+K129+K130+K131+K132+K133+K134+K135+K151+K152+K153+K154+K155+K156+K157+K158+K159+K160+K161+K162+K163+K164+K165+K166+K167+K168+K169+K170 -> 20522435 | ... CM469: =+CM24+CM122+CM123+CM124+CM125+CM126+CM127+CM128+CM129+CM130+CM131+CM132+CM133+CM134+CM135+CM151+CM152+CM153+CM154+CM155+CM156+CM157+CM158+CM159+CM160+CM161+CM162+CM163+CM164+CM165+CM166+CM167+CM168+CM169+CM170 -> 4189441.5
B471: 20 | C471: เงินเดือนและค่าจ้างประจำ (L1)[1] | D471: =+D171+D172+D173+D174+D175+D176+D177+D178+D179+D180+D181+D182+D189+D190+D191+D192+D193+D194+D195+D196+D197+D198 -> 2.248026e+08 | E471: =+E171+E172+E173+E174+E175+E176+E177+E178+E179+E180+E181+E182+E189+E190+E191+E192+E193+E194+E195+E196+E197+E198 -> 29246386 | F471: =+F171+F172+F173+F174+F175+F176+F177+F178+F179+F180+F181+F182+F189+F190+F191+F192+F193+F194+F195+F196+F197+F198 -> 31007179 | G471: =+G171+G172+G173+G174+G175+G176+G177+G178+G179+G180+G181+G182+G189+G190+G191+G192+G193+G194+G195+G196+G197+G198 -> 31590318 | H471: =+H171+H172+H173+H174+H175+H176+H177+H178+H179+H180+H181+H182+H189+H190+H191+H192+H193+H194+H195+H196+H197+H198 -> 22032092 | I471: =+I171+I172+I173+I174+I175+I176+I177+I178+I179+I180+I181+I182+I189+I190+I191+I192+I193+I194+I195+I196+I197+I198 -> 33207418 | J471: =+J171+J172+J173+J174+J175+J176+J177+J178+J179+J180+J181+J182+J189+J190+J191+J192+J193+J194+J195+J196+J197+J198 -> 44230411 | K471: =+K171+K172+K173+K174+K175+K176+K177+K178+K179+K180+K181+K182+K189+K190+K191+K192+K193+K194+K195+K196+K197+K198 -> 44623676 | ... CM471: =+CM171+CM172+CM173+CM174+CM175+CM176+CM177+CM178+CM179+CM180+CM181+CM182+CM189+CM190+CM191+CM192+CM193+CM194+CM195+CM196+CM197+CM198 -> 12017117
B472: 21 | C472: ค่าจ้างลูกจ้างชั่วคราว (L2.1)[2] | D472: =+D183+D184+D185+D186+D187+D188 -> 66204121 | E472: =+E183+E184+E185+E186+E187+E188 -> 11000467 | F472: =+F183+F184+F185+F186+F187+F188 -> 9334173.8 | G472: =+G183+G184+G185+G186+G187+G188 -> 7076111 | H472: =+H183+H184+H185+H186+H187+H188 -> 7989274.1 | I472: =+I183+I184+I185+I186+I187+I188 -> 8494582.2 | J472: =+J183+J184+J185+J186+J187+J188 -> 8162550 | K472: =+K183+K184+K185+K186+K187+K188 -> 15051181 | ... CM472: =+CM183+CM184+CM185+CM186+CM187+CM188 -> 6068392.1
B473: 22 | C473: ค่าตอบแทน(L2.2)[3] | D473: =+D199+D210+D211+D212+D213+D214+D215+D216+D217+D218+D314+D315+D316+D317+D318+D319+D320+D321+D322+D323+D324+D325+D326+D327+D328+D329+D330+D331+D332+D333 -> 1.1933019e+08 | E473: =+E199+E210+E211+E212+E213+E214+E215+E216+E217+E218+E314+E315+E316+E317+E318+E319+E320+E321+E322+E323+E324+E325+E326+E327+E328+E329+E330+E331+E332+E333 -> 11329133 | F473: =+F199+F210+F211+F212+F213+F214+F215+F216+F217+F218+F314+F315+F316+F317+F318+F319+F320+F321+F322+F323+F324+F325+F326+F327+F328+F329+F330+F331+F332+F333 -> 12752329 | G473: =+G199+G210+G211+G212+G213+G214+G215+G216+G217+G218+G314+G315+G316+G317+G318+G319+G320+G321+G322+G323+G324+G325+G326+G327+G328+G329+G330+G331+G332+G333 -> 12470164 | H473: =+H199+H210+H211+H212+H213+H214+H215+H216+H217+H218+H314+H315+H316+H317+H318+H319+H320+H321+H322+H323+H324+H325+H326+H327+H328+H329+H330+H331+H332+H333 -> 9669551 | I473: =+I199+I210+I211+I212+I213+I214+I215+I216+I217+I218+I314+I315+I316+I317+I318+I319+I320+I321+I322+I323+I324+I325+I326+I327+I328+I329+I330+I331+I332+I333 -> 14571806 | J473: =+J199+J210+J211+J212+J213+J214+J215+J216+J217+J218+J314+J315+J316+J317+J318+J319+J320+J321+J322+J323+J324+J325+J326+J327+J328+J329+J330+J331+J332+J333 -> 21416628 | K473: =+K199+K210+K211+K212+K213+K214+K215+K216+K217+K218+K314+K315+K316+K317+K318+K319+K320+K321+K322+K323+K324+K325+K326+K327+K328+K329+K330+K331+K332+K333 -> 32386993 | ... CM473: =+CM199+CM210+CM211+CM212+CM213+CM214+CM215+CM216+CM217+CM218+CM314+CM315+CM316+CM317+CM318+CM319+CM320+CM321+CM322+CM323+CM324+CM325+CM326+CM327+CM328+CM329+CM330+CM331+CM332+CM333 -> 8811386
B474: 23 | C474: ค่าใช้จ่ายบุคลากรอื่น (L3)[4] | D474: =+D200+D201+D202+D203+D204+D205+D206+D207+D208+D209+D219+D220+D221+D222+D223+D224+D225+D226+D227+D228+D229+D230+D231+D232 -> 14101162 | E474: =+E200+E201+E202+E203+E204+E205+E206+E207+E208+E209+E219+E220+E221+E222+E223+E224+E225+E226+E227+E228+E229+E230+E231+E232 -> 1561217.6 | F474: =+F200+F201+F202+F203+F204+F205+F206+F207+F208+F209+F219+F220+F221+F222+F223+F224+F225+F226+F227+F228+F229+F230+F231+F232 -> 1729304.7 | G474: =+G200+G201+G202+G203+G204+G205+G206+G207+G208+G209+G219+G220+G221+G222+G223+G224+G225+G226+G227+G228+G229+G230+G231+G232 -> 1982526.1 | H474: =+H200+H201+H202+H203+H204+H205+H206+H207+H208+H209+H219+H220+H221+H222+H223+H224+H225+H226+H227+H228+H229+H230+H231+H232 -> 1268188.5 | I474: =+I200+I201+I202+I203+I204+I205+I206+I207+I208+I209+I219+I220+I221+I222+I223+I224+I225+I226+I227+I228+I229+I230+I231+I232 -> 1837505.9 | J474: =+J200+J201+J202+J203+J204+J205+J206+J207+J208+J209+J219+J220+J221+J222+J223+J224+J225+J226+J227+J228+J229+J230+J231+J232 -> 2543403.6 | K474: =+K200+K201+K202+K203+K204+K205+K206+K207+K208+K209+K219+K220+K221+K222+K223+K224+K225+K226+K227+K228+K229+K230+K231+K232 -> 2876876.4 | ... CM474: =+CM200+CM201+CM202+CM203+CM204+CM205+CM206+CM207+CM208+CM209+CM219+CM220+CM221+CM222+CM223+CM224+CM225+CM226+CM227+CM228+CM229+CM230+CM231+CM232 -> 870053.9
C475: สรุปจ่าย L2[5]=[2+3+4] | D475: =+D472+D473+D474 -> 1.9963547e+08 | E475: =+E472+E473+E474 -> 23890818 | F475: =+F472+F473+F474 -> 23815808 | G475: =+G472+G473+G474 -> 21528802 | H475: =+H472+H473+H474 -> 18927014 | I475: =+I472+I473+I474 -> 24903894 | J475: =+J472+J473+J474 -> 32122581 | K475: =+K472+K473+K474 -> 50315050 | ... CM475: =+CM472+CM473+CM474 -> 15749832
B476: 24 | C476: ค่าใช้จ่ายด้านการฝึกอบรม/เดินทาง[6] | D476: =+D233+D234+D235+D236+D237+D238+D239+D240+D241+D242+D243 -> 3605727 | E476: =+E233+E234+E235+E236+E237+E238+E239+E240+E241+E242+E243 -> 382205 | F476: =+F233+F234+F235+F236+F237+F238+F239+F240+F241+F242+F243 -> 397898.61 | G476: =+G233+G234+G235+G236+G237+G238+G239+G240+G241+G242+G243 -> 245027 | H476: =+H233+H234+H235+H236+H237+H238+H239+H240+H241+H242+H243 -> 133334.5 | I476: =+I233+I234+I235+I236+I237+I238+I239+I240+I241+I242+I243 -> 326721.75 | J476: =+J233+J234+J235+J236+J237+J238+J239+J240+J241+J242+J243 -> 831462.9 | K476: =+K233+K234+K235+K236+K237+K238+K239+K240+K241+K242+K243 -> 870619.17 | ... CM476: =+CM233+CM234+CM235+CM236+CM237+CM238+CM239+CM240+CM241+CM242+CM243 -> 205905
B477: 25 | C477: ยาใช้ไป(M4.1)[7] | D477: =+D286 -> 1.2426838e+08 | E477: =+E286 -> 9089198.4 | F477: =+F286 -> 6597026.1 | G477: =+G286 -> 8396647.4 | H477: =+H286 -> 4937598.4 | I477: =+I286 -> 11426925 | J477: =+J286 -> 10994103 | K477: =+K286 -> 23820736 | ... CM477: =+CM286 -> 4031389.7
C478: เวชภัณฑ์ที่ไม่ใช่ยาใช้ไป (M4.2)[8]
B479: 26 | C479: วัสดุการแพทย์ใช้ไป (M4.3)[9] | D479: =+D287+D288+D292+D293 -> 63051790 | E479: =+E287+E288+E292+E293 -> 5121248.5 | F479: =+F287+F288+F292+F293 -> 2877528.2 | G479: =+G287+G288+G292+G293 -> 1722562.1 | H479: =+H287+H288+H292+H293 -> 2803871.2 | I479: =+I287+I288+I292+I293 -> 7541498.2 | J479: =+J287+J288+J292+J293 -> 3698930.3 | K479: =+K287+K288+K292+K293 -> 7929877.2 | ... CM479: =+CM287+CM288+CM292+CM293 -> 1684539.8
B480: 27 | C480: วัสดุวิทยาศาสตร์ ใช้ไป (M4.4)[10] | D480: =+D289 -> 22382274 | E480: =+E289 -> 1225420 | F480: =+F289 -> 6120539.1 | G480: =+G289 -> 4957138.6 | H480: =+H289 -> 1904927.9 | I480: =+I289 -> 3700221.6 | J480: =+J289 -> 4736091.3 | K480: =+K289 -> 7026585.8 | ... CM480: =+CM289 -> 2453459.5
C481: รวมจ่าย M4non-drug[11]=[8+9+10] | D481: =+D478+D479+D480 -> 85434065 | E481: =+E478+E479+E480 -> 6346668.5 | F481: =+F478+F479+F480 -> 8998067.3 | G481: =+G478+G479+G480 -> 6679700.7 | H481: =+H478+H479+H480 -> 4708799.2 | I481: =+I478+I479+I480 -> 11241720 | J481: =+J478+J479+J480 -> 8435021.6 | K481: =+K478+K479+K480 -> 14956463 | ... CM481: =+CM478+CM479+CM480 -> 4137999.3
B482: 28 | C482: วัสดุอื่นใช้ไป (M5)[12] | D482: =+D244+D245+D246+D247+D248+D249+D250+D251+D252+D266+D290+D291+D294 -> 24168141 | E482: =+E244+E245+E246+E247+E248+E249+E250+E251+E252+E266+E290+E291+E294 -> 4251692.7 | F482: =+F244+F245+F246+F247+F248+F249+F250+F251+F252+F266+F290+F291+F294 -> 4332891.9 | G482: =+G244+G245+G246+G247+G248+G249+G250+G251+G252+G266+G290+G291+G294 -> 5190819.9 | H482: =+H244+H245+H246+H247+H248+H249+H250+H251+H252+H266+H290+H291+H294 -> 1952140.5 | I482: =+I244+I245+I246+I247+I248+I249+I250+I251+I252+I266+I290+I291+I294 -> 3639025.9 | J482: =+J244+J245+J246+J247+J248+J249+J250+J251+J252+J266+J290+J291+J294 -> 6800684.2 | K482: =+K244+K245+K246+K247+K248+K249+K250+K251+K252+K266+K290+K291+K294 -> 9163040.4 | ... CM482: =+CM244+CM245+CM246+CM247+CM248+CM249+CM250+CM251+CM252+CM266+CM290+CM291+CM294 -> 1222150.1
B483: 29 | C483: ค่าซ่อมแซม/บำรุงรักษาค่าจ้างเหมาบริการ [13] | D483: =+D253+D254+D255+D256+D257+D258+D259+D260+D261+D262+D263+D264+D265+D267+D268+D269+D270+D271+D272+D273+D274 -> 11526575 | E483: =+E253+E254+E255+E256+E257+E258+E259+E260+E261+E262+E263+E264+E265+E267+E268+E269+E270+E271+E272+E273+E274 -> 11970981 | F483: =+F253+F254+F255+F256+F257+F258+F259+F260+F261+F262+F263+F264+F265+F267+F268+F269+F270+F271+F272+F273+F274 -> 6159495.5 | G483: =+G253+G254+G255+G256+G257+G258+G259+G260+G261+G262+G263+G264+G265+G267+G268+G269+G270+G271+G272+G273+G274 -> 14276631 | H483: =+H253+H254+H255+H256+H257+H258+H259+H260+H261+H262+H263+H264+H265+H267+H268+H269+H270+H271+H272+H273+H274 -> 1402380.8 | I483: =+I253+I254+I255+I256+I257+I258+I259+I260+I261+I262+I263+I264+I265+I267+I268+I269+I270+I271+I272+I273+I274 -> 2981216.3 | J483: =+J253+J254+J255+J256+J257+J258+J259+J260+J261+J262+J263+J264+J265+J267+J268+J269+J270+J271+J272+J273+J274 -> 2389153.5 | K483: =+K253+K254+K255+K256+K257+K258+K259+K260+K261+K262+K263+K264+K265+K267+K268+K269+K270+K271+K272+K273+K274 -> 36685776 | ... CM483: =+CM253+CM254+CM255+CM256+CM257+CM258+CM259+CM260+CM261+CM262+CM263+CM264+CM265+CM267+CM268+CM269+CM270+CM271+CM272+CM273+CM274 -> 1719289.6
B484: 30 | C484: ค่าจ้างตรวจทางห้องปฏฺบัติการ[14] | D484: =+D275+D276 -> 42319290 | E484: =+E275+E276 -> 1115391.5 | F484: =+F275+F276 -> 1467835 | G484: =+G275+G276 -> 1222575 | H484: =+H275+H276 -> 524440 | I484: =+I275+I276 -> 989481.59 | J484: =+J275+J276 -> 3220977.1 | K484: =+K275+K276 -> 5694678.5 | ... CM484: =+CM275+CM276 -> 473207.5
B485: 31 | C485: ค่าสาธารณูปโภค[15] | D485: =+D279+D280+D281+D282+D283 -> 22283060 | E485: =+E279+E280+E281+E282+E283 -> 2757418.9 | F485: =+F279+F280+F281+F282+F283 -> 2291445.2 | G485: =+G279+G280+G281+G282+G283 -> 1781045.7 | H485: =+H279+H280+H281+H282+H283 -> 1240839.7 | I485: =+I279+I280+I281+I282+I283 -> 2384729.9 | J485: =+J279+J280+J281+J282+J283 -> 2031386.4 | K485: =+K279+K280+K281+K282+K283 -> 5543638.1 | ... CM485: =+CM279+CM280+CM281+CM282+CM283 -> 1342602.9
...

Sheet 6.รายรับ
G1: รายได้จากการขายสินค้าและบริการของหน่วยบริการ | Z1: สรุปรับ
G2: สิทธิ UC | K2: สิทธิประกันสังคม | L2: สิทธิข้าราชการ | M2: สิทธิ พรบ. | N2: สิทธิ ต้นสังกัด | O2: สิทธิ อปท. | P2: สิทธิ แรงงานต่างด้าว | Q2: ชำระเงินเอง | R2: ผู้มีปัญหาสถานะและสิทธิ | S2: รายได้ งบลงทุน | T2: รายได้จาก CF | U2: รายได้จากการขายสินทรัพย์และบริการอื่น | V2: รายได้จากการประมาณบุคลากร | W2: รายได้จากเงินงบประมาณอื่น | X2: รายได้ระหว่างหน่วยงานอื่น | Y2: รายได้อื่น | Z2: 1+2+3+4+5+6+7+8+9+10+11+12+13+14+15+16+17+18+19
A3: ลำดับเรียงตามงบทดลอง | B3: ลำดับเรียงตามจัดกลุ่ม | C3: กลุ่มที่ | D3: จังหวัด | E3: รหัส | F3: หน่วยบริการ | G3: เหมาจ่ายรายหัว 1 | H3: เรียกเก็บ UC 2 | I3: กองทุน UC 3 | J3: EMS 4 | K3: 5 | L3: 6 | M3: 7 | N3: 8 | O3: 9 | P3: 10 | Q3: 11 | R3: 12 | S3: 13 | T3: 14 | U3: 15 | V3: 16 | W3: 17 | X3: 18 | Y3: 19
A4: 72 | B4: 1 | C4: 1 | D4: อุดรธานี | E4: 11016 | F4: ห้วยเกิ้ง,รพช. | G4: 4544159.6 | H4: 1561595.6 | I4: 945753.89 | J4: 0 | K4: 265369 | L4: 5371844.5 | M4: 84416 | N4: 1000 | O4: 617842.18 | P4: 4099.84 | Q4: 357593 | R4: 11747.78 | S4: 342285.46 | T4: 0 | U4: 1436530 | V4: 10493491 | W4: 486678.5 | X4: 0 | Y4: 6598742.8 | Z4: =G4+H4+I4+J4+K4+L4+M4+N4+O4+P4+Q4+R4+S4+T4+U4+V4+W4+X4+Y4 -> 33123149
A5: 25 | B5: 2 | C5: 1 | D5: เลย | E5: 11033 | F5: นาแห้ว,รพช. | G5: 16087251 | H5: 778218.25 | I5: 10046241 | J5: 122750 | K5: 670986.5 | L5: 3140723.1 | M5: 173444.5 | N5: 20278 | O5: 641077.52 | P5: 2014 | Q5: 1150253 | R5: 127114.05 | S5: 2873627.3 | T5: 0 | U5: 0 | V5: 16726329 | W5: 644753.89 | X5: 0 | Y5: 4017318 | Z5: =G5+H5+I5+J5+K5+L5+M5+N5+O5+P5+Q5+R5+S5+T5+U5+V5+W5+X5+Y5 -> 57222379
A6: 20 | B6: 3 | C6: 1 | D6: บึงกาฬ | E6: 11050 | F6: บุ่งคล้า,รพช. | G6: 18852557 | H6: 870140.49 | I6: 6494997.5 | J6: 132300 | K6: 626205.98 | L6: 3919906.7 | M6: 134471.5 | N6: 1995 | O6: 658529.65 | P6: 164355.59 | Q6: 1311221 | R6: 120730.97 | S6: 683779.72 | T6: 0 | U6: 0 | V6: 16648241 | W6: 649213.47 | X6: 0 | Y6: 2796214.8 | Z6: =G6+H6+I6+J6+K6+L6+M6+N6+O6+P6+Q6+R6+S6+T6+U6+V6+W6+X6+Y6 -> 54064861
A7: 41 | B7: 4 | C7: 1 | D7: สกลนคร | E7: 11094 | F7: นิคมน้ำอูน,รพช. | G7: 11911886 | H7: 456047.22 | I7: 4830157.3 | J7: 154950 | K7: 379798.28 | L7: 2838867.3 | M7: 133230 | N7: 0 | O7: 1366986.3 | P7: 2720 | Q7: 493087.5 | R7: 0 | S7: 2980336.4 | T7: 0 | U7: 0 | V7: 15400445 | W7: 651914.15 | X7: 0 | Y7: 2389040.4 | Z7: =G7+H7+I7+J7+K7+L7+M7+N7+O7+P7+Q7+R7+S7+T7+U7+V7+W7+X7+Y7 -> 43989466
A8: 88 | B8: 5 | C8: 1 | D8: อุดรธานี | E8: 25059 | F8: ประจักษ์ศิลปาคม,รพช. | G8: 24020900 | H8: 3462391.4 | I8: 3864267.9 | J8: 21800 | K8: 941929.9 | L8: 2522524.6 | M8: 365776.9 | N8: 0 | O8: 296298.04 | P8: 17585.27 | Q8: 1164104.1 | R8: 0 | S8: 1171432.6 | T8: 0 | U8: 0 | V8: 11999770 | W8: 479352.55 | X8: 0 | Y8: 4189441.5 | Z8: =G8+H8+I8+J8+K8+L8+M8+N8+O8+P8+Q8+R8+S8+T8+U8+V8+W8+X8+Y8 -> 54517574
A9: 59 | B9: 6 | C9: 1 | D9: หนองคาย | E9: 28778 | F9: โพธิ์ตาก,รพช. | G9: 12835449 | H9: 2216222.1 | I9: 1386806.3 | J9: 17400 | K9: 392679.74 | L9: 2762098.4 | M9: 386628 | N9: 0 | O9: 351227.63 | P9: 700 | Q9: 1137297 | R9: 20045.8 | S9: 995548.6 | T9: 11500000 | U9: 74751 | V9: 11345120 | W9: 519907.66 | X9: 0 | Y9: 2197782 | Z9: =G9+H9+I9+J9+K9+L9+M9+N9+O9+P9+Q9+R9+S9+T9+U9+V9+W9+X9+Y9 -> 48139663
A10: 12 | B10: 7 | C10: 1 | D10: นครพนม | E10: 40840 | F10: วังยาง,รพช. | G10: 17420229 | H10: 629076.88 | I10: 3388972.4 | J10: 65950 | K10: 328144.6 | L10: 1865583.1 | M10: 120158 | N10: 2451 | O10: 370063.55 | P10: 9568.25 | Q10: 446163.5 | R10: 7314.25 | S10: 1780667.4 | T10: 0 | U10: 0 | V10: 9014821.2 | W10: 383198.12 | X10: 0 | Y10: 6002166.9 | Z10: =G10+H10+I10+J10+K10+L10+M10+N10+O10+P10+Q10+R10+S10+T10+U10+V10+W10+X10+Y10 -> 41834528
A11: 83 | B11: 8 | C11: 2 | D11: อุดรธานี | E11: 11027 | F11: หนองแสง,รพช. | G11: 23497995 | H11: 2133452.9 | I11: 5309420.9 | J11: 48550 | K11: 987891.45 | L11: 2660790 | M11: 266296 | N11: 0 | O11: 514954.05 | P11: 8571 | Q11: 1086433 | R11: 0 | S11: 924872.47 | T11: 0 | U11: 25685 | V11: 22156877 | W11: 799612.61 | X11: 0 | Y11: 2884439 | Z11: =G11+H11+I11+J11+K11+L11+M11+N11+O11+P11+Q11+R11+S11+T11+U11+V11+W11+X11+Y11 -> 63305840
A12: 84 | B12: 9 | C12: 2 | D12: อุดรธานี | E12: 11028 | F12: นายูง,รพช. | G12: 31159072 | H12: 557273.77 | I12: 8486997.3 | J12: 90600 | K12: 774264.75 | L12: 2477832.3 | M12: 322156 | N12: 0 | O12: 516653.76 | P12: 21133.96 | Q12: 996588.47 | R12: 21453.62 | S12: 3420941.7 | T12: 0 | U12: 0 | V12: 16940351 | W12: 729584.3 | X12: 0 | Y12: 5046047 | Z12: =G12+H12+I12+J12+K12+L12+M12+N12+O12+P12+Q12+R12+S12+T12+U12+V12+W12+X12+Y12 -> 71560949
A13: 55 | B13: 10 | C13: 2 | D13: หนองคาย | E13: 11044 | F13: ศรีเชียงใหม่,รพช. | G13: 30507739 | H13: 1143406.7 | I13: 2385771.9 | J13: 71050 | K13: 992445.26 | L13: 4913456.3 | M13: 813114 | N13: 9230 | O13: 1054728 | P13: 149383 | Q13: 1945538.2 | R13: 238963.64 | S13: 3413231.8 | T13: 0 | U13: 134115 | V13: 27894097 | W13: 1077053.8 | X13: 0 | Y13: 4591714.6 | Z13: =G13+H13+I13+J13+K13+L13+M13+N13+O13+P13+Q13+R13+S13+T13+U13+V13+W13+X13+Y13 -> 81335037
A14: 47 | B14: 11 | C14: 2 | D14: สกลนคร | E14: 11100 | F14: เต่างอย,รพช. | G14: 21000650 | H14: 1558279.2 | I14: 3480446.8 | J14: 61950 | K14: 962724.93 | L14: 2777381.3 | M14: 370804 | N14: 2714.5 | O14: 487171.43 | P14: 6169 | Q14: 1178540.8 | R14: 15790.98 | S14: 3873929.6 | T14: 0 | U14: 46640 | V14: 19417088 | W14: 794840.59 | X14: 0 | Y14: 2929713.1 | Z14: =G14+H14+I14+J14+K14+L14+M14+N14+O14+P14+Q14+R14+S14+T14+U14+V14+W14+X14+Y14 -> 58964835
A15: 5 | B15: 12 | C15: 2 | D15: นครพนม | E15: 11107 | F15: นาทม,รพช. | G15: 26978762 | H15: 1869491.9 | I15: 6053888.9 | J15: 63800 | K15: 374122.5 | L15: 2364311.1 | M15: 255025.5 | N15: 0 | O15: 437950.57 | P15: 26467 | Q15: 740459.5 | R15: 6283.04 | S15: 942045.7 | T15: 0 | U15: 44430 | V15: 22033046 | W15: 960293.06 | X15: 0 | Y15: 2299067.8 | Z15: =G15+H15+I15+J15+K15+L15+M15+N15+O15+P15+Q15+R15+S15+T15+U15+V15+W15+X15+Y15 -> 65449444
... A91: 35 | B91: 88 | C91: 13 | D91: สกลนคร | E91: 10710 | F91: สกลนคร,รพศ. | G91: 7.5247334e+08 | H91: 4.2485949e+08 | I91: 83838789 | J91: 1525050 | K91: 1.55842e+08 | L91: 4.2815245e+08 | M91: 33656693 | N91: 12576596 | O91: 74641375 | P91: 383845.8 | Q91: 1.0099337e+08 | R91: 1255419.5 | S91: 16074274 | T91: 0 | U91: 13503644 | V91: 4.1053187e+08 | W91: 77415008 | X91: 0 | Y91: 71211889 | Z91: =G91+H91+I91+J91+K91+L91+M91+N91+O91+P91+Q91+R91+S91+T91+U91+V91+W91+X91+Y91 -> 2.6589351e+09

Sheet 7.รายจ่าย
A1: ลำดับเรียงตามงบทดลอง | B1: ลำดับเรียงตามจัดกลุ่ม | C1: กลุ่มที่ | D1: จังหวัด | E1: รหัส | F1: หน่วยบริการ | G1: เงินเดือนและค่าจ้างประจำ (L1)[1] | H1: ค่าจ้างลูกจ้างชั่วคราว (L2.1)[2] | I1: ค่าตอบแทน(L2.2)[3] | J1: ค่าใช้จ่ายบุคลากรอื่น (L3)[4] | K1: สรุปจ่าย L2[5]=[2+3+4] | L1: ค่าใช้จ่ายด้านการฝึกอบรม/เดินทาง[6] | M1: ยาใช้ไป(M4.1)[7] | N1: เวชภัณฑ์ที่ไม่ใช่ยาใช้ไป (M4.2)[8] | O1: วัสดุการแพทย์ใช้ไป (M4.3)[9] | P1: วัสดุวิทยาศาสตร์ ใช้ไป (M4.4)[10] | Q1: รวมจ่าย M4non-drug[11]=[8+9+10] | R1: วัสดุอื่นใช้ไป (M5)[12] | S1: ค่าซ่อมแซม/บำรุงรักษาค่าจ้างเหมาบริการ [13] | T1: ค่าจ้างตรวจทางห้องปฏฺบัติการ[14] | U1: ค่าสาธารณูปโภค[15] | V1: ค่าใช้สอยอื่นๆ[16] | W1: ค่าใช้จ่ายจากการดำเนินงานอื่น[17] | X1: ค่าใช้จ่ายเงินอุดหนุน[18] | Y1: ค่าใช้จ่ายอื่น[19] | Z1: ค่าใช้จ่ายระหว่างหน่วยงาน[20] | AA1: ค่าเผื่อหนี้สูญ/หนี่สงสัยจะสูญ[21] | AB1: ค่าเสื่อมราคา/ตัดจำหน่าย[22] | AC1: รวมค่าใช้จ่าย[23] =[1+5+6+7+11+12+13+14+15+16+17+18+19+20+21+22]
A2: 72 | B2: 1 | C2: 1 | D2: อุดรธานี | E2: 11016 | F2: ห้วยเกิ้ง,รพช. | G2: 10493491 | H2: 4118780 | I2: 4760652 | J2: 696660.5 | K2: 9576092.5 | L2: 121572.34 | M2: 3039417.8 | O2: 465375.97 | P2: 15740 | Q2: 481115.97 | R2: 781924.58 | S2: 4034344.6 | T2: 645585 | U2: 1093319.3 | V2: 87947.59 | W2: 1039601.5 | X2: 0 | Y2: 2144048.3 | Z2: 0 | AA2: 107656.66 | AB2: 4127933.6 | AC2: 37774050
A3: 25 | B3: 2 | C3: 1 | D3: เลย | E3: 11033 | F3: นาแห้ว,รพช. | G3: 16756459 | H3: 5752057 | I3: 10700750 | J3: 948599.9 | K3: 17401406 | L3: 325206.75 | M3: 3435071.7 | O3: 1010116.4 | P3: 2024298.7 | Q3: 3034415.1 | R3: 2474613 | S3: 4570483.1 | T3: 274375.4 | U3: 892874.14 | V3: 399728.01 | W3: 680612.5 | X3: 0 | Y3: 567025.75 | Z3: 0 | AA3: 22704.15 | AB3: 3605254.5 | AC3: 54440230
A4: 20 | B4: 3 | C4: 1 | D4: บึงกาฬ | E4: 11050 | F4: บุ่งคล้า,รพช. | G4: 16640741 | H4: 5579031 | I4: 10497471 | J4: 971896.47 | K4: 17048398 | L4: 133468.92 | M4: 3522648.8 | O4: 997510.19 | P4: 1585710 | Q4: 2583220.2 | R4: 1388461.6 | S4: 1054546.1 | T4: 669948 | U4: 979503.32 | V4: 47890.85 | W4: 2059367 | X4: 0 | Y4: 1725569.9 | Z4: 0 | AA4: 307614.56 | AB4: 5464967.9 | AC4: 53626346
A5: 41 | B5: 4 | C5: 1 | D5: สกลนคร | E5: 11094 | F5: นิคมน้ำอูน,รพช. | G5: 15417020 | H5: 5297984.2 | I5: 8584671.8 | J5: 912542.27 | K5: 14795198 | L5: 76739 | M5: 2660452.6 | O5: 901407.87 | P5: 1451497.2 | Q5: 2352905.1 | R5: 2135217.5 | S5: 4450059.5 | T5: 449075.5 | U5: 818879.24 | V5: 62425.97 | W5: 704490 | X5: 0 | Y5: 340000 | Z5: 0 | AA5: 28890.48 | AB5: 3526913.1 | AC5: 47818266
A6: 88 | B6: 5 | C6: 1 | D6: อุดรธานี | E6: 25059 | F6: ประจักษ์ศิลปาคม,รพช. | G6: 12017117 | H6: 6068392.1 | I6: 8811386 | J6: 870053.9 | K6: 15749832 | L6: 205905 | M6: 4031389.7 | O6: 1684539.8 | P6: 2453459.5 | Q6: 4137999.3 | R6: 1222150.1 | S6: 1719289.6 | T6: 473207.5 | U6: 1342602.9 | V6: 32494.48 | W6: 4044471.6 | X6: 0 | Y6: 1251626.3 | Z6: 0 | AA6: 581221.58 | AB6: 5348143.9 | AC6: 52157451
A7: 59 | B7: 6 | C7: 1 | D7: หนองคาย | E7: 28778 | F7: โพธิ์ตาก,รพช. | G7: 11382506 | H7: 5494759 | I7: 10111387 | J7: 769320.57 | K7: 16375466 | L7: 159244 | M7: 2712615.4 | O7: 1549103.9 | P7: 1817312.3 | Q7: 3366416.2 | R7: 1425065.6 | S7: 1946138.1 | T7: 515770 | U7: 697462.9 | V7: 148724.72 | W7: 391888.5 | X7: 995250 | Y7: 29600 | Z7: 0 | AA7: 390377.72 | AB7: 6672489.9 | AC7: 47209015
A8: 12 | B8: 7 | C8: 1 | D8: นครพนม | E8: 40840 | F8: วังยาง,รพช. | G8: 9014821.2 | H8: 3150770 | I8: 7718632.5 | J8: 576916.12 | K8: 11446319 | L8: 101681 | M8: 3623218.4 | O8: 941086.3 | P8: 1949909.8 | Q8: 2890996 | R8: 1146040 | S8: 650132.24 | T8: 558040 | U8: 916405.66 | V8: 9824 | W8: 1400754.2 | X8: 0 | Y8: 1219542.2 | Z8: 0 | AA8: 9477.34 | AB8: 5343494.5 | AC8: 38330745
A9: 83 | B9: 8 | C9: 2 | D9: อุดรธานี | E9: 11027 | F9: หนองแสง,รพช. | G9: 22199080 | H9: 6897708.8 | I9: 11706890 | J9: 1123212.2 | K9: 19727810 | L9: 202290 | M9: 4683038.1 | O9: 1653320.5 | P9: 2508361.5 | Q9: 4161682 | R9: 2326575 | S9: 1209914.9 | T9: 102754 | U9: 1813272.3 | V9: 59778 | W9: 1413772 | X9: 0 | Y9: 980006.25 | Z9: 0 | AA9: 76659.28 | AB9: 3642636.4 | AC9: 62599269
A10: 84 | B10: 9 | C10: 2 | D10: อุดรธานี | E10: 11028 | F10: นายูง,รพช. | G10: 16934162 | H10: 8285392 | I10: 14935545 | J10: 1155265.3 | K10: 24376202 | L10: 235483.39 | M10: 5545939.1 | O10: 1818838.8 | P10: 2590125.5 | Q10: 4408964.3 | R10: 3307931.7 | S10: 3390857.1 | T10: 302583 | U10: 1473981.1 | V10: 196297.16 | W10: 2907113.2 | X10: 0 | Y10: 1045296.9 | Z10: 2406.92 | AA10: 81962.12 | AB10: 4630665.9 | AC10: 68839846
A11: 55 | B11: 10 | C11: 2 | D11: หนองคาย | E11: 11044 | F11: ศรีเชียงใหม่,รพช. | G11: 27967542 | H11: 7181608 | I11: 13800641 | J11: 1464396.3 | K11: 22446645 | L11: 206143.91 | M11: 5842049.3 | O11: 2101716.4 | P11: 3424147.8 | Q11: 5525864.2 | R11: 1564634.5 | S11: 2894324.6 | T11: 1323147 | U11: 1383777.4 | V11: 10790 | W11: 2959730.3 | X11: 387555.89 | Y11: 0 | Z11: 0 | AA11: 773997.97 | AB11: 3141021.9 | AC11: 76427224
A12: 47 | B12: 11 | C12: 2 | D12: สกลนคร | E12: 11100 | F12: เต่างอย,รพช. | G12: 19435084 | H12: 7212747.3 | I12: 10529471 | J12: 1207208 | K12: 18949426 | L12: 341873.85 | M12: 3571843.8 | O12: 2154095.5 | P12: 2052713 | Q12: 4206808.5 | R12: 2193208.5 | S12: 1265654.5 | T12: 332982 | U12: 1440871.3 | V12: 50805.24 | W12: 764212.35 | X12: 265868 | Y12: 18158 | Z12: 0 | AA12: 9108.28 | AB12: 3729773.9 | AC12: 56575678
A13: 5 | B13: 12 | C13: 2 | D13: นครพนม | E13: 11107 | F13: นาทม,รพช. | G13: 22032092 | H13: 7989274.1 | I13: 9669551 | J13: 1268188.5 | K13: 18927014 | L13: 133334.5 | M13: 4937598.4 | O13: 2803871.2 | P13: 1904927.9 | Q13: 4708799.2 | R13: 1952140.5 | S13: 1402380.8 | T13: 524440 | U13: 1240839.7 | V13: 77425.44 | W13: 823844.5 | X13: 0 | Y13: 833601.35 | Z13: 0 | AA13: 5251518.7 | AB13: 4717044.4 | AC13: 67562073
... A89: 35 | B89: 88 | C89: 13 | D89: สกลนคร | E89: 10710 | F89: สกลนคร,รพศ. | G89: 4.3976374e+08 | H89: 1.439186e+08 | I89: 2.7773716e+08 | J89: 27781048 | K89: 4.4943681e+08 | L89: 5746182.6 | M89: 4.4613656e+08 | O89: 2.4446284e+08 | P89: 39627619 | Q89: 2.8409046e+08 | R89: 50733399 | S89: 1.0979163e+08 | T89: 65126823 | U89: 47108563 | V89: 672406.77 | W89: 3938406.7 | X89: 0 | Y89: 1845211.6 | Z89: 1747.05 | AA89: 8626967.6 | AB89: 1.1394896e+08 | AC89: 2.0269679e+09

Sheet 8.คำนวณ
M1: รายได้(บาท)/ปชก. | U1: New Factor | Y1: รวมค่าใช้จ่าย/RW
A2: รหัส | B2: ลำดับเรียงตามงบทดลอง | C2: ลำดับเรียงตามจัดกลุ่ม | D2: กลุ่มที่ | E2: จังหวัด | F2: รหัส | G2: หน่วยบริการ | H2: ประชากรทั้งหมด | I2: สิทธิ UC | J2: สิทธิประกันสังคม | K2: สิทธิข้าราชการ | L2: สิทธิอื่นๆ | M2: เหมาจ่ายรายหัว UC | N2: เรียกเก็บUC/กองทุนUC/EMS | O2: ประกันสังคม | P2: ข้าราชการ | Q2: พรบ. | R2: ชำระเงินเอง | S2: งบบุคลากร | V2: OP Visit รวม | W2: AdjRWรวม | X2: ค่า Adj.RW รวม quick method | Y2: บุคลากรรวม | Z2: ค่าฝึกอบรม | AA2: ยาใช้ไป | AB2: วัสดุการแพทย์ | AC2: วัสดุวิทยาศาสตร์ | AD2: วัสดุอื่น | AE2: ซ่อมแซม/จ้างเหมา | AF2: จ้างตรวจLAB | AG2: ค่าสาธารณูปโภค | AH2: ค่าใช้สอยอื่นๆ | AI2: ค่าใช้จ่ายอื่นๆ
A3: 11016 | B3: 72 | C3: 1 | D3: 1 | E3: อุดรธานี | F3: 11016 | G3: ห้วยเกิ้ง,รพช. | H3: =+DATA!G5 -> 5185 | I3: =+DATA!H5 -> 4063 | J3: =+DATA!I5 -> 104 | K3: =+DATA!J5 -> 113 | L3: =+DATA!K5 -> 905 | M3: =+'6.รายรับ'!G4/I3 -> 1118.4247 | N3: =+('6.รายรับ'!H4+'6.รายรับ'!I4+'6.รายรับ'!J4)/I3 -> 617.11776 | O3: =+'6.รายรับ'!K4/'8.คำนวณ'!J3 -> 2551.625 | P3: =+'6.รายรับ'!L4/'8.คำนวณ'!K3 -> 47538.447 | Q3: =+'6.รายรับ'!M4/'8.คำนวณ'!H3 -> 16.28081 | R3: =+'6.รายรับ'!Q4/'8.คำนวณ'!H3 -> 68.966827 | S3: =+'6.รายรับ'!V4/'8.คำนวณ'!I3 -> 2582.6952 | U3: =+'2.Hosp. Group'!L4 -> 21 | V3: =+DATA!L5 -> 20582 | W3: =+DATA!M5 -> 358.151 | X3: =+(V3/U3)+W3 -> 1338.2462 | Y3: =+('7.รายจ่าย'!G2+'7.รายจ่าย'!K2)/'8.คำนวณ'!X3 -> 14996.929 | Z3: =+'7.รายจ่าย'!L2/'8.คำนวณ'!X3 -> 90.844522 | AA3: =+'7.รายจ่าย'!M2/'8.คำนวณ'!X3 -> 2271.1947 | AB3: =+'7.รายจ่าย'!O2/'8.คำนวณ'!X3 -> 347.75063 | AC3: =+'7.รายจ่าย'!P2/'8.คำนวณ'!X3 -> 11.761662 | AD3: =+'7.รายจ่าย'!R2/'8.คำนวณ'!X3 -> 584.29051 | AE3: =+'7.รายจ่าย'!S2/'8.คำนวณ'!X3 -> 3014.6505 | AF3: =+'7.รายจ่าย'!T2/'8.คำนวณ'!X3 -> 482.41122 | AG3: =+'7.รายจ่าย'!U2/'8.คำนวณ'!X3 -> 816.97915 | AH3: =+'7.รายจ่าย'!V2/'8.คำนวณ'!X3 -> 65.718541 | AI3: =+'7.รายจ่าย'!Y2/'8.คำนวณ'!X3 -> 1602.1329
A4: 11094 | B4: 25 | C4: 2 | D4: 1 | E4: เลย | F4: 11033 | G4: นาแห้ว,รพช. | H4: =+DATA!G6 -> 11706 | I4: =+DATA!H6 -> 8768 | J4: =+DATA!I6 -> 267 | K4: =+DATA!J6 -> 658 | L4: =+DATA!K6 -> 2013 | M4: =+'6.รายรับ'!G5/I4 -> 1834.7686 | N4: =+('6.รายรับ'!H5+'6.รายรับ'!I5+'6.รายรับ'!J5)/I4 -> 1248.5412 | O4: =+'6.รายรับ'!K5/'8.คำนวณ'!J4 -> 2513.0581 | P4: =+'6.รายรับ'!L5/'8.คำนวณ'!K4 -> 4773.1354 | Q4: =+'6.รายรับ'!M5/'8.คำนวณ'!H4 -> 14.816718 | R4: =+'6.รายรับ'!Q5/'8.คำนวณ'!H4 -> 98.261832 | S4: =+'6.รายรับ'!V5/'8.คำนวณ'!I4 -> 1907.6561 | U4: =+'2.Hosp. Group'!L5 -> 21 | V4: =+DATA!L6 -> 29861 | W4: =+DATA!M6 -> 888.942 | X4: =+(V4/U4)+W4 -> 2310.8944 | Y4: =+('7.รายจ่าย'!G3+'7.รายจ่าย'!K3)/'8.คำนวณ'!X4 -> 14781.232 | Z4: =+'7.รายจ่าย'!L3/'8.คำนวณ'!X4 -> 140.72766 | AA4: =+'7.รายจ่าย'!M3/'8.คำนวณ'!X4 -> 1486.4685 | AB4: =+'7.รายจ่าย'!O3/'8.คำนวณ'!X4 -> 437.11061 | AC4: =+'7.รายจ่าย'!P3/'8.คำนวณ'!X4 -> 875.98062 | AD4: =+'7.รายจ่าย'!R3/'8.คำนวณ'!X4 -> 1070.8465 | AE4: =+'7.รายจ่าย'!S3/'8.คำนวณ'!X4 -> 1977.7984 | AF4: =+'7.รายจ่าย'!T3/'8.คำนวณ'!X4 -> 118.73126 | AG4: =+'7.รายจ่าย'!U3/'8.คำนวณ'!X4 -> 386.37601 | AH4: =+'7.รายจ่าย'!V3/'8.คำนวณ'!X4 -> 172.97546 | AI4: =+'7.รายจ่าย'!Y3/'8.คำนวณ'!X4 -> 245.37069
A5: 28778 | B5: 20 | C5: 3 | D5: 1 | E5: บึงกาฬ | F5: 11050 | G5: บุ่งคล้า,รพช. | H5: =+DATA!G7 -> 14045 | I5: =+DATA!H7 -> 11241 | J5: =+DATA!I7 -> 405 | K5: =+DATA!J7 -> 792 | L5: =+DATA!K7 -> 1607 | M5: =+'6.รายรับ'!G6/I5 -> 1677.1246 | N5: =+('6.รายรับ'!H6+'6.รายรับ'!I6+'6.รายรับ'!J6)/I5 -> 666.97251 | O5: =+'6.รายรับ'!K6/'8.คำนวณ'!J5 -> 1546.1876 | P5: =+'6.รายรับ'!L6/'8.คำนวณ'!K5 -> 4949.3772 | Q5: =+'6.รายรับ'!M6/'8.คำนวณ'!H5 -> 9.5743325 | R5: =+'6.รายรับ'!Q6/'8.คำนวณ'!H5 -> 93.358562 | S5: =+'6.รายรับ'!V6/'8.คำนวณ'!I5 -> 1481.0285 | U5: =+'2.Hosp. Group'!L6 -> 21 | V5: =+DATA!L7 -> 34328 | W5: =+DATA!M7 -> 698.88 | X5: =+(V5/U5)+W5 -> 2333.5467 | Y5: =+('7.รายจ่าย'!G4+'7.รายจ่าย'!K4)/'8.คำนวณ'!X5 -> 14436.883 | Z5: =+'7.รายจ่าย'!L4/'8.คำนวณ'!X5 -> 57.195736 | AA5: =+'7.รายจ่าย'!M4/'8.คำนวณ'!X5 -> 1509.5686 | AB5: =+'7.รายจ่าย'!O4/'8.คำนวณ'!X5 -> 427.46528 | AC5: =+'7.รายจ่าย'!P4/'8.คำนวณ'!X5 -> 679.52787 | AD5: =+'7.รายจ่าย'!R4/'8.คำนวณ'!X5 -> 595.00055 | AE5: =+'7.รายจ่าย'!S4/'8.คำนวณ'!X5 -> 451.907 | AF5: =+'7.รายจ่าย'!T4/'8.คำนวณ'!X5 -> 287.09432 | AG5: =+'7.รายจ่าย'!U4/'8.คำนวณ'!X5 -> 419.74876 | AH5: =+'7.รายจ่าย'!V4/'8.คำนวณ'!X5 -> 20.522774 | AI5: =+'7.รายจ่าย'!Y4/'8.คำนวณ'!X5 -> 739.46233
A6: 40840 | B6: 41 | C6: 4 | D6: 1 | E6: สกลนคร | F6: 11094 | G6: นิคมน้ำอูน,รพช. | H6: =+DATA!G8 -> 14869 | I6: =+DATA!H8 -> 10820 | J6: =+DATA!I8 -> 567 | K6: =+DATA!J8 -> 622 | L6: =+DATA!K8 -> 2860 | M6: =+'6.รายรับ'!G7/I6 -> 1100.9137 | N6: =+('6.รายรับ'!H7+'6.รายรับ'!I7+'6.รายรับ'!J7)/I6 -> 502.87934 | O6: =+'6.รายรับ'!K7/'8.คำนวณ'!J6 -> 669.83824 | P6: =+'6.รายรับ'!L7/'8.คำนวณ'!K6 -> 4564.0953 | Q6: =+'6.รายรับ'!M7/'8.คำนวณ'!H6 -> 8.9602529 | R6: =+'6.รายรับ'!Q7/'8.คำนวณ'!H6 -> 33.162116 | S6: =+'6.รายรับ'!V7/'8.คำนวณ'!I6 -> 1423.3314 | U6: =+'2.Hosp. Group'!L7 -> 21 | V6: =+DATA!L8 -> 28137 | W6: =+DATA!M8 -> 549.912 | X6: =+(V6/U6)+W6 -> 1889.7691 | Y6: =+('7.รายจ่าย'!G5+'7.รายจ่าย'!K5)/'8.คำนวณ'!X6 -> 15987.254 | Z6: =+'7.รายจ่าย'!L5/'8.คำนวณ'!X6 -> 40.607606 | AA6: =+'7.รายจ่าย'!M5/'8.คำนวณ'!X6 -> 1407.8188 | AB6: =+'7.รายจ่าย'!O5/'8.คำนวณ'!X6 -> 476.99364 | AC6: =+'7.รายจ่าย'!P5/'8.คำนวณ'!X6 -> 768.08176 | AD6: =+'7.รายจ่าย'!R5/'8.คำนวณ'!X6 -> 1129.8827 | AE6: =+'7.รายจ่าย'!S5/'8.คำนวณ'!X6 -> 2354.8165 | AF6: =+'7.รายจ่าย'!T5/'8.คำนวณ'!X6 -> 237.63511 | AG6: =+'7.รายจ่าย'!U5/'8.คำนวณ'!X6 -> 433.32237 | AH6: =+'7.รายจ่าย'!V5/'8.คำนวณ'!X6 -> 33.033649 | AI6: =+'7.รายจ่าย'!Y5/'8.คำนวณ'!X6 -> 179.91616
A7: 11033 | B7: 88 | C7: 5 | D7: 1 | E7: อุดรธานี | F7: 25059 | G7: ประจักษ์ศิลปาคม,รพช. | H7: =+DATA!G9 -> 25442 | I7: =+DATA!H9 -> 19069 | J7: =+DATA!I9 -> 1666 | K7: =+DATA!J9 -> 714 | L7: =+DATA!K9 -> 3993 | M7: =+'6.รายรับ'!G8/I7 -> 1259.6832 | N7: =+('6.รายรับ'!H8+'6.รายรับ'!I8+'6.รายรับ'!J8)/I7 -> 385.36154 | O7: =+'6.รายรับ'!K8/'8.คำนวณ'!J7 -> 565.38409 | P7: =+'6.รายรับ'!L8/'8.คำนวณ'!K7 -> 3532.9476 | Q7: =+'6.รายรับ'!M8/'8.คำนวณ'!H7 -> 14.376893 | R7: =+'6.รายรับ'!Q8/'8.คำนวณ'!H7 -> 45.755212 | S7: =+'6.รายรับ'!V8/'8.คำนวณ'!I7 -> 629.28154 | U7: =+'2.Hosp. Group'!L8 -> 21 | V7: =+DATA!L9 -> 40865 | W7: =+DATA!M9 -> 1004.17 | X7: =+(V7/U7)+W7 -> 2950.1224 | Y7: =+('7.รายจ่าย'!G6+'7.รายจ่าย'!K6)/'8.คำนวณ'!X7 -> 9412.1347 | Z7: =+'7.รายจ่าย'!L6/'8.คำนวณ'!X7 -> 69.79541 | AA7: =+'7.รายจ่าย'!M6/'8.คำนวณ'!X7 -> 1366.5161 | AB7: =+'7.รายจ่าย'!O6/'8.คำนวณ'!X7 -> 571.00676 | AC7: =+'7.รายจ่าย'!P6/'8.คำนวณ'!X7 -> 831.6467 | AD7: =+'7.รายจ่าย'!R6/'8.คำนวณ'!X7 -> 414.27099 | AE7: =+'7.รายจ่าย'!S6/'8.คำนวณ'!X7 -> 582.78586 | AF7: =+'7.รายจ่าย'!T6/'8.คำนวณ'!X7 -> 160.40267 | AG7: =+'7.รายจ่าย'!U6/'8.คำนวณ'!X7 -> 455.10076 | AH7: =+'7.รายจ่าย'!V6/'8.คำนวณ'!X7 -> 11.014621 | AI7: =+'7.รายจ่าย'!Y6/'8.คำนวณ'!X7 -> 424.26249
A8: 11050 | B8: 59 | C8: 6 | D8: 1 | E8: หนองคาย | F8: 28778 | G8: โพธิ์ตาก,รพช. | H8: =+DATA!G10 -> 15230 | I8: =+DATA!H10 -> 12022 | J8: =+DATA!I10 -> 216 | K8: =+DATA!J10 -> 805 | L8: =+DATA!K10 -> 2187 | M8: =+'6.รายรับ'!G9/I8 -> 1067.6634 | N8: =+('6.รายรับ'!H9+'6.รายรับ'!I9+'6.รายรับ'!J9)/I8 -> 301.15026 | O8: =+'6.รายรับ'!K9/'8.คำนวณ'!J8 -> 1817.9618 | P8: =+'6.รายรับ'!L9/'8.คำนวณ'!K8 -> 3431.1782 | Q8: =+'6.รายรับ'!M9/'8.คำนวณ'!H8 -> 25.385949 | R8: =+'6.รายรับ'!Q9/'8.คำนวณ'!H8 -> 74.674787 | S8: =+'6.รายรับ'!V9/'8.คำนวณ'!I8 -> 943.69658 | U8: =+'2.Hosp. Group'!L9 -> 21 | V8: =+DATA!L10 -> 29446 | W8: =+DATA!M10 -> 665.093 | X8: =+(V8/U8)+W8 -> 2067.2835 | Y8: =+('7.รายจ่าย'!G7+'7.รายจ่าย'!K7)/'8.คำนวณ'!X8 -> 13427.269 | Z8: =+'7.รายจ่าย'!L7/'8.คำนวณ'!X8 -> 77.030558 | AA8: =+'7.รายจ่าย'!M7/'8.คำนวณ'!X8 -> 1312.1642 | AB8: =+'7.รายจ่าย'!O7/'8.คำนวณ'!X8 -> 749.34273 | AC8: =+'7.รายจ่าย'!P7/'8.คำนวณ'!X8 -> 879.08231 | AD8: =+'7.รายจ่าย'!R7/'8.คำนวณ'!X8 -> 689.34212 | AE8: =+'7.รายจ่าย'!S7/'8.คำนวณ'!X8 -> 941.39877 | AF8: =+'7.รายจ่าย'!T7/'8.คำนวณ'!X8 -> 249.49167 | AG8: =+'7.รายจ่าย'!U7/'8.คำนวณ'!X8 -> 337.38135 | AH8: =+'7.รายจ่าย'!V7/'8.คำนวณ'!X8 -> 71.942103 | AI8: =+'7.รายจ่าย'!Y7/'8.คำนวณ'!X8 -> 14.318307
A9: 25059 | B9: 12 | C9: 7 | D9: 1 | E9: นครพนม | F9: 40840 | G9: วังยาง,รพช. | H9: =+DATA!G11 -> 15621 | I9: =+DATA!H11 -> 11638 | J9: =+DATA!I11 -> 184 | K9: =+DATA!J11 -> 104 | L9: =+DATA!K11 -> 3695 | M9: =+'6.รายรับ'!G10/I9 -> 1496.8404 | N9: =+('6.รายรับ'!H10+'6.รายรับ'!I10+'6.รายรับ'!J10)/I9 -> 350.91934 | O9: =+'6.รายรับ'!K10/'8.คำนวณ'!J9 -> 1783.3946 | P9: =+'6.รายรับ'!L10/'8.คำนวณ'!K9 -> 17938.299 | Q9: =+'6.รายรับ'!M10/'8.คำนวณ'!H9 -> 7.6920812 | R9: =+'6.รายรับ'!Q10/'8.คำนวณ'!H9 -> 28.561776 | S9: =+'6.รายรับ'!V10/'8.คำนวณ'!I9 -> 774.60227 | U9: =+'2.Hosp. Group'!L10 -> 21 | V9: =+DATA!L11 -> 34271 | W9: =+DATA!M11 -> 686.531 | X9: =+(V9/U9)+W9 -> 2318.4834 | Y9: =+('7.รายจ่าย'!G8+'7.รายจ่าย'!K8)/'8.คำนวณ'!X9 -> 8825.226 | Z9: =+'7.รายจ่าย'!L8/'8.คำนวณ'!X9 -> 43.856687 | AA9: =+'7.รายจ่าย'!M8/'8.คำนวณ'!X9 -> 1562.7537 | AB9: =+'7.รายจ่าย'!O8/'8.คำนวณ'!X9 -> 405.90599 | AC9: =+'7.รายจ่าย'!P8/'8.คำนวณ'!X9 -> 841.02813 | AD9: =+'7.รายจ่าย'!R8/'8.คำนวณ'!X9 -> 494.30589 | AE9: =+'7.รายจ่าย'!S8/'8.คำนวณ'!X9 -> 280.41272 | AF9: =+'7.รายจ่าย'!T8/'8.คำนวณ'!X9 -> 240.69183 | AG9: =+'7.รายจ่าย'!U8/'8.คำนวณ'!X9 -> 395.26083 | AH9: =+'7.รายจ่าย'!V8/'8.คำนวณ'!X9 -> 4.2372527 | AI9: =+'7.รายจ่าย'!Y8/'8.คำนวณ'!X9 -> 526.0086
A10: 11107 | B10: 83 | C10: 8 | D10: 2 | E10: อุดรธานี | F10: 11027 | G10: หนองแสง,รพช. | H10: =+DATA!G12 -> 27187 | I10: =+DATA!H12 -> 21043 | J10: =+DATA!I12 -> 605 | K10: =+DATA!J12 -> 840 | L10: =+DATA!K12 -> 4699 | M10: =+'6.รายรับ'!G11/I10 -> 1116.6656 | N10: =+('6.รายรับ'!H11+'6.รายรับ'!I11+'6.รายรับ'!J11)/I10 -> 356.0055 | O10: =+'6.รายรับ'!K11/'8.คำนวณ'!J10 -> 1632.8784 | P10: =+'6.รายรับ'!L11/'8.คำนวณ'!K10 -> 3167.6071 | Q10: =+'6.รายรับ'!M11/'8.คำนวณ'!H10 -> 9.7949755 | R10: =+'6.รายรับ'!Q11/'8.คำนวณ'!H10 -> 39.961489 | S10: =+'6.รายรับ'!V11/'8.คำนวณ'!I10 -> 1052.9334 | U10: =+'2.Hosp. Group'!L11 -> 21 | V10: =+DATA!L12 -> 57415 | W10: =+DATA!M12 -> 1192.77 | X10: =+(V10/U10)+W10 -> 3926.8176 | Y10: =+('7.รายจ่าย'!G9+'7.รายจ่าย'!K9)/'8.คำนวณ'!X10 -> 10677.066 | Z10: =+'7.รายจ่าย'!L9/'8.คำนวณ'!X10 -> 51.514998 | AA10: =+'7.รายจ่าย'!M9/'8.คำนวณ'!X10 -> 1192.5785 | AB10: =+'7.รายจ่าย'!O9/'8.คำนวณ'!X10 -> 421.03319 | AC10: =+'7.รายจ่าย'!P9/'8.คำนวณ'!X10 -> 638.77718 | AD10: =+'7.รายจ่าย'!R9/'8.คำนวณ'!X10 -> 592.4836 | AE10: =+'7.รายจ่าย'!S9/'8.คำนวณ'!X10 -> 308.11589 | AF10: =+'7.รายจ่าย'!T9/'8.คำนวณ'!X10 -> 26.167245 | AG10: =+'7.รายจ่าย'!U9/'8.คำนวณ'!X10 -> 461.76636 | AH10: =+'7.รายจ่าย'!V9/'8.คำนวณ'!X10 -> 15.223014 | AI10: =+'7.รายจ่าย'!Y9/'8.คำนวณ'!X10 -> 249.56755
A11: 25058 | B11: 84 | C11: 9 | D11: 2 | E11: อุดรธานี | F11: 11028 | G11: นายูง,รพช. | H11: =+DATA!G13 -> 28676 | I11: =+DATA!H13 -> 23638 | J11: =+DATA!I13 -> 731 | K11: =+DATA!J13 -> 749 | L11: =+DATA!K13 -> 3558 | M11: =+'6.รายรับ'!G12/I11 -> 1318.1772 | N11: =+('6.รายรับ'!H12+'6.รายรับ'!I12+'6.รายรับ'!J12)/I11 -> 386.44856 | O11: =+'6.รายรับ'!K12/'8.คำนวณ'!J11 -> 1059.1857 | P11: =+'6.รายรับ'!L12/'8.คำนวณ'!K11 -> 3308.1873 | Q11: =+'6.รายรับ'!M12/'8.คำนวณ'!H11 -> 11.234342 | R11: =+'6.รายรับ'!Q12/'8.คำนวณ'!H11 -> 34.753399 | S11: =+'6.รายรับ'!V12/'8.คำนวณ'!I11 -> 716.65753 | U11: =+'2.Hosp. Group'!L12 -> 21 | V11: =+DATA!L13 -> 46838 | W11: =+DATA!M13 -> 1654.72 | X11: =+(V11/U11)+W11 -> 3885.101 | Y11: =+('7.รายจ่าย'!G10+'7.รายจ่าย'!K10)/'8.คำนวณ'!X11 -> 10633.022 | Z11: =+'7.รายจ่าย'!L10/'8.คำนวณ'!X11 -> 60.61191 | AA11: =+'7.รายจ่าย'!M10/'8.คำนวณ'!X11 -> 1427.4891 | AB11: =+'7.รายจ่าย'!O10/'8.คำนวณ'!X11 -> 468.15741 | AC11: =+'7.รายจ่าย'!P10/'8.คำนวณ'!X11 -> 666.68165 | AD11: =+'7.รายจ่าย'!R10/'8.คำนวณ'!X11 -> 851.44034 | AE11: =+'7.รายจ่าย'!S10/'8.คำนวณ'!X11 -> 872.78481 | AF11: =+'7.รายจ่าย'!T10/'8.คำนวณ'!X11 -> 77.882918 | AG11: =+'7.รายจ่าย'!U10/'8.คำนวณ'!X11 -> 379.39326 | AH11: =+'7.รายจ่าย'!V10/'8.คำนวณ'!X11 -> 50.525627 | AI11: =+'7.รายจ่าย'!Y10/'8.คำนวณ'!X11 -> 269.05269
A12: 28815 | B12: 55 | C12: 10 | D12: 2 | E12: หนองคาย | F12: 11044 | G12: ศรีเชียงใหม่,รพช. | H12: =+DATA!G14 -> 29755 | I12: =+DATA!H14 -> 23304 | J12: =+DATA!I14 -> 1343 | K12: =+DATA!J14 -> 1372 | L12: =+DATA!K14 -> 3736 | M12: =+'6.รายรับ'!G13/I12 -> 1309.1203 | N12: =+('6.รายรับ'!H13+'6.รายรับ'!I13+'6.รายรับ'!J13)/I12 -> 154.48972 | O12: =+'6.รายรับ'!K13/'8.คำนวณ'!J12 -> 738.97637 | P12: =+'6.รายรับ'!L13/'8.คำนวณ'!K12 -> 3581.2363 | Q12: =+'6.รายรับ'!M13/'8.คำนวณ'!H12 -> 27.32697 | R12: =+'6.รายรับ'!Q13/'8.คำนวณ'!H12 -> 65.385255 | S12: =+'6.รายรับ'!V13/'8.คำนวณ'!I12 -> 1196.966 | U12: =+'2.Hosp. Group'!L13 -> 21 | V12: =+DATA!L14 -> 55487 | W12: =+DATA!M14 -> 1984.83 | X12: =+(V12/U12)+W12 -> 4627.0681 | Y12: =+('7.รายจ่าย'!G11+'7.รายจ่าย'!K11)/'8.คำนวณ'!X12 -> 10895.493 | Z12: =+'7.รายจ่าย'!L11/'8.คำนวณ'!X12 -> 44.551735 | AA12: =+'7.รายจ่าย'!M11/'8.คำนวณ'!X12 -> 1262.5812 | AB12: =+'7.รายจ่าย'!O11/'8.คำนวณ'!X12 -> 454.22206 | AC12: =+'7.รายจ่าย'!P11/'8.คำนวณ'!X12 -> 740.02536 | AD12: =+'7.รายจ่าย'!R11/'8.คำนวณ'!X12 -> 338.14815 | AE12: =+'7.รายจ่าย'!S11/'8.คำนวณ'!X12 -> 625.5202 | AF12: =+'7.รายจ่าย'!T11/'8.คำนวณ'!X12 -> 285.95797 | AG12: =+'7.รายจ่าย'!U11/'8.คำนวณ'!X12 -> 299.0614 | AH12: =+'7.รายจ่าย'!V11/'8.คำนวณ'!X12 -> 2.3319302 | AI12: =+'7.รายจ่าย'!Y11/'8.คำนวณ'!X12 -> 0
A13: 21356 | B13: 47 | C13: 11 | D13: 2 | E13: สกลนคร | F13: 11100 | G13: เต่างอย,รพช. | H13: =+DATA!G15 -> 24290 | I13: =+DATA!H15 -> 17778 | J13: =+DATA!I15 -> 1544 | K13: =+DATA!J15 -> 936 | L13: =+DATA!K15 -> 4032 | M13: =+'6.รายรับ'!G14/I13 -> 1181.2718 | N13: =+('6.รายรับ'!H14+'6.รายรับ'!I14+'6.รายรับ'!J14)/I13 -> 286.90944 | O13: =+'6.รายรับ'!K14/'8.คำนวณ'!J13 -> 623.52651 | P13: =+'6.รายรับ'!L14/'8.คำนวณ'!K13 -> 2967.2877 | Q13: =+'6.รายรับ'!M14/'8.คำนวณ'!H13 -> 15.265706 | R13: =+'6.รายรับ'!Q14/'8.คำนวณ'!H13 -> 48.519586 | S13: =+'6.รายรับ'!V14/'8.คำนวณ'!I13 -> 1092.1975 | U13: =+'2.Hosp. Group'!L14 -> 21 | V13: =+DATA!L15 -> 44666 | W13: =+DATA!M15 -> 1158.75 | X13: =+(V13/U13)+W13 -> 3285.7024 | Y13: =+('7.รายจ่าย'!G12+'7.รายจ่าย'!K12)/'8.คำนวณ'!X13 -> 11682.284 | Z13: =+'7.รายจ่าย'!L12/'8.คำนวณ'!X13 -> 104.04894 | AA13: =+'7.รายจ่าย'!M12/'8.คำนวณ'!X13 -> 1087.0868 | AB13: =+'7.รายจ่าย'!O12/'8.คำนวณ'!X13 -> 655.59666 | AC13: =+'7.รายจ่าย'!P12/'8.คำนวณ'!X13 -> 624.74101 | AD13: =+'7.รายจ่าย'!R12/'8.คำนวณ'!X13 -> 667.50064 | AE13: =+'7.รายจ่าย'!S12/'8.คำนวณ'!X13 -> 385.2006 | AF13: =+'7.รายจ่าย'!T12/'8.คำนวณ'!X13 -> 101.34272 | AG13: =+'7.รายจ่าย'!U12/'8.คำนวณ'!X13 -> 438.52763 | AH13: =+'7.รายจ่าย'!V12/'8.คำนวณ'!X13 -> 15.46252 | AI13: =+'7.รายจ่าย'!Y12/'8.คำนวณ'!X13 -> 5.5263678
A14: 11028 | B14: 5 | C14: 12 | D14: 2 | E14: นครพนม | F14: 11107 | G14: นาทม,รพช. | H14: =+DATA!G16 -> 23716 | I14: =+DATA!H16 -> 17669 | J14: =+DATA!I16 -> 1155 | K14: =+DATA!J16 -> 865 | L14: =+DATA!K16 -> 4027 | M14: =+'6.รายรับ'!G15/I14 -> 1526.8981 | N14: =+('6.รายรับ'!H15+'6.รายรับ'!I15+'6.รายรับ'!J15)/I14 -> 452.04487 | O14: =+'6.รายรับ'!K15/'8.คำนวณ'!J14 -> 323.91558 | P14: =+'6.รายรับ'!L15/'8.คำนวณ'!K14 -> 2733.3076 | Q14: =+'6.รายรับ'!M15/'8.คำนวณ'!H14 -> 10.75331 | R14: =+'6.รายรับ'!Q15/'8.คำนวณ'!H14 -> 31.221939 | S14: =+'6.รายรับ'!V15/'8.คำนวณ'!I14 -> 1246.9888 | U14: =+'2.Hosp. Group'!L15 -> 21 | V14: =+DATA!L16 -> 46986 | W14: =+DATA!M16 -> 1019.95 | X14: =+(V14/U14)+W14 -> 3257.3786 | Y14: =+('7.รายจ่าย'!G13+'7.รายจ่าย'!K13)/'8.คำนวณ'!X14 -> 12574.254 | Z14: =+'7.รายจ่าย'!L13/'8.คำนวณ'!X14 -> 40.933068 | AA14: =+'7.รายจ่าย'!M13/'8.คำนวณ'!X14 -> 1515.8196 | AB14: =+'7.รายจ่าย'!O13/'8.คำนวณ'!X14 -> 860.77537 | AC14: =+'7.รายจ่าย'!P13/'8.คำนวณ'!X14 -> 584.80398 | AD14: =+'7.รายจ่าย'!R13/'8.คำนวณ'!X14 -> 599.29801 | AE14: =+'7.รายจ่าย'!S13/'8.คำนวณ'!X14 -> 430.52434 | AF14: =+'7.รายจ่าย'!T13/'8.คำนวณ'!X14 -> 161.00063 | AG14: =+'7.รายจ่าย'!U13/'8.คำนวณ'!X14 -> 380.932 | AH14: =+'7.รายจ่าย'!V13/'8.คำนวณ'!X14 -> 23.769248 | AI14: =+'7.รายจ่าย'!Y13/'8.คำนวณ'!X14 -> 255.91172
... A90: 10671 | B90: 35 | C90: 88 | D90: 13 | E90: สกลนคร | F90: 10710 | G90: สกลนคร,รพศ. | H90: =+DATA!G92 -> 193882 | I90: =+DATA!H92 -> 142594 | J90: =+DATA!I92 -> 18624 | K90: =+DATA!J92 -> 14222 | L90: =+DATA!K92 -> 18442 | M90: =+'6.รายรับ'!G91/I90 -> 5277.0337 | N90: =+('6.รายรับ'!H91+'6.รายรับ'!I91+'6.รายรับ'!J91)/I90 -> 3578.1542 | O90: =+'6.รายรับ'!K91/'8.คำนวณ'!J90 -> 8367.805 | P90: =+'6.รายรับ'!L91/'8.คำนวณ'!K90 -> 30104.94 | Q90: =+'6.รายรับ'!M91/'8.คำนวณ'!H90 -> 173.5937 | R90: =+'6.รายรับ'!Q91/'8.คำนวณ'!H90 -> 520.90121 | S90: =+'6.รายรับ'!V91/'8.คำนวณ'!I90 -> 2879.0262 | U90: =+'2.Hosp. Group'!L91 -> 14 | V90: =+DATA!L92 -> 543164 | W90: =+DATA!M92 -> 91987.5 | X90: =+(V90/U90)+W90 -> 130784.93 | Y90: =+('7.รายจ่าย'!G89+'7.รายจ่าย'!K89)/'8.คำนวณ'!X90 -> 6798.9527 | Z90: =+'7.รายจ่าย'!L89/'8.คำนวณ'!X90 -> 43.936122 | AA90: =+'7.รายจ่าย'!M89/'8.คำนวณ'!X90 -> 3411.223 | AB90: =+'7.รายจ่าย'!O89/'8.คำนวณ'!X90 -> 1869.1974 | AC90: =+'7.รายจ่าย'!P89/'8.คำนวณ'!X90 -> 302.99836 | AD90: =+'7.รายจ่าย'!R89/'8.คำนวณ'!X90 -> 387.91472 | AE90: =+'7.รายจ่าย'!S89/'8.คำนวณ'!X90 -> 839.48227 | AF90: =+'7.รายจ่าย'!T89/'8.คำนวณ'!X90 -> 497.96887 | AG90: =+'7.รายจ่าย'!U89/'8.คำนวณ'!X90 -> 360.19871 | AH90: =+'7.รายจ่าย'!V89/'8.คำนวณ'!X90 -> 5.1413169 | AI90: =+'7.รายจ่าย'!Y89/'8.คำนวณ'!X90 -> 14.108748

Sheet 9.รายได้(แยกกลุ่ม)
B1: ตารางที่ 1 เปรียบเทียบ รายได้ (บาท/ประชากร) ของโรงพยาบาลในเขตสุขภาพที่ 8 แยกตามกลุ่ม ณ ไตรมาส 2 ปี 2567 | J1: ตารางที่ 2 ร้อยละ ของรายได้ (บาท/ประชากร) ที่สูง-ต่ำกว่าค่าเฉลี่ยกลุ่ม ของโรงพยาบาลในเขตสุขภาพที่ 8 ณ ไตรมาส 1 ปี 2567 | R1: ตารางที่ 2 ร้อยละ ของรายได้ (บาท/ประชากร) ที่สูง-ต่ำกว่าค่าเฉลี่ยกลุ่ม ของโรงพยาบาลในเขตสุขภาพที่ 8 ณ ไตรมาส 2 ปี 2567 | Z1: ตารางที่ 3 รายได้ (บาท/ประชากร)เทียบกับค่า Mean-1SD ของกลุ่ม ของโรงพยาบาลในเขตสุขภาพที่ 8 ณ ไตรมาส 2 ปี 2567
B2: กลุ่ม 1 | C2: รายได้(บาท)/ปชก. | J2: กลุ่ม 1 | K2: %diff ค่าเฉลี่ย/ปชก. | R2: กลุ่ม 1 | S2: %diff ค่าเฉลี่ย/ปชก. | Z2: กลุ่ม 1 | AA2: >Mean-1SD
C3: เหมาจ่ายรายหัว UC | D3: เรียกเก็บUC/กองทุนUC/EMS | E3: ประกันสังคม | F3: ข้าราชการ | G3: พรบ. | H3: ชำระเงินเอง | I3: งบบุคลากร | K3: เหมาจ่ายรายหัว UC | L3: เรียกเก็บUC/กองทุนUC/EMS | M3: ประกันสังคม | N3: ข้าราชการ | O3: พรบ. | P3: ชำระเงินเอง | Q3: งบบุคลากร | S3: เหมาจ่ายรายหัว UC | T3: เรียกเก็บUC/กองทุนUC/EMS | U3: ประกันสังคม | V3: ข้าราชการ | W3: พรบ. | X3: ชำระเงินเอง | Y3: งบบุคลากร | AA3: เหมาจ่ายรายหัว UC | AB3: เรียกเก็บUC/กองทุนUC/EMS | AC3: ประกันสังคม | AD3: ข้าราชการ | AE3: พรบ. | AF3: ชำระเงินเอง | AG3: งบบุคลากร
A4: อุดรธานี | B4: =+'8.คำนวณ'!G3 -> ห้วยเกิ้ง,รพช. | C4: =+'8.คำนวณ'!M3 -> 1118.4247 | D4: =+'8.คำนวณ'!N3 -> 617.11776 | E4: =+'8.คำนวณ'!O3 -> 2551.625 | F4: =+'8.คำนวณ'!P3 -> 47538.447 | G4: =+'8.คำนวณ'!Q3 -> 16.28081 | H4: =+'8.คำนวณ'!R3 -> 68.966827 | I4: =+'8.คำนวณ'!S3 -> 2582.6952 | J4: =+B4 -> ห้วยเกิ้ง,รพช. | K4: =+(C4-C11)*100/C11 -> -18.067713 | L4: =+(D4-D11)*100/D11 -> 6.0615244 | M4: =+(E4-E11)*100/E11 -> 56.0293 | N4: =+(F4-F11)*100/F11 -> 283.69514 | O4: =+(G4-G11)*100/G11 -> 17.385055 | P4: =+(H4-H11)*100/H11 -> 9.0406515 | Q4: =+(I4-I11)*100/I11 -> 85.570987 | R4: =+J4 -> ห้วยเกิ้ง,รพช. | S4: =+K4/100 -> -0.18067713 | T4: =+L4/100 -> 0.060615244 | U4: =+M4/100 -> 0.560293 | V4: =+N4/100 -> 2.8369514 | W4: =+O4/100 -> 0.17385055 | X4: =+P4/100 -> 0.090406515 | Y4: =+Q4/100 -> 0.85570987 | Z4: =+R4 -> ห้วยเกิ้ง,รพช. | AA4: =+IF(AND(C4>C13),"OK","Not OK") -> OK | AB4: =+IF(AND(D4>D13),"OK","Not OK") -> OK | AC4: =+IF(AND(E4>E13),"OK","Not OK") -> OK | AD4: =+IF(AND(F4>F13),"OK","Not OK") -> OK | AE4: =+IF(AND(G4>G13),"OK","Not OK") -> OK | AF4: =+IF(AND(H4>H13),"OK","Not OK") -> OK | AG4: =+IF(AND(I4>I13),"OK","Not OK") -> OK
A5: เลย | B5: =+'8.คำนวณ'!G4 -> นาแห้ว,รพช. | C5: =+'8.คำนวณ'!M4 -> 1834.7686 | D5: =+'8.คำนวณ'!N4 -> 1248.5412 | E5: =+'8.คำนวณ'!O4 -> 2513.0581 | F5: =+'8.คำนวณ'!P4 -> 4773.1354 | G5: =+'8.คำนวณ'!Q4 -> 14.816718 | H5: =+'8.คำนวณ'!R4 -> 98.261832 | I5: =+'8.คำนวณ'!S4 -> 1907.6561 | J5: =+B5 -> นาแห้ว,รพช. | K5: =+(C5-C11)*100/C11 -> 34.409392 | L5: =+(D5-D11)*100/D11 -> 114.58171 | M5: =+(E5-E11)*100/E11 -> 53.67097 | N5: =+(F5-F11)*100/F11 -> -61.474785 | O5: =+(G5-G11)*100/G11 -> 6.8289134 | P5: =+(H5-H11)*100/H11 -> 55.357794 | Q5: =+(I5-I11)*100/I11 -> 37.068293 | R5: =+J5 -> นาแห้ว,รพช. | S5: =+K5/100 -> 0.34409392 | T5: =+L5/100 -> 1.1458171 | U5: =+M5/100 -> 0.5367097 | V5: =+N5/100 -> -0.61474785 | W5: =+O5/100 -> 0.068289134 | X5: =+P5/100 -> 0.55357794 | Y5: =+Q5/100 -> 0.37068293 | Z5: =+R5 -> นาแห้ว,รพช. | AA5: =+IF(AND(C5>C13),"OK","Not OK") -> OK | AB5: =+IF(AND(D5>D13),"OK","Not OK") -> OK | AC5: =+IF(AND(E5>E13),"OK","Not OK") -> OK | AD5: =+IF(AND(F5>F13),"OK","Not OK") -> OK | AE5: =+IF(AND(G5>G13),"OK","Not OK") -> OK | AF5: =+IF(AND(H5>H13),"OK","Not OK") -> OK | AG5: =+IF(AND(I5>I13),"OK","Not OK") -> OK
A6: บึงกาฬ | B6: =+'8.คำนวณ'!G5 -> บุ่งคล้า,รพช. | C6: =+'8.คำนวณ'!M5 -> 1677.1246 | D6: =+'8.คำนวณ'!N5 -> 666.97251 | E6: =+'8.คำนวณ'!O5 -> 1546.1876 | F6: =+'8.คำนวณ'!P5 -> 4949.3772 | G6: =+'8.คำนวณ'!Q5 -> 9.5743325 | H6: =+'8.คำนวณ'!R5 -> 93.358562 | I6: =+'8.คำนวณ'!S5 -> 1481.0285 | J6: =+B6 -> บุ่งคล้า,รพช. | K6: =+(C6-C11)*100/C11 -> 22.860888 | L6: =+(D6-D11)*100/D11 -> 14.629858 | M6: =+(E6-E11)*100/E11 -> -5.4521847 | N6: =+(F6-F11)*100/F11 -> -60.052292 | O6: =+(G6-G11)*100/G11 -> -30.968819 | P6: =+(H6-H11)*100/H11 -> 47.605433 | Q6: =+(I6-I11)*100/I11 -> 6.4143817 | R6: =+J6 -> บุ่งคล้า,รพช. | S6: =+K6/100 -> 0.22860888 | T6: =+L6/100 -> 0.14629858 | U6: =+M6/100 -> -0.054521847 | V6: =+N6/100 -> -0.60052292 | W6: =+O6/100 -> -0.30968819 | X6: =+P6/100 -> 0.47605433 | Y6: =+Q6/100 -> 0.064143817 | Z6: =+R6 -> บุ่งคล้า,รพช. | AA6: =+IF(AND(C6>C13),"OK","Not OK") -> OK | AB6: =+IF(AND(D6>D13),"OK","Not OK") -> OK | AC6: =+IF(AND(E6>E13),"OK","Not OK") -> OK | AD6: =+IF(AND(F6>F13),"OK","Not OK") -> OK | AE6: =+IF(AND(G6>G13),"OK","Not OK") -> OK | AF6: =+IF(AND(H6>H13),"OK","Not OK") -> OK | AG6: =+IF(AND(I6>I13),"OK","Not OK") -> OK
A7: สกลนคร | B7: =+'8.คำนวณ'!G6 -> นิคมน้ำอูน,รพช. | C7: =+'8.คำนวณ'!M6 -> 1100.9137 | D7: =+'8.คำนวณ'!N6 -> 502.87934 | E7: =+'8.คำนวณ'!O6 -> 669.83824 | F7: =+'8.คำนวณ'!P6 -> 4564.0953 | G7: =+'8.คำนวณ'!Q6 -> 8.9602529 | H7: =+'8.คำนวณ'!R6 -> 33.162116 | I7: =+'8.คำนวณ'!S6 -> 1423.3314 | J7: =+B7 -> นิคมน้ำอูน,รพช. | K7: =+(C7-C11)*100/C11 -> -19.350516 | L7: =+(D7-D11)*100/D11 -> -13.572169 | M7: =+(E7-E11)*100/E11 -> -59.040066 | N7: =+(F7-F11)*100/F11 -> -63.162002 | O7: =+(G7-G11)*100/G11 -> -35.396349 | P7: =+(H7-H11)*100/H11 -> -47.568725 | Q7: =+(I7-I11)*100/I11 -> 2.2687475 | R7: =+J7 -> นิคมน้ำอูน,รพช. | S7: =+K7/100 -> -0.19350516 | T7: =+L7/100 -> -0.13572169 | U7: =+M7/100 -> -0.59040066 | V7: =+N7/100 -> -0.63162002 | W7: =+O7/100 -> -0.35396349 | X7: =+P7/100 -> -0.47568725 | Y7: =+Q7/100 -> 0.022687475 | Z7: =+R7 -> นิคมน้ำอูน,รพช. | AA7: =+IF(AND(C7>C13),"OK","Not OK") -> OK | AB7: =+IF(AND(D7>D13),"OK","Not OK") -> OK | AC7: =+IF(AND(E7>E13),"OK","Not OK") -> Not OK | AD7: =+IF(AND(F7>F13),"OK","Not OK") -> OK | AE7: =+IF(AND(G7>G13),"OK","Not OK") -> OK | AF7: =+IF(AND(H7>H13),"OK","Not OK") -> Not OK | AG7: =+IF(AND(I7>I13),"OK","Not OK") -> OK
A8: อุดรธานี | B8: =+'8.คำนวณ'!G7 -> ประจักษ์ศิลปาคม,รพช. | C8: =+'8.คำนวณ'!M7 -> 1259.6832 | D8: =+'8.คำนวณ'!N7 -> 385.36154 | E8: =+'8.คำนวณ'!O7 -> 565.38409 | F8: =+'8.คำนวณ'!P7 -> 3532.9476 | G8: =+'8.คำนวณ'!Q7 -> 14.376893 | H8: =+'8.คำนวณ'!R7 -> 45.755212 | I8: =+'8.คำนวณ'!S7 -> 629.28154 | J8: =+B8 -> ประจักษ์ศิลปาคม,รพช. | K8: =+(C8-C11)*100/C11 -> -7.7195568 | L8: =+(D8-D11)*100/D11 -> -33.769476 | M8: =+(E8-E11)*100/E11 -> -65.427332 | N8: =+(F8-F11)*100/F11 -> -71.484663 | O8: =+(G8-G11)*100/G11 -> 3.6577612 | P8: =+(H8-H11)*100/H11 -> -27.658292 | Q8: =+(I8-I11)*100/I11 -> -54.785065 | R8: =+J8 -> ประจักษ์ศิลปาคม,รพช. | S8: =+K8/100 -> -0.077195568 | T8: =+L8/100 -> -0.33769476 | U8: =+M8/100 -> -0.65427332 | V8: =+N8/100 -> -0.71484663 | W8: =+O8/100 -> 0.036577612 | X8: =+P8/100 -> -0.27658292 | Y8: =+Q8/100 -> -0.54785065 | Z8: =+R8 -> ประจักษ์ศิลปาคม,รพช. | AA8: =+IF(AND(C8>C13),"OK","Not OK") -> OK | AB8: =+IF(AND(D8>D13),"OK","Not OK") -> OK | AC8: =+IF(AND(E8>E13),"OK","Not OK") -> Not OK | AD8: =+IF(AND(F8>F13),"OK","Not OK") -> OK | AE8: =+IF(AND(G8>G13),"OK","Not OK") -> OK | AF8: =+IF(AND(H8>H13),"OK","Not OK") -> OK | AG8: =+IF(AND(I8>I13),"OK","Not OK") -> Not OK
A9: หนองคาย | B9: =+'8.คำนวณ'!G8 -> โพธิ์ตาก,รพช. | C9: =+'8.คำนวณ'!M8 -> 1067.6634 | D9: =+'8.คำนวณ'!N8 -> 301.15026 | E9: =+'8.คำนวณ'!O8 -> 1817.9618 | F9: =+'8.คำนวณ'!P8 -> 3431.1782 | G9: =+'8.คำนวณ'!Q8 -> 25.385949 | H9: =+'8.คำนวณ'!R8 -> 74.674787 | I9: =+'8.คำนวณ'!S8 -> 943.69658 | J9: =+B9 -> โพธิ์ตาก,รพช. | K9: =+(C9-C11)*100/C11 -> -21.78633 | L9: =+(D9-D11)*100/D11 -> -48.242528 | M9: =+(E9-E11)*100/E11 -> 11.166531 | N9: =+(F9-F11)*100/F11 -> -72.30607 | O9: =+(G9-G11)*100/G11 -> 83.033337 | P9: =+(H9-H11)*100/H11 -> 18.065274 | Q9: =+(I9-I11)*100/I11 -> -32.193817 | R9: =+J9 -> โพธิ์ตาก,รพช. | S9: =+K9/100 -> -0.2178633 | T9: =+L9/100 -> -0.48242528 | U9: =+M9/100 -> 0.11166531 | V9: =+N9/100 -> -0.7230607 | W9: =+O9/100 -> 0.83033337 | X9: =+P9/100 -> 0.18065274 | Y9: =+Q9/100 -> -0.32193817 | Z9: =+R9 -> โพธิ์ตาก,รพช. | AA9: =+IF(AND(C9>C13),"OK","Not OK") -> OK | AB9: =+IF(AND(D9>D13),"OK","Not OK") -> OK | AC9: =+IF(AND(E9>E13),"OK","Not OK") -> OK | AD9: =+IF(AND(F9>F13),"OK","Not OK") -> OK | AE9: =+IF(AND(G9>G13),"OK","Not OK") -> OK | AF9: =+IF(AND(H9>H13),"OK","Not OK") -> OK | AG9: =+IF(AND(I9>I13),"OK","Not OK") -> OK
A10: นครพนม | B10: =+'8.คำนวณ'!G9 -> วังยาง,รพช. | C10: =+'8.คำนวณ'!M9 -> 1496.8404 | D10: =+'8.คำนวณ'!N9 -> 350.91934 | E10: =+'8.คำนวณ'!O9 -> 1783.3946 | F10: =+'8.คำนวณ'!P9 -> 17938.299 | G10: =+'8.คำนวณ'!Q9 -> 7.6920812 | H10: =+'8.คำนวณ'!R9 -> 28.561776 | I10: =+'8.คำนวณ'!S9 -> 774.60227 | J10: =+B10 -> วังยาง,รพช. | K10: =+(C10-C11)*100/C11 -> 9.6538367 | L10: =+(D10-D11)*100/D11 -> -39.688918 | M10: =+(E10-E11)*100/E11 -> 9.0527821 | N10: =+(F10-F11)*100/F11 -> 44.784667 | O10: =+(G10-G11)*100/G11 -> -44.539899 | P10: =+(H10-H11)*100/H11 -> -54.842136 | Q10: =+(I10-I11)*100/I11 -> -44.343527 | R10: =+J10 -> วังยาง,รพช. | S10: =+K10/100 -> 0.096538367 | T10: =+L10/100 -> -0.39688918 | U10: =+M10/100 -> 0.090527821 | V10: =+N10/100 -> 0.44784667 | W10: =+O10/100 -> -0.44539899 | X10: =+P10/100 -> -0.54842136 | Y10: =+Q10/100 -> -0.44343527 | Z10: =+R10 -> วังยาง,รพช. | AA10: =+IF(AND(C10>C13),"OK","Not OK") -> OK | AB10: =+IF(AND(D10>D13),"OK","Not OK") -> OK | AC10: =+IF(AND(E10>E13),"OK","Not OK") -> OK | AD10: =+IF(AND(F10>F13),"OK","Not OK") -> OK | AE10: =+IF(AND(G10>G13),"OK","Not OK") -> Not OK | AF10: =+IF(AND(H10>H13),"OK","Not OK") -> Not OK | AG10: =+IF(AND(I10>I13),"OK","Not OK") -> OK
B11: ค่าเฉลี่ยของกลุ่ม | C11: =AVERAGE(C4:C10) -> 1365.0598 | D11: =AVERAGE(D4:D10) -> 581.84885 | E11: =AVERAGE(E4:E10) -> 1635.3499 | F11: =AVERAGE(F4:F10) -> 12389.64 | G11: =AVERAGE(G4:G10) -> 13.869577 | H11: =AVERAGE(H4:H10) -> 63.24873 | I11: =AVERAGE(I4:I10) -> 1391.7559
B12: 1SD | C12: =STDEV(C4:C10) -> 307.00917 | D12: =STDEV(D4:D10) -> 324.0196 | E12: =STDEV(E4:E10) -> 790.58897 | F12: =STDEV(F4:F10) -> 16327.528 | G12: =STDEV(G4:G10) -> 6.059529 | H12: =STDEV(H4:H10) -> 28.018396 | I12: =STDEV(I4:I10) -> 689.98297
B13: mean-1SD | C13: =+C11-C12 -> 1058.0506 | D13: =+D11-D12 -> 257.82925 | E13: =+E11-E12 -> 844.76093 | F13: =+F11-F12 -> -3937.8883 | G13: =+G11-G12 -> 7.8100475 | H13: =+H11-H12 -> 35.230334 | I13: =+I11-I12 -> 701.77296
B14: กลุ่ม 2 | C14: รายได้(บาท)/ปชก. | J14: กลุ่ม 2 | K14: %diff ค่าเฉลี่ย/ปชก. | R14: กลุ่ม 2 | S14: %diff ค่าเฉลี่ย/ปชก. | Z14: กลุ่ม 2 | AA14: >Mean-1SD
C15: เหมาจ่ายรายหัว UC | D15: เรียกเก็บUC/กองทุนUC/EMS | E15: ประกันสังคม | F15: ข้าราชการ | G15: พรบ. | H15: ชำระเงินเอง | I15: งบบุคลากร | K15: เหมาจ่ายรายหัว UC | L15: เรียกเก็บUC/กองทุนUC/EMS | M15: ประกันสังคม | N15: ข้าราชการ | O15: พรบ. | P15: ชำระเงินเอง | Q15: งบบุคลากร | S15: เหมาจ่ายรายหัว UC | T15: เรียกเก็บUC/กองทุนUC/EMS | U15: ประกันสังคม | V15: ข้าราชการ | W15: พรบ. | X15: ชำระเงินเอง | Y15: งบบุคลากร | AA15: เหมาจ่ายรายหัว UC | AB15: เรียกเก็บUC/กองทุนUC/EMS | AC15: ประกันสังคม | AD15: ข้าราชการ | AE15: พรบ. | AF15: ชำระเงินเอง | AG15: งบบุคลากร
A16: อุดรธานี | B16: =+'8.คำนวณ'!G10 -> หนองแสง,รพช. | C16: =+'8.คำนวณ'!M10 -> 1116.6656 | D16: =+'8.คำนวณ'!N10 -> 356.0055 | E16: =+'8.คำนวณ'!O10 -> 1632.8784 | F16: =+'8.คำนวณ'!P10 -> 3167.6071 | G16: =+'8.คำนวณ'!Q10 -> 9.7949755 | H16: =+'8.คำนวณ'!R10 -> 39.961489 | I16: =+'8.คำนวณ'!S10 -> 1052.9334 | J16: =+B16 -> หนองแสง,รพช. | K16: =+(C16-C26)*100/C26 -> -14.557089 | L16: =+(D16-D26)*100/D26 -> 14.819126 | M16: =+(E16-E26)*100/E26 -> 72.482632 | N16: =+(F16-F26)*100/F26 -> -6.6262687 | O16: =+(G16-G26)*100/G26 -> -27.878237 | P16: =+(H16-H26)*100/H26 -> -9.4139724 | Q16: =+(I16-I26)*100/I26 -> 24.05754 | R16: =+J16 -> หนองแสง,รพช. | S16: =+K16/100 -> -0.14557089 | T16: =+L16/100 -> 0.14819126 | U16: =+M16/100 -> 0.72482632 | V16: =+N16/100 -> -0.066262687 | W16: =+O16/100 -> -0.27878237 | X16: =+P16/100 -> -0.094139724 | Y16: =+Q16/100 -> 0.2405754 | Z16: =+R16 -> หนองแสง,รพช. | AA16: =+IF(AND(C16>C28),"OK","Not OK") -> Not OK | AB16: =+IF(AND(D16>D28),"OK","Not OK") -> OK | AC16: =+IF(AND(E16>E28),"OK","Not OK") -> OK | AD16: =+IF(AND(F16>F28),"OK","Not OK") -> OK | AE16: =+IF(AND(G16>G28),"OK","Not OK") -> OK | AF16: =+IF(AND(H16>H28),"OK","Not OK") -> OK | AG16: =+IF(AND(I16>I28),"OK","Not OK") -> OK
A17: อุดรธานี | B17: =+'8.คำนวณ'!G11 -> นายูง,รพช. | C17: =+'8.คำนวณ'!M11 -> 1318.1772 | D17: =+'8.คำนวณ'!N11 -> 386.44856 | E17: =+'8.คำนวณ'!O11 -> 1059.1857 | F17: =+'8.คำนวณ'!P11 -> 3308.1873 | G17: =+'8.คำนวณ'!Q11 -> 11.234342 | H17: =+'8.คำนวณ'!R11 -> 34.753399 | I17: =+'8.คำนวณ'!S11 -> 716.65753 | J17: =+B17 -> นายูง,รพช. | K17: =+(C17-C26)*100/C26 -> 0.86178879 | L17: =+(D17-D26)*100/D26 -> 24.637641 | M17: =+(E17-E26)*100/E26 -> 11.882878 | N17: =+(F17-F26)*100/F26 -> -2.4822885 | O17: =+(G17-G26)*100/G26 -> -17.27998 | P17: =+(H17-H26)*100/H26 -> -21.219843 | Q17: =+(I17-I26)*100/I26 -> -15.562775 | R17: =+J17 -> นายูง,รพช. | S17: =+K17/100 -> 0.0086178879 | T17: =+L17/100 -> 0.24637641 | U17: =+M17/100 -> 0.11882878 | V17: =+N17/100 -> -0.024822885 | W17: =+O17/100 -> -0.1727998 | X17: =+P17/100 -> -0.21219843 | Y17: =+Q17/100 -> -0.15562775 | Z17: =+R17 -> นายูง,รพช. | AA17: =+IF(AND(C17>C28),"OK","Not OK") -> OK | AB17: =+IF(AND(D17>D28),"OK","Not OK") -> OK | AC17: =+IF(AND(E17>E28),"OK","Not OK") -> OK | AD17: =+IF(AND(F17>F28),"OK","Not OK") -> OK | AE17: =+IF(AND(G17>G28),"OK","Not OK") -> OK | AF17: =+IF(AND(H17>H28),"OK","Not OK") -> OK | AG17: =+IF(AND(I17>I28),"OK","Not OK") -> OK
A18: หนองคาย | B18: =+'8.คำนวณ'!G12 -> ศรีเชียงใหม่,รพช. | C18: =+'8.คำนวณ'!M12 -> 1309.1203 | D18: =+'8.คำนวณ'!N12 -> 154.48972 | E18: =+'8.คำนวณ'!O12 -> 738.97637 | F18: =+'8.คำนวณ'!P12 -> 3581.2363 | G18: =+'8.คำนวณ'!Q12 -> 27.32697 | H18: =+'8.คำนวณ'!R12 -> 65.385255 | I18: =+'8.คำนวณ'!S12 -> 1196.966 | J18: =+B18 -> ศรีเชียงใหม่,รพช. | K18: =+(C18-C26)*100/C26 -> 0.16879062 | L18: =+(D18-D26)*100/D26 -> -50.173874 | M18: =+(E18-E26)*100/E26 -> -21.941165 | N18: =+(F18-F26)*100/F26 -> 5.5665651 | O18: =+(G18-G26)*100/G26 -> 101.21227 | P18: =+(H18-H26)*100/H26 -> 48.217462 | Q18: =+(I18-I26)*100/I26 -> 41.027597 | R18: =+J18 -> ศรีเชียงใหม่,รพช. | S18: =+K18/100 -> 0.0016879062 | T18: =+L18/100 -> -0.50173874 | U18: =+M18/100 -> -0.21941165 | V18: =+N18/100 -> 0.055665651 | W18: =+O18/100 -> 1.0121227 | X18: =+P18/100 -> 0.48217462 | Y18: =+Q18/100 -> 0.41027597 | Z18: =+R18 -> ศรีเชียงใหม่,รพช. | AA18: =+IF(AND(C18>C28),"OK","Not OK") -> OK | AB18: =+IF(AND(D18>D28),"OK","Not OK") -> Not OK | AC18: =+IF(AND(E18>E28),"OK","Not OK") -> OK | AD18: =+IF(AND(F18>F28),"OK","Not OK") -> OK | AE18: =+IF(AND(G18>G28),"OK","Not OK") -> OK | AF18: =+IF(AND(H18>H28),"OK","Not OK") -> OK | AG18: =+IF(AND(I18>I28),"OK","Not OK") -> OK
A19: สกลนคร | B19: =+'8.คำนวณ'!G13 -> เต่างอย,รพช. | C19: =+'8.คำนวณ'!M13 -> 1181.2718 | D19: =+'8.คำนวณ'!N13 -> 286.90944 | E19: =+'8.คำนวณ'!O13 -> 623.52651 | F19: =+'8.คำนวณ'!P13 -> 2967.2877 | G19: =+'8.คำนวณ'!Q13 -> 15.265706 | H19: =+'8.คำนวณ'!R13 -> 48.519586 | I19: =+'8.คำนวณ'!S13 -> 1092.1975 | J19: =+B19 -> เต่างอย,รพช. | K19: =+(C19-C26)*100/C26 -> -9.6136755 | L19: =+(D19-D26)*100/D26 -> -7.4657815 | M19: =+(E19-E26)*100/E26 -> -34.136252 | N19: =+(F19-F26)*100/F26 -> -12.531221 | O19: =+(G19-G26)*100/G26 -> 12.403511 | P19: =+(H19-H26)*100/H26 -> 9.9858062 | Q19: =+(I19-I26)*100/I26 -> 28.683681 | R19: =+J19 -> เต่างอย,รพช. | S19: =+K19/100 -> -0.096136755 | T19: =+L19/100 -> -0.074657815 | U19: =+M19/100 -> -0.34136252 | V19: =+N19/100 -> -0.12531221 | W19: =+O19/100 -> 0.12403511 | X19: =+P19/100 -> 0.099858062 | Y19: =+Q19/100 -> 0.28683681 | Z19: =+R19 -> เต่างอย,รพช. | AA19: =+IF(AND(C19>C28),"OK","Not OK") -> OK | AB19: =+IF(AND(D19>D28),"OK","Not OK") -> OK | AC19: =+IF(AND(E19>E28),"OK","Not OK") -> OK | AD19: =+IF(AND(F19>F28),"OK","Not OK") -> OK | AE19: =+IF(AND(G19>G28),"OK","Not OK") -> OK | AF19: =+IF(AND(H19>H28),"OK","Not OK") -> OK | AG19: =+IF(AND(I19>I28),"OK","Not OK") -> OK
A20: นครพนม | B20: =+'8.คำนวณ'!G14 -> นาทม,รพช. | C20: =+'8.คำนวณ'!M14 -> 1526.8981 | D20: =+'8.คำนวณ'!N14 -> 452.04487 | E20: =+'8.คำนวณ'!O14 -> 323.91558 | F20: =+'8.คำนวณ'!P14 -> 2733.3076 | G20: =+'8.คำนวณ'!Q14 -> 10.75331 | H20: =+'8.คำนวณ'!R14 -> 31.221939 | I20: =+'8.คำนวณ'!S14 -> 1246.9888 | J20: =+B20 -> นาทม,รพช. | K20: =+(C20-C26)*100/C26 -> 16.832303 | L20: =+(D20-D26)*100/D26 -> 45.793804 | M20: =+(E20-E26)*100/E26 -> -65.784463 | N20: =+(F20-F26)*100/F26 -> -19.428413 | O20: =+(G20-G26)*100/G26 -> -20.821887 | P20: =+(H20-H26)*100/H26 -> -29.225074 | Q20: =+(I20-I26)*100/I26 -> 46.921327 | R20: =+J20 -> นาทม,รพช. | S20: =+K20/100 -> 0.16832303 | T20: =+L20/100 -> 0.45793804 | U20: =+M20/100 -> -0.65784463 | V20: =+N20/100 -> -0.19428413 | W20: =+O20/100 -> -0.20821887 | X20: =+P20/100 -> -0.29225074 | Y20: =+Q20/100 -> 0.46921327 | Z20: =+R20 -> นาทม,รพช. | AA20: =+IF(AND(C20>C28),"OK","Not OK") -> OK | AB20: =+IF(AND(D20>D28),"OK","Not OK") -> OK | AC20: =+IF(AND(E20>E28),"OK","Not OK") -> OK | AD20: =+IF(AND(F20>F28),"OK","Not OK") -> OK | AE20: =+IF(AND(G20>G28),"OK","Not OK") -> OK | AF20: =+IF(AND(H20>H28),"OK","Not OK") -> Not OK | AG20: =+IF(AND(I20>I28),"OK","Not OK") -> OK
A21: หนองคาย | B21: =+'8.คำนวณ'!G15 -> สระใคร,รพช. | C21: =+'8.คำนวณ'!M15 -> 1462.8692 | D21: =+'8.คำนวณ'!N15 -> 165.42844 | E21: =+'8.คำนวณ'!O15 -> 844.41925 | F21: =+'8.คำนวณ'!P15 -> 3688.8693 | G21: =+'8.คำนวณ'!Q15 -> 15.1724 | H21: =+'8.คำนวณ'!R15 -> 43.297692 | I21: =+'8.คำนวณ'!S15 -> 829.06645 | J21: =+B21 -> สระใคร,รพช. | K21: =+(C21-C26)*100/C26 -> 11.933064 | L21: =+(D21-D26)*100/D26 -> -46.645912 | M21: =+(E21-E26)*100/E26 -> -10.803124 | N21: =+(F21-F26)*100/F26 -> 8.7393362 | O21: =+(G21-G26)*100/G26 -> 11.716482 | P21: =+(H21-H26)*100/H26 -> -1.8513572 | Q21: =+(I21-I26)*100/I26 -> -2.3186569 | R21: =+J21 -> สระใคร,รพช. | S21: =+K21/100 -> 0.11933064 | T21: =+L21/100 -> -0.46645912 | U21: =+M21/100 -> -0.10803124 | V21: =+N21/100 -> 0.087393362 | W21: =+O21/100 -> 0.11716482 | X21: =+P21/100 -> -0.018513572 | Y21: =+Q21/100 -> -0.023186569 | Z21: =+R21 -> สระใคร,รพช. | AA21: =+IF(AND(C21>C28),"OK","Not OK") -> OK | AB21: =+IF(AND(D21>D28),"OK","Not OK") -> Not OK | AC21: =+IF(AND(E21>E28),"OK","Not OK") -> OK | AD21: =+IF(AND(F21>F28),"OK","Not OK") -> OK | AE21: =+IF(AND(G21>G28),"OK","Not OK") -> OK | AF21: =+IF(AND(H21>H28),"OK","Not OK") -> OK | AG21: =+IF(AND(I21>I28),"OK","Not OK") -> OK
A22: อุดรธานี | B22: =+'8.คำนวณ'!G16 -> กู่แก้ว,รพช. | C22: =+'8.คำนวณ'!M16 -> 1587.624 | D22: =+'8.คำนวณ'!N16 -> 571.3237 | E22: =+'8.คำนวณ'!O16 -> 2917.0016 | F22: =+'8.คำนวณ'!P16 -> 6682.4754 | G22: =+'8.คำนวณ'!Q16 -> 13.470647 | H22: =+'8.คำนวณ'!R16 -> 41.674101 | I22: =+'8.คำนวณ'!S16 -> 698.79214 | J22: =+B22 -> กู่แก้ว,รพช. | K22: =+(C22-C26)*100/C26 -> 21.478811 | L22: =+(D22-D26)*100/D26 -> 84.263691 | M22: =+(E22-E26)*100/E26 -> 208.12589 | N22: =+(F22-F26)*100/F26 -> 96.983921 | O22: =+(G22-G26)*100/G26 -> -0.81375882 | P22: =+(H22-H26)*100/H26 -> -5.5317661 | Q22: =+(I22-I26)*100/I26 -> -17.667692 | R22: =+J22 -> กู่แก้ว,รพช. | S22: =+K22/100 -> 0.21478811 | T22: =+L22/100 -> 0.84263691 | U22: =+M22/100 -> 2.0812589 | V22: =+N22/100 -> 0.96983921 | W22: =+O22/100 -> -0.0081375882 | X22: =+P22/100 -> -0.055317661 | Y22: =+Q22/100 -> -0.17667692 | Z22: =+R22 -> กู่แก้ว,รพช. | AA22: =+IF(AND(C22>C28),"OK","Not OK") -> OK | AB22: =+IF(AND(D22>D28),"OK","Not OK") -> OK | AC22: =+IF(AND(E22>E28),"OK","Not OK") -> OK | AD22: =+IF(AND(F22>F28),"OK","Not OK") -> OK | AE22: =+IF(AND(G22>G28),"OK","Not OK") -> OK | AF22: =+IF(AND(H22>H28),"OK","Not OK") -> OK | AG22: =+IF(AND(I22>I28),"OK","Not OK") -> OK
A23: หนองคาย | B23: =+'8.คำนวณ'!G17 -> เฝ้าไร่,รพช. | C23: =+'8.คำนวณ'!M17 -> 1105.7357 | D23: =+'8.คำนวณ'!N17 -> 226.88513 | E23: =+'8.คำนวณ'!O17 -> 433.08942 | F23: =+'8.คำนวณ'!P17 -> 2154.6495 | G23: =+'8.คำนวณ'!Q17 -> 10.595807 | H23: =+'8.คำนวณ'!R17 -> 30.787835 | I23: =+'8.คำนวณ'!S17 -> 389.63308 | J23: =+B23 -> เฝ้าไร่,รพช. | K23: =+(C23-C26)*100/C26 -> -15.393402 | L23: =+(D23-D26)*100/D26 -> -26.824862 | M23: =+(E23-E26)*100/E26 -> -54.252318 | N23: =+(F23-F26)*100/F26 -> -36.485917 | O23: =+(G23-G26)*100/G26 -> -21.9816 | P23: =+(H23-H26)*100/H26 -> -30.209115 | Q23: =+(I23-I26)*100/I26 -> -54.093086 | R23: =+J23 -> เฝ้าไร่,รพช. | S23: =+K23/100 -> -0.15393402 | T23: =+L23/100 -> -0.26824862 | U23: =+M23/100 -> -0.54252318 | V23: =+N23/100 -> -0.36485917 | W23: =+O23/100 -> -0.219816 | X23: =+P23/100 -> -0.30209115 | Y23: =+Q23/100 -> -0.54093086 | Z23: =+R23 -> เฝ้าไร่,รพช. | AA23: =+IF(AND(C23>C28),"OK","Not OK") -> Not OK | AB23: =+IF(AND(D23>D28),"OK","Not OK") -> OK | AC23: =+IF(AND(E23>E28),"OK","Not OK") -> OK | AD23: =+IF(AND(F23>F28),"OK","Not OK") -> OK | AE23: =+IF(AND(G23>G28),"OK","Not OK") -> OK | AF23: =+IF(AND(H23>H28),"OK","Not OK") -> Not OK | AG23: =+IF(AND(I23>I28),"OK","Not OK") -> Not OK
A24: หนองคาย | B24: =+'8.คำนวณ'!G18 -> รัตนวาปี,รพช. | C24: =+'8.คำนวณ'!M18 -> 1297.6957 | D24: =+'8.คำนวณ'!N18 -> 193.23789 | E24: =+'8.คำนวณ'!O18 -> 311.17208 | F24: =+'8.คำนวณ'!P18 -> 2558.4305 | G24: =+'8.คำนวณ'!Q18 -> 12.55797 | H24: =+'8.คำนวณ'!R18 -> 44.221925 | I24: =+'8.คำนวณ'!S18 -> 448.82513 | J24: =+B24 -> รัตนวาปี,รพช. | K24: =+(C24-C26)*100/C26 -> -0.70537011 | L24: =+(D24-D26)*100/D26 -> -37.676792 | M24: =+(E24-E26)*100/E26 -> -67.130573 | N24: =+(F24-F26)*100/F26 -> -24.583384 | O24: =+(G24-G26)*100/G26 -> -7.5339236 | P24: =+(H24-H26)*100/H26 -> 0.24372471 | Q24: =+(I24-I26)*100/I26 -> -47.119027 | R24: =+J24 -> รัตนวาปี,รพช. | S24: =+K24/100 -> -0.0070537011 | T24: =+L24/100 -> -0.37676792 | U24: =+M24/100 -> -0.67130573 | V24: =+N24/100 -> -0.24583384 | W24: =+O24/100 -> -0.075339236 | X24: =+P24/100 -> 0.0024372471 | Y24: =+Q24/100 -> -0.47119027 | Z24: =+R24 -> รัตนวาปี,รพช. | AA24: =+IF(AND(C24>C28),"OK","Not OK") -> OK | AB24: =+IF(AND(D24>D28),"OK","Not OK") -> OK | AC24: =+IF(AND(E24>E28),"OK","Not OK") -> OK | AD24: =+IF(AND(F24>F28),"OK","Not OK") -> OK | AE24: =+IF(AND(G24>G28),"OK","Not OK") -> OK | AF24: =+IF(AND(H24>H28),"OK","Not OK") -> OK | AG24: =+IF(AND(I24>I28),"OK","Not OK") -> Not OK
A25: เลย | B25: =+'8.คำนวณ'!G19 -> หนองหิน,รพช. | C25: =+'8.คำนวณ'!M19 -> 1163.0855 | D25: =+'8.คำนวณ'!N19 -> 307.80342 | E25: =+'8.คำนวณ'!O19 -> 582.75014 | F25: =+'8.คำนวณ'!P19 -> 3081.9131 | G25: =+'8.คำนวณ'!Q19 -> 9.63952 | H25: =+'8.คำนวณ'!R19 -> 61.32085 | I25: =+'8.คำนวณ'!S19 -> 815.3995 | J25: =+B25 -> หนองหิน,รพช. | K25: =+(C25-C26)*100/C26 -> -11.00522 | L25: =+(D25-D26)*100/D26 -> -0.72704194 | M25: =+(E25-E26)*100/E26 -> -38.443502 | N25: =+(F25-F26)*100/F26 -> -9.1523304 | O25: =+(G25-G26)*100/G26 -> -29.022877 | P25: =+(H25-H26)*100/H26 -> 39.004135 | Q25: =+(I25-I26)*100/I26 -> -3.9289093 | R25: =+J25 -> หนองหิน,รพช. | S25: =+K25/100 -> -0.1100522 | T25: =+L25/100 -> -0.0072704194 | U25: =+M25/100 -> -0.38443502 | V25: =+N25/100 -> -0.091523304 | W25: =+O25/100 -> -0.29022877 | X25: =+P25/100 -> 0.39004135 | Y25: =+Q25/100 -> -0.039289093 | Z25: =+R25 -> หนองหิน,รพช. | AA25: =+IF(AND(C25>C28),"OK","Not OK") -> OK | AB25: =+IF(AND(D25>D28),"OK","Not OK") -> OK | AC25: =+IF(AND(E25>E28),"OK","Not OK") -> OK | AD25: =+IF(AND(F25>F28),"OK","Not OK") -> OK | AE25: =+IF(AND(G25>G28),"OK","Not OK") -> OK | AF25: =+IF(AND(H25>H28),"OK","Not OK") -> OK | AG25: =+IF(AND(I25>I28),"OK","Not OK") -> OK
B26: ค่าเฉลี่ยของกลุ่ม | C26: =AVERAGE(C16:C25) -> 1306.9143 | D26: =AVERAGE(D16:D25) -> 310.05767 | E26: =AVERAGE(E16:E25) -> 946.69151 | F26: =AVERAGE(F16:F25) -> 3392.3964 | G26: =AVERAGE(G16:G25) -> 13.581165 | H26: =AVERAGE(H16:H25) -> 44.114407 | I26: =AVERAGE(I16:I25) -> 848.74596
B27: 1SD | C27: =STDEV(C16:C25) -> 171.55159 | D27: =STDEV(D16:D25) -> 134.4088 | E27: =STDEV(E16:E25) -> 796.63496 | F27: =STDEV(F16:F25) -> 1244.7592 | G27: =STDEV(G16:G25) -> 5.2457867 | H27: =STDEV(H16:H25) -> 11.658275 | I27: =STDEV(I16:I25) -> 296.82952
B28: mean-1SD | C28: =+C26-C27 -> 1135.3627 | D28: =+D26-D27 -> 175.64887 | E28: =+E26-E27 -> 150.05655 | F28: =+F26-F27 -> 2147.6372 | G28: =+G26-G27 -> 8.3353781 | H28: =+H26-H27 -> 32.456132 | I28: =+I26-I27 -> 551.91645
B29: กลุ่ม 3 | C29: รายได้(บาท)/ปชก. | J29: กลุ่ม 3 | K29: %diff ค่าเฉลี่ย/ปชก. | R29: กลุ่ม 3 | S29: %diff ค่าเฉลี่ย/ปชก. | Z29: กลุ่ม 3 | AA29: >Mean-1SD
C30: เหมาจ่ายรายหัว UC | D30: เรียกเก็บUC/กองทุนUC/EMS | E30: ประกันสังคม | F30: ข้าราชการ | G30: พรบ. | H30: ชำระเงินเอง | I30: งบบุคลากร | K30: เหมาจ่ายรายหัว UC | L30: เรียกเก็บUC/กองทุนUC/EMS | M30: ประกันสังคม | N30: ข้าราชการ | O30: พรบ. | P30: ชำระเงินเอง | Q30: งบบุคลากร | S30: เหมาจ่ายรายหัว UC | T30: เรียกเก็บUC/กองทุนUC/EMS | U30: ประกันสังคม | V30: ข้าราชการ | W30: พรบ. | X30: ชำระเงินเอง | Y30: งบบุคลากร | AA30: เหมาจ่ายรายหัว UC | AB30: เรียกเก็บUC/กองทุนUC/EMS | AC30: ประกันสังคม | AD30: ข้าราชการ | AE30: พรบ. | AF30: ชำระเงินเอง | AG30: งบบุคลากร
A31: อุดรธานี | B31: =+'8.คำนวณ'!G20 -> ทุ่งฝน,รพช. | C31: =+'8.คำนวณ'!M20 -> 1130.6852 | D31: =+'8.คำนวณ'!N20 -> 241.1099 | E31: =+'8.คำนวณ'!O20 -> 1388.97 | F31: =+'8.คำนวณ'!P20 -> 3230.2746 | G31: =+'8.คำนวณ'!Q20 -> 7.3520453 | H31: =+'8.คำนวณ'!R20 -> 29.68609 | I31: =+'8.คำนวณ'!S20 -> 919.15694 | J31: =+B31 -> ทุ่งฝน,รพช. | K31: =+(C31-C4)*100/C44 -> 0.9482582 | L31: =+(D31-D4)*100/D44 -> -132.84313 | M31: =+(E31-E4)*100/E44 -> -138.1922 | N31: =+(F31-F4)*100/F44 -> -1091.0778 | O31: =+(G31-G4)*100/G44 -> -112.82678 | P31: =+(H31-H4)*100/H44 -> -98.744525 | Q31: =+(I31-I4)*100/I44 -> -192.10486 | R31: =+J31 -> ทุ่งฝน,รพช. | S31: =+K31/100 -> 0.009482582 | T31: =+L31/100 -> -1.3284313 | U31: =+M31/100 -> -1.381922 | V31: =+N31/100 -> -10.910778 | W31: =+O31/100 -> -1.1282678 | X31: =+P31/100 -> -0.98744525 | Y31: =+Q31/100 -> -1.9210486 | Z31: =+R31 -> ทุ่งฝน,รพช. | AA31: =+IF(AND(C31>C46),"OK","Not OK") -> OK | AB31: =+IF(AND(D31>D46),"OK","Not OK") -> OK | AC31: =+IF(AND(E31>E46),"OK","Not OK") -> OK | AD31: =+IF(AND(F31>F46),"OK","Not OK") -> OK | AE31: =+IF(AND(G31>G46),"OK","Not OK") -> OK | AF31: =+IF(AND(H31>H46),"OK","Not OK") -> OK | AG31: =+IF(AND(I31>I46),"OK","Not OK") -> OK
A32: อุดรธานี | B32: =+'8.คำนวณ'!G21 -> ไชยวาน,รพช. | C32: =+'8.คำนวณ'!M21 -> 1168.4406 | D32: =+'8.คำนวณ'!N21 -> 140.708 | E32: =+'8.คำนวณ'!O21 -> 248.41213 | F32: =+'8.คำนวณ'!P21 -> 2080.612 | G32: =+'8.คำนวณ'!Q21 -> 5.826746 | H32: =+'8.คำนวณ'!R21 -> 43.421151 | I32: =+'8.คำนวณ'!S21 -> 741.49182 | J32: =+B32 -> ไชยวาน,รพช. | K32: =+(C32-C44)*100/C44 -> -9.630051 | L32: =+(D32-D44)*100/D44 -> -50.288035 | M32: =+(E32-E44)*100/E44 -> -70.473942 | N32: =+(F32-F44)*100/F44 -> -48.765443 | O32: =+(G32-G44)*100/G44 -> -26.371342 | P32: =+(H32-H44)*100/H44 -> 9.1527627 | Q32: =+(I32-I44)*100/I44 -> -14.372767 | R32: =+J32 -> ไชยวาน,รพช. | S32: =+K32/100 -> -0.09630051 | T32: =+L32/100 -> -0.50288035 | U32: =+M32/100 -> -0.70473942 | V32: =+N32/100 -> -0.48765443 | W32: =+O32/100 -> -0.26371342 | X32: =+P32/100 -> 0.091527627 | Y32: =+Q32/100 -> -0.14372767 | Z32: =+R32 -> ไชยวาน,รพช. | AA32: =+IF(AND(C32>C46),"OK","Not OK") -> OK | AB32: =+IF(AND(D32>D46),"OK","Not OK") -> Not OK | AC32: =+IF(AND(E32>E46),"OK","Not OK") -> OK | AD32: =+IF(AND(F32>F46),"OK","Not OK") -> Not OK | AE32: =+IF(AND(G32>G46),"OK","Not OK") -> OK | AF32: =+IF(AND(H32>H46),"OK","Not OK") -> OK | AG32: =+IF(AND(I32>I46),"OK","Not OK") -> OK
A33: อุดรธานี | B33: =+'8.คำนวณ'!G22 -> สร้างคอม,รพช. | C33: =+'8.คำนวณ'!M22 -> 1353.7361 | D33: =+'8.คำนวณ'!N22 -> 429.00753 | E33: =+'8.คำนวณ'!O22 -> 1960.4429 | F33: =+'8.คำนวณ'!P22 -> 7448.9514 | G33: =+'8.คำนวณ'!Q22 -> 5.1303812 | H33: =+'8.คำนวณ'!R22 -> 35.864246 | I33: =+'8.คำนวณ'!S22 -> 810.18871 | J33: =+B33 -> สร้างคอม,รพช. | K33: =+(C33-C44)*100/C44 -> 4.701141 | L33: =+(D33-D44)*100/D44 -> 51.567844 | M33: =+(E33-E44)*100/E44 -> 133.01661 | N33: =+(F33-F44)*100/F44 -> 83.428591 | O33: =+(G33-G44)*100/G44 -> -35.170833 | P33: =+(H33-H44)*100/H44 -> -9.8439027 | Q33: =+(I33-I44)*100/I44 -> -6.4396738 | R33: =+J33 -> สร้างคอม,รพช. | S33: =+K33/100 -> 0.04701141 | T33: =+L33/100 -> 0.51567844 | U33: =+M33/100 -> 1.3301661 | V33: =+N33/100 -> 0.83428591 | W33: =+O33/100 -> -0.35170833 | X33: =+P33/100 -> -0.098439027 | Y33: =+Q33/100 -> -0.064396738 | Z33: =+R33 -> สร้างคอม,รพช. | AA33: =+IF(AND(C33>C46),"OK","Not OK") -> OK | AB33: =+IF(AND(D33>D46),"OK","Not OK") -> OK | AC33: =+IF(AND(E33>E46),"OK","Not OK") -> OK | AD33: =+IF(AND(F33>F46),"OK","Not OK") -> OK | AE33: =+IF(AND(G33>G46),"OK","Not OK") -> OK | AF33: =+IF(AND(H33>H46),"OK","Not OK") -> OK | AG33: =+IF(AND(I33>I46),"OK","Not OK") -> OK
A34: อุดรธานี | B34: =+'8.คำนวณ'!G23 -> พิบูลย์รักษ์,รพช. | C34: =+'8.คำนวณ'!M23 -> 1378.6521 | D34: =+'8.คำนวณ'!N23 -> 475.94301 | E34: =+'8.คำนวณ'!O23 -> 2092.2899 | F34: =+'8.คำนวณ'!P23 -> 2490.5554 | G34: =+'8.คำนวณ'!Q23 -> 7.9320613 | H34: =+'8.คำนวณ'!R23 -> 33.290775 | I34: =+'8.คำนวณ'!S23 -> 1099.1433 | J34: =+B34 -> พิบูลย์รักษ์,รพช. | K34: =+(C34-C44)*100/C44 -> 6.6282078 | L34: =+(D34-D44)*100/D44 -> 68.150094 | M34: =+(E34-E44)*100/E44 -> 148.68784 | N34: =+(F34-F44)*100/F44 -> -38.670688 | O34: =+(G34-G44)*100/G44 -> 0.23210786 | P34: =+(H34-H44)*100/H44 -> -16.313133 | Q34: =+(I34-I44)*100/I44 -> 26.928708 | R34: =+J34 -> พิบูลย์รักษ์,รพช. | S34: =+K34/100 -> 0.066282078 | T34: =+L34/100 -> 0.68150094 | U34: =+M34/100 -> 1.4868784 | V34: =+N34/100 -> -0.38670688 | W34: =+O34/100 -> 0.0023210786 | X34: =+P34/100 -> -0.16313133 | Y34: =+Q34/100 -> 0.26928708 | Z34: =+R34 -> พิบูลย์รักษ์,รพช. | AA34: =+IF(AND(C34>C46),"OK","Not OK") -> OK | AB34: =+IF(AND(D34>D46),"OK","Not OK") -> OK | AC34: =+IF(AND(E34>E46),"OK","Not OK") -> OK | AD34: =+IF(AND(F34>F46),"OK","Not OK") -> OK | AE34: =+IF(AND(G34>G46),"OK","Not OK") -> OK | AF34: =+IF(AND(H34>H46),"OK","Not OK") -> OK | AG34: =+IF(AND(I34>I46),"OK","Not OK") -> OK
A35: เลย | B35: =+'8.คำนวณ'!G24 -> นาด้วง,รพช. | C35: =+'8.คำนวณ'!M24 -> 1747.5674 | D35: =+'8.คำนวณ'!N24 -> 283.57121 | E35: =+'8.คำนวณ'!O24 -> 785.13628 | F35: =+'8.คำนวณ'!P24 -> 3059.5691 | G35: =+'8.คำนวณ'!Q24 -> 14.17232 | H35: =+'8.คำนวณ'!R24 -> 64.226039 | I35: =+'8.คำนวณ'!S24 -> 901.80602 | J35: =+B35 -> นาด้วง,รพช. | K35: =+(C35-C44)*100/C44 -> 35.160987 | L35: =+(D35-D44)*100/D44 -> 0.18536505 | M35: =+(E35-E44)*100/E44 -> -6.679356 | N35: =+(F35-F44)*100/F44 -> -24.658866 | O35: =+(G35-G44)*100/G44 -> 79.086051 | P35: =+(H35-H44)*100/H44 -> 61.452411 | Q35: =+(I35-I44)*100/I44 -> 4.1402639 | R35: =+J35 -> นาด้วง,รพช. | S35: =+K35/100 -> 0.35160987 | T35: =+L35/100 -> 0.0018536505 | U35: =+M35/100 -> -0.06679356 | V35: =+N35/100 -> -0.24658866 | W35: =+O35/100 -> 0.79086051 | X35: =+P35/100 -> 0.61452411 | Y35: =+Q35/100 -> 0.041402639 | Z35: =+R35 -> นาด้วง,รพช. | AA35: =+IF(AND(C35>C46),"OK","Not OK") -> OK | AB35: =+IF(AND(D35>D46),"OK","Not OK") -> OK | AC35: =+IF(AND(E35>E46),"OK","Not OK") -> OK | AD35: =+IF(AND(F35>F46),"OK","Not OK") -> OK | AE35: =+IF(AND(G35>G46),"OK","Not OK") -> OK | AF35: =+IF(AND(H35>H46),"OK","Not OK") -> OK | AG35: =+IF(AND(I35>I46),"OK","Not OK") -> OK
A36: เลย | B36: =+'8.คำนวณ'!G25 -> ภูเรือ,รพช. | C36: =+'8.คำนวณ'!M25 -> 1634.8109 | D36: =+'8.คำนวณ'!N25 -> 322.86936 | E36: =+'8.คำนวณ'!O25 -> 1400.3242 | F36: =+'8.คำนวณ'!P25 -> 3561.9411 | G36: =+'8.คำนวณ'!Q25 -> 12.422915 | H36: =+'8.คำนวณ'!R25 -> 73.250951 | I36: =+'8.คำนวณ'!S25 -> 1138.2177 | J36: =+B36 -> ภูเรือ,รพช. | K36: =+(C36-C44)*100/C44 -> 26.440136 | L36: =+(D36-D44)*100/D44 -> 14.069356 | M36: =+(E36-E44)*100/E44 -> 66.441374 | N36: =+(F36-F44)*100/F44 -> -12.288079 | O36: =+(G36-G44)*100/G44 -> 56.979996 | P36: =+(H36-H44)*100/H44 -> 84.139375 | Q36: =+(I36-I44)*100/I44 -> 31.441005 | R36: =+J36 -> ภูเรือ,รพช. | S36: =+K36/100 -> 0.26440136 | T36: =+L36/100 -> 0.14069356 | U36: =+M36/100 -> 0.66441374 | V36: =+N36/100 -> -0.12288079 | W36: =+O36/100 -> 0.56979996 | X36: =+P36/100 -> 0.84139375 | Y36: =+Q36/100 -> 0.31441005 | Z36: =+R36 -> ภูเรือ,รพช. | AA36: =+IF(AND(C36>C46),"OK","Not OK") -> OK | AB36: =+IF(AND(D36>D46),"OK","Not OK") -> OK | AC36: =+IF(AND(E36>E46),"OK","Not OK") -> OK | AD36: =+IF(AND(F36>F46),"OK","Not OK") -> OK | AE36: =+IF(AND(G36>G46),"OK","Not OK") -> OK | AF36: =+IF(AND(H36>H46),"OK","Not OK") -> OK | AG36: =+IF(AND(I36>I46),"OK","Not OK") -> OK
A37: สกลนคร | B37: =+'8.คำนวณ'!G26 -> กุดบาก,รพช. | C37: =+'8.คำนวณ'!M26 -> 1289.6749 | D37: =+'8.คำนวณ'!N26 -> 337.14645 | E37: =+'8.คำนวณ'!O26 -> 344.88751 | F37: =+'8.คำนวณ'!P26 -> 4203.6561 | G37: =+'8.คำนวณ'!Q26 -> 7.7389499 | H37: =+'8.คำนวณ'!R26 -> 25.210897 | I37: =+'8.คำนวณ'!S26 -> 960.78194 | J37: =+B37 -> กุดบาก,รพช. | K37: =+(C37-C44)*100/C44 -> -0.25350368 | L37: =+(D37-D44)*100/D44 -> 19.113434 | M37: =+(E37-E44)*100/E44 -> -59.006958 | N37: =+(F37-F44)*100/F44 -> 3.5139947 | O37: =+(G37-G44)*100/G44 -> -2.2081096 | P37: =+(H37-H44)*100/H44 -> -36.624456 | Q37: =+(I37-I44)*100/I44 -> 10.950783 | R37: =+J37 -> กุดบาก,รพช. | S37: =+K37/100 -> -0.0025350368 | T37: =+L37/100 -> 0.19113434 | U37: =+M37/100 -> -0.59006958 | V37: =+N37/100 -> 0.035139947 | W37: =+O37/100 -> -0.022081096 | X37: =+P37/100 -> -0.36624456 | Y37: =+Q37/100 -> 0.10950783 | Z37: =+R37 -> กุดบาก,รพช. | AA37: =+IF(AND(C37>C46),"OK","Not OK") -> OK | AB37: =+IF(AND(D37>D46),"OK","Not OK") -> OK | AC37: =+IF(AND(E37>E46),"OK","Not OK") -> OK | AD37: =+IF(AND(F37>F46),"OK","Not OK") -> OK | AE37: =+IF(AND(G37>G46),"OK","Not OK") -> OK | AF37: =+IF(AND(H37>H46),"OK","Not OK") -> OK | AG37: =+IF(AND(I37>I46),"OK","Not OK") -> OK
A38: สกลนคร | B38: =+'8.คำนวณ'!G27 -> ส่องดาว,รพช. | C38: =+'8.คำนวณ'!M27 -> 1554.4688 | D38: =+'8.คำนวณ'!N27 -> 294.44876 | E38: =+'8.คำนวณ'!O27 -> 557.45415 | F38: =+'8.คำนวณ'!P27 -> 7954.5732 | G38: =+'8.คำนวณ'!Q27 -> 10.3288 | H38: =+'8.คำนวณ'!R27 -> 69.935348 | I38: =+'8.คำนวณ'!S27 -> 1000.3196 | J38: =+B38 -> ส่องดาว,รพช. | K38: =+(C38-C44)*100/C44 -> 20.226283 | L38: =+(D38-D44)*100/D44 -> 4.0283931 | M38: =+(E38-E44)*100/E44 -> -33.741464 | N38: =+(F38-F44)*100/F44 -> 95.879403 | O38: =+(G38-G44)*100/G44 -> 30.518084 | P38: =+(H38-H44)*100/H44 -> 75.80456 | Q38: =+(I38-I44)*100/I44 -> 15.51658 | R38: =+J38 -> ส่องดาว,รพช. | S38: =+K38/100 -> 0.20226283 | T38: =+L38/100 -> 0.040283931 | U38: =+M38/100 -> -0.33741464 | V38: =+N38/100 -> 0.95879403 | W38: =+O38/100 -> 0.30518084 | X38: =+P38/100 -> 0.7580456 | Y38: =+Q38/100 -> 0.1551658 | Z38: =+R38 -> ส่องดาว,รพช. | AA38: =+IF(AND(C38>C46),"OK","Not OK") -> OK | AB38: =+IF(AND(D38>D46),"OK","Not OK") -> OK | AC38: =+IF(AND(E38>E46),"OK","Not OK") -> OK | AD38: =+IF(AND(F38>F46),"OK","Not OK") -> OK | AE38: =+IF(AND(G38>G46),"OK","Not OK") -> OK | AF38: =+IF(AND(H38>H46),"OK","Not OK") -> OK | AG38: =+IF(AND(I38>I46),"OK","Not OK") -> OK
A39: สกลนคร | B39: =+'8.คำนวณ'!G28 -> เจริญศิลป์,รพช. | C39: =+'8.คำนวณ'!M28 -> 1255.2537 | D39: =+'8.คำนวณ'!N28 -> 336.80786 | E39: =+'8.คำนวณ'!O28 -> 154.91676 | F39: =+'8.คำนวณ'!P28 -> 5753.1567 | G39: =+'8.คำนวณ'!Q28 -> 10.430797 | H39: =+'8.คำนวณ'!R28 -> 26.79913 | I39: =+'8.คำนวณ'!S28 -> 734.62013 | J39: =+B39 -> เจริญศิลป์,รพช. | K39: =+(C39-C44)*100/C44 -> -2.9157213 | L39: =+(D39-D44)*100/D44 -> 18.993812 | M39: =+(E39-E44)*100/E44 -> -81.586723 | N39: =+(F39-F44)*100/F44 -> 41.670066 | O39: =+(G39-G44)*100/G44 -> 31.806948 | P39: =+(H39-H44)*100/H44 -> -32.631931 | Q39: =+(I39-I44)*100/I44 -> -15.166309 | R39: =+J39 -> เจริญศิลป์,รพช. | S39: =+K39/100 -> -0.029157213 | T39: =+L39/100 -> 0.18993812 | U39: =+M39/100 -> -0.81586723 | V39: =+N39/100 -> 0.41670066 | W39: =+O39/100 -> 0.31806948 | X39: =+P39/100 -> -0.32631931 | Y39: =+Q39/100 -> -0.15166309 | Z39: =+R39 -> เจริญศิลป์,รพช. | AA39: =+IF(AND(C39>C46),"OK","Not OK") -> OK | AB39: =+IF(AND(D39>D46),"OK","Not OK") -> OK | AC39: =+IF(AND(E39>E46),"OK","Not OK") -> Not OK | AD39: =+IF(AND(F39>F46),"OK","Not OK") -> OK | AE39: =+IF(AND(G39>G46),"OK","Not OK") -> OK | AF39: =+IF(AND(H39>H46),"OK","Not OK") -> OK | AG39: =+IF(AND(I39>I46),"OK","Not OK") -> OK
A40: สกลนคร | B40: =+'8.คำนวณ'!G29 -> โพนนาแก้ว,รพช. | C40: =+'8.คำนวณ'!M29 -> 1450.0452 | D40: =+'8.คำนวณ'!N29 -> 156.47114 | E40: =+'8.คำนวณ'!O29 -> 888.23602 | F40: =+'8.คำนวณ'!P29 -> 3090.7589 | G40: =+'8.คำนวณ'!Q29 -> 10.552109 | H40: =+'8.คำนวณ'!R29 -> 29.562836 | I40: =+'8.คำนวณ'!S29 -> 760.72191 | J40: =+B40 -> โพนนาแก้ว,รพช. | K40: =+(C40-C44)*100/C44 -> 12.149913 | L40: =+(D40-D44)*100/D44 -> -44.718936 | M40: =+(E40-E44)*100/E44 -> 5.574994 | N40: =+(F40-F44)*100/F44 -> -23.890823 | O40: =+(G40-G44)*100/G44 -> 33.339883 | P40: =+(H40-H44)*100/H44 -> -25.684485 | Q40: =+(I40-I44)*100/I44 -> -12.152083 | R40: =+J40 -> โพนนาแก้ว,รพช. | S40: =+K40/100 -> 0.12149913 | T40: =+L40/100 -> -0.44718936 | U40: =+M40/100 -> 0.05574994 | V40: =+N40/100 -> -0.23890823 | W40: =+O40/100 -> 0.33339883 | X40: =+P40/100 -> -0.25684485 | Y40: =+Q40/100 -> -0.12152083 | Z40: =+R40 -> โพนนาแก้ว,รพช. | AA40: =+IF(AND(C40>C46),"OK","Not OK") -> OK | AB40: =+IF(AND(D40>D46),"OK","Not OK") -> Not OK | AC40: =+IF(AND(E40>E46),"OK","Not OK") -> OK | AD40: =+IF(AND(F40>F46),"OK","Not OK") -> OK | AE40: =+IF(AND(G40>G46),"OK","Not OK") -> OK | AF40: =+IF(AND(H40>H46),"OK","Not OK") -> OK | AG40: =+IF(AND(I40>I46),"OK","Not OK") -> OK
A41: นครพนม | B41: =+'8.คำนวณ'!G30 -> ปลาปาก,รพช. | C41: =+'8.คำนวณ'!M30 -> 814.27859 | D41: =+'8.คำนวณ'!N30 -> 247.53065 | E41: =+'8.คำนวณ'!O30 -> 331.22756 | F41: =+'8.คำนวณ'!P30 -> 3913.5854 | G41: =+'8.คำนวณ'!Q30 -> 2.7336139 | H41: =+'8.คำนวณ'!R30 -> 21.902783 | I41: =+'8.คำนวณ'!S30 -> 745.52973 | J41: =+B41 -> ปลาปาก,รพช. | K41: =+(C41-C44)*100/C44 -> -37.021773 | L41: =+(D41-D44)*100/D44 -> -12.547721 | M41: =+(E41-E44)*100/E44 -> -60.630568 | N41: =+(F41-F44)*100/F44 -> -3.6289242 | O41: =+(G41-G44)*100/G44 -> -65.457166 | P41: =+(H41-H44)*100/H44 -> -44.940444 | Q41: =+(I41-I44)*100/I44 -> -13.906472 | R41: =+J41 -> ปลาปาก,รพช. | S41: =+K41/100 -> -0.37021773 | T41: =+L41/100 -> -0.12547721 | U41: =+M41/100 -> -0.60630568 | V41: =+N41/100 -> -0.036289242 | W41: =+O41/100 -> -0.65457166 | X41: =+P41/100 -> -0.44940444 | Y41: =+Q41/100 -> -0.13906472 | Z41: =+R41 -> ปลาปาก,รพช. | AA41: =+IF(AND(C41>C46),"OK","Not OK") -> Not OK | AB41: =+IF(AND(D41>D46),"OK","Not OK") -> OK | AC41: =+IF(AND(E41>E46),"OK","Not OK") -> OK | AD41: =+IF(AND(F41>F46),"OK","Not OK") -> OK | AE41: =+IF(AND(G41>G46),"OK","Not OK") -> Not OK | AF41: =+IF(AND(H41>H46),"OK","Not OK") -> Not OK | AG41: =+IF(AND(I41>I46),"OK","Not OK") -> OK
A42: นครพนม | B42: =+'8.คำนวณ'!G31 -> ท่าอุเทน,รพช. | C42: =+'8.คำนวณ'!M31 -> 767.15894 | D42: =+'8.คำนวณ'!N31 -> 153.35888 | E42: =+'8.คำนวณ'!O31 -> 361.44735 | F42: =+'8.คำนวณ'!P31 -> 2651.4526 | G42: =+'8.คำนวณ'!Q31 -> 1.7076848 | H42: =+'8.คำนวณ'!R31 -> 26.992663 | I42: =+'8.คำนวณ'!S31 -> 696.01836 | J42: =+B42 -> ท่าอุเทน,รพช. | K42: =+(C42-C44)*100/C44 -> -40.666117 | L42: =+(D42-D44)*100/D44 -> -45.818491 | M42: =+(E42-E44)*100/E44 -> -57.038669 | N42: =+(F42-F44)*100/F44 -> -34.708634 | O42: =+(G42-G44)*100/G44 -> -78.421139 | P42: =+(H42-H44)*100/H44 -> -32.145426 | Q42: =+(I42-I44)*100/I44 -> -19.624028 | R42: =+J42 -> ท่าอุเทน,รพช. | S42: =+K42/100 -> -0.40666117 | T42: =+L42/100 -> -0.45818491 | U42: =+M42/100 -> -0.57038669 | V42: =+N42/100 -> -0.34708634 | W42: =+O42/100 -> -0.78421139 | X42: =+P42/100 -> -0.32145426 | Y42: =+Q42/100 -> -0.19624028 | Z42: =+R42 -> ท่าอุเทน,รพช. | AA42: =+IF(AND(C42>C46),"OK","Not OK") -> Not OK | AB42: =+IF(AND(D42>D46),"OK","Not OK") -> Not OK | AC42: =+IF(AND(E42>E46),"OK","Not OK") -> OK | AD42: =+IF(AND(F42>F46),"OK","Not OK") -> OK | AE42: =+IF(AND(G42>G46),"OK","Not OK") -> Not OK | AF42: =+IF(AND(H42>H46),"OK","Not OK") -> OK | AG42: =+IF(AND(I42>I46),"OK","Not OK") -> Not OK
A43: สกลนคร | B43: =+'8.คำนวณ'!G32 -> พระอาจารย์แบน ธนากโร,รพช. | C43: =+'8.คำนวณ'!M32 -> 1263.6107 | D43: =+'8.คำนวณ'!N32 -> 260.63222 | E43: =+'8.คำนวณ'!O32 -> 423.56889 | F43: =+'8.คำนวณ'!P32 -> 3353.3203 | G43: =+'8.คำนวณ'!Q32 -> 6.5495845 | H43: =+'8.คำนวณ'!R32 -> 36.999261 | I43: =+'8.คำนวณ'!S32 -> 749.3964 | J43: =+B43 -> พระอาจารย์แบน ธนากโร,รพช. | K43: =+(C43-C44)*100/C44 -> -2.2693661 | L43: =+(D43-D44)*100/D44 -> -7.91895 | M43: =+(E43-E44)*100/E44 -> -49.654954 | N43: =+(F43-F44)*100/F44 -> -17.425314 | O43: =+(G43-G44)*100/G44 -> -17.237319 | P43: =+(H43-H44)*100/H44 -> -6.9906847 | Q43: =+(I43-I44)*100/I44 -> -13.459949 | R43: =+J43 -> พระอาจารย์แบน ธนากโร,รพช. | S43: =+K43/100 -> -0.022693661 | T43: =+L43/100 -> -0.0791895 | U43: =+M43/100 -> -0.49654954 | V43: =+N43/100 -> -0.17425314 | W43: =+O43/100 -> -0.17237319 | X43: =+P43/100 -> -0.069906847 | Y43: =+Q43/100 -> -0.13459949 | Z43: =+R43 -> พระอาจารย์แบน ธนากโร,รพช. | AA43: =+IF(AND(C43>C46),"OK","Not OK") -> OK | AB43: =+IF(AND(D43>D46),"OK","Not OK") -> OK | AC43: =+IF(AND(E43>E46),"OK","Not OK") -> OK | AD43: =+IF(AND(F43>F46),"OK","Not OK") -> OK | AE43: =+IF(AND(G43>G46),"OK","Not OK") -> OK | AF43: =+IF(AND(H43>H46),"OK","Not OK") -> OK | AG43: =+IF(AND(I43>I46),"OK","Not OK") -> OK
B44: ค่าเฉลี่ยของกลุ่ม | C44: =AVERAGE(C31:C43) -> 1292.9525 | D44: =AVERAGE(D31:D43) -> 283.04654 | E44: =AVERAGE(E31:E43) -> 841.33182 | F44: =AVERAGE(F31:F43) -> 4060.9544 | G44: =AVERAGE(G31:G43) -> 7.913693 | H44: =AVERAGE(H31:H43) -> 39.780167 | I44: =AVERAGE(I31:I43) -> 865.95327
B45: 1SD | C45: =STDEV(C31:C43) -> 285.38924 | D45: =STDEV(D31:D43) -> 101.10631 | E45: =STDEV(E31:E43) -> 661.42699 | F45: =STDEV(F31:F43) -> 1855.2373 | G45: =STDEV(G31:G43) -> 3.6319225 | H45: =STDEV(H31:H43) -> 17.738475 | I45: =STDEV(I31:I43) -> 148.19917
B46: mean-1SD | C46: =+C44-C45 -> 1007.5633 | D46: =+D44-D45 -> 181.94023 | E46: =+E44-E45 -> 179.90483 | F46: =+F44-F45 -> 2205.717 | G46: =+G44-G45 -> 4.2817704 | H46: =+H44-H45 -> 22.041692 | I46: =+I44-I45 -> 717.7541
B47: กลุ่ม 4 | C47: รายได้(บาท)/ปชก. | J47: กลุ่ม 4 | K47: %diff ค่าเฉลี่ย/ปชก. | R47: กลุ่ม 4 | S47: %diff ค่าเฉลี่ย/ปชก. | Z47: กลุ่ม 4 | AA47: >Mean-1SD
C48: เหมาจ่ายรายหัว UC | D48: เรียกเก็บUC/กองทุนUC/EMS | E48: ประกันสังคม | F48: ข้าราชการ | G48: พรบ. | H48: ชำระเงินเอง | I48: งบบุคลากร | K48: เหมาจ่ายรายหัว UC | L48: เรียกเก็บUC/กองทุนUC/EMS | M48: ประกันสังคม | N48: ข้าราชการ | O48: พรบ. | P48: ชำระเงินเอง | Q48: งบบุคลากร | S48: เหมาจ่ายรายหัว UC | T48: เรียกเก็บUC/กองทุนUC/EMS | U48: ประกันสังคม | V48: ข้าราชการ | W48: พรบ. | X48: ชำระเงินเอง | Y48: งบบุคลากร | AA48: เหมาจ่ายรายหัว UC | AB48: เรียกเก็บUC/กองทุนUC/EMS | AC48: ประกันสังคม | AD48: ข้าราชการ | AE48: พรบ. | AF48: ชำระเงินเอง | AG48: งบบุคลากร
A49: เลย | B49: =+'8.คำนวณ'!G33 -> ท่าลี่,รพช. | C49: =+'8.คำนวณ'!M33 -> 1395.6823 | D49: =+'8.คำนวณ'!N33 -> 200.87823 | E49: =+'8.คำนวณ'!O33 -> 882.11525 | F49: =+'8.คำนวณ'!P33 -> 3740.9521 | G49: =+'8.คำนวณ'!Q33 -> 5.9774982 | H49: =+'8.คำนวณ'!R33 -> 256.31826 | I49: =+'8.คำนวณ'!S33 -> 1110.8909 | J49: =+B49 -> ท่าลี่,รพช. | K49: =+(C49-C61)*100/C61 -> 4.2449787 | L49: =+(D49-D61)*100/D61 -> -27.053006 | M49: =+(E49-E61)*100/E61 -> 4.1142383 | N49: =+(F49-F61)*100/F61 -> -9.6918489 | O49: =+(G49-G61)*100/G61 -> -27.534614 | P49: =+(H49-H61)*100/H61 -> 251.10868 | Q49: =+(I49-I61)*100/I61 -> 22.273413 | R49: =+J49 -> ท่าลี่,รพช. | S49: =+K49/100 -> 0.042449787 | T49: =+L49/100 -> -0.27053006 | U49: =+M49/100 -> 0.041142383 | V49: =+N49/100 -> -0.096918489 | W49: =+O49/100 -> -0.27534614 | X49: =+P49/100 -> 2.5110868 | Y49: =+Q49/100 -> 0.22273413 | Z49: =+R49 -> ท่าลี่,รพช. | AA49: =+IF(AND(C49>C63),"OK","Not OK") -> OK | AB49: =+IF(AND(D49>D63),"OK","Not OK") -> OK | AC49: =+IF(AND(E49>E63),"OK","Not OK") -> OK | AD49: =+IF(AND(F49>F63),"OK","Not OK") -> OK | AE49: =+IF(AND(G49>G63),"OK","Not OK") -> OK | AF49: =+IF(AND(H49>H63),"OK","Not OK") -> OK | AG49: =+IF(AND(I49>I63),"OK","Not OK") -> OK
A50: เลย | B50: =+'8.คำนวณ'!G34 -> ภูกระดึง,รพช. | C50: =+'8.คำนวณ'!M34 -> 1178.3918 | D50: =+'8.คำนวณ'!N34 -> 131.59075 | E50: =+'8.คำนวณ'!O34 -> 1264.4571 | F50: =+'8.คำนวณ'!P34 -> 3187.2602 | G50: =+'8.คำนวณ'!Q34 -> 7.7252929 | H50: =+'8.คำนวณ'!R34 -> 45.385224 | I50: =+'8.คำนวณ'!S34 -> 927.78987 | J50: =+B50 -> ภูกระดึง,รพช. | K50: =+(C50-C61)*100/C61 -> -11.984677 | L50: =+(D50-D61)*100/D61 -> -52.214086 | M50: =+(E50-E61)*100/E61 -> 49.241258 | N50: =+(F50-F61)*100/F61 -> -23.058202 | O50: =+(G50-G61)*100/G61 -> -6.346047 | P50: =+(H50-H61)*100/H61 -> -37.830626 | Q50: =+(I50-I61)*100/I61 -> 2.1198743 | R50: =+J50 -> ภูกระดึง,รพช. | S50: =+K50/100 -> -0.11984677 | T50: =+L50/100 -> -0.52214086 | U50: =+M50/100 -> 0.49241258 | V50: =+N50/100 -> -0.23058202 | W50: =+O50/100 -> -0.06346047 | X50: =+P50/100 -> -0.37830626 | Y50: =+Q50/100 -> 0.021198743 | Z50: =+R50 -> ภูกระดึง,รพช. | AA50: =+IF(AND(C50>C63),"OK","Not OK") -> OK | AB50: =+IF(AND(D50>D63),"OK","Not OK") -> OK | AC50: =+IF(AND(E50>E63),"OK","Not OK") -> OK | AD50: =+IF(AND(F50>F63),"OK","Not OK") -> OK | AE50: =+IF(AND(G50>G63),"OK","Not OK") -> OK | AF50: =+IF(AND(H50>H63),"OK","Not OK") -> OK | AG50: =+IF(AND(I50>I63),"OK","Not OK") -> OK
A51: เลย | B51: =+'8.คำนวณ'!G35 -> ภูหลวง,รพช. | C51: =+'8.คำนวณ'!M35 -> 1943.1759 | D51: =+'8.คำนวณ'!N35 -> 411.2272 | E51: =+'8.คำนวณ'!O35 -> 1833.3627 | F51: =+'8.คำนวณ'!P35 -> 3200.8131 | G51: =+'8.คำนวณ'!Q35 -> 11.416386 | H51: =+'8.คำนวณ'!R35 -> 76.456157 | I51: =+'8.คำนวณ'!S35 -> 1109.9605 | J51: =+B51 -> ภูหลวง,รพช. | K51: =+(C51-C61)*100/C61 -> 45.137858 | L51: =+(D51-D61)*100/D61 -> 49.333196 | M51: =+(E51-E61)*100/E61 -> 116.38801 | N51: =+(F51-F61)*100/F61 -> -22.731031 | O51: =+(G51-G61)*100/G61 -> 38.401188 | P51: =+(H51-H61)*100/H61 -> 4.7308138 | Q51: =+(I51-I61)*100/I61 -> 22.171009 | R51: =+J51 -> ภูหลวง,รพช. | S51: =+K51/100 -> 0.45137858 | T51: =+L51/100 -> 0.49333196 | U51: =+M51/100 -> 1.1638801 | V51: =+N51/100 -> -0.22731031 | W51: =+O51/100 -> 0.38401188 | X51: =+P51/100 -> 0.047308138 | Y51: =+Q51/100 -> 0.22171009 | Z51: =+R51 -> ภูหลวง,รพช. | AA51: =+IF(AND(C51>C63),"OK","Not OK") -> OK | AB51: =+IF(AND(D51>D63),"OK","Not OK") -> OK | AC51: =+IF(AND(E51>E63),"OK","Not OK") -> OK | AD51: =+IF(AND(F51>F63),"OK","Not OK") -> OK | AE51: =+IF(AND(G51>G63),"OK","Not OK") -> OK | AF51: =+IF(AND(H51>H63),"OK","Not OK") -> OK | AG51: =+IF(AND(I51>I63),"OK","Not OK") -> OK
A52: หนองคาย | B52: =+'8.คำนวณ'!G36 -> สังคม,รพช. | C52: =+'8.คำนวณ'!M36 -> 1291.8173 | D52: =+'8.คำนวณ'!N36 -> 820.79584 | E52: =+'8.คำนวณ'!O36 -> 1143.1326 | F52: =+'8.คำนวณ'!P36 -> 6189.4996 | G52: =+'8.คำนวณ'!Q36 -> 14.423478 | H52: =+'8.คำนวณ'!R36 -> 79.608688 | I52: =+'8.คำนวณ'!S36 -> 1089.6081 | J52: =+B52 -> สังคม,รพช. | K52: =+(C52-C61)*100/C61 -> -3.5128019 | L52: =+(D52-D61)*100/D61 -> 198.0641 | M52: =+(E52-E61)*100/E61 -> 34.921572 | N52: =+(F52-F61)*100/F61 -> 49.417114 | O52: =+(G52-G61)*100/G61 -> 74.856242 | P52: =+(H52-H61)*100/H61 -> 9.0491995 | Q52: =+(I52-I61)*100/I61 -> 19.930869 | R52: =+J52 -> สังคม,รพช. | S52: =+K52/100 -> -0.035128019 | T52: =+L52/100 -> 1.980641 | U52: =+M52/100 -> 0.34921572 | V52: =+N52/100 -> 0.49417114 | W52: =+O52/100 -> 0.74856242 | X52: =+P52/100 -> 0.090491995 | Y52: =+Q52/100 -> 0.19930869 | Z52: =+R52 -> สังคม,รพช. | AA52: =+IF(AND(C52>C63),"OK","Not OK") -> OK | AB52: =+IF(AND(D52>D63),"OK","Not OK") -> OK | AC52: =+IF(AND(E52>E63),"OK","Not OK") -> OK | AD52: =+IF(AND(F52>F63),"OK","Not OK") -> OK | AE52: =+IF(AND(G52>G63),"OK","Not OK") -> OK | AF52: =+IF(AND(H52>H63),"OK","Not OK") -> OK | AG52: =+IF(AND(I52>I63),"OK","Not OK") -> OK
A53: บึงกาฬ | B53: =+'8.คำนวณ'!G37 -> ศรีวิไล,รพช. | C53: =+'8.คำนวณ'!M37 -> 1180.8883 | D53: =+'8.คำนวณ'!N37 -> 216.04954 | E53: =+'8.คำนวณ'!O37 -> 1098.1199 | F53: =+'8.คำนวณ'!P37 -> 2122.6274 | G53: =+'8.คำนวณ'!Q37 -> 15.151831 | H53: =+'8.คำนวณ'!R37 -> 47.714158 | I53: =+'8.คำนวณ'!S37 -> 857.18654 | J53: =+B53 -> ศรีวิไล,รพช. | K53: =+(C53-C61)*100/C61 -> -11.798209 | L53: =+(D53-D61)*100/D61 -> -21.543692 | M53: =+(E53-E61)*100/E61 -> 29.608824 | N53: =+(F53-F61)*100/F61 -> -48.758886 | O53: =+(G53-G61)*100/G61 -> 83.686095 | P53: =+(H53-H61)*100/H61 -> -34.640416 | Q53: =+(I53-I61)*100/I61 -> -5.6512856 | R53: =+J53 -> ศรีวิไล,รพช. | S53: =+K53/100 -> -0.11798209 | T53: =+L53/100 -> -0.21543692 | U53: =+M53/100 -> 0.29608824 | V53: =+N53/100 -> -0.48758886 | W53: =+O53/100 -> 0.83686095 | X53: =+P53/100 -> -0.34640416 | Y53: =+Q53/100 -> -0.056512856 | Z53: =+R53 -> ศรีวิไล,รพช. | AA53: =+IF(AND(C53>C63),"OK","Not OK") -> OK | AB53: =+IF(AND(D53>D63),"OK","Not OK") -> OK | AC53: =+IF(AND(E53>E63),"OK","Not OK") -> OK | AD53: =+IF(AND(F53>F63),"OK","Not OK") -> Not OK | AE53: =+IF(AND(G53>G63),"OK","Not OK") -> OK | AF53: =+IF(AND(H53>H63),"OK","Not OK") -> OK | AG53: =+IF(AND(I53>I63),"OK","Not OK") -> OK
A54: สกลนคร | B54: =+'8.คำนวณ'!G38 -> กุสุมาลย์,รพช. | C54: =+'8.คำนวณ'!M38 -> 1477.9176 | D54: =+'8.คำนวณ'!N38 -> 257.67317 | E54: =+'8.คำนวณ'!O38 -> 656.23159 | F54: =+'8.คำนวณ'!P38 -> 4167.2267 | G54: =+'8.คำนวณ'!Q38 -> 8.0192284 | H54: =+'8.คำนวณ'!R38 -> 21.048102 | I54: =+'8.คำนวณ'!S38 -> 768.20782 | J54: =+B54 -> กุสุมาลย์,รพช. | K54: =+(C54-C61)*100/C61 -> 10.387222 | L54: =+(D54-D61)*100/D61 -> -6.4284708 | M54: =+(E54-E61)*100/E61 -> -22.546342 | N54: =+(F54-F61)*100/F61 -> 0.59859899 | O54: =+(G54-G61)*100/G61 -> -2.7826593 | P54: =+(H54-H61)*100/H61 -> -71.167987 | Q54: =+(I54-I61)*100/I61 -> -15.444986 | R54: =+J54 -> กุสุมาลย์,รพช. | S54: =+K54/100 -> 0.10387222 | T54: =+L54/100 -> -0.064284708 | U54: =+M54/100 -> -0.22546342 | V54: =+N54/100 -> 0.0059859899 | W54: =+O54/100 -> -0.027826593 | X54: =+P54/100 -> -0.71167987 | Y54: =+Q54/100 -> -0.15444986 | Z54: =+R54 -> กุสุมาลย์,รพช. | AA54: =+IF(AND(C54>C63),"OK","Not OK") -> OK | AB54: =+IF(AND(D54>D63),"OK","Not OK") -> OK | AC54: =+IF(AND(E54>E63),"OK","Not OK") -> OK | AD54: =+IF(AND(F54>F63),"OK","Not OK") -> OK | AE54: =+IF(AND(G54>G63),"OK","Not OK") -> OK | AF54: =+IF(AND(H54>H63),"OK","Not OK") -> OK | AG54: =+IF(AND(I54>I63),"OK","Not OK") -> OK
A55: สกลนคร | B55: =+'8.คำนวณ'!G39 -> วาริชภูมิ,รพช. | C55: =+'8.คำนวณ'!M39 -> 1093.3101 | D55: =+'8.คำนวณ'!N39 -> 238.02597 | E55: =+'8.คำนวณ'!O39 -> 434.06393 | F55: =+'8.คำนวณ'!P39 -> 3793.3116 | G55: =+'8.คำนวณ'!Q39 -> 9.728427 | H55: =+'8.คำนวณ'!R39 -> 38.699109 | I55: =+'8.คำนวณ'!S39 -> 743.79537 | J55: =+B55 -> วาริชภูมิ,รพช. | K55: =+(C55-C61)*100/C61 -> -18.339518 | L55: =+(D55-D61)*100/D61 -> -13.563161 | M55: =+(E55-E61)*100/E61 -> -48.768332 | N55: =+(F55-F61)*100/F61 -> -8.4278675 | O55: =+(G55-G61)*100/G61 -> 17.938006 | P55: =+(H55-H61)*100/H61 -> -46.989368 | Q55: =+(I55-I61)*100/I61 -> -18.132012 | R55: =+J55 -> วาริชภูมิ,รพช. | S55: =+K55/100 -> -0.18339518 | T55: =+L55/100 -> -0.13563161 | U55: =+M55/100 -> -0.48768332 | V55: =+N55/100 -> -0.084278675 | W55: =+O55/100 -> 0.17938006 | X55: =+P55/100 -> -0.46989368 | Y55: =+Q55/100 -> -0.18132012 | Z55: =+R55 -> วาริชภูมิ,รพช. | AA55: =+IF(AND(C55>C63),"OK","Not OK") -> Not OK | AB55: =+IF(AND(D55>D63),"OK","Not OK") -> OK | AC55: =+IF(AND(E55>E63),"OK","Not OK") -> OK | AD55: =+IF(AND(F55>F63),"OK","Not OK") -> OK | AE55: =+IF(AND(G55>G63),"OK","Not OK") -> OK | AF55: =+IF(AND(H55>H63),"OK","Not OK") -> OK | AG55: =+IF(AND(I55>I63),"OK","Not OK") -> Not OK
A56: สกลนคร | B56: =+'8.คำนวณ'!G40 -> คำตากล้า,รพช. | C56: =+'8.คำนวณ'!M40 -> 1652.7682 | D56: =+'8.คำนวณ'!N40 -> 214.8983 | E56: =+'8.คำนวณ'!O40 -> 525.18049 | F56: =+'8.คำนวณ'!P40 -> 5172.2567 | G56: =+'8.คำนวณ'!Q40 -> 8.9528485 | H56: =+'8.คำนวณ'!R40 -> 50.433235 | I56: =+'8.คำนวณ'!S40 -> 856.57786 | J56: =+B56 -> คำตากล้า,รพช. | K56: =+(C56-C61)*100/C61 -> 23.447 | L56: =+(D56-D61)*100/D61 -> -21.961752 | M56: =+(E56-E61)*100/E61 -> -38.014033 | N56: =+(F56-F61)*100/F61 -> 24.860446 | O56: =+(G56-G61)*100/G61 -> 8.5356455 | P56: =+(H56-H61)*100/H61 -> -30.915782 | Q56: =+(I56-I61)*100/I61 -> -5.7182817 | R56: =+J56 -> คำตากล้า,รพช. | S56: =+K56/100 -> 0.23447 | T56: =+L56/100 -> -0.21961752 | U56: =+M56/100 -> -0.38014033 | V56: =+N56/100 -> 0.24860446 | W56: =+O56/100 -> 0.085356455 | X56: =+P56/100 -> -0.30915782 | Y56: =+Q56/100 -> -0.057182817 | Z56: =+R56 -> คำตากล้า,รพช. | AA56: =+IF(AND(C56>C63),"OK","Not OK") -> OK | AB56: =+IF(AND(D56>D63),"OK","Not OK") -> OK | AC56: =+IF(AND(E56>E63),"OK","Not OK") -> OK | AD56: =+IF(AND(F56>F63),"OK","Not OK") -> OK | AE56: =+IF(AND(G56>G63),"OK","Not OK") -> OK | AF56: =+IF(AND(H56>H63),"OK","Not OK") -> OK | AG56: =+IF(AND(I56>I63),"OK","Not OK") -> OK
A57: นครพนม | B57: =+'8.คำนวณ'!G41 -> บ้านแพง,รพช. | C57: =+'8.คำนวณ'!M41 -> 1267.0215 | D57: =+'8.คำนวณ'!N41 -> 217.75571 | E57: =+'8.คำนวณ'!O41 -> 352.4027 | F57: =+'8.คำนวณ'!P41 -> 4841.2215 | G57: =+'8.คำนวณ'!Q41 -> 1.479768 | H57: =+'8.คำนวณ'!R41 -> 118.91672 | I57: =+'8.คำนวณ'!S41 -> 1165.8466 | J57: =+B57 -> บ้านแพง,รพช. | K57: =+(C57-C61)*100/C61 -> -5.3648294 | L57: =+(D57-D61)*100/D61 -> -20.924113 | M57: =+(E57-E61)*100/E61 -> -58.406638 | N57: =+(F57-F61)*100/F61 -> 16.869117 | O57: =+(G57-G61)*100/G61 -> -82.060729 | P57: =+(H57-H61)*100/H61 -> 62.893948 | Q57: =+(I57-I61)*100/I61 -> 28.322274 | R57: =+J57 -> บ้านแพง,รพช. | S57: =+K57/100 -> -0.053648294 | T57: =+L57/100 -> -0.20924113 | U57: =+M57/100 -> -0.58406638 | V57: =+N57/100 -> 0.16869117 | W57: =+O57/100 -> -0.82060729 | X57: =+P57/100 -> 0.62893948 | Y57: =+Q57/100 -> 0.28322274 | Z57: =+R57 -> บ้านแพง,รพช. | AA57: =+IF(AND(C57>C63),"OK","Not OK") -> OK | AB57: =+IF(AND(D57>D63),"OK","Not OK") -> OK | AC57: =+IF(AND(E57>E63),"OK","Not OK") -> Not OK | AD57: =+IF(AND(F57>F63),"OK","Not OK") -> OK | AE57: =+IF(AND(G57>G63),"OK","Not OK") -> Not OK | AF57: =+IF(AND(H57>H63),"OK","Not OK") -> OK | AG57: =+IF(AND(I57>I63),"OK","Not OK") -> OK
A58: นครพนม | B58: =+'8.คำนวณ'!G42 -> นาหว้า,รพช. | C58: =+'8.คำนวณ'!M42 -> 1097.5938 | D58: =+'8.คำนวณ'!N42 -> 206.36815 | E58: =+'8.คำนวณ'!O42 -> 346.33484 | F58: =+'8.คำนวณ'!P42 -> 2485.9332 | G58: =+'8.คำนวณ'!Q42 -> 2.9033728 | H58: =+'8.คำนวณ'!R42 -> 31.002573 | I58: =+'8.คำนวณ'!S42 -> 793.01159 | J58: =+B58 -> นาหว้า,รพช. | K58: =+(C58-C61)*100/C61 -> -18.019564 | L58: =+(D58-D61)*100/D61 -> -25.059394 | M58: =+(E58-E61)*100/E61 -> -59.122815 | N58: =+(F58-F61)*100/F61 -> -39.988532 | O58: =+(G58-G61)*100/G61 -> -64.802327 | P58: =+(H58-H61)*100/H61 -> -57.5322 | Q58: =+(I58-I61)*100/I61 -> -12.714887 | R58: =+J58 -> นาหว้า,รพช. | S58: =+K58/100 -> -0.18019564 | T58: =+L58/100 -> -0.25059394 | U58: =+M58/100 -> -0.59122815 | V58: =+N58/100 -> -0.39988532 | W58: =+O58/100 -> -0.64802327 | X58: =+P58/100 -> -0.575322 | Y58: =+Q58/100 -> -0.12714887 | Z58: =+R58 -> นาหว้า,รพช. | AA58: =+IF(AND(C58>C63),"OK","Not OK") -> Not OK | AB58: =+IF(AND(D58>D63),"OK","Not OK") -> OK | AC58: =+IF(AND(E58>E63),"OK","Not OK") -> Not OK | AD58: =+IF(AND(F58>F63),"OK","Not OK") -> Not OK | AE58: =+IF(AND(G58>G63),"OK","Not OK") -> Not OK | AF58: =+IF(AND(H58>H63),"OK","Not OK") -> OK | AG58: =+IF(AND(I58>I63),"OK","Not OK") -> OK
A59: เลย | B59: =+'8.คำนวณ'!G43 -> เอราวัณ,รพช. | C59: =+'8.คำนวณ'!M43 -> 1190.4104 | D59: =+'8.คำนวณ'!N43 -> 148.02132 | E59: =+'8.คำนวณ'!O43 -> 903.38141 | F59: =+'8.คำนวณ'!P43 -> 2794.8715 | G59: =+'8.คำนวณ'!Q43 -> 8.3767738 | H59: =+'8.คำนวณ'!R43 -> 49.885959 | I59: =+'8.คำนวณ'!S43 -> 749.53291 | J59: =+B59 -> เอราวัณ,รพช. | K59: =+(C59-C61)*100/C61 -> -11.086991 | L59: =+(D59-D61)*100/D61 -> -46.247483 | M59: =+(E59-E61)*100/E61 -> 6.6242389 | N59: =+(F59-F61)*100/F61 -> -32.530631 | O59: =+(G59-G61)*100/G61 -> 1.551875 | P59: =+(H59-H61)*100/H61 -> -31.665449 | Q59: =+(I59-I61)*100/I61 -> -17.500493 | R59: =+J59 -> เอราวัณ,รพช. | S59: =+K59/100 -> -0.11086991 | T59: =+L59/100 -> -0.46247483 | U59: =+M59/100 -> 0.066242389 | V59: =+N59/100 -> -0.32530631 | W59: =+O59/100 -> 0.01551875 | X59: =+P59/100 -> -0.31665449 | Y59: =+Q59/100 -> -0.17500493 | Z59: =+R59 -> เอราวัณ,รพช. | AA59: =+IF(AND(C59>C63),"OK","Not OK") -> OK | AB59: =+IF(AND(D59>D63),"OK","Not OK") -> OK | AC59: =+IF(AND(E59>E63),"OK","Not OK") -> OK | AD59: =+IF(AND(F59>F63),"OK","Not OK") -> OK | AE59: =+IF(AND(G59>G63),"OK","Not OK") -> OK | AF59: =+IF(AND(H59>H63),"OK","Not OK") -> OK | AG59: =+IF(AND(I59>I63),"OK","Not OK") -> OK
A60: หนองบัวลำภู | B60: =+'8.คำนวณ'!G44 -> นาวัง เฉลิมพระเกียรติ 80 พรรษา,รพช. | C60: =+'8.คำนวณ'!M44 -> 1297.204 | D60: =+'8.คำนวณ'!N44 -> 241.22314 | E60: =+'8.คำนวณ'!O44 -> 728.30233 | F60: =+'8.คำนวณ'!P44 -> 8013.1882 | G60: =+'8.คำนวณ'!Q44 -> 4.8302551 | H60: =+'8.คำนวณ'!R44 -> 60.562319 | I60: =+'8.คำนวณ'!S44 -> 729.95407 | J60: =+B60 -> นาวัง เฉลิมพระเกียรติ 80 พรรษา,รพช. | K60: =+(C60-C61)*100/C61 -> -3.1104673 | L60: =+(D60-D61)*100/D61 -> -12.402141 | M60: =+(E60-E61)*100/E61 -> -14.039983 | N60: =+(F60-F61)*100/F61 -> 93.441722 | O60: =+(G60-G61)*100/G61 -> -41.442675 | P60: =+(H60-H61)*100/H61 -> -17.040808 | Q60: =+(I60-I61)*100/I61 -> -19.655495 | R60: =+J60 -> นาวัง เฉลิมพระเกียรติ 80 พรรษา,รพช. | S60: =+K60/100 -> -0.031104673 | T60: =+L60/100 -> -0.12402141 | U60: =+M60/100 -> -0.14039983 | V60: =+N60/100 -> 0.93441722 | W60: =+O60/100 -> -0.41442675 | X60: =+P60/100 -> -0.17040808 | Y60: =+Q60/100 -> -0.19655495 | Z60: =+R60 -> นาวัง เฉลิมพระเกียรติ 80 พรรษา,รพช. | AA60: =+IF(AND(C60>C63),"OK","Not OK") -> OK | AB60: =+IF(AND(D60>D63),"OK","Not OK") -> OK | AC60: =+IF(AND(E60>E63),"OK","Not OK") -> OK | AD60: =+IF(AND(F60>F63),"OK","Not OK") -> OK | AE60: =+IF(AND(G60>G63),"OK","Not OK") -> OK | AF60: =+IF(AND(H60>H63),"OK","Not OK") -> OK | AG60: =+IF(AND(I60>I63),"OK","Not OK") -> Not OK
B61: ค่าเฉลี่ยของกลุ่ม | C61: =AVERAGE(C49:C60) -> 1338.8484 | D61: =AVERAGE(D49:D60) -> 275.37561 | E61: =AVERAGE(E49:E60) -> 847.25708 | F61: =AVERAGE(F49:F60) -> 4142.4301 | G61: =AVERAGE(G49:G60) -> 8.2487633 | H61: =AVERAGE(H49:H60) -> 73.002542 | I61: =AVERAGE(I49:I60) -> 908.53017
B62: 1SD | C62: =+STDEV(C49:C61) -> 239.21006 | D62: =+STDEV(D49:D61) -> 177.13363 | E62: =+STDEV(E49:E61) -> 420.53602 | F62: =+STDEV(F49:F61) -> 1618.7518 | G62: =+STDEV(G49:G61) -> 3.9799378 | H62: =+STDEV(H49:H61) -> 60.559233 | I62: =+STDEV(I49:I61) -> 159.0527
B63: mean-1SD | C63: =+C61-C62 -> 1099.6384 | D63: =+D61-D62 -> 98.24198 | E63: =+E61-E62 -> 426.72105 | F63: =+F61-F62 -> 2523.6783 | G63: =+G61-G62 -> 4.2688256 | H63: =+H61-H62 -> 12.44331 | I63: =+I61-I62 -> 749.47747
