Workbook
Name data: '[1]งบทดลอง รพ.'!$A$2:$CL$438
Name data1: #REF!
Name NEW: #REF!
Name test1: #REF!

Sheet 1.รายชื่อ รพ.
B1: จ.หนองคาย | D1: จ.นครพนม | F1: จ.เลย | H1: จ.หนองบัวลำภู | J1: จ.บึงกาฬ | L1: จ.อุดรธานี | N1: จ.สกลนคร
A2: 1 | B2: หนองคาย | C2: 1 | D2: นครพนม | E2: 1 | F2: เลย | G2: 1 | H2: หนองบัวลำภู | I2: 1 | J2: บึงกาฬ | K2: 1 | L2: อุดรธานี | M2: 1 | N2: สกลนคร
A3: 2 | B3: โพนพิสัย | C3: 2 | D3: ปลาปาก | E3: 2 | F3: นาด้วง | G3: 2 | H3: นากลาง | I3: 2 | J3: พรเจริญ | K3: 2 | L3: กุดจับ | M3: 2 | N3: กุสุมาลย์
A4: 3 | B4: ศรีเชียงใหม่ | C4: 3 | D4: ท่าอุเทน | E4: 3 | F4: เชียงคาน | G4: 3 | H4: โนนสัง | I4: 3 | J4: โซ่พิสัย | K4: 3 | L4: หนองวัวซอ | M4: 3 | N4: กุดบาก
A5: 4 | B5: สังคม | C5: 4 | D5: บ้านแพง | E5: 4 | F5: ปากชม | G5: 4 | H5: ศรีบุญเรือง | I5: 4 | J5: เซกา | K5: 4 | L5: กุมภวาปี | M5: 4 | N5: พระอาจารย์ฝั้น
A6: 5 | B6: ท่าบ่อ | C6: 5 | D6: นาทม | E6: 5 | F6: นาแห้ว | G6: 5 | H6: สุวรรณคูหา | I6: 5 | J6: ปากคาด | K6: 5 | L6: ห้วยเกิ้ง | M6: 5 | N6: พังโคน
A7: 6 | B7: สระใคร | C7: 6 | D7: เรณูนคร | E7: 6 | F7: ภูเรือ | G7: 6 | H7: นาวัง | I7: 6 | J7: บึงโขงหลง | K7: 6 | L7: โนนสะอาด | M7: 6 | N7: วาริชภูมิ
A8: 7 | B8: โพธิ์ตาก | C8: 7 | D8: นาแก | E8: 7 | F8: ท่าลี่ | I8: 7 | J8: ศรีวิไล | K8: 7 | L8: หนองหาน | M8: 7 | N8: นิคมน้ำอูน
A9: 8 | B9: เฝ้าไร่ | C9: 8 | D9: ศรีสงคราม | E9: 8 | F9: วังสะพุง | I9: 8 | J9: บุ่งคล้า | K9: 8 | L9: ทุ่งฝน | M9: 8 | N9: วานรนิวาส
A10: 9 | B10: รัตนวาปี | C10: 9 | D10: นาหว้า | E10: 9 | F10: ภูกระดึง | K10: 9 | L10: ไชยวาน | M10: 9 | N10: คำตากล้า
C11: 10 | D11: โพนสวรรค์ | E11: 10 | F11: ภูหลวง | K11: 10 | L11: ศรีธาตุ | M11: 10 | N11: บ้านม่วง
C12: 11 | D12: ธาตุพนม | E12: 11 | F12: ผาขาว | K12: 11 | L12: วังสามหมอ | M12: 11 | N12: อากาศอำนวย
C13: 12 | D13: วังยาง | E13: 12 | F13: ด่านซาย | K13: 12 | L13: บ้านผือ | M13: 12 | N13: ส่องดาว
E14: 13 | F14: เอราวัณ | K14: 13 | L14: น้ำโสม | M14: 13 | N14: เต่างอย
E15: 14 | F15: หนองหิน | K15: 14 | L15: เพ็ญ | M15: 14 | N15: โคกศรีสุพรรณ
B16: งบทดลองเบื้องต้น | K16: 15 | L16: สร้างคอม | M16: 15 | N16: เจริญศิลป์
K17: 16 | L17: หนองแสง | M17: 16 | N17: โพนนาแก้ว
K18: 17 | L18: นายูง | M18: 17 | N18: สว่างแดนดิน
K19: 18 | L19: พิบูลย์รักษ์ | M19: 18 | N19: พระอาจารย์แบน
K20: 19 | L20: บ้านดุง
K21: 20 | L21: กู่แก้ว
K22: 21 | L22: ประจักษ์ศิลปาคม | N22: =9+12+14+6+8+21+18 -> 88

Sheet 2.Hosp. Group
B1: การจัดกลุ่ม Benchmarking รายได้ ค่าใช้จ่าย ปี 2567
A2: ลำดับเรียงตามจัดกลุ่ม | B2: กลุ่ม | C2: Province | D2: OrgID | E2: Org | F2: ประเภท | G2: ServBed | H2: CapacityGroup | I2: pop | J2: จำนวนเตียงจริง | K2: Factor | L2: New Factor
A4: 1 | B4: 1 | C4: อุดรธานี | D4: 11016 | E4: ห้วยเกิ้ง,รพช. | F4: รพช. | G4: 8 | H4: รพช.F3 P<=15,000 | I4: 4063 | J4: 8 | K4: 21 | L4: 21
A5: 2 | B5: 1 | C5: เลย | D5: 11033 | E5: นาแห้ว,รพช. | F5: รพช. | G5: 30 | H5: รพช.F3 P<=15,000 | I5: 8768 | J5: 30 | K5: 21 | L5: 21
A6: 3 | B6: 1 | C6: บึงกาฬ | D6: 11050 | E6: บุ่งคล้า,รพช. | F6: รพช. | G6: 32 | H6: รพช.F3 P<=15,000 | I6: 11241 | J6: 32 | K6: 21 | L6: 21
A7: 4 | B7: 1 | C7: สกลนคร | D7: 11094 | E7: นิคมน้ำอูน,รพช. | F7: รพช. | G7: 15 | H7: รพช.F3 P<=15,000 | I7: 10820 | J7: 15 | K7: 21 | L7: 21
A8: 5 | B8: 1 | C8: อุดรธานี | D8: 25059 | E8: ประจักษ์ศิลปาคม,รพช. | F8: รพช. | G8: 30 | H8: รพช.F3 P15,000-25,000 | I8: 19069 | J8: 30 | K8: 21 | L8: 21
A9: 6 | B9: 1 | C9: หนองคาย | D9: 28778 | E9: โพธิ์ตาก,รพช. | F9: รพช. | G9: 15 | H9: รพช.F3 P<=15,000 | I9: 12022 | J9: 15 | K9: 21 | L9: 21
A10: 7 | B10: 1 | C10: นครพนม | D10: 40840 | E10: วังยาง,รพช. | F10: รพช. | G10: 20 | H10: รพช.F3 P<=15,000 | I10: 11638 | J10: 20 | K10: 21 | L10: 21
A11: 8 | B11: 2 | C11: อุดรธานี | D11: 11027 | E11: หนองแสง,รพช. | F11: รพช. | G11: 30 | H11: รพช.F2 P<=30,000 | I11: 21043 | J11: 30 | K11: 21 | L11: 21
A12: 9 | B12: 2 | C12: อุดรธานี | D12: 11028 | E12: นายูง,รพช. | F12: รพช. | G12: 30 | H12: รพช.F2 P<=30,000 | I12: 23638 | J12: 30 | K12: 21 | L12: 21
A13: 10 | B13: 2 | C13: หนองคาย | D13: 11044 | E13: ศรีเชียงใหม่,รพช. | F13: รพช. | G13: 30 | H13: รพช.F2 P<=30,000 | I13: 23304 | J13: 30 | K13: 21 | L13: 21
A14: 11 | B14: 2 | C14: สกลนคร | D14: 11100 | E14: เต่างอย,รพช. | F14: รพช. | G14: 40 | H14: รพช.F2 P<=30,000 | I14: 17778 | J14: 40 | K14: 21 | L14: 21
A15: 12 | B15: 2 | C15: นครพนม | D15: 11107 | E15: นาทม,รพช. | F15: รพช. | G15: 36 | H15: รพช.F2 P<=30,000 | I15: 17669 | J15: 36 | K15: 21 | L15: 21
... A91: 88 | B91: 13 | C91: สกลนคร | D91: 10710 | E91: สกลนคร,รพศ. | F91: รพศ. | G91: 909 | H91: รพศ.A B>700to1000 | I91: 142594 | J91: 909 | K91: 14 | L91: 14

Sheet 3.สูตรการคำนวณ
A1: สูตรคำนวนข้อมูลหมวดรายได้
A2: ลำดับ | B2: หมวดรายได้ | C2: รายได้(บาท)/ปชก. | D2: %diff ค่าเฉลี่ย/ปชก.
A3: 1 | B3: เหมาจ่ายรายหัว UC | C3: = รายได้ในหมวดเหมาจ่ายรายหัว UC หารด้วยประชากร UC ในพื้นที่รับผิดชอบ | D3: = (รายได้(บาท)/ปชก.ในหมวดเหมาจ่ายรายหัว UC ของร.พ. - ค่าเฉลี่ยรายได้(บาท)/ปชก.ในหมวดเหมาจ่ายรายหัว UC ของกลุ่มร.พ.นั้น) คูณ 100 หารด้วยค่าเฉลี่ยรายได้(บาท)/ปชก.ในหมวดเหมาจ่ายรายหัว UC ของกลุ่มร.พ.นั้น
A4: 2 | B4: เรียกเก็บUC/กองทุนUC/EMS | C4: = รายได้ในหมวดเรียกเก็บUC/กองทุนUC/EMS หารด้วยประชากร UC ในพื้นที่รับผิดชอบ | D4: = (รายได้(บาท)/ปชก.ในหมวดเรียกเก็บUC/กองทุนUC/EMS ของร.พ. - ค่าเฉลี่ยรายได้(บาท)/ปชก.ในหมวดเรียกเก็บUC/กองทุนUC/EMS ของกลุ่มร.พ.นั้น) คูณ 100 หารด้วยค่าเฉลี่ยรายได้(บาท)/ปชก.ในหมวดเรียกเก็บUC/กองทุนUC/EMS ของกลุ่มร.พ.นั้น
A5: 3 | B5: ประกันสังคม | C5: = รายได้ในหมวดประกันสังคม หารด้วยประชากรประกันสังคมในพื้นที่รับผิดชอบ | D5: = (รายได้(บาท)/ปชก.ในหมวดประกันสังคมของร.พ. - ค่าเฉลี่ยรายได้(บาท)/ปชก.ในหมวดประกันสังคมของกลุ่มร.พ.นั้น) คูณ 100 หารด้วยค่าเฉลี่ยรายได้(บาท)/ปชก.ในหมวดประกันสังคมของกลุ่มร.พ.นั้น
A6: 4 | B6: ข้าราชการ | C6: = รายได้ในหมวดข้าราชการ หารด้วยประชากรข้าราชการในพื้นที่รับผิดชอบ | D6: = (รายได้(บาท)/ปชก.ในหมวดข้าราชการของร.พ. - ค่าเฉลี่ยรายได้(บาท)/ปชก.ในหมวดข้าราชการของกลุ่มร.พ.นั้น) คูณ 100 หารด้วยค่าเฉลี่ยรายได้(บาท)/ปชก.ในหมวดข้าราชการของกลุ่มร.พ.นั้น
A7: 5 | B7: พรบ. | C7: = รายได้ในหมวดพรบ. หารด้วยประชากรทุกสิทธิ์ในพื้นที่รับผิดชอบ | D7: = (รายได้(บาท)/ปชก.ในหมวดพรบ.ของร.พ. - ค่าเฉลี่ยรายได้(บาท)/ปชก.ในหมวดพรบ.ของกลุ่มร.พ.นั้น) คูณ 100 หารด้วยค่าเฉลี่ยรายได้(บาท)/ปชก.ในหมวดพรบ.ของกลุ่มร.พ.นั้น
A8: 6 | B8: ชำระเงินเอง | C8: = รายได้ในหมวดชำระเงินเอง หารด้วยประชากรทุกสิทธิ์ในพื้นที่รับผิดชอบ | D8: = (รายได้(บาท)/ปชก.ในหมวดชำระเงินเองของร.พ. - ค่าเฉลี่ยรายได้(บาท)/ปชก.ในหมวดชำระเงินเองของกลุ่มร.พ.นั้น) คูณ 100 หารด้วยค่าเฉลี่ยรายได้(บาท)/ปชก.ในหมวดชำระเงินเองของกลุ่มร.พ.นั้น
A9: 7 | B9: งบบุคลากร | C9: = รายได้ในหมวดงบบุคลากร หารด้วยประชากร UC ในพื้นที่รับผิดชอบ | D9: = (รายได้(บาท)/ปชก.ในหมวดงบบุคลากรของร.พ. - ค่าเฉลี่ยรายได้(บาท)/ปชก.ในหมวดงบบุคลากรของกลุ่มร.พ.นั้น) คูณ 100 หารด้วยค่าเฉลี่ยรายได้(บาท)/ปชก.ในหมวดงบบุคลากรของกลุ่มร.พ.นั้น
A11: สูตรคำนวนข้อมูลหมวดค่าใช้จ่าย
A12: ลำดับ | B12: หมวดค่าใช้จ่าย | C12: ค่าใช้จ่าย(บาท)/RW | D12: %diff ค่าเฉลี่ย/ปชก.
A13: 1 | B13: บุคลากรรวม | C13: = ค่าใช้จ่ายในหมวดบุคลากรรวม หารด้วย Adj.RW รวม(Quick Method) | D13: = (ค่าใช้จ่าย(บาท)/RWในหมวดบุคลากรรวมของร.พ. - ค่าเฉลี่ยค่าใช้จ่าย(บาท)/RWในหมวดบุคลากรรวมของกลุ่มร.พ.นั้น) คูณ 100 หารด้วยค่าเฉลี่ยค่าใช้จ่าย(บาท)/RWในหมวดบุคลากรรวมของกลุ่มร.พ.นั้น
A14: 2 | B14: ค่าฝึกอบรม | C14: = ค่าใช้จ่ายในหมวดค่าฝึกอบรม หารด้วย Adj.RW รวม(Quick Method) | D14: = (ค่าใช้จ่าย(บาท)/RWในหมวดค่าฝึกอบรมของร.พ. - ค่าเฉลี่ยค่าใช้จ่าย(บาท)/RWในหมวดค่าฝึกอบรมของกลุ่มร.พ.นั้น) คูณ 100 หารด้วยค่าเฉลี่ยค่าใช้จ่าย(บาท)/RWในหมวดค่าฝึกอบรมของกลุ่มร.พ.นั้น
A15: 3 | B15: ยาใช้ไป | C15: = ค่าใช้จ่ายในหมวดยาใช้ไป หารด้วย Adj.RW รวม(Quick Method) | D15: = (ค่าใช้จ่าย(บาท)/RWในหมวดยาใช้ไปของร.พ. - ค่าเฉลี่ยค่าใช้จ่าย(บาท)/RWในหมวดยาใช้ไปของกลุ่มร.พ.นั้น) คูณ 100 หารด้วยค่าเฉลี่ยค่าใช้จ่าย(บาท)/RWในหมวดยาใช้ไปของกลุ่มร.พ.นั้น
A16: 4 | B16: เวชภัณฑ์ที่ไม่ใช่ยา | C16: = ค่าใช้จ่ายในหมวดเวชภัณฑ์ที่ไม่ใช่ยา หารด้วย Adj.RW รวม(Quick Method) | D16: = (ค่าใช้จ่าย(บาท)/RWในหมวดเวชภัณฑ์ที่ไม่ใช่ยาของร.พ. - ค่าเฉลี่ยค่าใช้จ่าย(บาท)/RWในหมวดเวชภัณฑ์ที่ไม่ใช่ยาของกลุ่มร.พ.นั้น) คูณ 100 หารด้วยค่าเฉลี่ยค่าใช้จ่าย(บาท)/RWในหมวดเวชภัณฑ์ที่ไม่ใช่ยาของกลุ่มร.พ.นั้น
A17: 5 | B17: วัสดุการแพทย์ | C17: = ค่าใช้จ่ายในหมวดวัสดุการแพทย์ หารด้วย Adj.RW รวม(Quick Method) | D17: = (ค่าใช้จ่าย(บาท)/RWในหมวดวัสดุการแพทย์ของร.พ. - ค่าเฉลี่ยค่าใช้จ่าย(บาท)/RWในหมวดวัสดุการแพทย์ของกลุ่มร.พ.นั้น) คูณ 100 หารด้วยค่าเฉลี่ยค่าใช้จ่าย(บาท)/RWในหมวดวัสดุการแพทย์ของกลุ่มร.พ.นั้น
A18: 6 | B18: วัสดุวิทยาศาสตร์ | C18: = ค่าใช้จ่ายในหมวดวัสดุวิทยาศาสตร์ หารด้วย Adj.RW รวม(Quick Method) | D18: = (ค่าใช้จ่าย(บาท)/RWในหมวดวัสดุวิทยาศาสตร์ของร.พ. - ค่าเฉลี่ยค่าใช้จ่าย(บาท)/RWในหมวดวัสดุวิทยาศาสตร์ของกลุ่มร.พ.นั้น) คูณ 100 หารด้วยค่าเฉลี่ยค่าใช้จ่าย(บาท)/RWในหมวดวัสดุวิทยาศาสตร์ของกลุ่มร.พ.นั้น
A19: 7 | B19: วัสดุอื่น | C19: = ค่าใช้จ่ายในหมวดวัสดุอื่น หารด้วย Adj.RW รวม(Quick Method) | D19: = (ค่าใช้จ่าย(บาท)/RWในหมวดวัสดุอื่นของร.พ. - ค่าเฉลี่ยค่าใช้จ่าย(บาท)/RWในหมวดวัสดุอื่นของกลุ่มร.พ.นั้น) คูณ 100 หารด้วยค่าเฉลี่ยค่าใช้จ่าย(บาท)/RWในหมวดวัสดุอื่นของกลุ่มร.พ.นั้น
A20: 8 | B20: ซ่อมแซม/จ้างเหมา | C20: = ค่าใช้จ่ายในหมวดซ่อมแซม/จ้างเหมา หารด้วย Adj.RW รวม(Quick Method) | D20: = (ค่าใช้จ่าย(บาท)/RWในหมวดซ่อมแซม/จ้างเหมาของร.พ. - ค่าเฉลี่ยค่าใช้จ่าย(บาท)/RWในหมวดซ่อมแซม/จ้างเหมาของกลุ่มร.พ.นั้น) คูณ 100 หารด้วยค่าเฉลี่ยค่าใช้จ่าย(บาท)/RWในหมวดซ่อมแซม/จ้างเหมาของกลุ่มร.พ.นั้น
A21: 9 | B21: จ้างตรวจLAB | C21: = ค่าใช้จ่ายในหมวดจ้างตรวจLAB หารด้วย Adj.RW รวม(Quick Method) | D21: = (ค่าใช้จ่าย(บาท)/RWในหมวดจ้างตรวจLABของร.พ. - ค่าเฉลี่ยค่าใช้จ่าย(บาท)/RWในหมวดจ้างตรวจLABของกลุ่มร.พ.นั้น) คูณ 100 หารด้วยค่าเฉลี่ยค่าใช้จ่าย(บาท)/RWในหมวดจ้างตรวจLABของกลุ่มร.พ.นั้น
A22: 10 | B22: ค่าสาธารณูปโภค | C22: = ค่าใช้จ่ายในหมวดค่าสาธารณูปโภค หารด้วย Adj.RW รวม(Quick Method) | D22: = (ค่าใช้จ่าย(บาท)/RWในหมวดค่าสาธารณูปโภคของร.พ. - ค่าเฉลี่ยค่าใช้จ่าย(บาท)/RWในหมวดค่าสาธารณูปโภคของกลุ่มร.พ.นั้น) คูณ 100 หารด้วยค่าเฉลี่ยค่าใช้จ่าย(บาท)/RWในหมวดค่าสาธารณูปโภคของกลุ่มร.พ.นั้น
A23: 11 | B23: ค่าใช้สอยอื่นๆ | C23: = ค่าใช้จ่ายในหมวดค่าใช้สอยอื่นๆ หารด้วย Adj.RW รวม(Quick Method) | D23: = (ค่าใช้จ่าย(บาท)/RWในหมวดค่าใช้สอยอื่นๆของร.พ. - ค่าเฉลี่ยค่าใช้จ่าย(บาท)/RWในหมวดค่าใช้สอยอื่นๆของกลุ่มร.พ.นั้น) คูณ 100 หารด้วยค่าเฉลี่ยค่าใช้จ่าย(บาท)/RWในหมวดค่าใช้สอยอื่นๆของกลุ่มร.พ.นั้น
A24: 12 | B24: ค่าใช้จ่ายอื่นๆ | C24: = ค่าใช้จ่ายในหมวดค่าใช้จ่ายอื่นๆ หารด้วย Adj.RW รวม(Quick Method) | D24: = (ค่าใช้จ่าย(บาท)/RWในหมวดค่าใช้จ่ายอื่นๆของร.พ. - ค่าเฉลี่ยค่าใช้จ่าย(บาท)/RWในหมวดค่าใช้จ่ายอื่นๆของกลุ่มร.พ.นั้น) คูณ 100 หารด้วยค่าเฉลี่ยค่าใช้จ่าย(บาท)/RWในหมวดค่าใช้จ่ายอื่นๆของกลุ่มร.พ.นั้น
A26: หมายเหตุ : Factor Quick Method ในการคำนวนหาค่า Adj.RW รวม คือ รพ.ศูนย์/รพ.ทั่วไป = 14, รพช.ขนาดใหญ่ = 17, รพช.ขนาดกลาง/เล็ก = 21
A27: สูตรหา: | B27: Rw รวมคิดแบบ quick method = (จำนวน visit ผู้ป่วยนอก/ค่า factor) + rw ผู้ป่วยใน

Sheet DATA
A1: แหล่งข้อมูล | G1: HDC | H1: TPS from HFO | I1: HDC | J1: HDC | K1: ปชก ทั้งหมด - (สิทธิ UC+SSO+SSS) | L1: HDC | M1: CMI@MOPH
A2: ลำดับเรียงตามงบทดลอง | B2: ลำดับเรียงตามจัดกลุ่ม | C2: กลุ่ม | D2: จังหวัด | E2: รหัส | F2: โรงพยาบาล | G2: จำนวนประชากรแยกตามสิทธิ (คน) | L2: OPD (จำนวนครั้ง) | M2: IPD
G3: ประชากรทั้งหมด | H3: สิทธิ UC | I3: สิทธิประกันสังคม | J3: สิทธิข้าราชการ | K3: สิทธิอื่นๆ | L3: OP Visit รวม | M3: AdjRW
M4: รวม
A5: 72 | B5: 1 | C5: 1 | D5: อุดรธานี | E5: 11016 | F5: ห้วยเกิ้ง | G5: 5185 | H5: 4063 | I5: 104 | J5: 113 | K5: =+G5-H5-I5-J5 -> 905 | L5: 20582 | M5: 358.151
A6: 25 | B6: 2 | C6: 1 | D6: เลย | E6: 11033 | F6: นาแห้ว | G6: 11706 | H6: 8768 | I6: 267 | J6: 658 | K6: =+G6-H6-I6-J6 -> 2013 | L6: 29861 | M6: 888.942
A7: 20 | B7: 3 | C7: 1 | D7: บึงกาฬ | E7: 11050 | F7: บุ่งคล้า | G7: 14045 | H7: 11241 | I7: 405 | J7: 792 | K7: =+G7-H7-I7-J7 -> 1607 | L7: 34328 | M7: 698.88
A8: 41 | B8: 4 | C8: 1 | D8: สกลนคร | E8: 11094 | F8: นิคมน้ำอูน | G8: 14869 | H8: 10820 | I8: 567 | J8: 622 | K8: =+G8-H8-I8-J8 -> 2860 | L8: 28137 | M8: 549.912
A9: 88 | B9: 5 | C9: 1 | D9: อุดรธานี | E9: 25059 | F9: ประจักษ์ | G9: 25442 | H9: 19069 | I9: 1666 | J9: 714 | K9: =+G9-H9-I9-J9 -> 3993 | L9: 40865 | M9: 1004.17
A10: 59 | B10: 6 | C10: 1 | D10: หนองคาย | E10: 28778 | F10: โพธิ์ตาก | G10: 15230 | H10: 12022 | I10: 216 | J10: 805 | K10: =+G10-H10-I10-J10 -> 2187 | L10: 29446 | M10: 665.093
A11: 12 | B11: 7 | C11: 1 | D11: นครพนม | E11: 40840 | F11: วังยาง | G11: 15621 | H11: 11638 | I11: 184 | J11: 104 | K11: =+G11-H11-I11-J11 -> 3695 | L11: 34271 | M11: 686.531
A12: 83 | B12: 8 | C12: 2 | D12: อุดรธานี | E12: 11027 | F12: หนองแสง | G12: 27187 | H12: 21043 | I12: 605 | J12: 840 | K12: =+G12-H12-I12-J12 -> 4699 | L12: 57415 | M12: 1192.77
A13: 84 | B13: 9 | C13: 2 | D13: อุดรธานี | E13: 11028 | F13: นายูง | G13: 28676 | H13: 23638 | I13: 731 | J13: 749 | K13: =+G13-H13-I13-J13 -> 3558 | L13: 46838 | M13: 1654.72
A14: 55 | B14: 10 | C14: 2 | D14: หนองคาย | E14: 11044 | F14: ศรีเชียงใหม่ | G14: 29755 | H14: 23304 | I14: 1343 | J14: 1372 | K14: =+G14-H14-I14-J14 -> 3736 | L14: 55487 | M14: 1984.83
A15: 47 | B15: 11 | C15: 2 | D15: สกลนคร | E15: 11100 | F15: เต่างอย | G15: 24290 | H15: 17778 | I15: 1544 | J15: 936 | K15: =+G15-H15-I15-J15 -> 4032 | L15: 44666 | M15: 1158.75
A16: 5 | B16: 12 | C16: 2 | D16: นครพนม | E16: 11107 | F16: นาทม | G16: 23716 | H16: 17669 | I16: 1155 | J16: 865 | K16: =+G16-H16-I16-J16 -> 4027 | L16: 46986 | M16: 1019.95
... A21: 34 | B21: 17 | C21: 2 | D21: เลย | E21: 28861 | F21: หนองหิน | G21: 25000 | H21: 19761 | I21: 1057 | J21: 951 | K21: =+G21-H21-I21-J21 -> 3231 | L21: 53641 | M21: 1134.48
A22: 75 | B22: 18 | C22: 3 | D22: อุดรธานี | E22: 11019 | F22: ทุ่งฝน | G22: 32172 | H22: 24948 | I22: 573 | J22: 1156 | K22: =+G22-H22-I22-J22 -> 5495 | L22: 56477 | M22: 1356.87
A23: 76 | B23: 19 | C23: 3 | D23: อุดรธานี | E23: 11020 | F23: ไชยวาน | G23: 39520 | H23: 29634 | I23: 2936 | J23: 1438 | K23: =+G23-H23-I23-J23 -> 5512 | L23: 66572 | M23: 1023.41
A24: 82 | B24: 20 | C24: 3 | D24: อุดรธานี | E24: 11026 | F24: สร้างคอม | G24: 29222 | H24: 22343 | I24: 420 | J24: 771 | K24: =+G24-H24-I24-J24 -> 5688 | L24: 77363 | M24: 1091.82
A25: 85 | B25: 21 | C25: 3 | D25: อุดรธานี | E25: 11029 | F25: พิบูลย์รักษ์ | G25: 24684 | H25: 19451 | I25: 476 | J25: 1276 | K25: =+G25-H25-I25-J25 -> 3481 | L25: 57657 | M25: 1232.87
A26: 22 | B26: 22 | C26: 3 | D26: เลย | E26: 11030 | F26: นาด้วง | G26: 26261 | H26: 21566 | I26: 1447 | J26: 857 | K26: =+G26-H26-I26-J26 -> 2391 | L26: 59102 | M26: 2102.11
A27: 26 | B27: 23 | C27: 3 | D27: เลย | E27: 11034 | F27: ภูเรือ | G27: 22553 | H27: 18002 | I27: 792 | J27: 971 | K27: =+G27-H27-I27-J27 -> 2788 | L27: 56438 | M27: 1416.17
A28: 37 | B28: 24 | C28: 3 | D28: สกลนคร | E28: 11090 | F28: กุดบาก | G28: 32760 | H28: 23937 | I28: 2194 | J28: 1649 | K28: =+G28-H28-I28-J28 -> 4980 | L28: 55782 | M28: 1845.93
A29: 46 | B29: 25 | C29: 3 | D29: สกลนคร | E29: 11099 | F29: ส่องดาว | G29: 34562 | H29: 26439 | I29: 1271 | J29: 658 | K29: =+G29-H29-I29-J29 -> 6194 | L29: 69823 | M29: 2011.9
A30: 49 | B30: 26 | C30: 3 | D30: สกลนคร | E30: 11102 | F30: เจริญศิลป์ | G30: 45186 | H30: 32820 | I30: 2766 | J30: 1425 | K30: =+G30-H30-I30-J30 -> 8175 | L30: 76461 | M30: 1801.09
A31: 50 | B31: 27 | C31: 3 | D31: สกลนคร | E31: 11103 | F31: โพนนาแก้ว | G31: 37009 | H31: 28073 | I31: 1375 | J31: 1378 | K31: =+G31-H31-I31-J31 -> 6183 | L31: 66111 | M31: 1715.19
A32: 2 | B32: 28 | C32: 3 | D32: นครพนม | E32: 11104 | F32: ปลาปาก | G32: 54482 | H32: 39229 | I32: 3864 | J32: 1868 | K32: =+G32-H32-I32-J32 -> 9521 | L32: 75475 | M32: 1006.65
A33: 3 | B33: 29 | C33: 3 | D33: นครพนม | E33: 11105 | F33: ท่าอุเทน | G33: 59559 | H33: 44414 | I33: 2202 | J33: 2023 | K33: =+G33-H33-I33-J33 -> 10920 | L33: 70059 | M33: 1219.27
A34: 52 | B34: 30 | C34: 3 | D34: สกลนคร | E34: 21323 | F34: พระอาจารย์แบนฯ | G34: 35858 | H34: 28539 | I34: 2691 | J34: 1207 | K34: =+G34-H34-I34-J34 -> 3421 | L34: 49914 | M34: 2281.89
... A90: 1 | B90: 86 | C90: 12 | D90: นครพนม | E90: 10711 | F90: นครพนม | G90: 143840 | H90: 106378 | I90: 10501 | J90: 7059 | K90: =+G90-H90-I90-J90 -> 19902 | L90: 315805 | M90: 33219.7
A91: 68 | B91: 87 | C91: 13 | D91: อุดรธานี | E91: 10671 | F91: อุดรธานี | G91: 399642 | H91: 258303 | I91: 19956 | J91: 19745 | K91: =+G91-H91-I91-J91 -> 101638 | L91: 468541 | M91: 150148
A92: 35 | B92: 88 | C92: 13 | D92: สกลนคร | E92: 10710 | F92: สกลนคร | G92: 193882 | H92: 142594 | I92: 18624 | J92: 14222 | K92: =+G92-H92-I92-J92 -> 18442 | L92: 543164 | M92: 91987.5
A93: รวมเขต 8 | G93: =SUM(H93:K93) -> 5518351 | H93: =SUM(H5:H92) -> 4104971 | I93: =SUM(I5:I92) -> 269533 | J93: =SUM(J5:J92) -> 224268 | K93: =SUM(K5:K92) -> 919579 | L93: =SUM(L5:L92) -> 9714054 | M93: =SUM(M5:M92) -> 712302.45
B95: ไตรมาส 3/2567 (ณ วันที่ 25 กรกฎาคม 2567)

Sheet 4.งบมิ.ย.67
D1: นครพนม | E1: นครพนม | F1: นครพนม | G1: นครพนม | H1: นครพนม | I1: นครพนม | J1: นครพนม | K1: นครพนม | L1: นครพนม | M1: นครพนม | N1: นครพนม | O1: นครพนม | P1: บึงกาฬ | Q1: บึงกาฬ | R1: บึงกาฬ | S1: บึงกาฬ | T1: บึงกาฬ | U1: บึงกาฬ | V1: บึงกาฬ | W1: บึงกาฬ | X1: เลย | Y1: เลย | Z1: เลย | AA1: เลย | AB1: เลย | AC1: เลย | AD1: เลย | AE1: เลย | AF1: เลย | AG1: เลย | AH1: เลย | AI1: เลย | AJ1: เลย | AK1: เลย | AL1: สกลนคร | AM1: สกลนคร | AN1: สกลนคร | AO1: สกลนคร | AP1: สกลนคร | AQ1: สกลนคร | AR1: สกลนคร | AS1: สกลนคร | AT1: สกลนคร | AU1: สกลนคร | AV1: สกลนคร | AW1: สกลนคร | AX1: สกลนคร | AY1: สกลนคร | AZ1: สกลนคร | BA1: สกลนคร | BB1: สกลนคร | BC1: สกลนคร | BD1: หนองคาย | BE1: หนองคาย | BF1: หนองคาย | BG1: หนองคาย | BH1: หนองคาย | BI1: หนองคาย | BJ1: หนองคาย | BK1: หนองคาย | BL1: หนองคาย | BM1: หนองบัวลำภู | BN1: หนองบัวลำภู | BO1: หนองบัวลำภู | BP1: หนองบัวลำภู | BQ1: หนองบัวลำภู | BR1: หนองบัวลำภู | BS1: อุดรธานี | BT1: อุดรธานี | BU1: อุดรธานี | BV1: อุดรธานี | BW1: อุดรธานี | BX1: อุดรธานี | BY1: อุดรธานี | BZ1: อุดรธานี | CA1: อุดรธานี | CB1: อุดรธานี | CC1: อุดรธานี | CD1: อุดรธานี | CE1: อุดรธานี | CF1: อุดรธานี | CG1: อุดรธานี | CH1: อุดรธานี | CI1: อุดรธานี | CJ1: อุดรธานี | CK1: อุดรธานี | CL1: อุดรธานี | CM1: อุดรธานี
D2: 10711 | E2: 11104 | F2: 11105 | G2: 11106 | H2: 11107 | I2: 11108 | J2: 11109 | K2: 11110 | L2: 11111 | M2: 11112 | N2: 11451 | O2: 40840 | P2: 11040 | Q2: 11041 | R2: 11043 | S2: 11046 | T2: 11047 | U2: 11048 | V2: 11049 | W2: 11050 | X2: 10705 | Y2: 11030 | Z2: 11031 | AA2: 11032 | AB2: 11033 | AC2: 11034 | AD2: 11035 | AE2: 11036 | AF2: 11037 | AG2: 11038 | AH2: 11039 | AI2: 11447 | AJ2: 14133 | AK2: 28861 | AL2: 10710 | AM2: 11089 | AN2: 11090 | AO2: 11091 | AP2: 11092 | AQ2: 11093 | AR2: 11094 | AS2: 11095 | AT2: 11096 | AU2: 11097 | AV2: 11098 | AW2: 11099 | AX2: 11100 | AY2: 11101 | AZ2: 11102 | BA2: 11103 | BB2: 11450 | BC2: 21323 | BD2: 10706 | BE2: 11042 | BF2: 11044 | BG2: 11045 | BH2: 11448 | BI2: 21356 | BJ2: 28778 | BK2: 28811 | BL2: 28815 | BM2: 10704 | BN2: 10991 | BO2: 10992 | BP2: 10993 | BQ2: 10994 | BR2: 23367 | BS2: 10671 | BT2: 11013 | BU2: 11014 | BV2: 11015 | BW2: 11016 | BX2: 11017 | BY2: 11018 | BZ2: 11019 | CA2: 11020 | CB2: 11021 | CC2: 11022 | CD2: 11023 | CE2: 11024 | CF2: 11025 | CG2: 11026 | CH2: 11027 | CI2: 11028 | CJ2: 11029 | CK2: 11446 | CL2: 25058 | CM2: 25059
B3: CodeL1 | C3: Account1 | D3: นครพนม,รพท. | E3: ปลาปาก,รพช. | F3: ท่าอุเทน,รพช. | G3: บ้านแพง,รพช. | H3: นาทม,รพช. | I3: เรณูนคร,รพช. | J3: นาแก,รพช. | K3: ศรีสงคราม,รพช. | L3: นาหว้า,รพช. | M3: โพนสวรรค์,รพช. | N3: สมเด็จพระยุพราชธาตุพนม,รพช. | O3: วังยาง,รพช. | P3: บึงกาฬ,รพท. | Q3: พรเจริญ,รพช. | R3: โซ่พิสัย,รพช. | S3: เซกา,รพช. | T3: ปากคาด,รพช. | U3: บึงโขงหลง,รพช. | V3: ศรีวิไล,รพช. | W3: บุ่งคล้า,รพช. | X3: เลย,รพท. | Y3: นาด้วง,รพช. | Z3: เชียงคาน,รพช. | AA3: ปากชม,รพช. | AB3: นาแห้ว,รพช. | AC3: ภูเรือ,รพช. | AD3: ท่าลี่,รพช. | AE3: วังสะพุง,รพช. | AF3: ภูกระดึง,รพช. | AG3: ภูหลวง,รพช. | AH3: ผาขาว,รพช. | AI3: สมเด็จพระยุพราชด่านซ้าย,รพช. | AJ3: เอราวัณ,รพช. | AK3: หนองหิน,รพช. | AL3: สกลนคร,รพศ. | AM3: กุสุมาลย์,รพช. | AN3: กุดบาก,รพช. | AO3: พระอาจารย์ฝั้นอาจาโร,รพช. | AP3: พังโคน,รพช. | AQ3: วาริชภูมิ,รพช. | AR3: นิคมน้ำอูน,รพช. | AS3: วานรนิวาส,รพท. | AT3: คำตากล้า,รพช. | AU3: บ้านม่วง,รพช. | AV3: อากาศอำนวย,รพช. | AW3: ส่องดาว,รพช. | AX3: เต่างอย,รพช. | AY3: โคกศรีสุพรรณ,รพช. | AZ3: เจริญศิลป์,รพช. | BA3: โพนนาแก้ว,รพช. | BB3: สมเด็จพระยุพราชสว่างแดนดิน,รพท. | BC3: พระอาจารย์แบน ธนากโร,รพช. | BD3: หนองคาย,รพท. | BE3: โพนพิสัย,รพช. | BF3: ศรีเชียงใหม่,รพช. | BG3: สังคม,รพช. | BH3: สมเด็จพระยุพราชท่าบ่อ,รพท. | BI3: สระใคร,รพช. | BJ3: โพธิ์ตาก,รพช. | BK3: เฝ้าไร่,รพช. | BL3: รัตนวาปี,รพช. | BM3: หนองบัวลำภู,รพท. | BN3: นากลาง,รพช. | BO3: โนนสัง,รพช. | BP3: ศรีบุญเรือง,รพช. | BQ3: สุวรรณคูหา,รพช. | BR3: นาวัง เฉลิมพระเกียรติ 80 พรรษา,รพช. | BS3: อุดรธานี,รพศ. | BT3: กุดจับ,รพช. | BU3: หนองวัวซอ,รพช. | BV3: กุมภวาปี,รพท. | BW3: ห้วยเกิ้ง,รพช. | BX3: โนนสะอาด,รพช. | BY3: หนองหาน,รพช. | BZ3: ทุ่งฝน,รพช. | CA3: ไชยวาน,รพช. | CB3: ศรีธาตุ,รพช. | CC3: วังสามหมอ,รพช. | CD3: บ้านผือ,รพช. | CE3: น้ำโสม,รพช. | CF3: เพ็ญ,รพช. | CG3: สร้างคอม,รพช. | CH3: หนองแสง,รพช. | CI3: นายูง,รพช. | CJ3: พิบูลย์รักษ์,รพช. | CK3: สมเด็จพระยุพราชบ้านดุง,รพช. | CL3: กู่แก้ว,รพช. | CM3: ประจักษ์ศิลปาคม,รพช.
B4: 4201020106.101 | C4: รายได้แผ่นดิน - เงินชดใช้จากการผิดสัญญาการศึกษาและดูงาน | D4: 150000 | E4: 0 | F4: 0 | G4: 0 | H4: 0 | I4: 0 | J4: 0 | K4: 0 | L4: 0 | M4: 0 | N4: 0 | O4: 0 | P4: 0 | Q4: 0 | R4: 0 | S4: 0 | T4: 0 | U4: 0 | V4: 0 | W4: 0 | X4: 803800 | Y4: 0 | Z4: 0 | AA4: 0 | AB4: 0 | AC4: 0 | AD4: 0 | AE4: 0 | AF4: 0 | AG4: 0 | AH4: 0 | AI4: 0 | AJ4: 0 | AK4: 0 | AL4: 0 | AM4: 0 | AN4: 0 | AO4: 0 | AP4: 0 | AQ4: 0 | AR4: 0 | AS4: 0 | AT4: 0 | AU4: 0 | AV4: 0 | AW4: 0 | AX4: 0 | AY4: 0 | AZ4: 0 | BA4: 0 | BB4: 0 | BC4: 0 | BD4: 0 | BE4: 93053 | BF4: 0 | BG4: 0 | BH4: 0 | BI4: 0 | BJ4: 0 | BK4: 0 | BL4: 0 | BM4: 0 | BN4: 0 | BO4: 0 | BP4: 0 | BQ4: 0 | BR4: 0 | BS4: 0 | BT4: 0 | BU4: 0 | BV4: 0 | BW4: 0 | BX4: 0 | BY4: 0 | BZ4: 0 | CA4: 0 | CB4: 0 | CC4: 0 | CD4: 0 | CE4: 0 | CF4: 0 | CG4: 0 | CH4: 0 | CI4: 0 | CJ4: 0 | CK4: 0 | CL4: 0 | CM4: 0
B5: 4201020199.101 | C5: รายได้แผ่นดิน - ค่าปรับอื่น | D5: 16248.23 | E5: 0 | F5: 0 | G5: 0 | H5: 0 | I5: 0 | J5: 0 | K5: 0 | L5: 0 | M5: 0 | N5: 0 | O5: 0 | P5: 0 | Q5: 0 | R5: 0 | S5: 0 | T5: 0 | U5: 0 | V5: 0 | W5: 0 | X5: 0 | Y5: 0 | Z5: 0 | AA5: 0 | AB5: 0 | AC5: 0 | AD5: 0 | AE5: 0 | AF5: 0 | AG5: 0 | AH5: 0 | AI5: 0 | AJ5: 0 | AK5: 0 | AL5: 0 | AM5: 0 | AN5: 0 | AO5: 0 | AP5: 0 | AQ5: 0 | AR5: 0 | AS5: 0 | AT5: 0 | AU5: 0 | AV5: 0 | AW5: 0 | AX5: 0 | AY5: 0 | AZ5: 0 | BA5: 0 | BB5: 0 | BC5: 0 | BD5: 4459683.9 | BE5: 0 | BF5: 0 | BG5: 0 | BH5: 0 | BI5: 0 | BJ5: 0 | BK5: 0 | BL5: 0 | BM5: 0 | BN5: 0 | BO5: 0 | BP5: 0 | BQ5: 0 | BR5: 0 | BS5: 0 | BT5: 0 | BU5: 0 | BV5: 0 | BW5: 0 | BX5: 0 | BY5: 0 | BZ5: 0 | CA5: 0 | CB5: 0 | CC5: 0 | CD5: 0 | CE5: 0 | CF5: 0 | CG5: 0 | CH5: 0 | CI5: 0 | CJ5: 0 | CK5: 0 | CL5: 0 | CM5: 0
B6: 4202010199.101 | C6: รายได้ค่าธรรมเนียมการบริการอื่น | D6: 9400 | E6: 0 | F6: 0 | G6: 0 | H6: 0 | I6: 0 | J6: 0 | K6: 0 | L6: 0 | M6: 0 | N6: 0 | O6: 0 | P6: 2400 | Q6: 0 | R6: 0 | S6: 0 | T6: 0 | U6: 0 | V6: 0 | W6: 0 | X6: 10100 | Y6: 0 | Z6: 0 | AA6: 0 | AB6: 0 | AC6: 0 | AD6: 0 | AE6: 0 | AF6: 0 | AG6: 0 | AH6: 0 | AI6: 0 | AJ6: 0 | AK6: 0 | AL6: 15000 | AM6: 0 | AN6: 0 | AO6: 0 | AP6: 0 | AQ6: 0 | AR6: 0 | AS6: 50 | AT6: 0 | AU6: 0 | AV6: 0 | AW6: 0 | AX6: 0 | AY6: 0 | AZ6: 0 | BA6: 0 | BB6: 0 | BC6: 0 | BD6: 13900 | BE6: 0 | BF6: 0 | BG6: 0 | BH6: 9050 | BI6: 0 | BJ6: 0 | BK6: 0 | BL6: 0 | BM6: 3000 | BN6: 0 | BO6: 0 | BP6: 0 | BQ6: 0 | BR6: 0 | BS6: 33600 | BT6: 0 | BU6: 0 | BV6: 0 | BW6: 0 | BX6: 0 | BY6: 0 | BZ6: 0 | CA6: 0 | CB6: 0 | CC6: 0 | CD6: 0 | CE6: 0 | CF6: 0 | CG6: 0 | CH6: 4319 | CI6: 0 | CJ6: 0 | CK6: 0 | CL6: 0 | CM6: 0
B7: 4202020102.101 | C7: รายได้ค่าเช่าอสังหาริมทรัพย์จากบุคคลภายนอก | D7: 0 | E7: 0 | F7: 0 | G7: 0 | H7: 0 | I7: 0 | J7: 0 | K7: 0 | L7: 0 | M7: 0 | N7: 0 | O7: 0 | P7: 0 | Q7: 0 | R7: 0 | S7: 0 | T7: 0 | U7: 0 | V7: 0 | W7: 0 | X7: 43000 | Y7: 0 | Z7: 0 | AA7: 0 | AB7: 0 | AC7: 0 | AD7: 0 | AE7: 0 | AF7: 0 | AG7: 0 | AH7: 0 | AI7: 0 | AJ7: 0 | AK7: 0 | AL7: 13500 | AM7: 0 | AN7: 0 | AO7: 0 | AP7: 0 | AQ7: 0 | AR7: 0 | AS7: 0 | AT7: 0 | AU7: 0 | AV7: 0 | AW7: 0 | AX7: 0 | AY7: 0 | AZ7: 0 | BA7: 0 | BB7: 0 | BC7: 0 | BD7: 0 | BE7: 0 | BF7: 0 | BG7: 0 | BH7: 0 | BI7: 0 | BJ7: 0 | BK7: 0 | BL7: 0 | BM7: 0 | BN7: 0 | BO7: 0 | BP7: 0 | BQ7: 0 | BR7: 0 | BS7: 0 | BT7: 0 | BU7: 0 | BV7: 0 | BW7: 0 | BX7: 0 | BY7: 0 | BZ7: 0 | CA7: 0 | CB7: 0 | CC7: 0 | CD7: 0 | CE7: 0 | CF7: 0 | CG7: 0 | CH7: 0 | CI7: 0 | CJ7: 0 | CK7: 0 | CL7: 0 | CM7: 0
B8: 4202030105.101 | C8: รายได้แผ่นดิน-ค่าขายของเบ็ดเตล็ด | D8: 77280 | E8: 0 | F8: 0 | G8: 0 | H8: 0 | I8: 0 | J8: 0 | K8: 0 | L8: 0 | M8: 0 | N8: 0 | O8: 0 | P8: 0 | Q8: 0 | R8: 0 | S8: 0 | T8: 0 | U8: 0 | V8: 0 | W8: 0 | X8: 1000 | Y8: 0 | Z8: 0 | AA8: 0 | AB8: 0 | AC8: 0 | AD8: 0 | AE8: 0 | AF8: 0 | AG8: 0 | AH8: 0 | AI8: 0 | AJ8: 0 | AK8: 0 | AL8: 0 | AM8: 0 | AN8: 0 | AO8: 0 | AP8: 0 | AQ8: 0 | AR8: 0 | AS8: 0 | AT8: 0 | AU8: 0 | AV8: 0 | AW8: 0 | AX8: 0 | AY8: 0 | AZ8: 0 | BA8: 0 | BB8: 0 | BC8: 0 | BD8: 230000 | BE8: 0 | BF8: 0 | BG8: 0 | BH8: 0 | BI8: 0 | BJ8: 0 | BK8: 0 | BL8: 0 | BM8: 0 | BN8: 0 | BO8: 0 | BP8: 0 | BQ8: 0 | BR8: 0 | BS8: 3389.4 | BT8: 0 | BU8: 0 | BV8: 0 | BW8: 0 | BX8: 0 | BY8: 0 | BZ8: 0 | CA8: 0 | CB8: 0 | CC8: 0 | CD8: 0 | CE8: 0 | CF8: 0 | CG8: 0 | CH8: 0 | CI8: 0 | CJ8: 0 | CK8: 0 | CL8: 0 | CM8: 0
B9: 4203010101.101 | C9: รายได้ดอกเบี้ยเงินฝากที่สถาบันการเงิน | D9: 0 | E9: 0 | F9: 0 | G9: 0 | H9: 0 | I9: 0 | J9: 0 | K9: 0 | L9: 0 | M9: 0 | N9: 67708.59 | O9: 0 | P9: 734.87 | Q9: 0 | R9: 0 | S9: 0 | T9: 1072.12 | U9: 0 | V9: 0 | W9: 0 | X9: 13623.04 | Y9: 0 | Z9: 0 | AA9: 0 | AB9: 0 | AC9: 0 | AD9: 0 | AE9: 0 | AF9: 0 | AG9: 0 | AH9: 0 | AI9: 0 | AJ9: 0 | AK9: 0 | AL9: 3833.6 | AM9: 0 | AN9: 0 | AO9: 0 | AP9: 0 | AQ9: 0 | AR9: 0 | AS9: 3665.03 | AT9: 609.44 | AU9: 0 | AV9: 0 | AW9: 0 | AX9: 0 | AY9: 0 | AZ9: 0 | BA9: 0 | BB9: 289.42 | BC9: 0 | BD9: 7539.13 | BE9: 21563.62 | BF9: 0 | BG9: 0 | BH9: 4422.84 | BI9: 0 | BJ9: 0 | BK9: 0 | BL9: 0 | BM9: 6042.33 | BN9: 0 | BO9: 0 | BP9: 0 | BQ9: 0 | BR9: 0 | BS9: 60546.95 | BT9: 0 | BU9: 0 | BV9: 0 | BW9: 0 | BX9: 0 | BY9: 0 | BZ9: 0 | CA9: 0 | CB9: 0 | CC9: 0 | CD9: 0 | CE9: 0 | CF9: 0 | CG9: 0 | CH9: 0 | CI9: 0 | CJ9: 0 | CK9: 0 | CL9: 0 | CM9: 0
B10: 4205010104.101 | C10: รายรับจากการขายอาคารและสิ่งปลูกสร้าง | D10: 0 | E10: 0 | F10: 0 | G10: 0 | H10: 0 | I10: 0 | J10: 0 | K10: 0 | L10: 0 | M10: 0 | N10: 0 | O10: 0 | P10: 0 | Q10: 0 | R10: 0 | S10: 0 | T10: 0 | U10: 0 | V10: 0 | W10: 0 | X10: 0 | Y10: 0 | Z10: 0 | AA10: 0 | AB10: 0 | AC10: 0 | AD10: 0 | AE10: 0 | AF10: 0 | AG10: 0 | AH10: 0 | AI10: 0 | AJ10: 0 | AK10: 0 | AL10: 0 | AM10: 0 | AN10: 0 | AO10: 0 | AP10: 0 | AQ10: 0 | AR10: 0 | AS10: 0 | AT10: 0 | AU10: 0 | AV10: 0 | AW10: 0 | AX10: 0 | AY10: 0 | AZ10: 0 | BA10: 0 | BB10: 0 | BC10: 0 | BD10: 0 | BE10: 0 | BF10: 0 | BG10: 0 | BH10: 0 | BI10: 0 | BJ10: 0 | BK10: 0 | BL10: 0 | BM10: 0 | BN10: 0 | BO10: 0 | BP10: 0 | BQ10: 0 | BR10: 0 | BS10: 0 | BT10: 0 | BU10: 0 | BV10: 0 | BW10: 0 | BX10: 0 | BY10: 0 | BZ10: 0 | CA10: 0 | CB10: 0 | CC10: 0 | CD10: 0 | CE10: 0 | CF10: 0 | CG10: 0 | CH10: 0 | CI10: 0 | CJ10: 0 | CK10: 0 | CL10: 0 | CM10: 0
B11: 4205010110.101 | C11: รายรับจากการขายครุภัณฑ์ | D11: 0 | E11: 0 | F11: 0 | G11: 0 | H11: 0 | I11: 0 | J11: 0 | K11: 0 | L11: 0 | M11: 0 | N11: 0 | O11: 0 | P11: 0 | Q11: 0 | R11: 0 | S11: 0 | T11: 0 | U11: 0 | V11: 0 | W11: 0 | X11: 0 | Y11: 0 | Z11: 0 | AA11: 0 | AB11: 0 | AC11: 0 | AD11: 0 | AE11: 0 | AF11: 0 | AG11: 0 | AH11: 0 | AI11: 0 | AJ11: 0 | AK11: 0 | AL11: 0 | AM11: 0 | AN11: 0 | AO11: 0 | AP11: 0 | AQ11: 0 | AR11: 0 | AS11: 0 | AT11: 0 | AU11: 0 | AV11: 0 | AW11: 0 | AX11: 0 | AY11: 0 | AZ11: 0 | BA11: 0 | BB11: 0 | BC11: 0 | BD11: 0 | BE11: 0 | BF11: 0 | BG11: 0 | BH11: 0 | BI11: 0 | BJ11: 0 | BK11: 0 | BL11: 0 | BM11: 0 | BN11: 0 | BO11: 0 | BP11: 0 | BQ11: 0 | BR11: 0 | BS11: 0 | BT11: 0 | BU11: 0 | BV11: 0 | BW11: 0 | BX11: 0 | BY11: 0 | BZ11: 0 | CA11: 0 | CB11: 0 | CC11: 0 | CD11: 0 | CE11: 0 | CF11: 0 | CG11: 0 | CH11: 0 | CI11: 0 | CJ11: 0 | CK11: 0 | CL11: 0 | CM11: 0
B12: 4206010102.101 | C12: รายได้เงินเหลือจ่ายปีเก่า/รายที่ไม่ใช่ภาษีอื่น | D12: 64522.23 | E12: 0 | F12: 0 | G12: 0 | H12: 0 | I12: 0 | J12: 0 | K12: 0 | L12: 0 | M12: 0 | N12: 0 | O12: 0 | P12: 0 | Q12: 0 | R12: 0 | S12: 0 | T12: 0 | U12: 0 | V12: 0 | W12: 0 | X12: 76519.54 | Y12: 0 | Z12: 0 | AA12: 0 | AB12: 0 | AC12: 0 | AD12: 0 | AE12: 0 | AF12: 0 | AG12: 0 | AH12: 0 | AI12: 0 | AJ12: 0 | AK12: 0 | AL12: 14000 | AM12: 0 | AN12: 0 | AO12: 0 | AP12: 0 | AQ12: 0 | AR12: 0 | AS12: 0 | AT12: 0 | AU12: 0 | AV12: 0 | AW12: 0 | AX12: 0 | AY12: 0 | AZ12: 0 | BA12: 0 | BB12: 0 | BC12: 0 | BD12: 0 | BE12: 0 | BF12: 0 | BG12: 0 | BH12: 0 | BI12: 0 | BJ12: 0 | BK12: 0 | BL12: 0 | BM12: 37814.01 | BN12: 0 | BO12: 0 | BP12: 0 | BQ12: 0 | BR12: 0 | BS12: 11447631 | BT12: 0 | BU12: 0 | BV12: 0 | BW12: 0 | BX12: 0 | BY12: 0 | BZ12: 0 | CA12: 0 | CB12: 0 | CC12: 0 | CD12: 0 | CE12: 0 | CF12: 0 | CG12: 0 | CH12: 0 | CI12: 0 | CJ12: 0 | CK12: 0 | CL12: 0 | CM12: 0
B13: 4206010199.101 | C13: บัญชีรายได้ที่ไม่ใช่ภาษีอื่น | D13: 0 | E13: 0 | F13: 0 | G13: 0 | H13: 0 | I13: 0 | J13: 0 | K13: 0 | L13: 0 | M13: 0 | N13: 0 | O13: 0 | P13: 0 | Q13: 0 | R13: 0 | S13: 0 | T13: 0 | U13: 0 | V13: 0 | W13: 0 | X13: 0 | Y13: 0 | Z13: 0 | AA13: 0 | AB13: 0 | AC13: 0 | AD13: 0 | AE13: 0 | AF13: 0 | AG13: 0 | AH13: 0 | AI13: 0 | AJ13: 0 | AK13: 0 | AL13: 0 | AM13: 0 | AN13: 0 | AO13: 0 | AP13: 0 | AQ13: 0 | AR13: 0 | AS13: 0 | AT13: 0 | AU13: 0 | AV13: 0 | AW13: 0 | AX13: 0 | AY13: 0 | AZ13: 0 | BA13: 0 | BB13: 0 | BC13: 0 | BD13: 0 | BE13: 0 | BF13: 0 | BG13: 0 | BH13: 0 | BI13: 0 | BJ13: 0 | BK13: 0 | BL13: 0 | BM13: 0 | BN13: 0 | BO13: 0 | BP13: 0 | BQ13: 0 | BR13: 0 | BS13: 0 | BT13: 0 | BU13: 0 | BV13: 0 | BW13: 0 | BX13: 0 | BY13: 0 | BZ13: 0 | CA13: 0 | CB13: 0 | CC13: 0 | CD13: 0 | CE13: 0 | CF13: 0 | CG13: 0 | CH13: 0 | CI13: 0 | CJ13: 0 | CK13: 0 | CL13: 0 | CM13: 0
B14: 4207010102.102 | C14: รายได้แผ่นดิน-ค่าปรับอื่นจ่ายคืน | D14: 0 | E14: 0 | F14: 0 | G14: 0 | H14: 0 | I14: 0 | J14: 0 | K14: 0 | L14: 0 | M14: 0 | N14: 0 | O14: 0 | P14: 0 | Q14: 0 | R14: 0 | S14: 0 | T14: 0 | U14: 0 | V14: 0 | W14: 0 | X14: 0 | Y14: 0 | Z14: 0 | AA14: 0 | AB14: 0 | AC14: 0 | AD14: 0 | AE14: 0 | AF14: 0 | AG14: 0 | AH14: 0 | AI14: 0 | AJ14: 0 | AK14: 0 | AL14: 0 | AM14: 0 | AN14: 0 | AO14: 0 | AP14: 0 | AQ14: 0 | AR14: 0 | AS14: 0 | AT14: 0 | AU14: 0 | AV14: 0 | AW14: 0 | AX14: 0 | AY14: 0 | AZ14: 0 | BA14: 0 | BB14: 0 | BC14: 0 | BD14: 0 | BE14: 0 | BF14: 0 | BG14: 0 | BH14: 0 | BI14: 0 | BJ14: 0 | BK14: 0 | BL14: 0 | BM14: 0 | BN14: 0 | BO14: 0 | BP14: 0 | BQ14: 0 | BR14: 0 | BS14: 0 | BT14: 0 | BU14: 0 | BV14: 0 | BW14: 0 | BX14: 0 | BY14: 0 | BZ14: 0 | CA14: 0 | CB14: 0 | CC14: 0 | CD14: 0 | CE14: 0 | CF14: 0 | CG14: 0 | CH14: 0 | CI14: 0 | CJ14: 0 | CK14: 0 | CL14: 0 | CM14: 0
A15: 15 | B15: 4301010102.101 | C15: รายได้จากการจำหน่ายยาสมุนไพร - บุคคลภายนอก | D15: 0 | E15: 0 | F15: 0 | G15: 0 | H15: 0 | I15: 29443 | J15: 0 | K15: 0 | L15: 0 | M15: 0 | N15: 0 | O15: 0 | P15: 0 | Q15: 0 | R15: 0 | S15: 0 | T15: 0 | U15: 0 | V15: 0 | W15: 0 | X15: 0 | Y15: 0 | Z15: 0 | AA15: 0 | AB15: 0 | AC15: 0 | AD15: 0 | AE15: 0 | AF15: 0 | AG15: 0 | AH15: 0 | AI15: 0 | AJ15: 0 | AK15: 0 | AL15: 0 | AM15: 0 | AN15: 0 | AO15: 459771 | AP15: 0 | AQ15: 0 | AR15: 0 | AS15: 0 | AT15: 0 | AU15: 0 | AV15: 0 | AW15: 0 | AX15: 0 | AY15: 0 | AZ15: 0 | BA15: 0 | BB15: 0 | BC15: 0 | BD15: 0 | BE15: 73225 | BF15: 0 | BG15: 0 | BH15: 0 | BI15: 0 | BJ15: 0 | BK15: 0 | BL15: 0 | BM15: 0 | BN15: 0 | BO15: 0 | BP15: 0 | BQ15: 0 | BR15: 0 | BS15: 0 | BT15: 0 | BU15: 0 | BV15: 0 | BW15: 0 | BX15: 0 | BY15: 0 | BZ15: 0 | CA15: 0 | CB15: 0 | CC15: 0 | CD15: 0 | CE15: 0 | CF15: 0 | CG15: 0 | CH15: 0 | CI15: 0 | CJ15: 0 | CK15: 0 | CL15: 0 | CM15: 0
A16: 15 | B16: 4301010102.102 | C16: รายได้จากการจำหน่ายสินค้าอื่น ๆ - บุคคลภายนอก | D16: 0 | E16: 0 | F16: 0 | G16: 0 | H16: 0 | I16: 390 | J16: 0 | K16: 0 | L16: 0 | M16: 0 | N16: 0 | O16: 0 | P16: 0 | Q16: 0 | R16: 0 | S16: 0 | T16: 0 | U16: 0 | V16: 0 | W16: 0 | X16: 0 | Y16: 0 | Z16: 0 | AA16: 0 | AB16: 0 | AC16: 0 | AD16: 0 | AE16: 0 | AF16: 0 | AG16: 0 | AH16: 0 | AI16: 0 | AJ16: 0 | AK16: 0 | AL16: 0 | AM16: 0 | AN16: 0 | AO16: 0 | AP16: 0 | AQ16: 0 | AR16: 0 | AS16: 0 | AT16: 0 | AU16: 0 | AV16: 0 | AW16: 0 | AX16: 0 | AY16: 0 | AZ16: 0 | BA16: 0 | BB16: 0 | BC16: 0 | BD16: 0 | BE16: 0 | BF16: 0 | BG16: 0 | BH16: 0 | BI16: 0 | BJ16: 0 | BK16: 0 | BL16: 0 | BM16: 0 | BN16: 0 | BO16: 0 | BP16: 0 | BQ16: 0 | BR16: 0 | BS16: 0 | BT16: 0 | BU16: 0 | BV16: 0 | BW16: 0 | BX16: 0 | BY16: 0 | BZ16: 0 | CA16: 0 | CB16: 0 | CC16: 0 | CD16: 0 | CE16: 0 | CF16: 0 | CG16: 0 | CH16: 0 | CI16: 0 | CJ16: 0 | CK16: 0 | CL16: 0 | CM16: 0
A17: 15 | B17: 4301010102.103 | C17: รายได้จากการจำหน่ายยาสมุนไพร - หน่วยงานภาครัฐ | D17: 0 | E17: 0 | F17: 0 | G17: 0 | H17: 0 | I17: 40930 | J17: 0 | K17: 0 | L17: 0 | M17: 0 | N17: 0 | O17: 0 | P17: 0 | Q17: 0 | R17: 0 | S17: 0 | T17: 0 | U17: 0 | V17: 0 | W17: 0 | X17: 0 | Y17: 0 | Z17: 0 | AA17: 0 | AB17: 0 | AC17: 0 | AD17: 0 | AE17: 0 | AF17: 0 | AG17: 0 | AH17: 0 | AI17: 0 | AJ17: 0 | AK17: 0 | AL17: 0 | AM17: 0 | AN17: 0 | AO17: 10669285 | AP17: 0 | AQ17: 0 | AR17: 0 | AS17: 0 | AT17: 0 | AU17: 0 | AV17: 0 | AW17: 0 | AX17: 0 | AY17: 0 | AZ17: 0 | BA17: 0 | BB17: 0 | BC17: 0 | BD17: 0 | BE17: 0 | BF17: 0 | BG17: 0 | BH17: 0 | BI17: 0 | BJ17: 0 | BK17: 0 | BL17: 0 | BM17: 0 | BN17: 0 | BO17: 0 | BP17: 0 | BQ17: 0 | BR17: 0 | BS17: 0 | BT17: 0 | BU17: 0 | BV17: 0 | BW17: 1401600 | BX17: 0 | BY17: 0 | BZ17: 0 | CA17: 0 | CB17: 0 | CC17: 0 | CD17: 0 | CE17: 0 | CF17: 0 | CG17: 0 | CH17: 0 | CI17: 0 | CJ17: 0 | CK17: 0 | CL17: 0 | CM17: 0
A18: 15 | B18: 4301010102.104 | C18: รายได้จากการจำหน่ายสินค้าอื่น ๆ - หน่วยงานภาครัฐ | D18: 0 | E18: 0 | F18: 0 | G18: 0 | H18: 0 | I18: 0 | J18: 0 | K18: 0 | L18: 0 | M18: 0 | N18: 0 | O18: 0 | P18: 0 | Q18: 0 | R18: 0 | S18: 0 | T18: 0 | U18: 0 | V18: 0 | W18: 0 | X18: 0 | Y18: 0 | Z18: 0 | AA18: 0 | AB18: 0 | AC18: 0 | AD18: 0 | AE18: 0 | AF18: 0 | AG18: 0 | AH18: 0 | AI18: 0 | AJ18: 0 | AK18: 0 | AL18: 0 | AM18: 0 | AN18: 0 | AO18: 0 | AP18: 0 | AQ18: 0 | AR18: 0 | AS18: 0 | AT18: 0 | AU18: 0 | AV18: 0 | AW18: 0 | AX18: 0 | AY18: 0 | AZ18: 0 | BA18: 0 | BB18: 0 | BC18: 0 | BD18: 0 | BE18: 0 | BF18: 0 | BG18: 0 | BH18: 0 | BI18: 0 | BJ18: 0 | BK18: 0 | BL18: 0 | BM18: 773778.93 | BN18: 0 | BO18: 0 | BP18: 0 | BQ18: 0 | BR18: 0 | BS18: 0 | BT18: 0 | BU18: 0 | BV18: 0 | BW18: 0 | BX18: 0 | BY18: 0 | BZ18: 0 | CA18: 0 | CB18: 0 | CC18: 0 | CD18: 0 | CE18: 0 | CF18: 0 | CG18: 0 | CH18: 0 | CI18: 0 | CJ18: 0 | CK18: 0 | CL18: 0 | CM18: 0
A19: 15 | B19: 4301020102.101 | C19: รายได้ค่าสิ่งส่งตรวจ - บุคคลภายนอก | D19: 0 | E19: 0 | F19: 0 | G19: 0 | H19: 0 | I19: 0 | J19: 0 | K19: 0 | L19: 0 | M19: 0 | N19: 0 | O19: 0 | P19: 0 | Q19: 0 | R19: 0 | S19: 0 | T19: 0 | U19: 0 | V19: 0 | W19: 0 | X19: 115410 | Y19: 0 | Z19: 0 | AA19: 0 | AB19: 0 | AC19: 0 | AD19: 0 | AE19: 0 | AF19: 0 | AG19: 0 | AH19: 0 | AI19: 0 | AJ19: 0 | AK19: 0 | AL19: 0 | AM19: 0 | AN19: 0 | AO19: 0 | AP19: 0 | AQ19: 0 | AR19: 0 | AS19: 0 | AT19: 0 | AU19: 0 | AV19: 0 | AW19: 0 | AX19: 0 | AY19: 0 | AZ19: 0 | BA19: 0 | BB19: 82140 | BC19: 0 | BD19: 1365768 | BE19: 0 | BF19: 15510 | BG19: 0 | BH19: 12800 | BI19: 0 | BJ19: 0 | BK19: 0 | BL19: 0 | BM19: 0 | BN19: 0 | BO19: 0 | BP19: 0 | BQ19: 0 | BR19: 0 | BS19: 321290 | BT19: 0 | BU19: 0 | BV19: 88655 | BW19: 0 | BX19: 0 | BY19: 0 | BZ19: 0 | CA19: 0 | CB19: 0 | CC19: 0 | CD19: 0 | CE19: 224856 | CF19: 0 | CG19: 0 | CH19: 0 | CI19: 0 | CJ19: 0 | CK19: 0 | CL19: 0 | CM19: 0
A20: 15 | B20: 4301020102.102 | C20: รายได้ค่าตรวจสุขภาพ - บุคคลภายนอก | D20: 367960 | E20: 0 | F20: 0 | G20: 0 | H20: 42140 | I20: 19610 | J20: 0 | K20: 7160 | L20: 0 | M20: 0 | N20: 20850 | O20: 0 | P20: 825900 | Q20: 0 | R20: 0 | S20: 6860 | T20: 0 | U20: 610 | V20: 0 | W20: 0 | X20: 1016760 | Y20: 0 | Z20: 0 | AA20: 0 | AB20: 0 | AC20: 0 | AD20: 0 | AE20: 0 | AF20: 0 | AG20: 0 | AH20: 0 | AI20: 0 | AJ20: 4770 | AK20: 0 | AL20: 8100236.2 | AM20: 52970 | AN20: 0 | AO20: 0 | AP20: 16120 | AQ20: 0 | AR20: 0 | AS20: 0 | AT20: 0 | AU20: 0 | AV20: 0 | AW20: 0 | AX20: 0 | AY20: 0 | AZ20: 0 | BA20: 0 | BB20: 0 | BC20: 0 | BD20: 1218904 | BE20: 39917 | BF20: 54550 | BG20: 27444 | BH20: 195785 | BI20: 0 | BJ20: 36880 | BK20: 0 | BL20: 0 | BM20: 88870 | BN20: 0 | BO20: 0 | BP20: 30800 | BQ20: 0 | BR20: 0 | BS20: 111310 | BT20: 0 | BU20: 0 | BV20: 40102 | BW20: 34930 | BX20: 0 | BY20: 180000 | BZ20: 0 | CA20: 0 | CB20: 113350 | CC20: 0 | CD20: 24000 | CE20: 0 | CF20: 0 | CG20: 0 | CH20: 545 | CI20: 0 | CJ20: 0 | CK20: 110859 | CL20: 0 | CM20: 0
A21: 15 | B21: 4301020102.103 | C21: รายได้ค่าสิ่งส่งตรวจ - หน่วยงานภาครัฐ | D21: 4907741 | E21: 0 | F21: 0 | G21: 0 | H21: 0 | I21: 0 | J21: 0 | K21: 0 | L21: 0 | M21: 0 | N21: 15000 | O21: 0 | P21: 20780 | Q21: 0 | R21: 0 | S21: 6230 | T21: 0 | U21: 0 | V21: 0 | W21: 0 | X21: 6979795 | Y21: 0 | Z21: 0 | AA21: 0 | AB21: 0 | AC21: 0 | AD21: 0 | AE21: 0 | AF21: 0 | AG21: 0 | AH21: 0 | AI21: 102090 | AJ21: 0 | AK21: 0 | AL21: 1463340 | AM21: 0 | AN21: 0 | AO21: 0 | AP21: 0 | AQ21: 0 | AR21: 0 | AS21: 0 | AT21: 0 | AU21: 2475 | AV21: 0 | AW21: 0 | AX21: 0 | AY21: 0 | AZ21: 0 | BA21: 0 | BB21: 307210 | BC21: 0 | BD21: 843875 | BE21: 120921 | BF21: 14725 | BG21: 23100 | BH21: 98830 | BI21: 0 | BJ21: 1000 | BK21: 0 | BL21: 0 | BM21: 162305 | BN21: 0 | BO21: 0 | BP21: 0 | BQ21: 0 | BR21: 0 | BS21: 3861034.7 | BT21: 0 | BU21: 0 | BV21: 424595 | BW21: 0 | BX21: 0 | BY21: 110280 | BZ21: 0 | CA21: 0 | CB21: 0 | CC21: 0 | CD21: 0 | CE21: 0 | CF21: 550 | CG21: 0 | CH21: 0 | CI21: 0 | CJ21: 0 | CK21: 0 | CL21: 0 | CM21: 0
A22: 15 | B22: 4301020102.104 | C22: รายได้ค่าตรวจสุขภาพ-หน่วยงานภาครัฐ | D22: 1079557 | E22: 0 | F22: 3760 | G22: 0 | H22: 2290 | I22: 48000 | J22: 0 | K22: 110739 | L22: 0 | M22: 258378 | N22: 90830 | O22: 0 | P22: 467999.75 | Q22: 48910 | R22: 49420 | S22: 0 | T22: 45400 | U22: 20082.5 | V22: 75110 | W22: 0 | X22: 1331816 | Y22: 131370 | Z22: 10610 | AA22: 102560 | AB22: 0 | AC22: 0 | AD22: 59464 | AE22: 319710 | AF22: 0 | AG22: 49390 | AH22: 57937.74 | AI22: 26250 | AJ22: 0 | AK22: 66540 | AL22: 3940068 | AM22: 48380 | AN22: 33759 | AO22: 85600 | AP22: 3640 | AQ22: 150110 | AR22: 0 | AS22: 288877 | AT22: 0 | AU22: 0 | AV22: 0 | AW22: 42452 | AX22: 46640 | AY22: 0 | AZ22: 0 | BA22: 0 | BB22: 500876.5 | BC22: 46980 | BD22: 1560913.5 | BE22: 206685 | BF22: 49330 | BG22: 69420 | BH22: 1328020 | BI22: 88910 | BJ22: 36871 | BK22: 120528 | BL22: 51420 | BM22: 190936 | BN22: 162580 | BO22: 78655 | BP22: 129181 | BQ22: 1670 | BR22: 0 | BS22: 719205 | BT22: 63430 | BU22: 0 | BV22: 0 | BW22: 0 | BX22: 20635 | BY22: 266775 | BZ22: 21102 | CA22: 0 | CB22: 0 | CC22: 0 | CD22: 25910 | CE22: 0 | CF22: 55140 | CG22: 0 | CH22: 25140 | CI22: 0 | CJ22: 12350 | CK22: 310368.5 | CL22: 0 | CM22: 0
A23: 4 | B23: 4301020102.105 | C23: รายได้จากระบบปฏิบัติการฉุกเฉิน (EMS) | D23: 2456828 | E23: 115300 | F23: 218450 | G23: 84550 | H23: 63800 | I23: 154900 | J23: 97300 | K23: 239250 | L23: 145550 | M23: 101800 | N23: 465150 | O23: 65950 | P23: 634050 | Q23: 267900 | R23: 206700 | S23: 30050 | T23: 90400 | U23: 82300 | V23: 175400 | W23: 132300 | X23: 1390550 | Y23: 186300 | Z23: 672600 | AA23: 385400 | AB23: 122750 | AC23: 101700 | AD23: 0 | AE23: 736250 | AF23: 377250 | AG23: 155950 | AH23: 288750 | AI23: 331800 | AJ23: 185600 | AK23: 548000 | AL23: 1525050 | AM23: 57200 | AN23: 103900 | AO23: 246750 | AP23: 409350 | AQ23: 258650 | AR23: 154950 | AS23: 694500 | AT23: 304200 | AU23: 407700 | AV23: 287350 | AW23: 477150 | AX23: 61950 | AY23: 79250 | AZ23: 112600 | BA23: 49750 | BB23: 722850 | BC23: 205900 | BD23: 824500 | BE23: 284450 | BF23: 71050 | BG23: 37650 | BH23: 211000 | BI23: 174100 | BJ23: 17400 | BK23: 101200 | BL23: 23200 | BM23: 1504400 | BN23: 285900 | BO23: 188800 | BP23: 116800 | BQ23: 217950 | BR23: 84300 | BS23: 1271500 | BT23: 175000 | BU23: 104150 | BV23: 645650 | BW23: 0 | BX23: 96650 | BY23: 778050 | BZ23: 290700 | CA23: 156200 | CB23: 98350 | CC23: 116950 | CD23: 173300 | CE23: 60800 | CF23: 174650 | CG23: 228250 | CH23: 48550 | CI23: 90600 | CJ23: 74050 | CK23: 360050 | CL23: 39150 | CM23: 21800
A24: 19 | B24: 4301020102.106 | C24: รายได้สนับสนุนยาและอื่น ๆ | D24: 5296266.9 | E24: 2568748.3 | F24: 379777.63 | G24: 294047.64 | H24: 771742.21 | I24: 1585011.6 | J24: 385749.99 | K24: 3281294.9 | L24: 2638063.4 | M24: 1651926.2 | N24: 3876003.3 | O24: 808771.28 | P24: 87442.25 | Q24: 192081.94 | R24: 121237.19 | S24: 4275906.2 | T24: 107710.82 | U24: 23977.2 | V24: 946208.88 | W24: 151138.61 | X24: 0 | Y24: 620404.49 | Z24: 1993197.9 | AA24: 243152.8 | AB24: 164157.83 | AC24: 248299.02 | AD24: 244620.86 | AE24: 1911451.7 | AF24: 99000 | AG24: 602077.8 | AH24: 345475.53 | AI24: 557723.76 | AJ24: 500425.68 | AK24: 277220.14 | AL24: 1101420 | AM24: 773724.15 | AN24: 24356.61 | AO24: 6858399.7 | AP24: 1546712 | AQ24: 3120120.6 | AR24: 722485.45 | AS24: 10143981 | AT24: 52590 | AU24: 1131228.7 | AV24: 84614.81 | AW24: 333200 | AX24: 33742.46 | AY24: 1592532.6 | AZ24: 1954117.7 | BA24: 1506705.9 | BB24: 17270121 | BC24: 885660.65 | BD24: 12791066 | BE24: 0 | BF24: 0 | BG24: 0 | BH24: 0 | BI24: 969379.37 | BJ24: 0 | BK24: 0 | BL24: 0 | BM24: 9117856 | BN24: 1630 | BO24: 1269229.8 | BP24: 219818.68 | BQ24: 0 | BR24: 0 | BS24: 75155983 | BT24: 5000 | BU24: 0 | BV24: 365891.9 | BW24: 417142 | BX24: 1873075 | BY24: 0 | BZ24: 77813.4 | CA24: 0 | CB24: 796565.34 | CC24: 857795.67 | CD24: 572396.77 | CE24: 5000 | CF24: 38605.2 | CG24: 1391201.1 | CH24: 466514.65 | CI24: 0 | CJ24: 0 | CK24: 531544.08 | CL24: 475883.96 | CM24: 0
A25: 8 | B25: 4301020104.104 | C25: รายได้ค่ารักษาเบิกต้นสังกัด OP | D25: 5722.5 | E25: 0 | F25: 0 | G25: 0 | H25: 0 | I25: 0 | J25: 0 | K25: 56853 | L25: 0 | M25: 0 | N25: 1448 | O25: 0 | P25: 3310 | Q25: 298.75 | R25: 0 | S25: 0 | T25: 7181 | U25: 0 | V25: 117.5 | W25: 670 | X25: 9644.5 | Y25: 8515 | Z25: 0 | AA25: 324523.21 | AB25: 0 | AC25: 1387 | AD25: 10062 | AE25: 0 | AF25: 22913.25 | AG25: 0 | AH25: 1324 | AI25: 6530 | AJ25: 0 | AK25: 0 | AL25: 526001.7 | AM25: 0 | AN25: 0 | AO25: 0 | AP25: 0 | AQ25: 0 | AR25: 0 | AS25: 0 | AT25: 53893 | AU25: 0 | AV25: 0 | AW25: 0 | AX25: 868.5 | AY25: 0 | AZ25: 0 | BA25: 0 | BB25: 3677 | BC25: 660 | BD25: 1095101.8 | BE25: 0 | BF25: 0 | BG25: 0 | BH25: 58041 | BI25: 0 | BJ25: 0 | BK25: 0 | BL25: 39190 | BM25: 4686 | BN25: 0 | BO25: 0 | BP25: 0 | BQ25: 0 | BR25: 0 | BS25: 511845 | BT25: 0 | BU25: 0 | BV25: 0 | BW25: 0 | BX25: 15856 | BY25: 0 | BZ25: 3716 | CA25: 0 | CB25: 0 | CC25: 0 | CD25: 0 | CE25: 14364 | CF25: 0 | CG25: 0 | CH25: 0 | CI25: 0 | CJ25: 0 | CK25: 0 | CL25: 0 | CM25: 0
A26: 8 | B26: 4301020104.105 | C26: รายได้ค่ารักษาเบิกต้นสังกัด IP | D26: 2300207.8 | E26: 0 | F26: 0 | G26: 50220 | H26: 0 | I26: 84858.5 | J26: 23205.75 | K26: 25424 | L26: 0 | M26: 0 | N26: 667363.5 | O26: 2451 | P26: 1100944.2 | Q26: 5589.45 | R26: 7811 | S26: 177914 | T26: 44019 | U26: 51526.5 | V26: 2770 | W26: 1325 | X26: 1512742.2 | Y26: 0 | Z26: 26238 | AA26: 106800.95 | AB26: 20278 | AC26: 56461.5 | AD26: 18920 | AE26: 117931 | AF26: 160777.5 | AG26: 51830 | AH26: 22285.69 | AI26: 57390 | AJ26: 26645 | AK26: 0 | AL26: 12050594 | AM26: 0 | AN26: 12847 | AO26: 70957.25 | AP26: 342056 | AQ26: 46166 | AR26: 0 | AS26: 188693 | AT26: 13902.5 | AU26: 33524 | AV26: 24868.16 | AW26: 8690 | AX26: 1846 | AY26: 24494.25 | AZ26: 8224 | BA26: 20063 | BB26: 893206.5 | BC26: 10335.73 | BD26: 8758009.3 | BE26: 309736.1 | BF26: 9230 | BG26: 29567.25 | BH26: 3244181.2 | BI26: 13500 | BJ26: 0 | BK26: 0 | BL26: 39396.5 | BM26: 1365838.2 | BN26: 0 | BO26: 6825 | BP26: 72884.5 | BQ26: 5922 | BR26: 0 | BS26: 7634645.2 | BT26: 17643 | BU26: 25902.86 | BV26: 761268 | BW26: 1000 | BX26: 12970 | BY26: 136386.25 | BZ26: 6397 | CA26: 10965 | CB26: 0 | CC26: 112583 | CD26: 236077 | CE26: 11102 | CF26: 119941 | CG26: 7197 | CH26: 0 | CI26: 0 | CJ26: 0 | CK26: 307000 | CL26: 0 | CM26: 0
... A78: 1 | B78: 4301020105.266 | C78: ส่วนปรับลดค่าแรง PP | D78: 0 | E78: 0 | F78: 0 | G78: 0 | H78: 0 | I78: 0 | J78: 0 | K78: 0 | L78: 0 | M78: 0 | N78: 0 | O78: 0 | P78: 0 | Q78: 0 | R78: 0 | S78: 0 | T78: 0 | U78: 0 | V78: 0 | W78: 0 | X78: 0 | Y78: 0 | Z78: 0 | AA78: 0 | AB78: 0 | AC78: 0 | AD78: 0 | AE78: 0 | AF78: 0 | AG78: 0 | AH78: 0 | AI78: 0 | AJ78: 0 | AK78: 0 | AL78: 0 | AM78: 0 | AN78: 0 | AO78: 0 | AP78: 0 | AQ78: 0 | AR78: 0 | AS78: 0 | AT78: 0 | AU78: 0 | AV78: 0 | AW78: 0 | AX78: 0 | AY78: 0 | AZ78: 0 | BA78: 0 | BB78: 0 | BC78: 0 | BD78: 0 | BE78: 0 | BF78: 0 | BG78: 0 | BH78: 0 | BI78: 0 | BJ78: 0 | BK78: 0 | BL78: 0 | BM78: 0 | BN78: 0 | BO78: 0 | BP78: 0 | BQ78: 0 | BR78: 0 | BS78: 0 | BT78: 0 | BU78: 0 | BV78: 0 | BW78: 0 | BX78: 0 | BY78: 0 | BZ78: 0 | CA78: 0 | CB78: 0 | CC78: 0 | CD78: 0 | CE78: 0 | CF78: 0 | CG78: 0 | CH78: 0 | CI78: 0 | CJ78: 0 | CK78: 0 | CL78: 0 | CM78: 0
B79: 4301020105.271 | C79: ส่วนต่างค่ารักษาที่ต่ำกว่าข้อตกลงในการตามจ่าย UC OP (หน่วยบริการที่ตามจ่าย) | D79: 0 | E79: 0 | F79: 0 | G79: 0 | H79: 0 | I79: 0 | J79: 0 | K79: 0 | L79: 0 | M79: 0 | N79: 0 | O79: 0 | P79: 0 | Q79: 2271617.8 | R79: 2725844.1 | S79: 0 | T79: 0 | U79: 717634.5 | V79: 0 | W79: 0 | X79: 0 | Y79: 0 | Z79: 0 | AA79: 0 | AB79: 0 | AC79: 0 | AD79: 0 | AE79: 0 | AF79: 0 | AG79: 0 | AH79: 0 | AI79: 0 | AJ79: 0 | AK79: 0 | AL79: 0 | AM79: 0 | AN79: 0 | AO79: 0 | AP79: 0 | AQ79: 0 | AR79: 0 | AS79: 0 | AT79: 0 | AU79: 0 | AV79: 0 | AW79: 0 | AX79: 0 | AY79: 0 | AZ79: 0 | BA79: 0 | BB79: 0 | BC79: 0 | BD79: 0 | BE79: 406240.75 | BF79: 32814.75 | BG79: 0 | BH79: 0 | BI79: 0 | BJ79: 0 | BK79: 0 | BL79: 0 | BM79: 5907.5 | BN79: 0 | BO79: 0 | BP79: 0 | BQ79: 0 | BR79: 0 | BS79: 516720.25 | BT79: 244257.5 | BU79: 0 | BV79: 0 | BW79: 0 | BX79: 0 | BY79: 0 | BZ79: 2753539 | CA79: 0 | CB79: 0 | CC79: 0 | CD79: 943573 | CE79: 0 | CF79: 9116478.6 | CG79: 0 | CH79: 0 | CI79: 3550 | CJ79: 0 | CK79: 4418113.8 | CL79: 0 | CM79: 0
A80: 5 | B80: 4301020106.303 | C80: รายได้กองทุนประกันสังคม | D80: 35494890 | E80: 0 | F80: 96040.58 | G80: 190214.9 | H80: 49808.71 | I80: 0 | J80: 0 | K80: 82859.57 | L80: 33142.26 | M80: 0 | N80: 0 | O80: 0 | P80: 1356600.6 | Q80: 139840.92 | R80: 329508.28 | S80: 285499.04 | T80: 269625.53 | U80: 48172.36 | V80: 169396.62 | W80: 167045.33 | X80: 29607178 | Y80: 159362.58 | Z80: 0 | AA80: 45981.93 | AB80: 0 | AC80: 0 | AD80: 0 | AE80: 0 | AF80: 0 | AG80: 118926.91 | AH80: 0 | AI80: 0 | AJ80: 0 | AK80: 0 | AL80: 52839869 | AM80: 0 | AN80: 0 | AO80: 0 | AP80: 0 | AQ80: 0 | AR80: 24102.26 | AS80: 0 | AT80: 116181.36 | AU80: 1095600.4 | AV80: 0 | AW80: 104767.4 | AX80: 0 | AY80: 0 | AZ80: 18462.52 | BA80: 219333.66 | BB80: 5809711.8 | BC80: 189725.83 | BD80: 20087323 | BE80: 0 | BF80: 144421.63 | BG80: 0 | BH80: 5839706.8 | BI80: 0 | BJ80: 6424.12 | BK80: 0 | BL80: 0 | BM80: 7021294 | BN80: 0 | BO80: 0 | BP80: 0 | BQ80: 0 | BR80: 48578 | BS80: 13694223 | BT80: 0 | BU80: 302855.41 | BV80: 235333.71 | BW80: 14331 | BX80: 0 | BY80: 0 | BZ80: 0 | CA80: 1647 | CB80: 38053 | CC80: 0 | CD80: 0 | CE80: 0 | CF80: 831386.4 | CG80: 89430 | CH80: 107744 | CI80: 0 | CJ80: 155741 | CK80: 2861954.5 | CL80: 0 | CM80: 119016.5
A81: 5 | B81: 4301020106.305 | C81: รายได้ค่ารักษาประกันสังคม OP - เครือข่าย | D81: 19476642 | E81: 726955.74 | F81: 1099910.5 | G81: 1068975.8 | H81: 425541 | I81: 1131660.2 | J81: 1046155.1 | K81: 2060661 | L81: 700591.1 | M81: 870633.7 | N81: 2614651.7 | O81: 397808.31 | P81: 9667550.7 | Q81: 1489325.8 | R81: 1192515.6 | S81: 2509861.8 | T81: 1949485.1 | U81: 1416317.6 | V81: 1176049.1 | W81: 995170 | X81: 26158498 | Y81: 792873.35 | Z81: 1791897.3 | AA81: 1616598.2 | AB81: 583965.15 | AC81: 1029587.4 | AD81: 688452 | AE81: 3560661 | AF81: 692941.1 | AG81: 908035.74 | AH81: 794428.89 | AI81: 1830085.4 | AJ81: 1137341.6 | AK81: 642400.65 | AL81: 52658940 | AM81: 1163982 | AN81: 742893.4 | AO81: 2312102 | AP81: 3067389 | AQ81: 934955 | AR81: 364150.5 | AS81: 6878081 | AT81: 1117281.4 | AU81: 4021885.1 | AV81: 2053801.5 | AW81: 745679.65 | AX81: 789635.75 | AY81: 1042564.5 | AZ81: 1050203.2 | BA81: 1383658 | BB81: 6944841.6 | BC81: 860886 | BD81: 34458255 | BE81: 2975847.5 | BF81: 1069841.2 | BG81: 879115.7 | BH81: 6260479.8 | BI81: 829108.2 | BJ81: 433556.3 | BK81: 748254.2 | BL81: 963603.3 | BM81: 18014946 | BN81: 2650223.8 | BO81: 1364411.1 | BP81: 1921756.5 | BQ81: 980309 | BR81: 929603 | BS81: 74804998 | BT81: 2371908 | BU81: 1468034.8 | BV81: 5946753 | BW81: 452001 | BX81: 853033.5 | BY81: 4089221.1 | BZ81: 628330.66 | CA81: 942232 | CB81: 1057022 | CC81: 1050927 | CD81: 2597887 | CE81: 1420747.5 | CF81: 2884590.4 | CG81: 631389 | CH81: 824008 | CI81: 663470 | CJ81: 845444 | CK81: 3748341.5 | CL81: 1029426.6 | CM81: 806195.75
A82: 5 | B82: 4301020106.306 | C82: รายได้ค่ารักษาประกันสังคม IP - เครือข่าย | D82: 16043640 | E82: 266094.7 | F82: 165456.5 | G82: 230784.75 | H82: 82241 | I82: 263168.5 | J82: 340236.75 | K82: 668794.16 | L82: 103160.37 | M82: 280853.75 | N82: 1914171.5 | O82: 90352.92 | P82: 7719305.3 | Q82: 329877.02 | R82: 962667.75 | S82: 1163112.8 | T82: 195109.75 | U82: 612449.8 | V82: 248263 | W82: 179129.5 | X82: 22327883 | Y82: 243164.5 | Z82: 499514.15 | AA82: 292702.3 | AB82: 233187.5 | AC82: 239881.5 | AD82: 125674 | AE82: 2687245 | AF82: 363194 | AG82: 351335.94 | AH82: 291314.2 | AI82: 687400.75 | AJ82: 456667.45 | AK82: 165625 | AL82: 43539738 | AM82: 330248 | AN82: 278013 | AO82: 1193097 | AP82: 2200933 | AQ82: 259587 | AR82: 129359 | AS82: 5259880.5 | AT82: 296366.25 | AU82: 596905.44 | AV82: 750048.54 | AW82: 213476 | AX82: 328295.5 | AY82: 418118.01 | AZ82: 309863.25 | BA82: 213216 | BB82: 5866930.5 | BC82: 402104 | BD82: 23004521 | BE82: 3097365.7 | BF82: 504720.25 | BG82: 268326.75 | BH82: 8319176.8 | BI82: 570965.5 | BJ82: 85303 | BK82: 186895.69 | BL82: 207092.5 | BM82: 14240410 | BN82: 782150.85 | BO82: 378189.65 | BP82: 1338279.5 | BQ82: 376276 | BR82: 224525 | BS82: 73192314 | BT82: 988898 | BU82: 447605.77 | BV82: 5154244 | BW82: 7745 | BX82: 370941 | BY82: 2449479.8 | BZ82: 212484.65 | CA82: 109041 | CB82: 183974 | CC82: 596563 | CD82: 2376233.5 | CE82: 585401.2 | CF82: 1436295 | CG82: 216352 | CH82: 380640.25 | CI82: 279651.25 | CJ82: 129341 | CK82: 3008478.8 | CL82: 150201.18 | CM82: 129394
A83: 5 | B83: 4301020106.307 | C83: รายได้ค่ารักษาประกันสังคม OP - นอกเครือข่าย | D83: 288070.75 | E83: 0 | F83: 0 | G83: 0 | H83: 0 | I83: 0 | J83: 0 | K83: 8216 | L83: 0 | M83: 0 | N83: 0 | O83: 25912.5 | P83: 0 | Q83: 0 | R83: 0 | S83: 9722 | T83: 0 | U83: 0 | V83: 11250 | W83: 0 | X83: 7364.45 | Y83: 0 | Z83: 0 | AA83: 0 | AB83: 0 | AC83: 0 | AD83: 0 | AE83: 0 | AF83: 0 | AG83: 0 | AH83: 0 | AI83: 8916.5 | AJ83: 0 | AK83: 0 | AL83: 4684296 | AM83: 0 | AN83: 17098.5 | AO83: 0 | AP83: 50072 | AQ83: 77815 | AR83: 14587.5 | AS83: 0 | AT83: 13207.75 | AU83: 89235 | AV83: 0 | AW83: 0 | AX83: 0 | AY83: 27362 | AZ83: 0 | BA83: 0 | BB83: 235064.75 | BC83: 40517.8 | BD83: 318153.75 | BE83: 0 | BF83: 0 | BG83: 53846.9 | BH83: 54376.5 | BI83: 0 | BJ83: 15802.3 | BK83: 0 | BL83: 0 | BM83: 497.5 | BN83: 0 | BO83: 0 | BP83: 0 | BQ83: 0 | BR83: 0 | BS83: 2995612.5 | BT83: 0 | BU83: 8935.56 | BV83: 0 | BW83: 0 | BX83: 0 | BY83: 0 | BZ83: 0 | CA83: 0 | CB83: 1050 | CC83: 0 | CD83: 0 | CE83: 0 | CF83: 0 | CG83: 0 | CH83: 7034 | CI83: 0 | CJ83: 0 | CK83: 0 | CL83: 0 | CM83: 47699.5
A84: 5 | B84: 4301020106.308 | C84: รายได้ค่ารักษาประกันสังคม IP - นอกเครือข่าย | D84: 4150136.8 | E84: 22771.09 | F84: 0 | G84: 0 | H84: 0 | I84: 17875.5 | J84: 0 | K84: 0 | L84: 0 | M84: 0 | N84: 0 | O84: 42047 | P84: 533760 | Q84: 0 | R84: 0 | S84: 150579.75 | T84: 0 | U84: 0 | V84: 0 | W84: 0 | X84: 629929.57 | Y84: 0 | Z84: 0 | AA84: 11985.25 | AB84: 0 | AC84: 30375.5 | AD84: 6427 | AE84: 424711 | AF84: 3457 | AG84: 0 | AH84: 0 | AI84: 9325 | AJ84: 31608 | AK84: 0 | AL84: 15071022 | AM84: 4639 | AN84: 67461.5 | AO84: 81816 | AP84: 48810 | AQ84: 56742 | AR84: 25272 | AS84: 498934.38 | AT84: 35759.12 | AU84: 150738.54 | AV84: 0 | AW84: 91829 | AX84: 0 | AY84: 45594 | AZ84: 0 | BA84: 0 | BB84: 126049.75 | BC84: 76194.29 | BD84: 2487835.6 | BE84: 224322.1 | BF84: 0 | BG84: 0 | BH84: 1144173.5 | BI84: 0 | BJ84: 0 | BK84: 0 | BL84: 0 | BM84: 479703.75 | BN84: 0 | BO84: 599 | BP84: 27658 | BQ84: 34911 | BR84: 0 | BS84: 24979720 | BT84: 130448 | BU84: 4253.68 | BV84: 525056 | BW84: 0 | BX84: 0 | BY84: 221995.37 | BZ84: 13981.15 | CA84: 0 | CB84: 107953 | CC84: 148129 | CD84: 121719.75 | CE84: 44504.8 | CF84: 83204 | CG84: 4860 | CH84: 0 | CI84: 0 | CJ84: 0 | CK84: 359636.5 | CL84: 0 | CM84: 19975
A85: 5 | B85: 4301020106.309 | C85: รายได้ค่ารักษาประกันสังคม OP - นอกเครือข่าย ต่างสังกัด สป.สธ. | D85: 0 | E85: 0 | F85: 0 | G85: 0 | H85: 0 | I85: 0 | J85: 0 | K85: 0 | L85: 0 | M85: 0 | N85: 0 | O85: 0 | P85: 0 | Q85: 7169.2 | R85: 0 | S85: 0 | T85: 0 | U85: 0 | V85: 0 | W85: 0 | X85: 2579.75 | Y85: 0 | Z85: 0 | AA85: 0 | AB85: 0 | AC85: 0 | AD85: 0 | AE85: 0 | AF85: 0 | AG85: 0 | AH85: 0 | AI85: 1730 | AJ85: 0 | AK85: 0 | AL85: 257532.25 | AM85: 0 | AN85: 0 | AO85: 0 | AP85: 0 | AQ85: 50 | AR85: 0 | AS85: 0 | AT85: 0 | AU85: 0 | AV85: 0 | AW85: 0 | AX85: 0 | AY85: 0 | AZ85: 0 | BA85: 0 | BB85: 124981.25 | BC85: 0 | BD85: 0 | BE85: 0 | BF85: 0 | BG85: 0 | BH85: 0 | BI85: 0 | BJ85: 0 | BK85: 0 | BL85: 0 | BM85: 0 | BN85: 0 | BO85: 0 | BP85: 0 | BQ85: 0 | BR85: 0 | BS85: 298946.11 | BT85: 0 | BU85: 3966 | BV85: 0 | BW85: 0 | BX85: 0 | BY85: 0 | BZ85: 0 | CA85: 0 | CB85: 0 | CC85: 0 | CD85: 0 | CE85: 0 | CF85: 0 | CG85: 0 | CH85: 0 | CI85: 0 | CJ85: 0 | CK85: 0 | CL85: 0 | CM85: 0
A86: 5 | B86: 4301020106.310 | C86: รายได้ค่ารักษาประกันสังคม IP - นอกเครือข่าย ต่างสังกัด สป.สธ. | D86: 0 | E86: 0 | F86: 0 | G86: 0 | H86: 0 | I86: 0 | J86: 0 | K86: 0 | L86: 0 | M86: 0 | N86: 0 | O86: 0 | P86: 0 | Q86: 0 | R86: 0 | S86: 0 | T86: 0 | U86: 0 | V86: 0 | W86: 0 | X86: 503874.19 | Y86: 29002 | Z86: 0 | AA86: 0 | AB86: 0 | AC86: 0 | AD86: 0 | AE86: 0 | AF86: 21406.8 | AG86: 0 | AH86: 0 | AI86: 12951.3 | AJ86: 0 | AK86: 0 | AL86: 6320503.5 | AM86: 0 | AN86: 0 | AO86: 0 | AP86: 0 | AQ86: 0 | AR86: 0 | AS86: 0 | AT86: 0 | AU86: 0 | AV86: 21439.24 | AW86: 0 | AX86: 0 | AY86: 0 | AZ86: 0 | BA86: 0 | BB86: 327185.5 | BC86: 0 | BD86: 0 | BE86: 0 | BF86: 0 | BG86: 0 | BH86: 0 | BI86: 0 | BJ86: 0 | BK86: 0 | BL86: 0 | BM86: 0 | BN86: 0 | BO86: 0 | BP86: 0 | BQ86: 0 | BR86: 0 | BS86: 5464458.5 | BT86: 0 | BU86: 0 | BV86: 448924 | BW86: 0 | BX86: 0 | BY86: 0 | BZ86: 13493.1 | CA86: 0 | CB86: 0 | CC86: 0 | CD86: 12836 | CE86: 0 | CF86: 0 | CG86: 0 | CH86: 0 | CI86: 0 | CJ86: 0 | CK86: 0 | CL86: 0 | CM86: 0
A87: 5 | B87: 4301020106.311 | C87: รายได้ค่ารักษาประกันสังคม-กองทุนทดแทน | D87: 1098036.8 | E87: 56291 | F87: 155934.5 | G87: 164634.2 | H87: 66990.5 | I87: 202727.68 | J87: 114843.51 | K87: 249498.15 | L87: 117986.9 | M87: 141627.25 | N87: 211113 | O87: 67367.2 | P87: 1369765 | Q87: 73494.9 | R87: 268328 | S87: 260293.5 | T87: 126437 | U87: 208658.3 | V87: 89285 | W87: 56274 | X87: 1004491.7 | Y87: 144506.2 | Z87: 267036.5 | AA87: 75484 | AB87: 55570.5 | AC87: 120881.8 | AD87: 71771 | AE87: 383333 | AF87: 130752.1 | AG87: 207818.34 | AH87: 93445.55 | AI87: 251304.4 | AJ87: 124553 | AK87: 94429.25 | AL87: 4266312.6 | AM87: 103209 | AN87: 61508.5 | AO87: 388319.31 | AP87: 275489 | AQ87: 322005 | AR87: 49235.5 | AS87: 305004 | AT87: 145537.5 | AU87: 109426 | AV87: 195274.8 | AW87: 138343 | AX87: 164893.5 | AY87: 224014.75 | AZ87: 44028 | BA87: 204033 | BB87: 670374.39 | BC87: 122663 | BD87: 1568233.6 | BE87: 173375.4 | BF87: 377810.9 | BG87: 64496 | BH87: 588466.75 | BI87: 139361.2 | BJ87: 48124 | BK87: 152590.9 | BL87: 91826 | BM87: 1413517.8 | BN87: 414422.07 | BO87: 99724.25 | BP87: 229034.3 | BQ87: 182305.8 | BR87: 133007 | BS87: 7296747.6 | BT87: 258518.2 | BU87: 28951 | BV87: 1348044.8 | BW87: 22925 | BX87: 121087 | BY87: 448384.62 | BZ87: 98878.4 | CA87: 86928 | CB87: 150086 | CC87: 62317.03 | CD87: 652263.75 | CE87: 130183.69 | CF87: 330596.22 | CG87: 57849 | CH87: 141975.95 | CI87: 135566 | CJ87: 71906 | CK87: 363192.8 | CL87: 39741.6 | CM87: 99472.4
A88: 5 | B88: 4301020106.312 | C88: รายได้ค่ารักษาประกันสังคม 72 ชั่วโมงแรก | D88: 811551 | E88: 0 | F88: 6649 | G88: 45067 | H88: 27925.5 | I88: 99507.5 | J88: 230836.5 | K88: 355551.51 | L88: 235969.03 | M88: 27565.5 | N88: 316724 | O88: 0 | P88: 1037212 | Q88: 111644.32 | R88: 298175 | S88: 224462.75 | T88: 68568.5 | U88: 137091.5 | V88: 52217.5 | W88: 30293.5 | X88: 2440363.8 | Y88: 58761 | Z88: 238091.5 | AA88: 20387.5 | AB88: 51109.5 | AC88: 0 | AD88: 5610 | AE88: 63954 | AF88: 97384.48 | AG88: 24163 | AH88: 117116.33 | AI88: 60050.2 | AJ88: 31755 | AK88: 42140.8 | AL88: 7415307.7 | AM88: 130073 | AN88: 0 | AO88: 34716 | AP88: 330136 | AQ88: 0 | AR88: 0 | AS88: 2027206.3 | AT88: 134438 | AU88: 399018 | AV88: 176793.48 | AW88: 0 | AX88: 20338.75 | AY88: 0 | AZ88: 71791 | BA88: 30703 | BB88: 1366436.2 | BC88: 0 | BD88: 3691965.1 | BE88: 276651.3 | BF88: 56123.5 | BG88: 94136.5 | BH88: 1457574.5 | BI88: 155783.5 | BJ88: 45671.48 | BK88: 112346.75 | BL88: 108976.5 | BM88: 2102623 | BN88: 42118.5 | BO88: 187907.25 | BP88: 214361 | BQ88: 176733.09 | BR88: 26187 | BS88: 6450232 | BT88: 40176 | BU88: 92027.41 | BV88: 3128876 | BW88: 0 | BX88: 122325.5 | BY88: 453586.36 | BZ88: 543 | CA88: 31226 | CB88: 0 | CC88: 70094 | CD88: 480235 | CE88: 276634.25 | CF88: 343034 | CG88: 3763 | CH88: 52655.25 | CI88: 0 | CJ88: 0 | CK88: 932173.5 | CL88: 34182 | CM88: 14056.5
A89: 5 | B89: 4301020106.313 | C89: รายได้ค่ารักษาประกันสังคม-ค่าใช้จ่ายสูง/อุบัติเหตุ/ฉุกเฉิน OP | D89: 0 | E89: 702194.5 | F89: 0 | G89: 0 | H89: 0 | I89: 1119485 | J89: 7896.25 | K89: 3042219.5 | L89: 55246.8 | M89: 19681 | N89: 2437670 | O89: 0 | P89: 923831.25 | Q89: 22715.7 | R89: 1567595 | S89: 0 | T89: 144628.6 | U89: 17527.5 | V89: 9719.5 | W89: 0 | X89: 2127636.8 | Y89: 0 | Z89: 0 | AA89: 15042 | AB89: 5860 | AC89: 21493 | AD89: 0 | AE89: 0 | AF89: 0 | AG89: 0 | AH89: 0 | AI89: 1575100 | AJ89: 0 | AK89: 21444.5 | AL89: 13568505 | AM89: 86885 | AN89: 0 | AO89: 0 | AP89: 41503 | AQ89: 0 | AR89: 0 | AS89: 5042775 | AT89: 0 | AU89: 0 | AV89: 33910.05 | AW89: 0 | AX89: 0 | AY89: 0 | AZ89: 0 | BA89: 15476 | BB89: 3729360 | BC89: 0 | BD89: 6000 | BE89: 43756.5 | BF89: 0 | BG89: 823189 | BH89: 3455473 | BI89: 15727 | BJ89: 0 | BK89: 0 | BL89: 47677.25 | BM89: 1847033.8 | BN89: 0 | BO89: 829920.25 | BP89: 71624.5 | BQ89: 0 | BR89: 0 | BS89: 5114725.2 | BT89: 0 | BU89: 0 | BV89: 1914284 | BW89: 1530 | BX89: 88986 | BY89: 42258 | BZ89: 40181.1 | CA89: 13737 | CB89: 0 | CC89: 643468.8 | CD89: 1530587.5 | CE89: 47814.4 | CF89: 2748878.5 | CG89: 0 | CH89: 0 | CI89: 21631.5 | CJ89: 25322 | CK89: 765435 | CL89: 0 | CM89: 0
A90: 5 | B90: 4301020106.314 | C90: รายได้ค่ารักษาประกันสังคม-ค่าใช้จ่ายสูง IP | D90: 0 | E90: 0 | F90: 0 | G90: 0 | H90: 0 | I90: 0 | J90: 0 | K90: 0 | L90: 0 | M90: 0 | N90: 98932.5 | O90: 0 | P90: 74499 | Q90: 0 | R90: 0 | S90: 0 | T90: 0 | U90: 9131.5 | V90: 0 | W90: 0 | X90: 4702948.3 | Y90: 0 | Z90: 0 | AA90: 7733 | AB90: 0 | AC90: 0 | AD90: 0 | AE90: 0 | AF90: 0 | AG90: 0 | AH90: 0 | AI90: 0 | AJ90: 0 | AK90: 4756 | AL90: 15016854 | AM90: 0 | AN90: 0 | AO90: 0 | AP90: 22000 | AQ90: 0 | AR90: 0 | AS90: 1380087 | AT90: 0 | AU90: 0 | AV90: 0 | AW90: 0 | AX90: 33527.8 | AY90: 0 | AZ90: 0 | BA90: 0 | BB90: 9957.5 | BC90: 0 | BD90: 15814103 | BE90: 0 | BF90: 0 | BG90: 0 | BH90: 848356.25 | BI90: 0 | BJ90: 0 | BK90: 0 | BL90: 0 | BM90: 2895663 | BN90: 0 | BO90: 0 | BP90: 0 | BQ90: 0 | BR90: 0 | BS90: 20092547 | BT90: 0 | BU90: 0 | BV90: 430125 | BW90: 0 | BX90: 0 | BY90: 704337.2 | BZ90: 0 | CA90: 0 | CB90: 0 | CC90: 0 | CD90: 16975 | CE90: 0 | CF90: 17000 | CG90: 0 | CH90: 0 | CI90: 41528.25 | CJ90: 53642 | CK90: 10000 | CL90: 0 | CM90: 0
